{"text_format":"1","workbook":"xlsx","n_sheets":9,"sheets":["Updated_8","ព័ត៌មានអង្គភាព","ចំណាយ-ថវិការដ្ឋ","Table 4.0","Table 4.1","Table 4.2","Table 4.3","Table 4.4","Table 4 MEF"],"not_rendered":{"charts":0,"images":5,"macros":1,"external_links":0,"defined_names":42,"comments":0,"pivot_tables":0},"unopened":[],"bounds":{"document_bytes":16777216,"sheet_cells":100000,"rows_first":2000,"rows_last":500,"rows_between":2000,"halvings":0,"cell_chars":16384,"cell_head_chars":4096},"cells_cut":0,"cells_raw":0,"read":"whole","date_system":"1900"}

{"sheet":"Updated_8","index":0,"n_rows":189,"n_cols":3,"rows_kept":189,"cut":false,"hidden":true,"merged":[[34,0,38,0],[3,0,3,2],[7,0,7,2],[8,0,14,0],[15,0,22,0],[23,0,33,0],[98,0,98,2],[39,0,45,0],[46,0,50,0],[51,0,58,0],[59,0,64,0],[65,0,70,0],[71,0,71,2],[72,0,80,0],[81,0,81,2],[82,0,88,0],[89,0,93,0],[94,0,97,0],[156,0,160,0],[99,0,103,0],[104,0,111,0],[112,0,116,0],[117,0,121,0],[122,0,126,0],[127,0,131,0],[132,0,137,0],[138,0,141,0],[142,0,146,0],[147,0,150,0],[151,0,155,0],[161,0,165,0],[166,0,172,0],[173,0,177,0],[178,0,183,0],[184,0,188,0]]}
[]
["ក្រសួងអប់រំ យុវជន និងកីឡា"]
["នាយកដ្ឋានហិរញ្ញវត្ថុ"]
["សកម្មភាពរបស់អនុកម្មវិធី​ នៅរដ្ឋបាលកណ្តាល​ សម្រាប់ការអនុវត្ត​ឆ្នាំ២០១៩\t\t\t"]
["សកម្មភាពរងទី ១. ការចូលរៀនមានគុណភាពប្រកប​ដោយ​សមធម៌ និងបរិយាប័ន្ន និងលើកកម្ពស់ឱកាសក្នុងការសិក្សា​ពេញមួយជីវិតសម្រាប់ទាំងអស់គ្នា"]
["សកម្មភាពរងទី ២. ការលើកកម្ពស់ភាពជាអ្នកដឹកនាំ និងគ្រប់គ្រង របស់មន្រ្តីអប់រំគ្រប់លំដាប់ថ្នាក់"]
["បរិយាយ","ចង្កោមសកម្មភាព","សកម្មភាព"]
["កម្មវិធីទី១៖ ការអភិវឌ្ឍការអប់រំក្នុងប្រព័ន្ធ ក្រៅប្រព័ន្ធ និងមិនផ្លូវការ"]
[".១៖ ការពង្រីកការអប់រំកុមារតូច",1,"១. កិច្ចដំណើរការអង្គភាព"]
[null,1,"២. ថវិកាលទ្ធកម្ម"]
[null,1,"៣. ពិនិត្យតាមដាន និងវាយតម្លៃ"]
[null,1,"៤. អភិវឌ្ឍការអប់រំកុមារតូចឲ្យមានស្ដង់ដា"]
[null,1,"៥. ថវិកាដំណើរការសាលារៀន"]
[null,1,"៦. គ្រប់គ្រងមត្តេយ្យសិក្សាសហគមន៍"]
[null,2,"១. អភិវឌ្ឍសមត្ថភាពមន្ដ្រីអប់រំកុមារតូច"]
[".២៖ ការពង្រឹងគុណភាព និងប្រសិទ្ធភាពនៃការអប់រំនៅបឋមសិក្សា",1,"១. កិច្ចដំណើរការអង្គភាព"]
[null,1,"២. ថវិកាលទ្ធកម្ម"]
[null,1,"៣. ពិនិត្យតាមដាន និងវាយតម្លៃ"]
[null,1,"៤. ថវិកាដំណើរការសាលារៀន"]
[null,1,"៥. សាលារៀនជំនាន់ថ្មី"]
[null,1,"៦. ថវិកាអាហារូបករណ៍"]
[null,1,"៧. ថវិកាពង្រឹងគុណភាពបង្រៀន"]
[null,2,"១. ពង្រឹងសមត្ថភាព និងការលើកទឹកចិត្ត"]
[".៣៖ ការចូលរៀនប្រកបដោយសមធម៌​ ការពង្រឹងគុណភាព និងប្រសិទ្ធភាពនៃការ​អប់រំនៅមធ្យមសិក្សា",1,"១. កិច្ចដំណើរការអង្គភាព"]
[null,1,"២. ថវិកាលទ្ធកម្ម"]
[null,1,"៣. ពិនិត្យតាមដាន និងវាយតម្លៃ"]
[null,1,"៤. លើកកម្ពស់មុខវិជ្ជា STEM"]
[null,1,"៥. ថ្នាក់ពីរភាសា បារាំង-ខ្មែរ"]
[null,1,"៦. ថវិកាដំណើរការអគារធនធាន"]
[null,1,"៧. សាលារៀនជំនាន់ថ្មី"]
[null,1,"៨. ថវិកាអាហារូបករណ៍"]
[null,1,"៩. ថវិកាដំណើរការសាលារៀន"]
[null,1,"១០. ពង្រឹងសមត្ថភាពលើការងារគ្រប់គ្រង និងការបង្រៀននិងរៀន"]
[null,2,"១. ពង្រឹងសមត្ថភាព និងការលើកទឹកចិត្ត"]
[".៤៖ ការពង្រីកការអប់រំក្រៅប្រព័ន្ធ",1,"១. កិច្ចដំណើរការអង្គភាព"]
[null,1,"២. ថវិកាលទ្ធកម្ម"]
[null,1,"៣. ពិនិត្យតាមដាន និងវាយតម្លៃ"]
[null,1,"៤. ថវិកាដំណើរការនៃការអប់រំក្រៅប្រព័ន្ធ"]
[null,2,"១. អភិវឌ្ឍសមត្ថភាពមន្ត្រីអប់រំក្រៅប្រព័ន្ធ"]
[".៥៖ ការពង្រឹង​ និងការពង្រីកកម្មវិធីលើកកម្ពស់សុខភាពសិក្សា",1,"១. កិច្ចដំណើរការអង្គភាព"]
[null,1,"២. ថវិកាលទ្ធកម្ម"]
[null,1,"៣. ពិនិត្យតាមដាន និងវាយតម្លៃ"]
[null,1,"៤. កម្មវិធីអាហាររូបត្ថម្ភ"]
[null,1,"៥. កម្មវិធីទឹកស្អាត និងអនាម័យ"]
[null,1,"៦. ផ្តល់សេវាថែទាំសុខភាពចាំបាច់​ "]
[null,2,"១. ការអភិវឌ្ឍ និងពង្រឹងសមត្ថភាពកម្មវិធីអប់រំសុខភាព"]
[".៦៖ លើកកម្ពស់គុណភាព និងប្រសិទ្ធភាពនៃការអនុវត្តកម្មវិធីអប់រំបច្ចេកទេស",1,"១. កិច្ចដំណើរការអង្គភាព"]
[null,1,"២. ថវិកាលទ្ធកម្ម"]
[null,1,"៣. ពិនិត្យតាមដាន និងវាយតម្លៃ"]
[null,1,"៤. ថវិកាដំណើការ និងការលើកកម្ពស់ការអប់រំបច្ចេកទេស"]
[null,1,"៥. ពង្រឹង និងពង្រីកកម្មវិធីតម្រង់ទិសវិជ្ជាជីវៈអប់រំ បំណិនជីវិត និងប្រឹក្សាអាជីព"]
[".៧៖ ការអភិវឌ្ឍការងារបណ្តុះបណ្តុះ និងវិក្រឹតការគ្រូបង្រៀន",1,"១. កិច្ចដំណើរការអង្គភាព"]
[null,1,"២. ថវិកាលទ្ធកម្ម"]
[null,1,"៣. ពិនិត្យតាមដាន និងវាយតម្លៃ"]
[null,1,"៤. អភិវឌ្ឍវិទ្យាស្ថានគរុកោសល្យ ២ (បាត់ដំបង និងភ្នំពេញ)"]
[null,1,"៥. អភិវឌ្ឍសាលាមធ្យមសិក្សាគរុកោសល្យមត្តេយ្យមជ្ឈិម"]
[null,1,"៦. ប្រឡងជ្រើសរើស និងបញ្ចប់វគ្គបណ្ដុះបណ្ដាលគ្រូបង្រៀន"]
[null,1,"៧. ថវិកាដំណើរការសាលាគរុកោសល្យ និងមណ្ឌលធនធាន"]
[null,1,"៨. អភិវឌ្ឍសមត្ថភាពនាយក និងគ្រូបង្រៀន"]
[".៨៖ ការអភិវឌ្ឍកម្មវិធីសិក្សា សម្ភារៈសិក្សា និងបណ្ណាល័យ",1,"១. កិច្ចដំណើរការអង្គភាព"]
[null,1,"២. ថវិកាលទ្ធកម្ម"]
[null,1,"៣. រៀប​ចំ​ទិវាជាតិ​អំណាន និង​ពិធី​បុណ្យផ្សេងៗ"]
[null,1,"៤. ពិនិត្យតាមដាន និងវាយតម្លៃ"]
[null,1,"៥. អភិវឌ្ឍកម្មវិធីសិក្សា វិធីសាស្រ្តបង្រៀន ឯកសារ​  និងសម្ភារៈសិក្សា"]
[null,2,"១. ពង្រឹងសមត្ថភាពមន្ដ្រីជំនាញ និងផ្សព្វផ្សាយ"]
[".៩៖ ពង្រីកការអប់រំបរិយាបន្នគ្រប់ភូមិសិក្សា",1,"១. កិច្ចដំណើរការអង្គភាព"]
[null,1,"២. ថវិកាលទ្ធកម្ម"]
[null,1,"៣. ពិនិត្យតាមដាន និងវាយតម្លៃ"]
[null,1,"៤. អភិវឌ្ឍការងារអប់រំពិសេស និងពហុភាសា"]
[null,1,"៥. អភិវឌ្ឍហេដ្ឋារចនាសម្ពន្ធ័សាលារៀនអប់រំបរិយាបន្ន"]
[null,2,"១.ពង្រឹងការអភិវឌ្ឍសមត្ថភាព និងថវិកាលើកទឹកចិត្ត"]
["កម្មវិធីទី៣៖ ការអភិវឌ្ឍវិស័យអប់រំកាយ និងកីឡា"]
[".១៖ ការអភិវឌ្ឍអប់រំកាយ និងកីឡាសិស្ស និស្សិត មហាជន និងកីឡាកម្រិតខ្ពស់",1,"១. កិច្ចដំណើរការអង្គភាព"]
[null,1,"២. ថវិកាលទ្ធកម្ម"]
[null,1,"៣. ពិនិត្យតាមដាន និងវាយតម្លៃ"]
[null,1,"៤. អភិវឌ្ឍកម្មវិធីអប់រំកាយក្នុងម៉ោងសិក្សា កីឡាក្រៅម៉ោងសិក្សា និងសមាគមកីឡា"]
[null,1,"៥. ប្រកួតកីឡាសិស្ស និស្សិតថ្នាក់រាជធានី-ខេត្ត"]
[null,1,"៦. រៀបចំ និងចូលរួមប្រកួតកីឡាជាលក្ខណៈជាតិ និងអន្ដរជាតិ"]
[null,1,"៧. ប្រកួតកីឡាមហាជនថ្នាក់រាជធានី-ខេត្ត"]
[null,1,"៨. អភិវឌ្ឍហេដ្ឋារចនាសម្ព័ន្ធកីឡា និងឧបករណ៍សម្ភារកីឡា"]
[null,2,"១. អភិវឌ្ឍធនធានមនុស្សលើវិស័យកីឡា"]
["កម្មវិធីទី៤៖ ការអភិវឌ្ឍជំនាញបច្ចេកទេស ជំនាញទន់និងសហគ្រិនភាពសម្រាប់យុវជន"]
[".១៖ ការពង្រឹងសមត្ថភាពយុវជន",1,"១. កិច្ចដំណើរការអង្គភាព"]
[null,1,"២. ថវិកាលទ្ធកម្ម"]
[null,1,"៣. ពិនិត្យតាមដាន និងវាយតម្លៃ"]
[null,1,"៤. ផ្លាស់ប្ដូរទំនាក់ទំនងយុវជនជាតិ និងអន្ដរជាតិ"]
[null,1,"៥. អភិវឌ្ឍសមត្ថភាពលើសហគ្រិនភាពដល់យុវជន"]
[null,1,"៦. យល់ដឹងអំពីជម្ងឺអេដស៍របស់យុវជនក្រៅសាលា"]
[null,1,"៧. ពង្រឹងដំណើរការក្រុមប្រឹក្សាកុមារ និងយុវជន"]
[".២៖ ការអភិវឌ្ឍមជ្ឈមណ្ឌលយុវជន",1,"១. កិច្ចដំណើរការអង្គភាព"]
[null,1,"២. ថវិកាលទ្ធកម្ម"]
[null,1,"៣. ពិនិត្យតាមដាន និងវាយតម្លៃ"]
[null,1,"៤. គាំទ្រអភិវឌ្ឍមជ្ឈមណ្ឌលយុវជន"]
[null,1,"៥. កសាងសមត្ថភាពជំនាញ វិជ្ជាជីវៈតាមមជ្ឈមណ្ឌលយុវជន"]
[".៣៖ ការអភិវឌ្ឍកាយរឹទ្ធិកម្ម",1,"១. កិច្ចដំណើរការអង្គភាព"]
[null,1,"២. ថវិកាលទ្ធកម្ម"]
[null,1,"៣. ពិនិត្យតាមដាន និងវាយតម្លៃ"]
[null,1,"៤. ពង្រឹងប្រព័ន្ធល្បាតកាយរឹទ្ធិកម្ម បណ្ដុះបណ្ដាលធនធានមនុស្ស និងកិច្ចសហប្រតិបត្តិការអន្ដរជាតិ"]
["កម្មវិធីទី៥៖ ការគាំទ្រសេវាអប់រំ និងអភិបាលកិច្ចល្អ"]
[".១៖ ការអភិវឌ្ឍនិងពង្រឹងប្រព័ន្ធផែនការអប់រំ",2,"១. កិច្ចដំណើរការអង្គភាព"]
[null,2,"២. ថវិកាលទ្ធកម្ម"]
[null,2,"៣. ពិនិត្យតាមដាន និងវាយតម្លៃ"]
[null,2,"៤. កសាងផែនការយុទ្ធសាស្រ្ដ និងផែនការប្រតិបត្តិ"]
[null,2,"៥. អភិវឌ្ឍប្រព័ន្ធកសាងផែនការអប់រំ"]
[".២៖ ការគ្រប់គ្រង និងពង្រឹងប្រសិទ្ធភាព​ធនធានមនុស្ស",1,"១. កម្មវិធីគាំទ្រការពង្រាយគ្រូ និងប្រាក់បៀវត្ស"]
[null,1,"២. កម្មវិធីគាំទ្រការឧបត្ថម្ភជីវភាពគ្រូនៅតំបន់ជួបការលំបាក"]
[null,1,"៣. ប្រលងជ្រើសរើសគ្រូបង្រៀន"]
[null,2,"១. កិច្ចដំណើរការអង្គភាព"]
[null,2,"២. ថវិកាលទ្ធកម្ម"]
[null,2,"៣. ពិនិត្យតាមដាន និងវាយតម្លៃ"]
[null,2,"៤. សមាហរណកម្មប្រព័ន្ធទិន្ន័យគ្រប់គ្រងអប់រំ"]
[null,2,"៥. ពង្រឹងសមត្ថភាពធនធានមនុស្ស"]
[".៣៖ ការអភិវឌ្ឍសមត្ថភាព ការងារគ្រប់គ្រង ផែនការហិរញ្ញវត្ថុ និងមូលដ្ឋានសម្ភារៈ",1,"១. ចំណាយលើអត្ថប្រយជន៍សង្គម"]
[null,2,"១. កិច្ចដំណើរការអង្គភាព"]
[null,2,"២. ថវិកាលទ្ធកម្ម"]
[null,2,"៣. ពិនិត្យតាមដាន និងវាយតម្លៃ"]
[null,2,"៤. ពង្រឹងសមត្ថភាព និងយន្តការលើការគ្រប់គ្រងហិរញ្ញវត្ថុសាធារណៈ"]
[".៤៖ ពង្រឹងការងារសវនកម្មផ្ទៃក្នុង",2,"១. កិច្ចដំណើរការអង្គភាព"]
[null,2,"២. ថវិកាលទ្ធកម្ម"]
[null,2,"៣. ពិនិត្យតាមដាន និងវាយតម្លៃ"]
[null,2,"៤. ពង្រឹងការងារសវនកម្មផ្ទៃក្នុង"]
[null,2,"៥. ពង្រឹងសមត្ថភាពមន្ដ្រីសវនកម្មផ្ទៃក្នុង"]
[".៥៖ ការពិនិត្យតាមដាន វាយតម្លៃ និងអធិការកិច្ចប្រព័ន្ធធានាគុណភាពអប់រំ",1,"១. អធិការកិច្ចគុណភាពអប់រំ និងវាយតម្លៃលទ្ធផលសិក្សា"]
[null,2,"១. កិច្ចដំណើរការអង្គភាព"]
[null,2,"២. ថវិកាលទ្ធកម្ម"]
[null,2,"៣. ពិនិត្យតាមដាន និងវាយតម្លៃ"]
[null,2,"៤. ពង្រឹងសមត្ថភាពមន្ដ្រីជំនាញ"]
[".៦៖ អធិការកិច្ចរដ្ឋបាល និងហិរញ្ញវត្ថុ",2,"១. កិច្ចដំណើរការអង្គភាព"]
[null,2,"២. ថវិកាលទ្ធកម្ម"]
[null,2,"៣. ពិនិត្យតាមដាន និងវាយតម្លៃ"]
[null,2,"៤. អធិការកិច្ចគ្រប់គ្រងរដ្ឋបាល និងហិរញ្ញវត្ថុ"]
[null,2,"៥. ផ្សព្វផ្សាយ និងការពង្រឹងសមត្ថភាព"]
[".៧៖ លើកកម្ពស់ការផ្សព្វផ្សាយព័ត៌មានអប់រំ និងកិច្ចសហប្រតិបត្តិការអាស៊ាន និងស៊ីមេអូ",1,"១. ផលិត និងផ្សព្វផ្សាយព័ត៌មានអប់រំ"]
[null,1,"២. លើកកម្ពស់កិច្ចសហប្រតិបត្តិការអាស៊ាន និងស៊ីមេអូ"]
[null,2,"១. កិច្ចដំណើរការអង្គភាព"]
[null,2,"២. ថវិកាលទ្ធកម្ម"]
[null,2,"៣. ពិនិត្យតាមដាន និងវាយតម្លៃ"]
[null,2,"៤. ពង្រឹងសមត្ថភាពមន្ត្រីជំនាញ"]
[".៨៖ ការពង្រឹងការងារនីតិកម្មសម្រាប់វិស័យអប់រំ",2,"១. កិច្ចដំណើរការអង្គភាព"]
[null,2,"២. ថវិកាលទ្ធកម្ម"]
[null,2,"៣. ពង្រឹងការងារនីតិកម្មសម្រាប់វិស័យអប់រំ"]
[null,2,"៤. អនុវត្តការងារកំណែទម្រង់វិមជ្ឈការ និងវិសហមជ្ឈការ"]
[".៩៖ ការពង្រឹងការគ្រប់គ្រងហេដ្ឋារចនាសម្ព័ន្ធអប់រំ",1,"១. ថែទាំ និងជួសជុល"]
[null,2,"១. កិច្ចដំណើរការអង្គភាព"]
[null,2,"២. ថវិកាលទ្ធកម្ម"]
[null,2,"៣. ពិនិត្យតាមដាន និងវាយតម្លៃ"]
[null,2,"៤. ពង្រឹងសមត្ថភាព"]
[".១០៖ ការពង្រឹងការគ្រប់គ្រង ការផ្គត់ផ្គង់សម្ភារៈ និងទ្រព្យសម្បត្តិរដ្ឋ",2,"១. កិច្ចដំណើរការអង្គភាព"]
[null,2,"២. ថវិកាលទ្ធកម្ម"]
[null,2,"៣. ពិនិត្យតាមដាន និងវាយតម្លៃ"]
[null,2,"៤. គាំទ្រ គ្រប់គ្រង និងអភិវឌ្ឍសមត្ថភាពលើការងារសម្ភារទ្រព្យសម្បត្តិរដ្ឋ"]
[".១១៖ ការអភិវឌ្ឍ និងពង្រឹងប្រសិទ្ធភាពការគ្រប់គ្រង និងការធានាភាពស័ក្តិសិទ្ធនៃសេវារដ្ឋបាលអប់រំ",1,"១. គាំទ្រសេវារៀបចំពិធីសម្រាប់វិស័យអ​ប់រំ"]
[null,2,"១. កិច្ចដំណើរការអង្គភាព"]
[null,2,"២. ថវិកាលទ្ធកម្ម"]
[null,2,"៣. ពិនិត្យតាមដាន និងវាយតម្លៃ"]
[null,2,"៤. ពង្រឹងសមត្ថភាពគ្រប់គ្រងរដ្ឋបាលអប់រំ"]
[".១២៖ ការអភិវឌ្ឍកិច្ចសហប្រតិបត្តិការជាតិ អន្តរជាតិលើវិស័យអប់រំ",1,"១. ប្រឡងអាហារូបករណ៍"]
[null,2,"១. កិច្ចដំណើរការអង្គភាព"]
[null,2,"២. ថវិកាលទ្ធកម្ម"]
[null,2,"៣. ពិនិត្យតាមដាន និងវាយតម្លៃ"]
[null,2,"៤. ពង្រឹងសមត្ថភាពក្នុងការគ្រប់គ្រងសិស្ស និងនិស្សិតអាហារូបករណ៍ និងសហប្រតិបត្តិការ"]
[".១៣៖ ការអភិវឌ្ឍប្រព័ន្ធព័ត៌មានគ្រប់គ្រងអប់រំ",2,"១. កិច្ចដំណើរការអង្គភាព"]
[null,2,"២. ថវិកាលទ្ធកម្ម"]
[null,2,"៣. ពិនិត្យតាមដាន និងវាយតម្លៃ"]
[null,2,"៤. គាំទ្រប្រព័ន្ធព័ត៌មានគ្រប់គ្រងអប់រំ"]
[null,2,"៥. ពង្រឹងសមត្ថភាពក្នុងការគ្រប់គ្រងប្រព័ន្ធព័ត៌មាន ស្ថិតិ និងសូចនាករអប់រំ"]
[".១៤៖ ការស្រាវជ្រាវ និងអភិវឌ្ឍគោលនយោបាយអប់រំ",1,"១. រៀបចំ និងសម្របសម្រួលគោលនយោបាយអប់រំ យុវជន និងកីឡា"]
[null,1,"២. សិក្សាស្រាវជ្រាវ និងតាមដាននិន្នាការក្នុងតំបន់ និងពិភពលោក "]
[null,2,"១. កិច្ចដំណើរការអង្គភាព"]
[null,2,"២. ថវិកាលទ្ធកម្ម"]
[null,2,"៣. ផ្សព្វផ្សាយលទ្ធផលស្រាវជ្រាវ និងគោលនយោបាយ"]
[null,2,"៤. អភិវឌ្ឍសមត្ថភាពលើការស្រាវជ្រាវ និងការអភិវឌ្ឍគោលនយោបាយ"]
[null,2,"៥. អាហារូបករណ៍សម្រាប់ថ្នាក់បណ្ឌិត សិក្សានៅប្រទេសបារាំង"]
[".១៥៖ ការអភិវឌ្ឍនិងពង្រឹងប្រព័ន្ធពិនិត្យ តាមដាន និងវាយតម្លៃ",2,"១. កិច្ចដំណើរការអង្គភាព"]
[null,2,"២. ថវិកាលទ្ធកម្ម"]
[null,2,"៣. ពិនិត្យតាមដាន និងវាយតម្លៃ"]
[null,2,"៤. អភិវឌ្ឍយន្តការពិនិត្យតាមដាន និងវាយតម្លៃ"]
[null,2,"៥. ពង្រឹងសមត្ថភាពមន្រ្តីជំនាញ"]
[".១៦៖ ការអភិវឌ្ឍ​បច្ចេកវិទ្យាព័ត៌មានសម្រាប់ការងារអប់រំ យុវជន និងកីឡា",1,"១. ការផ្តល់សេវាកម្ម និងការអប់រំមិនផ្លូវការ"]
[null,2,"១. កិច្ចដំណើរការអង្គភាព"]
[null,2,"២. ថវិកាលទ្ធកម្ម"]
[null,2,"៣. ពិនិត្យតាមដាន និងវាយតម្លៃ"]
[null,2,"៤. ពង្រឹងកិច្ចសហប្រតិបតិ្តការបច្ចេកវិទ្យាព័ត៌មាន"]
[null,2,"៥. ពង្រឹងសមត្ថភាពមន្រ្តីជំនាញ"]
[".១៧៖ ការពង្រឹងគុណភាព និងប្រសិទ្ធភាពការងារប្រឡងនៅមធ្យមសិក្សានិងអប់រំបច្ចេកទេស",1,"១. ការងារប្រឡង"]
[null,2,"១. កិច្ចដំណើរការអង្គភាព"]
[null,2,"២. ថវិកាលទ្ធកម្ម"]
[null,2,"៣. ពិនិត្យតាមដាន និងវាយតម្លៃ"]
[null,2,"៤. ពង្រឹងសមត្ថភាពលើការងារប្រឡង"]

{"sheet":"ព័ត៌មានអង្គភាព","index":1,"n_rows":45,"n_cols":45,"rows_kept":45,"cut":false,"hidden":false,"merged":[[0,1,0,2]]}
[null,"សូមជ្រើសរើសរាជធានី-ខេត្ត",null,null,null,null,null,null,null,{"$f":"Updated_8!A5","v":"សកម្មភាពរងទី ១. ការចូលរៀនមានគុណភាពប្រកប​ដោយ​សមធម៌ និងបរិយាប័ន្ន និងលើកកម្ពស់ឱកាសក្នុងការសិក្សា​ពេញមួយជីវិតសម្រាប់ទាំងអស់គ្នា"}]
[null,"រាជធានី-ខេត្ត","ខេត្តបន្ទាយមានជ័យ",null,null,"រាជធានី ខេត្ត","ល.រ","With code",null,{"$f":"Updated_8!A6","v":"សកម្មភាពរងទី ២. ការលើកកម្ពស់ភាពជាអ្នកដឹកនាំ និងគ្រប់គ្រង របស់មន្រ្តីអប់រំគ្រប់លំដាប់ថ្នាក់"}]
[null,"កម្មវិធីទី ១","កម្មវិធីទី១៖ ការអភិវឌ្ឍការអប់រំក្នុងប្រព័ន្ធ ក្រៅប្រព័ន្ធ និងមិនផ្លូវការ",null,null,"ខេត្តបន្ទាយមានជ័យ","០១",{"$f":"CONCATENATE(G3, \"៖\",F3)","v":"០១៖ខេត្តបន្ទាយមានជ័យ"},null,{"$f":"CONCATENATE(\"១.១០.\",INDEX(province_code,MATCH(province,province_list,0)),K3)","v":"១.១០.០១.១៖ ការពង្រីកការអប់រំកុមារតូច"},{"$f":"Updated_8!A9","v":".១៖ ការពង្រីកការអប់រំកុមារតូច"},"ចង្កោមសកម្មភាព",{"$f":"C6","v":"១.១០.០១.១៖ ការពង្រីកការអប់រំកុមារតូច"},"ចង្កោមសកម្មភាព",{"$f":"C7","v":"១.១០.០១.២៖ ការពង្រឹងគុណភាព និងប្រសិទ្ធភាពនៃការអប់រំនៅបឋមសិក្សា"},"ចង្កោមសកម្មភាព",{"$f":"C8","v":"១.១០.០១.៣៖ ការចូលរៀនប្រកបដោយសមធម៌​ ការពង្រឹងគុណភាព និងប្រសិទ្ធភាពនៃការ​អប់រំនៅមធ្យមសិក្សា"},"ចង្កោមសកម្មភាព",{"$f":"C9","v":"១.១០.០១.៤៖ ការពង្រីកការអប់រំក្រៅប្រព័ន្ធ"},"ចង្កោមសកម្មភាព",{"$f":"C10","v":"១.១០.០១.៥៖ ការពង្រឹង​ និងការពង្រីកកម្មវិធីលើកកម្ពស់សុខភាពសិក្សា"},"ចង្កោមសកម្មភាព",{"$f":"C11","v":"១.១០.០១.៦៖ លើកកម្ពស់គុណភាព និងប្រសិទ្ធភាពនៃការអនុវត្តកម្មវិធីអប់រំបច្ចេកទេស"},"ចង្កោមសកម្មភាព",{"$f":"C12","v":"១.១០.០១.៧៖ ការអភិវឌ្ឍការងារបណ្តុះបណ្តុះ និងវិក្រឹតការគ្រូបង្រៀន"},"ចង្កោមសកម្មភាព",{"$f":"C13","v":"១.១០.០១.៨៖ ការអភិវឌ្ឍកម្មវិធីសិក្សា សម្ភារៈសិក្សា និងបណ្ណាល័យ"},"ចង្កោមសកម្មភាព",{"$f":"C14","v":"១.១០.០១.៩៖ ពង្រីកការអប់រំបរិយាបន្នគ្រប់ភូមិសិក្សា"}]
[null,"អនុកម្មវិធីទី១.១០","អនុកម្មវិធីទី ១.១០៖ សេវាគាំទ្រការអភិវឌ្ឍការអប់រំក្នុងប្រព័ន្ធ ក្រៅប្រព័ន្ធ និងមិនផ្លូវការរបស់មន្ទីរជំនាញ រាជធានី ខេត្ត",null,null,"ខេត្តបាត់ដំបង","០២",{"$f":"CONCATENATE(G4, \"៖\",F4)","v":"០២៖ខេត្តបាត់ដំបង"},null,"១.១០.០១.២៖ ការពង្រឹងគុណភាព និងប្រសិទ្ធភាពនៃការអប់រំនៅបឋមសិក្សា",{"$f":"Updated_8!A16","v":".២៖ ការពង្រឹងគុណភាព និងប្រសិទ្ធភាពនៃការអប់រំនៅបឋមសិក្សា"},{"$f":"Updated_8!B9","v":1},{"$f":"Updated_8!C9","v":"១. កិច្ចដំណើរការអង្គភាព"},{"$f":"Updated_8!B16","v":1},{"$f":"Updated_8!C16","v":"១. កិច្ចដំណើរការអង្គភាព"},{"$f":"Updated_8!B24","v":1},{"$f":"Updated_8!C24","v":"១. កិច្ចដំណើរការអង្គភាព"},{"$f":"Updated_8!B35","v":1},{"$f":"Updated_8!C35","v":"១. កិច្ចដំណើរការអង្គភាព"},{"$f":"Updated_8!B40","v":1},{"$f":"Updated_8!C40","v":"១. កិច្ចដំណើរការអង្គភាព"},{"$f":"Updated_8!B47","v":1},{"$f":"Updated_8!C47","v":"១. កិច្ចដំណើរការអង្គភាព"},{"$f":"Updated_8!B52","v":1},{"$f":"Updated_8!C52","v":"១. កិច្ចដំណើរការអង្គភាព"},{"$f":"Updated_8!B60","v":1},{"$f":"Updated_8!C60","v":"១. កិច្ចដំណើរការអង្គភាព"},{"$f":"Updated_8!B66","v":1},{"$f":"Updated_8!C66","v":"១. កិច្ចដំណើរការអង្គភាព"}]
[null,"ចង្កោមសកម្មភាព",{"$f":"CONCATENATE(\"ចង្កោមសកម្មភាពទី \",INDEX(province_list_with_code,MATCH(province,province_list,0)))","v":"ចង្កោមសកម្មភាពទី ០១៖ខេត្តបន្ទាយមានជ័យ"},null,null,"ខេត្តកំពង់ចាម","០៣",{"$f":"CONCATENATE(G5, \"៖\",F5)","v":"០៣៖ខេត្តកំពង់ចាម"},null,"១.១០.០១.៣៖ ការចូលរៀនប្រកបដោយសមធម៌​ ការពង្រឹងគុណភាព និងប្រសិទ្ធភាពនៃការ​អប់រំនៅមធ្យមសិក្សា",{"$f":"Updated_8!A24","v":".៣៖ ការចូលរៀនប្រកបដោយសមធម៌​ ការពង្រឹងគុណភាព និងប្រសិទ្ធភាពនៃការ​អប់រំនៅមធ្យមសិក្សា"},{"$f":"Updated_8!B10","v":1},{"$f":"Updated_8!C10","v":"២. ថវិកាលទ្ធកម្ម"},{"$f":"Updated_8!B17","v":1},{"$f":"Updated_8!C17","v":"២. ថវិកាលទ្ធកម្ម"},{"$f":"Updated_8!B25","v":1},{"$f":"Updated_8!C25","v":"២. ថវិកាលទ្ធកម្ម"},{"$f":"Updated_8!B36","v":1},{"$f":"Updated_8!C36","v":"២. ថវិកាលទ្ធកម្ម"},{"$f":"Updated_8!B41","v":1},{"$f":"Updated_8!C41","v":"២. ថវិកាលទ្ធកម្ម"},{"$f":"Updated_8!B48","v":1},{"$f":"Updated_8!C48","v":"២. ថវិកាលទ្ធកម្ម"},{"$f":"Updated_8!B53","v":1},{"$f":"Updated_8!C53","v":"២. ថវិកាលទ្ធកម្ម"},{"$f":"Updated_8!B61","v":1},{"$f":"Updated_8!C61","v":"២. ថវិកាលទ្ធកម្ម"},{"$f":"Updated_8!B67","v":1},{"$f":"Updated_8!C67","v":"២. ថវិកាលទ្ធកម្ម"}]
[null,"សកម្មភាពទី១",{"$f":"J3","v":"១.១០.០១.១៖ ការពង្រីកការអប់រំកុមារតូច"},null,null,"ខេត្តកំពង់ឆ្នាំង","០៤","០៤៖ខេត្តកំពង់ឆ្នាំង",null,"១.១០.០១.៤៖ ការពង្រីកការអប់រំក្រៅប្រព័ន្ធ",{"$f":"Updated_8!A35","v":".៤៖ ការពង្រីកការអប់រំក្រៅប្រព័ន្ធ"},{"$f":"Updated_8!B11","v":1},{"$f":"Updated_8!C11","v":"៣. ពិនិត្យតាមដាន និងវាយតម្លៃ"},{"$f":"Updated_8!B18","v":1},{"$f":"Updated_8!C18","v":"៣. ពិនិត្យតាមដាន និងវាយតម្លៃ"},{"$f":"Updated_8!B26","v":1},{"$f":"Updated_8!C26","v":"៣. ពិនិត្យតាមដាន និងវាយតម្លៃ"},{"$f":"Updated_8!B37","v":1},{"$f":"Updated_8!C37","v":"៣. ពិនិត្យតាមដាន និងវាយតម្លៃ"},{"$f":"Updated_8!B42","v":1},{"$f":"Updated_8!C42","v":"៣. ពិនិត្យតាមដាន និងវាយតម្លៃ"},{"$f":"Updated_8!B49","v":1},{"$f":"Updated_8!C49","v":"៣. ពិនិត្យតាមដាន និងវាយតម្លៃ"},{"$f":"Updated_8!B54","v":1},{"$f":"Updated_8!C54","v":"៣. ពិនិត្យតាមដាន និងវាយតម្លៃ"},{"$f":"Updated_8!B62","v":1},{"$f":"Updated_8!C62","v":"៣. រៀប​ចំ​ទិវាជាតិ​អំណាន និង​ពិធី​បុណ្យផ្សេងៗ"},{"$f":"Updated_8!B68","v":1},{"$f":"Updated_8!C68","v":"៣. ពិនិត្យតាមដាន និងវាយតម្លៃ"}]
[null,"សកម្មភាពទី២",{"$f":"J4","v":"១.១០.០១.២៖ ការពង្រឹងគុណភាព និងប្រសិទ្ធភាពនៃការអប់រំនៅបឋមសិក្សា"},null,null,"ខេត្តកំពង់ស្ពឺ","០៥","០៥៖ខេត្តកំពង់ស្ពឺ",null,"១.១០.០១.៥៖ ការពង្រឹង​ និងការពង្រីកកម្មវិធីលើកកម្ពស់សុខភាពសិក្សា",{"$f":"Updated_8!A40","v":".៥៖ ការពង្រឹង​ និងការពង្រីកកម្មវិធីលើកកម្ពស់សុខភាពសិក្សា"},{"$f":"Updated_8!B12","v":1},{"$f":"Updated_8!C12","v":"៤. អភិវឌ្ឍការអប់រំកុមារតូចឲ្យមានស្ដង់ដា"},{"$f":"Updated_8!B19","v":1},{"$f":"Updated_8!C19","v":"៤. ថវិកាដំណើរការសាលារៀន"},{"$f":"Updated_8!B27","v":1},{"$f":"Updated_8!C27","v":"៤. លើកកម្ពស់មុខវិជ្ជា STEM"},{"$f":"Updated_8!B38","v":1},{"$f":"Updated_8!C38","v":"៤. ថវិកាដំណើរការនៃការអប់រំក្រៅប្រព័ន្ធ"},{"$f":"Updated_8!B43","v":1},{"$f":"Updated_8!C43","v":"៤. កម្មវិធីអាហាររូបត្ថម្ភ"},{"$f":"Updated_8!B50","v":1},{"$f":"Updated_8!C50","v":"៤. ថវិកាដំណើការ និងការលើកកម្ពស់ការអប់រំបច្ចេកទេស"},{"$f":"Updated_8!B55","v":1},{"$f":"Updated_8!C55","v":"៤. អភិវឌ្ឍវិទ្យាស្ថានគរុកោសល្យ ២ (បាត់ដំបង និងភ្នំពេញ)"},{"$f":"Updated_8!B63","v":1},{"$f":"Updated_8!C63","v":"៤. ពិនិត្យតាមដាន និងវាយតម្លៃ"},{"$f":"Updated_8!B69","v":1},{"$f":"Updated_8!C69","v":"៤. អភិវឌ្ឍការងារអប់រំពិសេស និងពហុភាសា"}]
[null,"សកម្មភាពទី៣","១.១០.០១.៣៖ ការចូលរៀនប្រកបដោយសមធម៌​ ការពង្រឹងគុណភាព និងប្រសិទ្ធភាពនៃការ​អប់រំនៅមធ្យមសិក្សា",null,null,"ខេត្តកំពង់ធំ","០៦","០៦៖ខេត្តកំពង់ធំ",null,"១.១០.០១.៦៖ លើកកម្ពស់គុណភាព និងប្រសិទ្ធភាពនៃការអនុវត្តកម្មវិធីអប់រំបច្ចេកទេស",{"$f":"Updated_8!A47","v":".៦៖ លើកកម្ពស់គុណភាព និងប្រសិទ្ធភាពនៃការអនុវត្តកម្មវិធីអប់រំបច្ចេកទេស"},{"$f":"Updated_8!B13","v":1},{"$f":"Updated_8!C13","v":"៥. ថវិកាដំណើរការសាលារៀន"},{"$f":"Updated_8!B20","v":1},{"$f":"Updated_8!C20","v":"៥. សាលារៀនជំនាន់ថ្មី"},{"$f":"Updated_8!B28","v":1},{"$f":"Updated_8!C28","v":"៥. ថ្នាក់ពីរភាសា បារាំង-ខ្មែរ"},{"$f":"Updated_8!B39","v":2},{"$f":"Updated_8!C39","v":"១. អភិវឌ្ឍសមត្ថភាពមន្ត្រីអប់រំក្រៅប្រព័ន្ធ"},{"$f":"Updated_8!B44","v":1},{"$f":"Updated_8!C44","v":"៥. កម្មវិធីទឹកស្អាត និងអនាម័យ"},{"$f":"Updated_8!B51","v":1},{"$f":"Updated_8!C51","v":"៥. ពង្រឹង និងពង្រីកកម្មវិធីតម្រង់ទិសវិជ្ជាជីវៈអប់រំ បំណិនជីវិត និងប្រឹក្សាអាជីព"},{"$f":"Updated_8!B56","v":1},{"$f":"Updated_8!C56","v":"៥. អភិវឌ្ឍសាលាមធ្យមសិក្សាគរុកោសល្យមត្តេយ្យមជ្ឈិម"},{"$f":"Updated_8!B64","v":1},{"$f":"Updated_8!C64","v":"៥. អភិវឌ្ឍកម្មវិធីសិក្សា វិធីសាស្រ្តបង្រៀន ឯកសារ​  និងសម្ភារៈសិក្សា"},{"$f":"Updated_8!B70","v":1},{"$f":"Updated_8!C70","v":"៥. អភិវឌ្ឍហេដ្ឋារចនាសម្ពន្ធ័សាលារៀនអប់រំបរិយាបន្ន"}]
[null,"សកម្មភាពទី៤","១.១០.០១.៤៖ ការពង្រីកការអប់រំក្រៅប្រព័ន្ធ",null,null,"ខេត្តកំពត","០៧","០៧៖ខេត្តកំពត",null,"១.១០.០១.៧៖ ការអភិវឌ្ឍការងារបណ្តុះបណ្តុះ និងវិក្រឹតការគ្រូបង្រៀន",{"$f":"Updated_8!A52","v":".៧៖ ការអភិវឌ្ឍការងារបណ្តុះបណ្តុះ និងវិក្រឹតការគ្រូបង្រៀន"},{"$f":"Updated_8!B14","v":1},{"$f":"Updated_8!C14","v":"៦. គ្រប់គ្រងមត្តេយ្យសិក្សាសហគមន៍"},{"$f":"Updated_8!B21","v":1},{"$f":"Updated_8!C21","v":"៦. ថវិកាអាហារូបករណ៍"},{"$f":"Updated_8!B29","v":1},{"$f":"Updated_8!C29","v":"៦. ថវិកាដំណើរការអគារធនធាន"},null,null,{"$f":"Updated_8!B45","v":1},{"$f":"Updated_8!C45","v":"៦. ផ្តល់សេវាថែទាំសុខភាពចាំបាច់​ "},null,null,{"$f":"Updated_8!B57","v":1},{"$f":"Updated_8!C57","v":"៦. ប្រឡងជ្រើសរើស និងបញ្ចប់វគ្គបណ្ដុះបណ្ដាលគ្រូបង្រៀន"},{"$f":"Updated_8!B65","v":2},{"$f":"Updated_8!C65","v":"១. ពង្រឹងសមត្ថភាពមន្ដ្រីជំនាញ និងផ្សព្វផ្សាយ"},{"$f":"Updated_8!B71","v":2},{"$f":"Updated_8!C71","v":"១.ពង្រឹងការអភិវឌ្ឍសមត្ថភាព និងថវិកាលើកទឹកចិត្ត"}]
[null,"សកម្មភាពទី៥","១.១០.០១.៥៖ ការពង្រឹង​ និងការពង្រីកកម្មវិធីលើកកម្ពស់សុខភាពសិក្សា",null,null,"ខេត្តកណ្តាល","០៨","០៨៖ខេត្តកណ្តាល",null,"១.១០.០១.៨៖ ការអភិវឌ្ឍកម្មវិធីសិក្សា សម្ភារៈសិក្សា និងបណ្ណាល័យ",{"$f":"Updated_8!A60","v":".៨៖ ការអភិវឌ្ឍកម្មវិធីសិក្សា សម្ភារៈសិក្សា និងបណ្ណាល័យ"},{"$f":"Updated_8!B15","v":2},{"$f":"Updated_8!C15","v":"១. អភិវឌ្ឍសមត្ថភាពមន្ដ្រីអប់រំកុមារតូច"},{"$f":"Updated_8!B23","v":2},{"$f":"Updated_8!C22","v":"៧. ថវិកាពង្រឹងគុណភាពបង្រៀន"},{"$f":"Updated_8!B30","v":1},{"$f":"Updated_8!C30","v":"៧. សាលារៀនជំនាន់ថ្មី"},null,null,{"$f":"Updated_8!B46","v":2},{"$f":"Updated_8!C46","v":"១. ការអភិវឌ្ឍ និងពង្រឹងសមត្ថភាពកម្មវិធីអប់រំសុខភាព"},null,null,{"$f":"Updated_8!B58","v":1},{"$f":"Updated_8!C58","v":"៧. ថវិកាដំណើរការសាលាគរុកោសល្យ និងមណ្ឌលធនធាន"}]
[null,"សកម្មភាពទី៦","១.១០.០១.៦៖ លើកកម្ពស់គុណភាព និងប្រសិទ្ធភាពនៃការអនុវត្តកម្មវិធីអប់រំបច្ចេកទេស",null,null,"ខេត្តកោះកុង","០៩","០៩៖ខេត្តកោះកុង",null,"១.១០.០១.៩៖ ពង្រីកការអប់រំបរិយាបន្នគ្រប់ភូមិសិក្សា",{"$f":"Updated_8!A66","v":".៩៖ ពង្រីកការអប់រំបរិយាបន្នគ្រប់ភូមិសិក្សា"},null,null,null,{"$f":"Updated_8!C23","v":"១. ពង្រឹងសមត្ថភាព និងការលើកទឹកចិត្ត"},{"$f":"Updated_8!B31","v":1},{"$f":"Updated_8!C31","v":"៨. ថវិកាអាហារូបករណ៍"},null,null,null,null,null,null,{"$f":"Updated_8!B59","v":1},{"$f":"Updated_8!C59","v":"៨. អភិវឌ្ឍសមត្ថភាពនាយក និងគ្រូបង្រៀន"}]
[null,"សកម្មភាពទី៧",{"$f":"J9","v":"១.១០.០១.៧៖ ការអភិវឌ្ឍការងារបណ្តុះបណ្តុះ និងវិក្រឹតការគ្រូបង្រៀន"},null,null,"ខេត្តក្រចេះ","១០","១០៖ខេត្តក្រចេះ",null,null,null,null,null,null,null,{"$f":"Updated_8!B32","v":1},{"$f":"Updated_8!C32","v":"៩. ថវិកាដំណើរការសាលារៀន"}]
[null,"សកម្មភាពទី៨","១.១០.០១.៨៖ ការអភិវឌ្ឍកម្មវិធីសិក្សា សម្ភារៈសិក្សា និងបណ្ណាល័យ",null,null,"ខេត្តមណ្ឌលគិរី","១១","១១៖ខេត្តមណ្ឌលគិរី",null,{"$f":"CONCATENATE(\"៣.២.\",INDEX(province_code,MATCH(province,province_list,0)),K13)","v":"៣.២.០១.១៖ ការអភិវឌ្ឍអប់រំកាយ និងកីឡាសិស្ស និស្សិត មហាជន និងកីឡាកម្រិតខ្ពស់"},{"$f":"Updated_8!A73","v":".១៖ ការអភិវឌ្ឍអប់រំកាយ និងកីឡាសិស្ស និស្សិត មហាជន និងកីឡាកម្រិតខ្ពស់"},null,null,null,null,{"$f":"Updated_8!B33","v":1},{"$f":"Updated_8!C33","v":"១០. ពង្រឹងសមត្ថភាពលើការងារគ្រប់គ្រង និងការបង្រៀននិងរៀន"}]
[null,"សកម្មភាពទី៩","១.១០.០១.៩៖ ពង្រីកការអប់រំបរិយាបន្នគ្រប់ភូមិសិក្សា",null,null,"រាជធានីភ្នំពេញ","១២","១២៖រាជធានីភ្នំពេញ",null,null,null,null,null,null,null,{"$f":"Updated_8!B34","v":2},{"$f":"Updated_8!C34","v":"១. ពង្រឹងសមត្ថភាព និងការលើកទឹកចិត្ត"}]
[null,"កម្មវិធីទី ៣","កម្មវិធីទី ៣៖ ការអភិវឌ្ឍវិស័យអប់រំកាយ និងកីឡា",null,null,"ខេត្តព្រះវិហារ","១៣","១៣៖ខេត្តព្រះវិហារ",null,{"$f":"CONCATENATE(\"៤.៤.\",INDEX(province_code,MATCH(province,province_list,0)),K15)","v":"៤.៤.០១.១៖ ការពង្រឹងសមត្ថភាពយុវជន"},{"$f":"Updated_8!A83","v":".១៖ ការពង្រឹងសមត្ថភាពយុវជន"},"ចង្កោមសកម្មភាព",{"$f":"C18","v":"៣.២.០១.១៖ ការអភិវឌ្ឍអប់រំកាយ និងកីឡាសិស្ស និស្សិត មហាជន និងកីឡាកម្រិតខ្ពស់"},"ចង្កោមសកម្មភាព",{"$f":"C22","v":"៤.៤.០១.១៖ ការពង្រឹងសមត្ថភាពយុវជន"},"ចង្កោមសកម្មភាព",{"$f":"C23","v":"៤.៤.០១.២៖ ការអភិវឌ្ឍមជ្ឈមណ្ឌលយុវជន"},"ចង្កោមសកម្មភាព",{"$f":"C24","v":"៤.៤.០១.៣៖ ការអភិវឌ្ឍកាយរឹទ្ធិកម្ម"}]
[null,"អនុកម្មវិធីទី៣.២","អនុកម្មវិធីទី ៣.២ សេវាគាំទ្រការអភិវឌ្ឍវិស័យអប់រំកាយ និងកីឡារបស់មន្ទីរជំនាញរាជធានី ខេត្ត",null,null,"ខេត្តព្រៃវែង","១៤","១៤៖ខេត្តព្រៃវែង",null,{"$f":"CONCATENATE(\"៤.៤.\",INDEX(province_code,MATCH(province,province_list,0)),K16)","v":"៤.៤.០១.២៖ ការអភិវឌ្ឍមជ្ឈមណ្ឌលយុវជន"},{"$f":"Updated_8!A90","v":".២៖ ការអភិវឌ្ឍមជ្ឈមណ្ឌលយុវជន"},{"$f":"Updated_8!B73","v":1},{"$f":"Updated_8!C73","v":"១. កិច្ចដំណើរការអង្គភាព"},{"$f":"Updated_8!B83","v":1},{"$f":"Updated_8!C83","v":"១. កិច្ចដំណើរការអង្គភាព"},{"$f":"Updated_8!B90","v":1},{"$f":"Updated_8!C90","v":"១. កិច្ចដំណើរការអង្គភាព"},{"$f":"Updated_8!B95","v":1},{"$f":"Updated_8!C95","v":"១. កិច្ចដំណើរការអង្គភាព"}]
[null,"ចង្កោមសកម្មភាព",{"$f":"CONCATENATE(\"ចង្កោមសកម្មភាពទី \",INDEX(province_list_with_code,MATCH(province,province_list,0)))","v":"ចង្កោមសកម្មភាពទី ០១៖ខេត្តបន្ទាយមានជ័យ"},null,null,"ខេត្តពោធិ៍សាត់","១៥","១៥៖ខេត្តពោធិ៍សាត់",null,{"$f":"CONCATENATE(\"៤.៤.\",INDEX(province_code,MATCH(province,province_list,0)),K17)","v":"៤.៤.០១.៣៖ ការអភិវឌ្ឍកាយរឹទ្ធិកម្ម"},{"$f":"Updated_8!A95","v":".៣៖ ការអភិវឌ្ឍកាយរឹទ្ធិកម្ម"},{"$f":"Updated_8!B74","v":1},{"$f":"Updated_8!C74","v":"២. ថវិកាលទ្ធកម្ម"},{"$f":"Updated_8!B84","v":1},{"$f":"Updated_8!C84","v":"២. ថវិកាលទ្ធកម្ម"},{"$f":"Updated_8!B91","v":1},{"$f":"Updated_8!C91","v":"២. ថវិកាលទ្ធកម្ម"},{"$f":"Updated_8!B96","v":1},{"$f":"Updated_8!C96","v":"២. ថវិកាលទ្ធកម្ម"}]
[null,"សកម្មភាពទី១",{"$f":"J13","v":"៣.២.០១.១៖ ការអភិវឌ្ឍអប់រំកាយ និងកីឡាសិស្ស និស្សិត មហាជន និងកីឡាកម្រិតខ្ពស់"},null,null,"ខេត្តរតនគិរី","១៦","១៦៖ខេត្តរតនគិរី",null,null,null,{"$f":"Updated_8!B75","v":1},{"$f":"Updated_8!C75","v":"៣. ពិនិត្យតាមដាន និងវាយតម្លៃ"},{"$f":"Updated_8!B85","v":1},{"$f":"Updated_8!C85","v":"៣. ពិនិត្យតាមដាន និងវាយតម្លៃ"},{"$f":"Updated_8!B92","v":1},{"$f":"Updated_8!C92","v":"៣. ពិនិត្យតាមដាន និងវាយតម្លៃ"},{"$f":"Updated_8!B97","v":1},{"$f":"Updated_8!C97","v":"៣. ពិនិត្យតាមដាន និងវាយតម្លៃ"}]
[null,"កម្មវិធីទី ៤","កម្មវិធីទី៤៖ ការអភិវឌ្ឍជំនាញបច្ចេកទេស និងជំនាញទន់សម្រាប់យុវជន",null,null,"ខេត្តសៀមរាប","១៧","១៧៖ខេត្តសៀមរាប",null,{"$f":"CONCATENATE(\"៥.១៨.\",INDEX(province_code,MATCH(province,province_list,0)),K19)","v":"៥.១៨.០១.១៖ ការអភិវឌ្ឍនិងពង្រឹងប្រព័ន្ធផែនការអប់រំ"},{"$f":"Updated_8!A100","v":".១៖ ការអភិវឌ្ឍនិងពង្រឹងប្រព័ន្ធផែនការអប់រំ"},{"$f":"Updated_8!B76","v":1},{"$f":"Updated_8!C76","v":"៤. អភិវឌ្ឍកម្មវិធីអប់រំកាយក្នុងម៉ោងសិក្សា កីឡាក្រៅម៉ោងសិក្សា និងសមាគមកីឡា"},{"$f":"Updated_8!B86","v":1},{"$f":"Updated_8!C86","v":"៤. ផ្លាស់ប្ដូរទំនាក់ទំនងយុវជនជាតិ និងអន្ដរជាតិ"},{"$f":"Updated_8!B93","v":1},{"$f":"Updated_8!C93","v":"៤. គាំទ្រអភិវឌ្ឍមជ្ឈមណ្ឌលយុវជន"},{"$f":"Updated_8!B98","v":1},{"$f":"Updated_8!C98","v":"៤. ពង្រឹងប្រព័ន្ធល្បាតកាយរឹទ្ធិកម្ម បណ្ដុះបណ្ដាលធនធានមនុស្ស និងកិច្ចសហប្រតិបត្តិការអន្ដរជាតិ"}]
[null,"អនុកម្មវិធីទី៤.៤","អនុកម្មវិធីទី ៤.៤៖ សេវាគាំទ្រអភិវឌ្ឍជំនាញបច្ចេកទេស និងជំនាញទន់សម្រាប់យុវជនរបស់\nមន្ទីរជំនាញរាជធានី ខេត្ត",null,null,"ខេត្តព្រះសីហនុ","១៨","១៨៖ខេត្តព្រះសីហនុ",null,"៥.១៨.០១.២៖ ការគ្រប់គ្រង និងពង្រឹងប្រសិទ្ធភាព​ធនធានមនុស្ស",{"$f":"Updated_8!A105","v":".២៖ ការគ្រប់គ្រង និងពង្រឹងប្រសិទ្ធភាព​ធនធានមនុស្ស"},{"$f":"Updated_8!B77","v":1},{"$f":"Updated_8!C77","v":"៥. ប្រកួតកីឡាសិស្ស និស្សិតថ្នាក់រាជធានី-ខេត្ត"},{"$f":"Updated_8!B87","v":1},{"$f":"Updated_8!C87","v":"៥. អភិវឌ្ឍសមត្ថភាពលើសហគ្រិនភាពដល់យុវជន"},{"$f":"Updated_8!B94","v":1},{"$f":"Updated_8!C94","v":"៥. កសាងសមត្ថភាពជំនាញ វិជ្ជាជីវៈតាមមជ្ឈមណ្ឌលយុវជន"}]
[null,"ចង្កោមសកម្មភាព",{"$f":"CONCATENATE(\"ចង្កោមសកម្មភាពទី \",INDEX(province_list_with_code,MATCH(province,province_list,0)))","v":"ចង្កោមសកម្មភាពទី ០១៖ខេត្តបន្ទាយមានជ័យ"},null,null,"ខេត្តស្ទឹងត្រែង","១៩","១៩៖ខេត្តស្ទឹងត្រែង",null,"៥.១៨.០១.៣៖ ការអភិវឌ្ឍសមត្ថភាព ការងារគ្រប់គ្រង ផែនការហិរញ្ញវត្ថុ និងមូលដ្ឋានសម្ភារៈ",{"$f":"Updated_8!A113","v":".៣៖ ការអភិវឌ្ឍសមត្ថភាព ការងារគ្រប់គ្រង ផែនការហិរញ្ញវត្ថុ និងមូលដ្ឋានសម្ភារៈ"},{"$f":"Updated_8!B78","v":1},{"$f":"Updated_8!C78","v":"៦. រៀបចំ និងចូលរួមប្រកួតកីឡាជាលក្ខណៈជាតិ និងអន្ដរជាតិ"},{"$f":"Updated_8!B88","v":1},{"$f":"Updated_8!C88","v":"៦. យល់ដឹងអំពីជម្ងឺអេដស៍របស់យុវជនក្រៅសាលា"}]
[null,"សកម្មភាពទី១",{"$f":"J15","v":"៤.៤.០១.១៖ ការពង្រឹងសមត្ថភាពយុវជន"},null,null,"ខេត្តស្វាយរៀង","២០","២០៖ខេត្តស្វាយរៀង",null,"៥.១៨.០១.៤៖ ពង្រឹងការងារសវនកម្មផ្ទៃក្នុង",{"$f":"Updated_8!A118","v":".៤៖ ពង្រឹងការងារសវនកម្មផ្ទៃក្នុង"},{"$f":"Updated_8!B79","v":1},{"$f":"Updated_8!C79","v":"៧. ប្រកួតកីឡាមហាជនថ្នាក់រាជធានី-ខេត្ត"},{"$f":"Updated_8!B89","v":1},{"$f":"Updated_8!C89","v":"៧. ពង្រឹងដំណើរការក្រុមប្រឹក្សាកុមារ និងយុវជន"}]
[null,"សកម្មភាពទី២",{"$f":"J16","v":"៤.៤.០១.២៖ ការអភិវឌ្ឍមជ្ឈមណ្ឌលយុវជន"},null,null,"ខេត្តតាកែវ","២១","២១៖ខេត្តតាកែវ",null,"៥.១៨.០១.៥៖ ការពិនិត្យតាមដាន វាយតម្លៃ និងអធិការកិច្ចប្រព័ន្ធធានាគុណភាពអប់រំ",{"$f":"Updated_8!A123","v":".៥៖ ការពិនិត្យតាមដាន វាយតម្លៃ និងអធិការកិច្ចប្រព័ន្ធធានាគុណភាពអប់រំ"},{"$f":"Updated_8!B80","v":1},{"$f":"Updated_8!C80","v":"៨. អភិវឌ្ឍហេដ្ឋារចនាសម្ព័ន្ធកីឡា និងឧបករណ៍សម្ភារកីឡា"}]
[null,"សកម្មភាពទី៣",{"$f":"J17","v":"៤.៤.០១.៣៖ ការអភិវឌ្ឍកាយរឹទ្ធិកម្ម"},null,null,"ខេត្តឧត្តរមានជ័យ","២២","២២៖ខេត្តឧត្តរមានជ័យ",null,"៥.១៨.០១.៦៖ អធិការកិច្ចរដ្ឋបាល និងហិរញ្ញវត្ថុ",{"$f":"Updated_8!A128","v":".៦៖ អធិការកិច្ចរដ្ឋបាល និងហិរញ្ញវត្ថុ"},{"$f":"Updated_8!B81","v":2},{"$f":"Updated_8!C81","v":"១. អភិវឌ្ឍធនធានមនុស្សលើវិស័យកីឡា"}]
[null,"កម្មវិធីទី ៥","កម្មវិធីទី៥៖ ការគាំទ្រសេវាអប់រំ និងអភិបាលកិច្ចល្អ",null,null,"ខេត្តកែប","២៣","២៣៖ខេត្តកែប",null,"៥.១៨.០១.៧៖ លើកកម្ពស់ការផ្សព្វផ្សាយព័ត៌មានអប់រំ និងកិច្ចសហប្រតិបត្តិការអាស៊ាន និងស៊ីមេអូ",{"$f":"Updated_8!A133","v":".៧៖ លើកកម្ពស់ការផ្សព្វផ្សាយព័ត៌មានអប់រំ និងកិច្ចសហប្រតិបត្តិការអាស៊ាន និងស៊ីមេអូ"}]
[null,"អនុកម្មវិធីទី៥.១៨","អនុកម្មវិធីទី ៥.១៨ សេវាគាំទ្រសេវាអប់រំ និងអភិបាលកិច្ចល្អ របស់មន្ទីរជំនាញរាជធានី ខេត្ត",null,null,"ខេត្តប៉ៃលិន","២៤","២៤៖ខេត្តប៉ៃលិន",null,"៥.១៨.០១.៨៖ ការពង្រឹងការងារនីតិកម្មសម្រាប់វិស័យអប់រំ",{"$f":"Updated_8!A139","v":".៨៖ ការពង្រឹងការងារនីតិកម្មសម្រាប់វិស័យអប់រំ"}]
[null,"ចង្កោមសកម្មភាព",{"$f":"CONCATENATE(\"ចង្កោមសកម្មភាពទី \",INDEX(province_list_with_code,MATCH(province,province_list,0)))","v":"ចង្កោមសកម្មភាពទី ០១៖ខេត្តបន្ទាយមានជ័យ"},null,null,"ខេត្តត្បូងឃ្មុំ","២៥","២៥៖ខេត្តត្បូងឃ្មុំ",null,"៥.១៨.០១.៩៖ ការពង្រឹងការគ្រប់គ្រងហេដ្ឋារចនាសម្ព័ន្ធអប់រំ",{"$f":"Updated_8!A143","v":".៩៖ ការពង្រឹងការគ្រប់គ្រងហេដ្ឋារចនាសម្ព័ន្ធអប់រំ"}]
[null,"សកម្មភាពទី១",{"$f":"J19","v":"៥.១៨.០១.១៖ ការអភិវឌ្ឍនិងពង្រឹងប្រព័ន្ធផែនការអប់រំ"},null,null,null,null,null,null,"៥.១៨.០១.១០៖ ការពង្រឹងការគ្រប់គ្រង ការផ្គត់ផ្គង់សម្ភារៈ និងទ្រព្យសម្បត្តិរដ្ឋ",{"$f":"Updated_8!A148","v":".១០៖ ការពង្រឹងការគ្រប់គ្រង ការផ្គត់ផ្គង់សម្ភារៈ និងទ្រព្យសម្បត្តិរដ្ឋ"}]
[null,"សកម្មភាពទី២",{"$f":"J20","v":"៥.១៨.០១.២៖ ការគ្រប់គ្រង និងពង្រឹងប្រសិទ្ធភាព​ធនធានមនុស្ស"},null,null,null,null,null,null,"៥.១៨.០១.១១៖ ការអភិវឌ្ឍ និងពង្រឹងប្រសិទ្ធភាពការគ្រប់គ្រង និងការធានាភាពស័ក្តិសិទ្ធនៃសេវារដ្ឋបាលអប់រំ",{"$f":"Updated_8!A152","v":".១១៖ ការអភិវឌ្ឍ និងពង្រឹងប្រសិទ្ធភាពការគ្រប់គ្រង និងការធានាភាពស័ក្តិសិទ្ធនៃសេវារដ្ឋបាលអប់រំ"}]
[null,"សកម្មភាពទី៣","៥.១៨.០១.៣៖ ការអភិវឌ្ឍសមត្ថភាព ការងារគ្រប់គ្រង ផែនការហិរញ្ញវត្ថុ និងមូលដ្ឋានសម្ភារៈ",null,null,null,null,null,null,"៥.១៨.០១.១២៖ ការអភិវឌ្ឍកិច្ចសហប្រតិបត្តិការជាតិ អន្តរជាតិលើវិស័យអប់រំ",{"$f":"Updated_8!A157","v":".១២៖ ការអភិវឌ្ឍកិច្ចសហប្រតិបត្តិការជាតិ អន្តរជាតិលើវិស័យអប់រំ"}]
[null,"សកម្មភាពទី៤","៥.១៨.០១.៤៖ ពង្រឹងការងារសវនកម្មផ្ទៃក្នុង",null,null,"ដើមឆ្នាំ",1,null,null,"៥.១៨.០១.១៣៖ ការអភិវឌ្ឍប្រព័ន្ធព័ត៌មានគ្រប់គ្រងអប់រំ",{"$f":"Updated_8!A162","v":".១៣៖ ការអភិវឌ្ឍប្រព័ន្ធព័ត៌មានគ្រប់គ្រងអប់រំ"}]
[null,"សកម្មភាពទី៥","៥.១៨.០១.៥៖ ការពិនិត្យតាមដាន វាយតម្លៃ និងអធិការកិច្ចប្រព័ន្ធធានាគុណភាពអប់រំ",null,null,"កែតម្រូវលើកទី១",2,null,null,"៥.១៨.០១.១៤៖ ការស្រាវជ្រាវ និងអភិវឌ្ឍគោលនយោបាយអប់រំ",{"$f":"Updated_8!A167","v":".១៤៖ ការស្រាវជ្រាវ និងអភិវឌ្ឍគោលនយោបាយអប់រំ"}]
[null,"សកម្មភាពទី៦","៥.១៨.០១.៦៖ អធិការកិច្ចរដ្ឋបាល និងហិរញ្ញវត្ថុ",null,null,"កែតម្រូវលើកទី២",3,null,null,"៥.១៨.០១.១៥៖ ការអភិវឌ្ឍនិងពង្រឹងប្រព័ន្ធពិនិត្យ តាមដាន និងវាយតម្លៃ",{"$f":"Updated_8!A174","v":".១៥៖ ការអភិវឌ្ឍនិងពង្រឹងប្រព័ន្ធពិនិត្យ តាមដាន និងវាយតម្លៃ"}]
[null,"សកម្មភាពទី៧","៥.១៨.០១.៧៖ លើកកម្ពស់ការផ្សព្វផ្សាយព័ត៌មានអប់រំ និងកិច្ចសហប្រតិបត្តិការអាស៊ាន និងស៊ីមេអូ",null,null,"កែតម្រូវលើកទី៣",4,null,null,"៥.១៨.០១.១៦៖ ការអភិវឌ្ឍ​បច្ចេកវិទ្យាព័ត៌មានសម្រាប់ការងារអប់រំ យុវជន និងកីឡា",{"$f":"Updated_8!A179","v":".១៦៖ ការអភិវឌ្ឍ​បច្ចេកវិទ្យាព័ត៌មានសម្រាប់ការងារអប់រំ យុវជន និងកីឡា"}]
[null,"សកម្មភាពទី៨","៥.១៨.០១.៨៖ ការពង្រឹងការងារនីតិកម្មសម្រាប់វិស័យអប់រំ",null,null,"កែតម្រូវលើកទី៤",5,null,null,"៥.១៨.០១.១៧៖ ការពង្រឹងគុណភាព និងប្រសិទ្ធភាពការងារប្រឡងនៅមធ្យមសិក្សានិងអប់រំបច្ចេកទេស",{"$f":"Updated_8!A185","v":".១៧៖ ការពង្រឹងគុណភាព និងប្រសិទ្ធភាពការងារប្រឡងនៅមធ្យមសិក្សានិងអប់រំបច្ចេកទេស"}]
[null,"សកម្មភាពទី៩","៥.១៨.០១.៩៖ ការពង្រឹងការគ្រប់គ្រងហេដ្ឋារចនាសម្ព័ន្ធអប់រំ"]
[null,"សកម្មភាពទី១០","៥.១៨.០១.១០៖ ការពង្រឹងការគ្រប់គ្រង ការផ្គត់ផ្គង់សម្ភារៈ និងទ្រព្យសម្បត្តិរដ្ឋ",null,null,null,null,null,null,null,null,"ចង្កោមសកម្មភាព",{"$f":"C28","v":"៥.១៨.០១.១៖ ការអភិវឌ្ឍនិងពង្រឹងប្រព័ន្ធផែនការអប់រំ"},"ចង្កោមសកម្មភាព",{"$f":"C29","v":"៥.១៨.០១.២៖ ការគ្រប់គ្រង និងពង្រឹងប្រសិទ្ធភាព​ធនធានមនុស្ស"},"ចង្កោមសកម្មភាព",{"$f":"C30","v":"៥.១៨.០១.៣៖ ការអភិវឌ្ឍសមត្ថភាព ការងារគ្រប់គ្រង ផែនការហិរញ្ញវត្ថុ និងមូលដ្ឋានសម្ភារៈ"},"ចង្កោមសកម្មភាព",{"$f":"C31","v":"៥.១៨.០១.៤៖ ពង្រឹងការងារសវនកម្មផ្ទៃក្នុង"},"ចង្កោមសកម្មភាព",{"$f":"C32","v":"៥.១៨.០១.៥៖ ការពិនិត្យតាមដាន វាយតម្លៃ និងអធិការកិច្ចប្រព័ន្ធធានាគុណភាពអប់រំ"},"ចង្កោមសកម្មភាព",{"$f":"C33","v":"៥.១៨.០១.៦៖ អធិការកិច្ចរដ្ឋបាល និងហិរញ្ញវត្ថុ"},"ចង្កោមសកម្មភាព",{"$f":"C34","v":"៥.១៨.០១.៧៖ លើកកម្ពស់ការផ្សព្វផ្សាយព័ត៌មានអប់រំ និងកិច្ចសហប្រតិបត្តិការអាស៊ាន និងស៊ីមេអូ"},"ចង្កោមសកម្មភាព",{"$f":"C35","v":"៥.១៨.០១.៨៖ ការពង្រឹងការងារនីតិកម្មសម្រាប់វិស័យអប់រំ"},"ចង្កោមសកម្មភាព",{"$f":"C36","v":"៥.១៨.០១.៩៖ ការពង្រឹងការគ្រប់គ្រងហេដ្ឋារចនាសម្ព័ន្ធអប់រំ"},"ចង្កោមសកម្មភាព",{"$f":"C37","v":"៥.១៨.០១.១០៖ ការពង្រឹងការគ្រប់គ្រង ការផ្គត់ផ្គង់សម្ភារៈ និងទ្រព្យសម្បត្តិរដ្ឋ"},"ចង្កោមសកម្មភាព",{"$f":"C38","v":"៥.១៨.០១.១១៖ ការអភិវឌ្ឍ និងពង្រឹងប្រសិទ្ធភាពការគ្រប់គ្រង និងការធានាភាពស័ក្តិសិទ្ធនៃសេវារដ្ឋបាលអប់រំ"},"ចង្កោមសកម្មភាព",{"$f":"C39","v":"៥.១៨.០១.១២៖ ការអភិវឌ្ឍកិច្ចសហប្រតិបត្តិការជាតិ អន្តរជាតិលើវិស័យអប់រំ"},"ចង្កោមសកម្មភាព",{"$f":"C40","v":"៥.១៨.០១.១៣៖ ការអភិវឌ្ឍប្រព័ន្ធព័ត៌មានគ្រប់គ្រងអប់រំ"},"ចង្កោមសកម្មភាព",{"$f":"C41","v":"៥.១៨.០១.១៤៖ ការស្រាវជ្រាវ និងអភិវឌ្ឍគោលនយោបាយអប់រំ"},"ចង្កោមសកម្មភាព",{"$f":"C42","v":"៥.១៨.០១.១៥៖ ការអភិវឌ្ឍនិងពង្រឹងប្រព័ន្ធពិនិត្យ តាមដាន និងវាយតម្លៃ"},"ចង្កោមសកម្មភាព",{"$f":"C43","v":"៥.១៨.០១.១៦៖ ការអភិវឌ្ឍ​បច្ចេកវិទ្យាព័ត៌មានសម្រាប់ការងារអប់រំ យុវជន និងកីឡា"},"ចង្កោមសកម្មភាព",{"$f":"C44","v":"៥.១៨.០១.១៧៖ ការពង្រឹងគុណភាព និងប្រសិទ្ធភាពការងារប្រឡងនៅមធ្យមសិក្សានិងអប់រំបច្ចេកទេស"}]
[null,"សកម្មភាពទី១១","៥.១៨.០១.១១៖ ការអភិវឌ្ឍ និងពង្រឹងប្រសិទ្ធភាពការគ្រប់គ្រង និងការធានាភាពស័ក្តិសិទ្ធនៃសេវារដ្ឋបាលអប់រំ",null,null,null,null,null,null,null,null,{"$f":"Updated_8!B100","v":2},{"$f":"Updated_8!C100","v":"១. កិច្ចដំណើរការអង្គភាព"},{"$f":"Updated_8!B105","v":1},{"$f":"Updated_8!C105","v":"១. កម្មវិធីគាំទ្រការពង្រាយគ្រូ និងប្រាក់បៀវត្ស"},{"$f":"Updated_8!B113","v":1},{"$f":"Updated_8!C113","v":"១. ចំណាយលើអត្ថប្រយជន៍សង្គម"},{"$f":"Updated_8!B118","v":2},{"$f":"Updated_8!C118","v":"១. កិច្ចដំណើរការអង្គភាព"},{"$f":"Updated_8!B123","v":1},{"$f":"Updated_8!C123","v":"១. អធិការកិច្ចគុណភាពអប់រំ និងវាយតម្លៃលទ្ធផលសិក្សា"},{"$f":"Updated_8!B128","v":2},{"$f":"Updated_8!C128","v":"១. កិច្ចដំណើរការអង្គភាព"},{"$f":"Updated_8!B133","v":1},{"$f":"Updated_8!C133","v":"១. ផលិត និងផ្សព្វផ្សាយព័ត៌មានអប់រំ"},{"$f":"Updated_8!B139","v":2},{"$f":"Updated_8!C139","v":"១. កិច្ចដំណើរការអង្គភាព"},{"$f":"Updated_8!B143","v":1},{"$f":"Updated_8!C143","v":"១. ថែទាំ និងជួសជុល"},{"$f":"Updated_8!B148","v":2},{"$f":"Updated_8!C148","v":"១. កិច្ចដំណើរការអង្គភាព"},{"$f":"Updated_8!B152","v":1},{"$f":"Updated_8!C152","v":"១. គាំទ្រសេវារៀបចំពិធីសម្រាប់វិស័យអ​ប់រំ"},{"$f":"Updated_8!B157","v":1},{"$f":"Updated_8!C157","v":"១. ប្រឡងអាហារូបករណ៍"},{"$f":"Updated_8!B162","v":2},{"$f":"Updated_8!C162","v":"១. កិច្ចដំណើរការអង្គភាព"},{"$f":"Updated_8!B167","v":1},{"$f":"Updated_8!C167","v":"១. រៀបចំ និងសម្របសម្រួលគោលនយោបាយអប់រំ យុវជន និងកីឡា"},{"$f":"Updated_8!B174","v":2},{"$f":"Updated_8!C174","v":"១. កិច្ចដំណើរការអង្គភាព"},{"$f":"Updated_8!B179","v":1},{"$f":"Updated_8!C179","v":"១. ការផ្តល់សេវាកម្ម និងការអប់រំមិនផ្លូវការ"},{"$f":"Updated_8!B185","v":1},{"$f":"Updated_8!C185","v":"១. ការងារប្រឡង"}]
[null,"សកម្មភាពទី១២","៥.១៨.០១.១២៖ ការអភិវឌ្ឍកិច្ចសហប្រតិបត្តិការជាតិ អន្តរជាតិលើវិស័យអប់រំ",null,null,null,null,null,null,null,null,{"$f":"Updated_8!B101","v":2},{"$f":"Updated_8!C101","v":"២. ថវិកាលទ្ធកម្ម"},{"$f":"Updated_8!B106","v":1},{"$f":"Updated_8!C106","v":"២. កម្មវិធីគាំទ្រការឧបត្ថម្ភជីវភាពគ្រូនៅតំបន់ជួបការលំបាក"},{"$f":"Updated_8!B114","v":2},{"$f":"Updated_8!C114","v":"១. កិច្ចដំណើរការអង្គភាព"},{"$f":"Updated_8!B119","v":2},{"$f":"Updated_8!C119","v":"២. ថវិកាលទ្ធកម្ម"},{"$f":"Updated_8!B124","v":2},{"$f":"Updated_8!C124","v":"១. កិច្ចដំណើរការអង្គភាព"},{"$f":"Updated_8!B129","v":2},{"$f":"Updated_8!C129","v":"២. ថវិកាលទ្ធកម្ម"},{"$f":"Updated_8!B134","v":1},{"$f":"Updated_8!C134","v":"២. លើកកម្ពស់កិច្ចសហប្រតិបត្តិការអាស៊ាន និងស៊ីមេអូ"},{"$f":"Updated_8!B140","v":2},{"$f":"Updated_8!C140","v":"២. ថវិកាលទ្ធកម្ម"},{"$f":"Updated_8!B144","v":2},{"$f":"Updated_8!C144","v":"១. កិច្ចដំណើរការអង្គភាព"},{"$f":"Updated_8!B149","v":2},{"$f":"Updated_8!C149","v":"២. ថវិកាលទ្ធកម្ម"},{"$f":"Updated_8!B153","v":2},{"$f":"Updated_8!C153","v":"១. កិច្ចដំណើរការអង្គភាព"},{"$f":"Updated_8!B158","v":2},{"$f":"Updated_8!C158","v":"១. កិច្ចដំណើរការអង្គភាព"},{"$f":"Updated_8!B163","v":2},{"$f":"Updated_8!C163","v":"២. ថវិកាលទ្ធកម្ម"},{"$f":"Updated_8!B168","v":1},{"$f":"Updated_8!C168","v":"២. សិក្សាស្រាវជ្រាវ និងតាមដាននិន្នាការក្នុងតំបន់ និងពិភពលោក "},{"$f":"Updated_8!B175","v":2},{"$f":"Updated_8!C175","v":"២. ថវិកាលទ្ធកម្ម"},{"$f":"Updated_8!B180","v":2},{"$f":"Updated_8!C180","v":"១. កិច្ចដំណើរការអង្គភាព"},{"$f":"Updated_8!B186","v":2},{"$f":"Updated_8!C186","v":"១. កិច្ចដំណើរការអង្គភាព"}]
[null,"សកម្មភាពទី១៣","៥.១៨.០១.១៣៖ ការអភិវឌ្ឍប្រព័ន្ធព័ត៌មានគ្រប់គ្រងអប់រំ",null,null,null,null,null,null,null,null,{"$f":"Updated_8!B102","v":2},{"$f":"Updated_8!C102","v":"៣. ពិនិត្យតាមដាន និងវាយតម្លៃ"},{"$f":"Updated_8!B107","v":1},{"$f":"Updated_8!C107","v":"៣. ប្រលងជ្រើសរើសគ្រូបង្រៀន"},{"$f":"Updated_8!B115","v":2},{"$f":"Updated_8!C115","v":"២. ថវិកាលទ្ធកម្ម"},{"$f":"Updated_8!B120","v":2},{"$f":"Updated_8!C120","v":"៣. ពិនិត្យតាមដាន និងវាយតម្លៃ"},{"$f":"Updated_8!B125","v":2},{"$f":"Updated_8!C125","v":"២. ថវិកាលទ្ធកម្ម"},{"$f":"Updated_8!B130","v":2},{"$f":"Updated_8!C130","v":"៣. ពិនិត្យតាមដាន និងវាយតម្លៃ"},{"$f":"Updated_8!B135","v":2},{"$f":"Updated_8!C135","v":"១. កិច្ចដំណើរការអង្គភាព"},{"$f":"Updated_8!B141","v":2},{"$f":"Updated_8!C141","v":"៣. ពង្រឹងការងារនីតិកម្មសម្រាប់វិស័យអប់រំ"},{"$f":"Updated_8!B145","v":2},{"$f":"Updated_8!C145","v":"២. ថវិកាលទ្ធកម្ម"},{"$f":"Updated_8!B150","v":2},{"$f":"Updated_8!C150","v":"៣. ពិនិត្យតាមដាន និងវាយតម្លៃ"},{"$f":"Updated_8!B154","v":2},{"$f":"Updated_8!C154","v":"២. ថវិកាលទ្ធកម្ម"},{"$f":"Updated_8!B159","v":2},{"$f":"Updated_8!C159","v":"២. ថវិកាលទ្ធកម្ម"},{"$f":"Updated_8!B164","v":2},{"$f":"Updated_8!C164","v":"៣. ពិនិត្យតាមដាន និងវាយតម្លៃ"},{"$f":"Updated_8!B169","v":2},{"$f":"Updated_8!C169","v":"១. កិច្ចដំណើរការអង្គភាព"},{"$f":"Updated_8!B176","v":2},{"$f":"Updated_8!C176","v":"៣. ពិនិត្យតាមដាន និងវាយតម្លៃ"},{"$f":"Updated_8!B181","v":2},{"$f":"Updated_8!C181","v":"២. ថវិកាលទ្ធកម្ម"},{"$f":"Updated_8!B187","v":2},{"$f":"Updated_8!C187","v":"២. ថវិកាលទ្ធកម្ម"}]
[null,"សកម្មភាពទី១៤","៥.១៨.០១.១៤៖ ការស្រាវជ្រាវ និងអភិវឌ្ឍគោលនយោបាយអប់រំ",null,null,null,null,null,null,null,null,{"$f":"Updated_8!B103","v":2},{"$f":"Updated_8!C103","v":"៤. កសាងផែនការយុទ្ធសាស្រ្ដ និងផែនការប្រតិបត្តិ"},{"$f":"Updated_8!B108","v":2},{"$f":"Updated_8!C108","v":"១. កិច្ចដំណើរការអង្គភាព"},{"$f":"Updated_8!B116","v":2},{"$f":"Updated_8!C116","v":"៣. ពិនិត្យតាមដាន និងវាយតម្លៃ"},{"$f":"Updated_8!B121","v":2},{"$f":"Updated_8!C121","v":"៤. ពង្រឹងការងារសវនកម្មផ្ទៃក្នុង"},{"$f":"Updated_8!B126","v":2},{"$f":"Updated_8!C126","v":"៣. ពិនិត្យតាមដាន និងវាយតម្លៃ"},{"$f":"Updated_8!B131","v":2},{"$f":"Updated_8!C131","v":"៤. អធិការកិច្ចគ្រប់គ្រងរដ្ឋបាល និងហិរញ្ញវត្ថុ"},{"$f":"Updated_8!B136","v":2},{"$f":"Updated_8!C136","v":"២. ថវិកាលទ្ធកម្ម"},{"$f":"Updated_8!B142","v":2},{"$f":"Updated_8!C142","v":"៤. អនុវត្តការងារកំណែទម្រង់វិមជ្ឈការ និងវិសហមជ្ឈការ"},{"$f":"Updated_8!B146","v":2},{"$f":"Updated_8!C146","v":"៣. ពិនិត្យតាមដាន និងវាយតម្លៃ"},{"$f":"Updated_8!B151","v":2},{"$f":"Updated_8!C151","v":"៤. គាំទ្រ គ្រប់គ្រង និងអភិវឌ្ឍសមត្ថភាពលើការងារសម្ភារទ្រព្យសម្បត្តិរដ្ឋ"},{"$f":"Updated_8!B155","v":2},{"$f":"Updated_8!C155","v":"៣. ពិនិត្យតាមដាន និងវាយតម្លៃ"},{"$f":"Updated_8!B160","v":2},{"$f":"Updated_8!C160","v":"៣. ពិនិត្យតាមដាន និងវាយតម្លៃ"},{"$f":"Updated_8!B165","v":2},{"$f":"Updated_8!C165","v":"៤. គាំទ្រប្រព័ន្ធព័ត៌មានគ្រប់គ្រងអប់រំ"},{"$f":"Updated_8!B170","v":2},{"$f":"Updated_8!C170","v":"២. ថវិកាលទ្ធកម្ម"},{"$f":"Updated_8!B177","v":2},{"$f":"Updated_8!C177","v":"៤. អភិវឌ្ឍយន្តការពិនិត្យតាមដាន និងវាយតម្លៃ"},{"$f":"Updated_8!B182","v":2},{"$f":"Updated_8!C182","v":"៣. ពិនិត្យតាមដាន និងវាយតម្លៃ"},{"$f":"Updated_8!B188","v":2},{"$f":"Updated_8!C188","v":"៣. ពិនិត្យតាមដាន និងវាយតម្លៃ"}]
[null,"សកម្មភាពទី១៥","៥.១៨.០១.១៥៖ ការអភិវឌ្ឍនិងពង្រឹងប្រព័ន្ធពិនិត្យ តាមដាន និងវាយតម្លៃ",null,null,null,null,null,null,null,null,{"$f":"Updated_8!B104","v":2},{"$f":"Updated_8!C104","v":"៥. អភិវឌ្ឍប្រព័ន្ធកសាងផែនការអប់រំ"},{"$f":"Updated_8!B109","v":2},{"$f":"Updated_8!C109","v":"២. ថវិកាលទ្ធកម្ម"},{"$f":"Updated_8!B117","v":2},{"$f":"Updated_8!C117","v":"៤. ពង្រឹងសមត្ថភាព និងយន្តការលើការគ្រប់គ្រងហិរញ្ញវត្ថុសាធារណៈ"},{"$f":"Updated_8!B122","v":2},{"$f":"Updated_8!C122","v":"៥. ពង្រឹងសមត្ថភាពមន្ដ្រីសវនកម្មផ្ទៃក្នុង"},{"$f":"Updated_8!B127","v":2},{"$f":"Updated_8!C127","v":"៤. ពង្រឹងសមត្ថភាពមន្ដ្រីជំនាញ"},{"$f":"Updated_8!B132","v":2},{"$f":"Updated_8!C132","v":"៥. ផ្សព្វផ្សាយ និងការពង្រឹងសមត្ថភាព"},{"$f":"Updated_8!B137","v":2},{"$f":"Updated_8!C137","v":"៣. ពិនិត្យតាមដាន និងវាយតម្លៃ"},null,null,{"$f":"Updated_8!B147","v":2},{"$f":"Updated_8!C147","v":"៤. ពង្រឹងសមត្ថភាព"},null,null,{"$f":"Updated_8!B156","v":2},{"$f":"Updated_8!C156","v":"៤. ពង្រឹងសមត្ថភាពគ្រប់គ្រងរដ្ឋបាលអប់រំ"},{"$f":"Updated_8!B161","v":2},{"$f":"Updated_8!C161","v":"៤. ពង្រឹងសមត្ថភាពក្នុងការគ្រប់គ្រងសិស្ស និងនិស្សិតអាហារូបករណ៍ និងសហប្រតិបត្តិការ"},{"$f":"Updated_8!B166","v":2},{"$f":"Updated_8!C166","v":"៥. ពង្រឹងសមត្ថភាពក្នុងការគ្រប់គ្រងប្រព័ន្ធព័ត៌មាន ស្ថិតិ និងសូចនាករអប់រំ"},{"$f":"Updated_8!B171","v":2},{"$f":"Updated_8!C171","v":"៣. ផ្សព្វផ្សាយលទ្ធផលស្រាវជ្រាវ និងគោលនយោបាយ"},{"$f":"Updated_8!B178","v":2},{"$f":"Updated_8!C178","v":"៥. ពង្រឹងសមត្ថភាពមន្រ្តីជំនាញ"},{"$f":"Updated_8!B183","v":2},{"$f":"Updated_8!C183","v":"៤. ពង្រឹងកិច្ចសហប្រតិបតិ្តការបច្ចេកវិទ្យាព័ត៌មាន"},{"$f":"Updated_8!B189","v":2},{"$f":"Updated_8!C189","v":"៤. ពង្រឹងសមត្ថភាពលើការងារប្រឡង"}]
[null,"សកម្មភាពទី១៦","៥.១៨.០១.១៦៖ ការអភិវឌ្ឍ​បច្ចេកវិទ្យាព័ត៌មានសម្រាប់ការងារអប់រំ យុវជន និងកីឡា",null,null,null,null,null,null,null,null,null,null,{"$f":"Updated_8!B110","v":2},{"$f":"Updated_8!C110","v":"៣. ពិនិត្យតាមដាន និងវាយតម្លៃ"},null,null,null,null,null,null,null,null,{"$f":"Updated_8!B138","v":2},{"$f":"Updated_8!C138","v":"៤. ពង្រឹងសមត្ថភាពមន្ត្រីជំនាញ"},null,null,null,null,null,null,null,null,null,null,null,null,{"$f":"Updated_8!B172","v":2},{"$f":"Updated_8!C172","v":"៤. អភិវឌ្ឍសមត្ថភាពលើការស្រាវជ្រាវ និងការអភិវឌ្ឍគោលនយោបាយ"},null,null,{"$f":"Updated_8!B184","v":2},{"$f":"Updated_8!C184","v":"៥. ពង្រឹងសមត្ថភាពមន្រ្តីជំនាញ"}]
[null,"សកម្មភាពទី១៧",{"$f":"J35","v":"៥.១៨.០១.១៧៖ ការពង្រឹងគុណភាព និងប្រសិទ្ធភាពការងារប្រឡងនៅមធ្យមសិក្សានិងអប់រំបច្ចេកទេស"},null,null,null,null,null,null,null,null,null,null,{"$f":"Updated_8!B111","v":2},{"$f":"Updated_8!C111","v":"៤. សមាហរណកម្មប្រព័ន្ធទិន្ន័យគ្រប់គ្រងអប់រំ"},null,null,null,null,null,null,null,null,null,null,null,null,null,null,null,null,null,null,null,null,null,null,{"$f":"Updated_8!B173","v":2},{"$f":"Updated_8!C173","v":"៥. អាហារូបករណ៍សម្រាប់ថ្នាក់បណ្ឌិត សិក្សានៅប្រទេសបារាំង"}]
[null,null,null,null,null,null,null,null,null,null,null,null,null,{"$f":"Updated_8!B112","v":2},{"$f":"Updated_8!C112","v":"៥. ពង្រឹងសមត្ថភាពធនធានមនុស្ស"}]

{"sheet":"ចំណាយ-ថវិការដ្ឋ","index":2,"n_rows":291,"n_cols":15,"rows_kept":291,"cut":false,"hidden":false,"merged":[[7,7,7,9],[6,10,6,12],[7,10,7,12],[8,10,9,10],[8,11,9,11],[8,12,9,12],[4,0,4,12],[6,0,9,0],[7,1,7,3],[6,1,6,3],[8,1,9,1],[8,2,9,2],[8,3,9,3],[6,4,6,6],[7,4,7,6],[8,4,9,4],[8,5,9,5],[8,6,9,6],[6,7,6,9],[8,7,9,7],[8,8,9,8],[8,9,9,9]]}
[]
["ក្រសួងអប់រំ​​​​​​​​​​​ យុវជន និងកីឡា"]
[{"$f":"CONCATENATE(\"មន្ទីរអប់រំ យុវជន និងកីឡា\",province)","v":"មន្ទីរអប់រំ យុវជន និងកីឡាខេត្តបន្ទាយមានជ័យ"}]
[]
["ការកំណត់តម្រូវការចំណាយសម្រាប់កម្មវិធី និងអនុកម្មវិធី (ថវិការដ្ឋ)"]
[null,null,null,null,null,null,null,null,null,null,null,null,"ឯកតា៖ លានរៀល"]
["តម្រូវការឥណទាន\nតាមប្រភេទចំណាយ","ច្បាប់ហិរញ្ញវត្ថុឆ្នាំ ២០១៨",null,null,"គ្រោងតម្រូវការឥណទាន សម្រាប់ឆ្នាំ ២០១៩",null,null,"គ្រោងតម្រូវការឥណទាន សម្រាប់ឆ្នាំ ២០២០",null,null,"គ្រោងតម្រូវការឥណទាន សម្រាប់ឆ្នាំ ២០២១"]
[null,"ចំណាយចរន្ដ",null,null,"ចំណាយចរន្ដ",null,null,"ចំណាយចរន្ដ",null,null,"ចំណាយចរន្ដ"]
[null,"សរុប","បន្ទុកបុគ្គលិក","ក្រៅបន្ទុកបុគ្គលិក","សរុប","បន្ទុកបុគ្គលិក","ក្រៅបន្ទុកបុគ្គលិក","សរុប","បន្ទុកបុគ្គលិក","ក្រៅបន្ទុកបុគ្គលិក","សរុប","បន្ទុកបុគ្គលិក","ក្រៅបន្ទុកបុគ្គលិក"]
[]
["សរុបរួម",{"$f":"SUM(B12,B105,B120,B148)","v":0},0,0,0,0,0,0,0,0,0,0,0]
[{"$f":"ព័ត៌មានអង្គភាព!C3","v":"កម្មវិធីទី១៖ ការអភិវឌ្ឍការអប់រំក្នុងប្រព័ន្ធ ក្រៅប្រព័ន្ធ និងមិនផ្លូវការ"},{"$f":"B13","v":0},{"$f":"C13","v":0},0,0,0,0,0,0,0,0,0,0]
[{"$f":"ព័ត៌មានអង្គភាព!C4","v":"អនុកម្មវិធីទី ១.១០៖ សេវាគាំទ្រការអភិវឌ្ឍការអប់រំក្នុងប្រព័ន្ធ ក្រៅប្រព័ន្ធ និងមិនផ្លូវការរបស់មន្ទីរជំនាញ រាជធានី ខេត្ត"},{"$f":"B14","v":0},{"$f":"C14","v":0},0,0,0,0,0,0,0,0,0,0]
[{"$f":"ព័ត៌មានអង្គភាព!C5","v":"ចង្កោមសកម្មភាពទី ០១៖ខេត្តបន្ទាយមានជ័យ"},{"$f":"SUM(B15,B25,B36,B50,B58,B68,B76,B87,B96)","v":0},0,0,0,0,0,0,0,0,0,0,0]
[{"$f":"ព័ត៌មានអង្គភាព!C6","v":"១.១០.០១.១៖ ការពង្រីកការអប់រំកុមារតូច"},{"$f":"SUM(B16,B23)","v":0},{"$f":"SUM(C16,C23)","v":0},0,0,0,0,0,0,0,0,0,0]
[{"$f":"cluster_activity_1","v":"សកម្មភាពរងទី ១. ការចូលរៀនមានគុណភាពប្រកប​ដោយ​សមធម៌ និងបរិយាប័ន្ន និងលើកកម្ពស់ឱកាសក្នុងការសិក្សា​ពេញមួយជីវិតសម្រាប់ទាំងអស់គ្នា"},{"$f":"ROUND(SUM(B17:B22),1)","v":0},{"$f":"ROUND(SUM(C17:C22),1)","v":0},{"$f":"ROUND(SUM(D17:D22),1)","v":0},0,0,0,0,0,0,0,0,0,null,{"$f":"A15","v":"១.១០.០១.១៖ ការពង្រីកការអប់រំកុមារតូច"}]
[{"$f":"ព័ត៌មានអង្គភាព!M4","v":"១. កិច្ចដំណើរការអង្គភាព"},{"$f":"ROUND(SUM(C17:D17),1)","v":0},null,null,{"$f":"ROUND(SUM(F17:G17),1)","v":0},null,null,{"$f":"ROUND(SUM(I17:J17),1)","v":0},null,null,{"$f":"ROUND(SUM(L17:M17),1)","v":0},null,null,null,{"$f":"O16","v":"១.១០.០១.១៖ ការពង្រីកការអប់រំកុមារតូច"}]
[{"$f":"ព័ត៌មានអង្គភាព!M5","v":"២. ថវិកាលទ្ធកម្ម"},{"$f":"ROUND(SUM(C18:D18),1)","v":0},null,null,{"$f":"ROUND(SUM(F18:G18),1)","v":0},null,null,{"$f":"ROUND(SUM(I18:J18),1)","v":0},null,null,{"$f":"ROUND(SUM(L18:M18),1)","v":0},null,null,null,"១.១០.០១.១៖ ការពង្រីកការអប់រំកុមារតូច"]
[{"$f":"ព័ត៌មានអង្គភាព!M6","v":"៣. ពិនិត្យតាមដាន និងវាយតម្លៃ"},0,null,null,0,null,null,0,null,null,0,null,null,null,"១.១០.០១.១៖ ការពង្រីកការអប់រំកុមារតូច"]
[{"$f":"ព័ត៌មានអង្គភាព!M7","v":"៤. អភិវឌ្ឍការអប់រំកុមារតូចឲ្យមានស្ដង់ដា"},0,null,null,0,null,null,0,null,null,0,null,null,null,"១.១០.០១.១៖ ការពង្រីកការអប់រំកុមារតូច"]
[{"$f":"ព័ត៌មានអង្គភាព!M8","v":"៥. ថវិកាដំណើរការសាលារៀន"},0,null,null,0,null,null,0,null,null,0,null,null,null,"១.១០.០១.១៖ ការពង្រីកការអប់រំកុមារតូច"]
[{"$f":"ព័ត៌មានអង្គភាព!M9","v":"៦. គ្រប់គ្រងមត្តេយ្យសិក្សាសហគមន៍"},0,null,null,0,null,null,0,null,null,0,null,null,null,"១.១០.០១.១៖ ការពង្រីកការអប់រំកុមារតូច"]
[{"$f":"cluster_activity_2","v":"សកម្មភាពរងទី ២. ការលើកកម្ពស់ភាពជាអ្នកដឹកនាំ និងគ្រប់គ្រង របស់មន្រ្តីអប់រំគ្រប់លំដាប់ថ្នាក់"},{"$f":"ROUND(B24,1)","v":0},{"$f":"ROUND(C24,1)","v":0},{"$f":"ROUND(D24,1)","v":0},0,0,0,0,0,0,0,0,0,null,"១.១០.០១.១៖ ការពង្រីកការអប់រំកុមារតូច"]
[{"$f":"ព័ត៌មានអង្គភាព!M10","v":"១. អភិវឌ្ឍសមត្ថភាពមន្ដ្រីអប់រំកុមារតូច"},{"$f":"ROUND(SUM(C24:D24),1)","v":0},null,null,{"$f":"ROUND(SUM(F24:G24),1)","v":0},null,null,{"$f":"ROUND(SUM(I24:J24),1)","v":0},null,null,{"$f":"ROUND(SUM(L24:M24),1)","v":0},null,null,null,"១.១០.០១.១៖ ការពង្រីកការអប់រំកុមារតូច"]
[{"$f":"ព័ត៌មានអង្គភាព!C7","v":"១.១០.០១.២៖ ការពង្រឹងគុណភាព និងប្រសិទ្ធភាពនៃការអប់រំនៅបឋមសិក្សា"},{"$f":"SUM(B26,B34)","v":0},0,0,0,0,0,0,0,0,0,0,0]
[{"$f":"cluster_activity_1","v":"សកម្មភាពរងទី ១. ការចូលរៀនមានគុណភាពប្រកប​ដោយ​សមធម៌ និងបរិយាប័ន្ន និងលើកកម្ពស់ឱកាសក្នុងការសិក្សា​ពេញមួយជីវិតសម្រាប់ទាំងអស់គ្នា"},{"$f":"ROUND(SUM(B27:B33),1)","v":0},{"$f":"ROUND(SUM(C27:C33),1)","v":0},0,0,0,0,0,0,0,0,0,0,null,{"$f":"A25","v":"១.១០.០១.២៖ ការពង្រឹងគុណភាព និងប្រសិទ្ធភាពនៃការអប់រំនៅបឋមសិក្សា"}]
[{"$f":"ព័ត៌មានអង្គភាព!O4","v":"១. កិច្ចដំណើរការអង្គភាព"},{"$f":"ROUND(SUM(C27:D27),1)","v":0},null,null,{"$f":"ROUND(SUM(F27:G27),1)","v":0},null,null,{"$f":"ROUND(SUM(I27:J27),1)","v":0},null,null,{"$f":"ROUND(SUM(L27:M27),1)","v":0},null,null,null,{"$f":"O26","v":"១.១០.០១.២៖ ការពង្រឹងគុណភាព និងប្រសិទ្ធភាពនៃការអប់រំនៅបឋមសិក្សា"}]
[{"$f":"ព័ត៌មានអង្គភាព!O5","v":"២. ថវិកាលទ្ធកម្ម"},0,null,null,0,null,null,0,null,null,0,null,null,null,{"$f":"O27","v":"១.១០.០១.២៖ ការពង្រឹងគុណភាព និងប្រសិទ្ធភាពនៃការអប់រំនៅបឋមសិក្សា"}]
[{"$f":"ព័ត៌មានអង្គភាព!O6","v":"៣. ពិនិត្យតាមដាន និងវាយតម្លៃ"},0,null,null,0,null,null,0,null,null,0,null,null,null,"១.១០.០១.២៖ ការពង្រឹងគុណភាព និងប្រសិទ្ធភាពនៃការអប់រំនៅបឋមសិក្សា"]
[{"$f":"ព័ត៌មានអង្គភាព!O7","v":"៤. ថវិកាដំណើរការសាលារៀន"},0,null,null,0,null,null,0,null,null,0,null,null,null,"១.១០.០១.២៖ ការពង្រឹងគុណភាព និងប្រសិទ្ធភាពនៃការអប់រំនៅបឋមសិក្សា"]
[{"$f":"ព័ត៌មានអង្គភាព!O8","v":"៥. សាលារៀនជំនាន់ថ្មី"},0,null,null,0,null,null,0,null,null,0,null,null,null,"១.១០.០១.២៖ ការពង្រឹងគុណភាព និងប្រសិទ្ធភាពនៃការអប់រំនៅបឋមសិក្សា"]
[{"$f":"ព័ត៌មានអង្គភាព!O9","v":"៦. ថវិកាអាហារូបករណ៍"},{"$f":"ROUND(SUM(C32:D32),1)","v":0},null,null,{"$f":"ROUND(SUM(F32:G32),1)","v":0},null,null,{"$f":"ROUND(SUM(I32:J32),1)","v":0},null,null,{"$f":"ROUND(SUM(L32:M32),1)","v":0},null,null,null,"១.១០.០១.២៖ ការពង្រឹងគុណភាព និងប្រសិទ្ធភាពនៃការអប់រំនៅបឋមសិក្សា"]
[{"$f":"ព័ត៌មានអង្គភាព!O10","v":"៧. ថវិកាពង្រឹងគុណភាពបង្រៀន"},0,null,null,0,null,null,0,null,null,0,null,null,null,"១.១០.០១.២៖ ការពង្រឹងគុណភាព និងប្រសិទ្ធភាពនៃការអប់រំនៅបឋមសិក្សា"]
[{"$f":"cluster_activity_2","v":"សកម្មភាពរងទី ២. ការលើកកម្ពស់ភាពជាអ្នកដឹកនាំ និងគ្រប់គ្រង របស់មន្រ្តីអប់រំគ្រប់លំដាប់ថ្នាក់"},{"$f":"ROUND(B35,1)","v":0},{"$f":"ROUND(C35,1)","v":0},0,0,0,0,0,0,0,0,0,0,null,{"$f":"O33","v":"១.១០.០១.២៖ ការពង្រឹងគុណភាព និងប្រសិទ្ធភាពនៃការអប់រំនៅបឋមសិក្សា"}]
[{"$f":"ព័ត៌មានអង្គភាព!O11","v":"១. ពង្រឹងសមត្ថភាព និងការលើកទឹកចិត្ត"},{"$f":"ROUND(SUM(C35:D35),1)","v":0},null,null,{"$f":"ROUND(SUM(F35:G35),1)","v":0},null,null,{"$f":"ROUND(SUM(I35:J35),1)","v":0},null,null,{"$f":"ROUND(SUM(L35:M35),1)","v":0},null,null,null,"១.១០.០១.២៖ ការពង្រឹងគុណភាព និងប្រសិទ្ធភាពនៃការអប់រំនៅបឋមសិក្សា"]
[{"$f":"ព័ត៌មានអង្គភាព!C8","v":"១.១០.០១.៣៖ ការចូលរៀនប្រកបដោយសមធម៌​ ការពង្រឹងគុណភាព និងប្រសិទ្ធភាពនៃការ​អប់រំនៅមធ្យមសិក្សា"},{"$f":"SUM(B37,B48)","v":0},{"$f":"SUM(C37,C48)","v":0},0,0,0,0,0,0,0,0,0,0]
[{"$f":"cluster_activity_1","v":"សកម្មភាពរងទី ១. ការចូលរៀនមានគុណភាពប្រកប​ដោយ​សមធម៌ និងបរិយាប័ន្ន និងលើកកម្ពស់ឱកាសក្នុងការសិក្សា​ពេញមួយជីវិតសម្រាប់ទាំងអស់គ្នា"},{"$f":"ROUND(SUM(B38:B47),1)","v":0},{"$f":"ROUND(SUM(C38:C47),1)","v":0},0,0,0,0,0,0,0,0,0,0,null,{"$f":"A36","v":"១.១០.០១.៣៖ ការចូលរៀនប្រកបដោយសមធម៌​ ការពង្រឹងគុណភាព និងប្រសិទ្ធភាពនៃការ​អប់រំនៅមធ្យមសិក្សា"}]
[{"$f":"ព័ត៌មានអង្គភាព!Q4","v":"១. កិច្ចដំណើរការអង្គភាព"},{"$f":"ROUND(SUM(C38:D38),1)","v":0},null,null,{"$f":"ROUND(SUM(F38:G38),1)","v":0},null,null,{"$f":"ROUND(SUM(I38:J38),1)","v":0},null,null,{"$f":"ROUND(SUM(L38:M38),1)","v":0},null,null,null,{"$f":"O37","v":"១.១០.០១.៣៖ ការចូលរៀនប្រកបដោយសមធម៌​ ការពង្រឹងគុណភាព និងប្រសិទ្ធភាពនៃការ​អប់រំនៅមធ្យមសិក្សា"}]
[{"$f":"ព័ត៌មានអង្គភាព!Q5","v":"២. ថវិកាលទ្ធកម្ម"},0,null,null,0,null,null,0,null,null,0,null,null,null,{"$f":"O38","v":"១.១០.០១.៣៖ ការចូលរៀនប្រកបដោយសមធម៌​ ការពង្រឹងគុណភាព និងប្រសិទ្ធភាពនៃការ​អប់រំនៅមធ្យមសិក្សា"}]
[{"$f":"ព័ត៌មានអង្គភាព!Q6","v":"៣. ពិនិត្យតាមដាន និងវាយតម្លៃ"},0,null,null,0,null,null,0,null,null,0,null,null,null,"១.១០.០១.៣៖ ការចូលរៀនប្រកបដោយសមធម៌​ ការពង្រឹងគុណភាព និងប្រសិទ្ធភាពនៃការ​អប់រំនៅមធ្យមសិក្សា"]
[{"$f":"ព័ត៌មានអង្គភាព!Q7","v":"៤. លើកកម្ពស់មុខវិជ្ជា STEM"},0,null,null,0,null,null,0,null,null,0,null,null,null,"១.១០.០១.៣៖ ការចូលរៀនប្រកបដោយសមធម៌​ ការពង្រឹងគុណភាព និងប្រសិទ្ធភាពនៃការ​អប់រំនៅមធ្យមសិក្សា"]
[{"$f":"ព័ត៌មានអង្គភាព!Q8","v":"៥. ថ្នាក់ពីរភាសា បារាំង-ខ្មែរ"},0,null,null,0,null,null,0,null,null,0,null,null,null,"១.១០.០១.៣៖ ការចូលរៀនប្រកបដោយសមធម៌​ ការពង្រឹងគុណភាព និងប្រសិទ្ធភាពនៃការ​អប់រំនៅមធ្យមសិក្សា"]
[{"$f":"ព័ត៌មានអង្គភាព!Q9","v":"៦. ថវិកាដំណើរការអគារធនធាន"},0,null,null,0,null,null,0,null,null,0,null,null,null,"១.១០.០១.៣៖ ការចូលរៀនប្រកបដោយសមធម៌​ ការពង្រឹងគុណភាព និងប្រសិទ្ធភាពនៃការ​អប់រំនៅមធ្យមសិក្សា"]
[{"$f":"ព័ត៌មានអង្គភាព!Q10","v":"៧. សាលារៀនជំនាន់ថ្មី"},0,null,null,0,null,null,0,null,null,0,null,null,null,"១.១០.០១.៣៖ ការចូលរៀនប្រកបដោយសមធម៌​ ការពង្រឹងគុណភាព និងប្រសិទ្ធភាពនៃការ​អប់រំនៅមធ្យមសិក្សា"]
[{"$f":"ព័ត៌មានអង្គភាព!Q11","v":"៨. ថវិកាអាហារូបករណ៍"},0,null,null,0,null,null,0,null,null,0,null,null,null,"១.១០.០១.៣៖ ការចូលរៀនប្រកបដោយសមធម៌​ ការពង្រឹងគុណភាព និងប្រសិទ្ធភាពនៃការ​អប់រំនៅមធ្យមសិក្សា"]
[{"$f":"ព័ត៌មានអង្គភាព!Q12","v":"៩. ថវិកាដំណើរការសាលារៀន"},0,null,null,0,null,null,0,null,null,0,null,null,null,"១.១០.០១.៣៖ ការចូលរៀនប្រកបដោយសមធម៌​ ការពង្រឹងគុណភាព និងប្រសិទ្ធភាពនៃការ​អប់រំនៅមធ្យមសិក្សា"]
[{"$f":"ព័ត៌មានអង្គភាព!Q13","v":"១០. ពង្រឹងសមត្ថភាពលើការងារគ្រប់គ្រង និងការបង្រៀននិងរៀន"},0,null,null,0,null,null,0,null,null,0,null,null,null,"១.១០.០១.៣៖ ការចូលរៀនប្រកបដោយសមធម៌​ ការពង្រឹងគុណភាព និងប្រសិទ្ធភាពនៃការ​អប់រំនៅមធ្យមសិក្សា"]
[{"$f":"cluster_activity_2","v":"សកម្មភាពរងទី ២. ការលើកកម្ពស់ភាពជាអ្នកដឹកនាំ និងគ្រប់គ្រង របស់មន្រ្តីអប់រំគ្រប់លំដាប់ថ្នាក់"},{"$f":"ROUND(SUM(C48:D48),1)","v":0},{"$f":"ROUND(C49,1)","v":0},0,0,0,0,0,0,0,0,0,0,null,"១.១០.០១.៣៖ ការចូលរៀនប្រកបដោយសមធម៌​ ការពង្រឹងគុណភាព និងប្រសិទ្ធភាពនៃការ​អប់រំនៅមធ្យមសិក្សា"]
[{"$f":"ព័ត៌មានអង្គភាព!Q14","v":"១. ពង្រឹងសមត្ថភាព និងការលើកទឹកចិត្ត"},0,null,null,{"$f":"ROUND(SUM(F49:G49),1)","v":0},null,null,{"$f":"ROUND(SUM(I49:J49),1)","v":0},null,null,{"$f":"ROUND(SUM(L49:M49),1)","v":0},null,null,null,"១.១០.០១.៣៖ ការចូលរៀនប្រកបដោយសមធម៌​ ការពង្រឹងគុណភាព និងប្រសិទ្ធភាពនៃការ​អប់រំនៅមធ្យមសិក្សា"]
[{"$f":"ព័ត៌មានអង្គភាព!C9","v":"១.១០.០១.៤៖ ការពង្រីកការអប់រំក្រៅប្រព័ន្ធ"},{"$f":"SUM(B51,B56)","v":0},{"$f":"SUM(C51,C56)","v":0},0,0,0,0,0,0,0,0,0,0]
[{"$f":"cluster_activity_1","v":"សកម្មភាពរងទី ១. ការចូលរៀនមានគុណភាពប្រកប​ដោយ​សមធម៌ និងបរិយាប័ន្ន និងលើកកម្ពស់ឱកាសក្នុងការសិក្សា​ពេញមួយជីវិតសម្រាប់ទាំងអស់គ្នា"},{"$f":"ROUND(SUM(B52:B55),1)","v":0},{"$f":"ROUND(SUM(C52:C55),1)","v":0},0,0,0,0,0,0,0,0,0,0,null,{"$f":"A50","v":"១.១០.០១.៤៖ ការពង្រីកការអប់រំក្រៅប្រព័ន្ធ"}]
[{"$f":"ព័ត៌មានអង្គភាព!S4","v":"១. កិច្ចដំណើរការអង្គភាព"},{"$f":"ROUND(SUM(C52:D52),1)","v":0},null,null,{"$f":"ROUND(SUM(F52:G52),1)","v":0},null,null,{"$f":"ROUND(SUM(I52:J52),1)","v":0},null,null,{"$f":"ROUND(SUM(L52:M52),1)","v":0},null,null,null,{"$f":"O51","v":"១.១០.០១.៤៖ ការពង្រីកការអប់រំក្រៅប្រព័ន្ធ"}]
[{"$f":"ព័ត៌មានអង្គភាព!S5","v":"២. ថវិកាលទ្ធកម្ម"},0,null,null,0,null,null,0,null,null,0,null,null,null,{"$f":"O52","v":"១.១០.០១.៤៖ ការពង្រីកការអប់រំក្រៅប្រព័ន្ធ"}]
[{"$f":"ព័ត៌មានអង្គភាព!S6","v":"៣. ពិនិត្យតាមដាន និងវាយតម្លៃ"},0,null,null,0,null,null,0,null,null,0,null,null,null,"១.១០.០១.៤៖ ការពង្រីកការអប់រំក្រៅប្រព័ន្ធ"]
[{"$f":"ព័ត៌មានអង្គភាព!S7","v":"៤. ថវិកាដំណើរការនៃការអប់រំក្រៅប្រព័ន្ធ"},0,null,null,0,null,null,0,null,null,0,null,null,null,"១.១០.០១.៤៖ ការពង្រីកការអប់រំក្រៅប្រព័ន្ធ"]
[{"$f":"cluster_activity_2","v":"សកម្មភាពរងទី ២. ការលើកកម្ពស់ភាពជាអ្នកដឹកនាំ និងគ្រប់គ្រង របស់មន្រ្តីអប់រំគ្រប់លំដាប់ថ្នាក់"},{"$f":"ROUND(B57,1)","v":0},{"$f":"ROUND(C57,1)","v":0},{"$f":"ROUND(D57,1)","v":0},0,0,0,0,0,0,0,0,0,null,"១.១០.០១.៤៖ ការពង្រីកការអប់រំក្រៅប្រព័ន្ធ"]
[{"$f":"ព័ត៌មានអង្គភាព!S8","v":"១. អភិវឌ្ឍសមត្ថភាពមន្ត្រីអប់រំក្រៅប្រព័ន្ធ"},{"$f":"ROUND(SUM(C57:D57),1)","v":0},null,null,{"$f":"ROUND(SUM(F57:G57),1)","v":0},null,null,{"$f":"ROUND(SUM(I57:J57),1)","v":0},null,null,{"$f":"ROUND(SUM(L57:M57),1)","v":0},null,null,null,"១.១០.០១.៤៖ ការពង្រីកការអប់រំក្រៅប្រព័ន្ធ"]
[{"$f":"ព័ត៌មានអង្គភាព!C10","v":"១.១០.០១.៥៖ ការពង្រឹង​ និងការពង្រីកកម្មវិធីលើកកម្ពស់សុខភាពសិក្សា"},{"$f":"SUM(B59,B66)","v":0},{"$f":"SUM(C59,C66)","v":0},0,0,0,0,0,0,0,0,0,0]
[{"$f":"cluster_activity_1","v":"សកម្មភាពរងទី ១. ការចូលរៀនមានគុណភាពប្រកប​ដោយ​សមធម៌ និងបរិយាប័ន្ន និងលើកកម្ពស់ឱកាសក្នុងការសិក្សា​ពេញមួយជីវិតសម្រាប់ទាំងអស់គ្នា"},{"$f":"ROUND(SUM(B60:B65),1)","v":0},{"$f":"ROUND(SUM(C60:C65),1)","v":0},0,0,0,0,0,0,0,0,0,0,null,{"$f":"A58","v":"១.១០.០១.៥៖ ការពង្រឹង​ និងការពង្រីកកម្មវិធីលើកកម្ពស់សុខភាពសិក្សា"}]
[{"$f":"ព័ត៌មានអង្គភាព!U4","v":"១. កិច្ចដំណើរការអង្គភាព"},{"$f":"ROUND(SUM(C60:D60),1)","v":0},null,null,{"$f":"ROUND(SUM(F60:G60),1)","v":0},null,null,{"$f":"ROUND(SUM(I60:J60),1)","v":0},null,null,{"$f":"ROUND(SUM(L60:M60),1)","v":0},null,null,null,{"$f":"O59","v":"១.១០.០១.៥៖ ការពង្រឹង​ និងការពង្រីកកម្មវិធីលើកកម្ពស់សុខភាពសិក្សា"}]
[{"$f":"ព័ត៌មានអង្គភាព!U5","v":"២. ថវិកាលទ្ធកម្ម"},0,null,null,0,null,null,0,null,null,0,null,null,null,{"$f":"O60","v":"១.១០.០១.៥៖ ការពង្រឹង​ និងការពង្រីកកម្មវិធីលើកកម្ពស់សុខភាពសិក្សា"}]
[{"$f":"ព័ត៌មានអង្គភាព!U6","v":"៣. ពិនិត្យតាមដាន និងវាយតម្លៃ"},0,null,null,0,null,null,0,null,null,0,null,null,null,"១.១០.០១.៥៖ ការពង្រឹង​ និងការពង្រីកកម្មវិធីលើកកម្ពស់សុខភាពសិក្សា"]
[{"$f":"ព័ត៌មានអង្គភាព!U7","v":"៤. កម្មវិធីអាហាររូបត្ថម្ភ"},0,null,null,0,null,null,0,null,null,0,null,null,null,"១.១០.០១.៥៖ ការពង្រឹង​ និងការពង្រីកកម្មវិធីលើកកម្ពស់សុខភាពសិក្សា"]
[{"$f":"ព័ត៌មានអង្គភាព!U8","v":"៥. កម្មវិធីទឹកស្អាត និងអនាម័យ"},0,null,null,0,null,null,0,null,null,0,null,null,null,"១.១០.០១.៥៖ ការពង្រឹង​ និងការពង្រីកកម្មវិធីលើកកម្ពស់សុខភាពសិក្សា"]
[{"$f":"ព័ត៌មានអង្គភាព!U9","v":"៦. ផ្តល់សេវាថែទាំសុខភាពចាំបាច់​ "},0,null,null,0,null,null,0,null,null,0,null,null,null,"១.១០.០១.៥៖ ការពង្រឹង​ និងការពង្រីកកម្មវិធីលើកកម្ពស់សុខភាពសិក្សា"]
[{"$f":"cluster_activity_2","v":"សកម្មភាពរងទី ២. ការលើកកម្ពស់ភាពជាអ្នកដឹកនាំ និងគ្រប់គ្រង របស់មន្រ្តីអប់រំគ្រប់លំដាប់ថ្នាក់"},{"$f":"ROUND(B67,1)","v":0},{"$f":"ROUND(C67,1)","v":0},0,0,0,0,0,0,0,0,0,0,null,"១.១០.០១.៥៖ ការពង្រឹង​ និងការពង្រីកកម្មវិធីលើកកម្ពស់សុខភាពសិក្សា"]
[{"$f":"ព័ត៌មានអង្គភាព!U10","v":"១. ការអភិវឌ្ឍ និងពង្រឹងសមត្ថភាពកម្មវិធីអប់រំសុខភាព"},{"$f":"ROUND(SUM(C67:D67),1)","v":0},null,null,{"$f":"ROUND(SUM(F67:G67),1)","v":0},null,null,{"$f":"ROUND(SUM(I67:J67),1)","v":0},null,null,{"$f":"ROUND(SUM(L67:M67),1)","v":0},null,null,null,"១.១០.០១.៥៖ ការពង្រឹង​ និងការពង្រីកកម្មវិធីលើកកម្ពស់សុខភាពសិក្សា"]
[{"$f":"ព័ត៌មានអង្គភាព!C11","v":"១.១០.០១.៦៖ លើកកម្ពស់គុណភាព និងប្រសិទ្ធភាពនៃការអនុវត្តកម្មវិធីអប់រំបច្ចេកទេស"},{"$f":"SUM(B69,B75)","v":0},{"$f":"SUM(C69,C75)","v":0},0,0,0,0,0,0,0,0,0,0]
[{"$f":"cluster_activity_1","v":"សកម្មភាពរងទី ១. ការចូលរៀនមានគុណភាពប្រកប​ដោយ​សមធម៌ និងបរិយាប័ន្ន និងលើកកម្ពស់ឱកាសក្នុងការសិក្សា​ពេញមួយជីវិតសម្រាប់ទាំងអស់គ្នា"},{"$f":"ROUND(SUM(B70:B74),1)","v":0},{"$f":"ROUND(SUM(C70:C74),1)","v":0},{"$f":"ROUND(SUM(D70:D74),1)","v":0},{"$f":"ROUND(SUM(E70:E74),1)","v":0},0,0,0,0,0,0,0,0,null,{"$f":"A68","v":"១.១០.០១.៦៖ លើកកម្ពស់គុណភាព និងប្រសិទ្ធភាពនៃការអនុវត្តកម្មវិធីអប់រំបច្ចេកទេស"}]
[{"$f":"ព័ត៌មានអង្គភាព!W4","v":"១. កិច្ចដំណើរការអង្គភាព"},{"$f":"ROUND(SUM(C70:D70),1)","v":0},null,null,{"$f":"ROUND(SUM(F70:G70),1)","v":0},null,null,{"$f":"ROUND(SUM(I70:J70),1)","v":0},null,null,{"$f":"ROUND(SUM(L70:M70),1)","v":0},null,null,null,{"$f":"O69","v":"១.១០.០១.៦៖ លើកកម្ពស់គុណភាព និងប្រសិទ្ធភាពនៃការអនុវត្តកម្មវិធីអប់រំបច្ចេកទេស"}]
[{"$f":"ព័ត៌មានអង្គភាព!W5","v":"២. ថវិកាលទ្ធកម្ម"},0,null,null,0,null,null,0,null,null,0,null,null,null,{"$f":"O70","v":"១.១០.០១.៦៖ លើកកម្ពស់គុណភាព និងប្រសិទ្ធភាពនៃការអនុវត្តកម្មវិធីអប់រំបច្ចេកទេស"}]
[{"$f":"ព័ត៌មានអង្គភាព!W6","v":"៣. ពិនិត្យតាមដាន និងវាយតម្លៃ"},0,null,null,0,null,null,0,null,null,0,null,null,null,"១.១០.០១.៦៖ លើកកម្ពស់គុណភាព និងប្រសិទ្ធភាពនៃការអនុវត្តកម្មវិធីអប់រំបច្ចេកទេស"]
[{"$f":"ព័ត៌មានអង្គភាព!W7","v":"៤. ថវិកាដំណើការ និងការលើកកម្ពស់ការអប់រំបច្ចេកទេស"},0,null,null,0,null,null,0,null,null,0,null,null,null,"១.១០.០១.៦៖ លើកកម្ពស់គុណភាព និងប្រសិទ្ធភាពនៃការអនុវត្តកម្មវិធីអប់រំបច្ចេកទេស"]
[{"$f":"ព័ត៌មានអង្គភាព!W8","v":"៥. ពង្រឹង និងពង្រីកកម្មវិធីតម្រង់ទិសវិជ្ជាជីវៈអប់រំ បំណិនជីវិត និងប្រឹក្សាអាជីព"},0,null,null,0,null,null,0,null,null,0,null,null,null,"១.១០.០១.៦៖ លើកកម្ពស់គុណភាព និងប្រសិទ្ធភាពនៃការអនុវត្តកម្មវិធីអប់រំបច្ចេកទេស"]
[{"$f":"cluster_activity_2","v":"សកម្មភាពរងទី ២. ការលើកកម្ពស់ភាពជាអ្នកដឹកនាំ និងគ្រប់គ្រង របស់មន្រ្តីអប់រំគ្រប់លំដាប់ថ្នាក់"},0,0,0,0,0,0,0,0,0,0,0,0,null,"១.១០.០១.៦៖ លើកកម្ពស់គុណភាព និងប្រសិទ្ធភាពនៃការអនុវត្តកម្មវិធីអប់រំបច្ចេកទេស"]
[{"$f":"ព័ត៌មានអង្គភាព!C12","v":"១.១០.០១.៧៖ ការអភិវឌ្ឍការងារបណ្តុះបណ្តុះ និងវិក្រឹតការគ្រូបង្រៀន"},{"$f":"SUM(B77,B86)","v":0},{"$f":"SUM(C77,C86)","v":0},0,0,0,0,0,0,0,0,0,0]
[{"$f":"cluster_activity_1","v":"សកម្មភាពរងទី ១. ការចូលរៀនមានគុណភាពប្រកប​ដោយ​សមធម៌ និងបរិយាប័ន្ន និងលើកកម្ពស់ឱកាសក្នុងការសិក្សា​ពេញមួយជីវិតសម្រាប់ទាំងអស់គ្នា"},{"$f":"ROUND(SUM(B78:B85),1)","v":0},{"$f":"ROUND(SUM(C78:C85),1)","v":0},{"$f":"ROUND(SUM(D78:D85),1)","v":0},0,0,0,0,0,0,0,0,0,null,{"$f":"A76","v":"១.១០.០១.៧៖ ការអភិវឌ្ឍការងារបណ្តុះបណ្តុះ និងវិក្រឹតការគ្រូបង្រៀន"}]
[{"$f":"ព័ត៌មានអង្គភាព!Y4","v":"១. កិច្ចដំណើរការអង្គភាព"},{"$f":"ROUND(SUM(C78:D78),1)","v":0},null,null,{"$f":"ROUND(SUM(F78:G78),1)","v":0},null,null,{"$f":"ROUND(SUM(I78:J78),1)","v":0},null,null,{"$f":"ROUND(SUM(L78:M78),1)","v":0},null,null,null,{"$f":"O77","v":"១.១០.០១.៧៖ ការអភិវឌ្ឍការងារបណ្តុះបណ្តុះ និងវិក្រឹតការគ្រូបង្រៀន"}]
[{"$f":"ព័ត៌មានអង្គភាព!Y5","v":"២. ថវិកាលទ្ធកម្ម"},0,null,null,0,null,null,0,null,null,0,null,null,null,{"$f":"O78","v":"១.១០.០១.៧៖ ការអភិវឌ្ឍការងារបណ្តុះបណ្តុះ និងវិក្រឹតការគ្រូបង្រៀន"}]
[{"$f":"ព័ត៌មានអង្គភាព!Y6","v":"៣. ពិនិត្យតាមដាន និងវាយតម្លៃ"},0,null,null,0,null,null,0,null,null,0,null,null,null,"១.១០.០១.៧៖ ការអភិវឌ្ឍការងារបណ្តុះបណ្តុះ និងវិក្រឹតការគ្រូបង្រៀន"]
[{"$f":"ព័ត៌មានអង្គភាព!Y7","v":"៤. អភិវឌ្ឍវិទ្យាស្ថានគរុកោសល្យ ២ (បាត់ដំបង និងភ្នំពេញ)"},0,null,null,0,null,null,0,null,null,0,null,null,null,"១.១០.០១.៧៖ ការអភិវឌ្ឍការងារបណ្តុះបណ្តុះ និងវិក្រឹតការគ្រូបង្រៀន"]
[{"$f":"ព័ត៌មានអង្គភាព!Y8","v":"៥. អភិវឌ្ឍសាលាមធ្យមសិក្សាគរុកោសល្យមត្តេយ្យមជ្ឈិម"},0,null,null,0,null,null,0,null,null,0,null,null,null,"១.១០.០១.៧៖ ការអភិវឌ្ឍការងារបណ្តុះបណ្តុះ និងវិក្រឹតការគ្រូបង្រៀន"]
[{"$f":"ព័ត៌មានអង្គភាព!Y9","v":"៦. ប្រឡងជ្រើសរើស និងបញ្ចប់វគ្គបណ្ដុះបណ្ដាលគ្រូបង្រៀន"},0,null,null,0,null,null,0,null,null,0,null,null,null,"១.១០.០១.៧៖ ការអភិវឌ្ឍការងារបណ្តុះបណ្តុះ និងវិក្រឹតការគ្រូបង្រៀន"]
[{"$f":"ព័ត៌មានអង្គភាព!Y10","v":"៧. ថវិកាដំណើរការសាលាគរុកោសល្យ និងមណ្ឌលធនធាន"},0,null,null,0,null,null,0,null,null,0,null,null,null,"១.១០.០១.៧៖ ការអភិវឌ្ឍការងារបណ្តុះបណ្តុះ និងវិក្រឹតការគ្រូបង្រៀន"]
[{"$f":"ព័ត៌មានអង្គភាព!Y11","v":"៨. អភិវឌ្ឍសមត្ថភាពនាយក និងគ្រូបង្រៀន"},0,null,null,0,null,null,0,null,null,0,null,null,null,"១.១០.០១.៧៖ ការអភិវឌ្ឍការងារបណ្តុះបណ្តុះ និងវិក្រឹតការគ្រូបង្រៀន"]
[{"$f":"cluster_activity_2","v":"សកម្មភាពរងទី ២. ការលើកកម្ពស់ភាពជាអ្នកដឹកនាំ និងគ្រប់គ្រង របស់មន្រ្តីអប់រំគ្រប់លំដាប់ថ្នាក់"},0,0,0,0,0,0,0,0,0,0,0,0,null,"១.១០.០១.៧៖ ការអភិវឌ្ឍការងារបណ្តុះបណ្តុះ និងវិក្រឹតការគ្រូបង្រៀន"]
[{"$f":"ព័ត៌មានអង្គភាព!C13","v":"១.១០.០១.៨៖ ការអភិវឌ្ឍកម្មវិធីសិក្សា សម្ភារៈសិក្សា និងបណ្ណាល័យ"},{"$f":"SUM(B88,B94)","v":0},0,0,0,0,0,0,0,0,0,0,0]
[{"$f":"cluster_activity_1","v":"សកម្មភាពរងទី ១. ការចូលរៀនមានគុណភាពប្រកប​ដោយ​សមធម៌ និងបរិយាប័ន្ន និងលើកកម្ពស់ឱកាសក្នុងការសិក្សា​ពេញមួយជីវិតសម្រាប់ទាំងអស់គ្នា"},{"$f":"ROUND(SUM(B89:B93),1)","v":0},0,0,0,0,0,0,0,0,0,0,0,null,{"$f":"A87","v":"១.១០.០១.៨៖ ការអភិវឌ្ឍកម្មវិធីសិក្សា សម្ភារៈសិក្សា និងបណ្ណាល័យ"}]
[{"$f":"ព័ត៌មានអង្គភាព!AA4","v":"១. កិច្ចដំណើរការអង្គភាព"},{"$f":"ROUND(SUM(C89:D89),1)","v":0},null,null,{"$f":"ROUND(SUM(F89:G89),1)","v":0},null,null,{"$f":"ROUND(SUM(I89:J89),1)","v":0},null,null,{"$f":"ROUND(SUM(L89:M89),1)","v":0},null,null,null,{"$f":"O88","v":"១.១០.០១.៨៖ ការអភិវឌ្ឍកម្មវិធីសិក្សា សម្ភារៈសិក្សា និងបណ្ណាល័យ"}]
[{"$f":"ព័ត៌មានអង្គភាព!AA5","v":"២. ថវិកាលទ្ធកម្ម"},0,null,null,0,null,null,0,null,null,0,null,null,null,{"$f":"O89","v":"១.១០.០១.៨៖ ការអភិវឌ្ឍកម្មវិធីសិក្សា សម្ភារៈសិក្សា និងបណ្ណាល័យ"}]
[{"$f":"ព័ត៌មានអង្គភាព!AA6","v":"៣. រៀប​ចំ​ទិវាជាតិ​អំណាន និង​ពិធី​បុណ្យផ្សេងៗ"},0,null,null,0,null,null,0,null,null,0,null,null,null,"១.១០.០១.៨៖ ការអភិវឌ្ឍកម្មវិធីសិក្សា សម្ភារៈសិក្សា និងបណ្ណាល័យ"]
[{"$f":"ព័ត៌មានអង្គភាព!AA7","v":"៤. ពិនិត្យតាមដាន និងវាយតម្លៃ"},0,null,null,0,null,null,0,null,null,0,null,null,null,"១.១០.០១.៨៖ ការអភិវឌ្ឍកម្មវិធីសិក្សា សម្ភារៈសិក្សា និងបណ្ណាល័យ"]
[{"$f":"ព័ត៌មានអង្គភាព!AA8","v":"៥. អភិវឌ្ឍកម្មវិធីសិក្សា វិធីសាស្រ្តបង្រៀន ឯកសារ​  និងសម្ភារៈសិក្សា"},0,null,null,0,null,null,0,null,null,0,null,null,null,"១.១០.០១.៨៖ ការអភិវឌ្ឍកម្មវិធីសិក្សា សម្ភារៈសិក្សា និងបណ្ណាល័យ"]
[{"$f":"cluster_activity_2","v":"សកម្មភាពរងទី ២. ការលើកកម្ពស់ភាពជាអ្នកដឹកនាំ និងគ្រប់គ្រង របស់មន្រ្តីអប់រំគ្រប់លំដាប់ថ្នាក់"},{"$f":"ROUND(B95,1)","v":0},{"$f":"ROUND(C95,1)","v":0},0,0,0,0,0,0,0,0,0,0,null,"១.១០.០១.៨៖ ការអភិវឌ្ឍកម្មវិធីសិក្សា សម្ភារៈសិក្សា និងបណ្ណាល័យ"]
[{"$f":"ព័ត៌មានអង្គភាព!AA9","v":"១. ពង្រឹងសមត្ថភាពមន្ដ្រីជំនាញ និងផ្សព្វផ្សាយ"},{"$f":"ROUND(SUM(C95:D95),1)","v":0},null,null,{"$f":"ROUND(SUM(F95:G95),1)","v":0},null,null,{"$f":"ROUND(SUM(I95:J95),1)","v":0},null,null,{"$f":"ROUND(SUM(L95:M95),1)","v":0},null,null,null,"១.១០.០១.៨៖ ការអភិវឌ្ឍកម្មវិធីសិក្សា សម្ភារៈសិក្សា និងបណ្ណាល័យ"]
[{"$f":"ព័ត៌មានអង្គភាព!C14","v":"១.១០.០១.៩៖ ពង្រីកការអប់រំបរិយាបន្នគ្រប់ភូមិសិក្សា"},{"$f":"SUM(B97,B103)","v":0},{"$f":"SUM(C97,C103)","v":0},0,0,0,0,0,0,0,0,0,0]
[{"$f":"cluster_activity_1","v":"សកម្មភាពរងទី ១. ការចូលរៀនមានគុណភាពប្រកប​ដោយ​សមធម៌ និងបរិយាប័ន្ន និងលើកកម្ពស់ឱកាសក្នុងការសិក្សា​ពេញមួយជីវិតសម្រាប់ទាំងអស់គ្នា"},{"$f":"ROUND(SUM(B98:B102),1)","v":0},{"$f":"ROUND(SUM(C98:C102),1)","v":0},0,0,0,0,0,0,0,0,0,0,null,{"$f":"A96","v":"១.១០.០១.៩៖ ពង្រីកការអប់រំបរិយាបន្នគ្រប់ភូមិសិក្សា"}]
[{"$f":"ព័ត៌មានអង្គភាព!AC4","v":"១. កិច្ចដំណើរការអង្គភាព"},{"$f":"ROUND(SUM(C98:D98),1)","v":0},null,null,{"$f":"ROUND(SUM(F98:G98),1)","v":0},null,null,{"$f":"ROUND(SUM(I98:J98),1)","v":0},null,null,{"$f":"ROUND(SUM(L98:M98),1)","v":0},null,null,null,{"$f":"O97","v":"១.១០.០១.៩៖ ពង្រីកការអប់រំបរិយាបន្នគ្រប់ភូមិសិក្សា"}]
[{"$f":"ព័ត៌មានអង្គភាព!AC5","v":"២. ថវិកាលទ្ធកម្ម"},0,null,null,0,null,null,0,null,null,0,null,null,null,{"$f":"O98","v":"១.១០.០១.៩៖ ពង្រីកការអប់រំបរិយាបន្នគ្រប់ភូមិសិក្សា"}]
[{"$f":"ព័ត៌មានអង្គភាព!AC6","v":"៣. ពិនិត្យតាមដាន និងវាយតម្លៃ"},0,null,null,0,null,null,0,null,null,0,null,null,null,"១.១០.០១.៩៖ ពង្រីកការអប់រំបរិយាបន្នគ្រប់ភូមិសិក្សា"]
[{"$f":"ព័ត៌មានអង្គភាព!AC7","v":"៤. អភិវឌ្ឍការងារអប់រំពិសេស និងពហុភាសា"},{"$f":"ROUND(SUM(C101:D101),1)","v":0},null,null,{"$f":"ROUND(SUM(F101:G101),1)","v":0},null,null,{"$f":"ROUND(SUM(I101:J101),1)","v":0},null,null,{"$f":"ROUND(SUM(L101:M101),1)","v":0},null,null,null,"១.១០.០១.៩៖ ពង្រីកការអប់រំបរិយាបន្នគ្រប់ភូមិសិក្សា"]
[{"$f":"ព័ត៌មានអង្គភាព!AC8","v":"៥. អភិវឌ្ឍហេដ្ឋារចនាសម្ពន្ធ័សាលារៀនអប់រំបរិយាបន្ន"},{"$f":"ROUND(SUM(C102:D102),1)","v":0},null,null,{"$f":"ROUND(SUM(F102:G102),1)","v":0},null,null,{"$f":"ROUND(SUM(I102:J102),1)","v":0},null,null,{"$f":"ROUND(SUM(L102:M102),1)","v":0},null,null,null,{"$f":"O100","v":"១.១០.០១.៩៖ ពង្រីកការអប់រំបរិយាបន្នគ្រប់ភូមិសិក្សា"}]
[{"$f":"cluster_activity_2","v":"សកម្មភាពរងទី ២. ការលើកកម្ពស់ភាពជាអ្នកដឹកនាំ និងគ្រប់គ្រង របស់មន្រ្តីអប់រំគ្រប់លំដាប់ថ្នាក់"},{"$f":"ROUND(SUM(B104:B104),1)","v":0},0,0,0,0,0,0,0,0,0,0,0,null,"១.១០.០១.៩៖ ពង្រីកការអប់រំបរិយាបន្នគ្រប់ភូមិសិក្សា"]
[{"$f":"ព័ត៌មានអង្គភាព!AC9","v":"១.ពង្រឹងការអភិវឌ្ឍសមត្ថភាព និងថវិកាលើកទឹកចិត្ត"},{"$f":"ROUND(SUM(C104:D104),1)","v":0},null,null,{"$f":"ROUND(SUM(F104:G104),1)","v":0},null,null,{"$f":"ROUND(SUM(I104:J104),1)","v":0},null,null,{"$f":"ROUND(SUM(L104:M104),1)","v":0},null,null,null,"១.១០.០១.៩៖ ពង្រីកការអប់រំបរិយាបន្នគ្រប់ភូមិសិក្សា"]
[{"$f":"ព័ត៌មានអង្គភាព!C15","v":"កម្មវិធីទី ៣៖ ការអភិវឌ្ឍវិស័យអប់រំកាយ និងកីឡា"},{"$f":"B106","v":0},{"$f":"C106","v":0},0,0,0,0,0,0,0,0,0,0]
[{"$f":"ព័ត៌មានអង្គភាព!C16","v":"អនុកម្មវិធីទី ៣.២ សេវាគាំទ្រការអភិវឌ្ឍវិស័យអប់រំកាយ និងកីឡារបស់មន្ទីរជំនាញរាជធានី ខេត្ត"},{"$f":"B107","v":0},0,0,0,0,0,0,0,0,0,0,0]
[{"$f":"ព័ត៌មានអង្គភាព!C17","v":"ចង្កោមសកម្មភាពទី ០១៖ខេត្តបន្ទាយមានជ័យ"},{"$f":"B108","v":0},0,0,0,0,0,0,0,0,0,0,0]
[{"$f":"ព័ត៌មានអង្គភាព!C18","v":"៣.២.០១.១៖ ការអភិវឌ្ឍអប់រំកាយ និងកីឡាសិស្ស និស្សិត មហាជន និងកីឡាកម្រិតខ្ពស់"},{"$f":"ROUND(SUM(B109,B118),1)","v":0},{"$f":"ROUND(SUM(C109,C118),1)","v":0},{"$f":"ROUND(SUM(D109,D118),1)","v":0},{"$f":"SUM(E109,E118)","v":0},0,0,0,0,0,0,0,0]
[{"$f":"cluster_activity_1","v":"សកម្មភាពរងទី ១. ការចូលរៀនមានគុណភាពប្រកប​ដោយ​សមធម៌ និងបរិយាប័ន្ន និងលើកកម្ពស់ឱកាសក្នុងការសិក្សា​ពេញមួយជីវិតសម្រាប់ទាំងអស់គ្នា"},{"$f":"ROUND(SUM(B110:B117),1)","v":0},{"$f":"ROUND(SUM(C110:C117),1)","v":0},0,0,0,0,0,0,0,0,0,0,null,{"$f":"A108","v":"៣.២.០១.១៖ ការអភិវឌ្ឍអប់រំកាយ និងកីឡាសិស្ស និស្សិត មហាជន និងកីឡាកម្រិតខ្ពស់"}]
[{"$f":"ព័ត៌មានអង្គភាព!M16","v":"១. កិច្ចដំណើរការអង្គភាព"},{"$f":"ROUND(SUM(C110:D110),1)","v":0},null,null,{"$f":"ROUND(SUM(F110:G110),1)","v":0},null,null,{"$f":"ROUND(SUM(I110:J110),1)","v":0},null,null,{"$f":"ROUND(SUM(L110:M110),1)","v":0},null,null,null,{"$f":"O109","v":"៣.២.០១.១៖ ការអភិវឌ្ឍអប់រំកាយ និងកីឡាសិស្ស និស្សិត មហាជន និងកីឡាកម្រិតខ្ពស់"}]
[{"$f":"ព័ត៌មានអង្គភាព!M17","v":"២. ថវិកាលទ្ធកម្ម"},0,null,null,0,null,null,0,null,null,0,null,null,null,{"$f":"O110","v":"៣.២.០១.១៖ ការអភិវឌ្ឍអប់រំកាយ និងកីឡាសិស្ស និស្សិត មហាជន និងកីឡាកម្រិតខ្ពស់"}]
[{"$f":"ព័ត៌មានអង្គភាព!M18","v":"៣. ពិនិត្យតាមដាន និងវាយតម្លៃ"},0,null,null,0,null,null,0,null,null,0,null,null,null,"៣.២.០១.១៖ ការអភិវឌ្ឍអប់រំកាយ និងកីឡាសិស្ស និស្សិត មហាជន និងកីឡាកម្រិតខ្ពស់"]
[{"$f":"ព័ត៌មានអង្គភាព!M19","v":"៤. អភិវឌ្ឍកម្មវិធីអប់រំកាយក្នុងម៉ោងសិក្សា កីឡាក្រៅម៉ោងសិក្សា និងសមាគមកីឡា"},0,null,null,0,null,null,0,null,null,0,null,null,null,"៣.២.០១.១៖ ការអភិវឌ្ឍអប់រំកាយ និងកីឡាសិស្ស និស្សិត មហាជន និងកីឡាកម្រិតខ្ពស់"]
[{"$f":"ព័ត៌មានអង្គភាព!M20","v":"៥. ប្រកួតកីឡាសិស្ស និស្សិតថ្នាក់រាជធានី-ខេត្ត"},0,null,null,0,null,null,0,null,null,0,null,null,null,"៣.២.០១.១៖ ការអភិវឌ្ឍអប់រំកាយ និងកីឡាសិស្ស និស្សិត មហាជន និងកីឡាកម្រិតខ្ពស់"]
[{"$f":"ព័ត៌មានអង្គភាព!M21","v":"៦. រៀបចំ និងចូលរួមប្រកួតកីឡាជាលក្ខណៈជាតិ និងអន្ដរជាតិ"},0,null,null,0,null,null,0,null,null,0,null,null,null,"៣.២.០១.១៖ ការអភិវឌ្ឍអប់រំកាយ និងកីឡាសិស្ស និស្សិត មហាជន និងកីឡាកម្រិតខ្ពស់"]
[{"$f":"ព័ត៌មានអង្គភាព!M22","v":"៧. ប្រកួតកីឡាមហាជនថ្នាក់រាជធានី-ខេត្ត"},{"$f":"ROUND(SUM(C116:D116),1)","v":0},null,null,{"$f":"ROUND(SUM(F116:G116),1)","v":0},null,null,{"$f":"ROUND(SUM(I116:J116),1)","v":0},null,null,{"$f":"ROUND(SUM(L116:M116),1)","v":0}]
[{"$f":"ព័ត៌មានអង្គភាព!M23","v":"៨. អភិវឌ្ឍហេដ្ឋារចនាសម្ព័ន្ធកីឡា និងឧបករណ៍សម្ភារកីឡា"},0,null,null,0,null,null,0,null,null,0,null,null,null,{"$f":"O115","v":"៣.២.០១.១៖ ការអភិវឌ្ឍអប់រំកាយ និងកីឡាសិស្ស និស្សិត មហាជន និងកីឡាកម្រិតខ្ពស់"}]
[{"$f":"cluster_activity_2","v":"សកម្មភាពរងទី ២. ការលើកកម្ពស់ភាពជាអ្នកដឹកនាំ និងគ្រប់គ្រង របស់មន្រ្តីអប់រំគ្រប់លំដាប់ថ្នាក់"},{"$f":"ROUND(SUM(B119:B119),1)","v":0},0,0,0,0,0,0,0,0,0,0,0,null,{"$f":"O117","v":"៣.២.០១.១៖ ការអភិវឌ្ឍអប់រំកាយ និងកីឡាសិស្ស និស្សិត មហាជន និងកីឡាកម្រិតខ្ពស់"}]
[{"$f":"ព័ត៌មានអង្គភាព!M24","v":"១. អភិវឌ្ឍធនធានមនុស្សលើវិស័យកីឡា"},{"$f":"ROUND(SUM(C119:D119),1)","v":0},null,null,{"$f":"ROUND(SUM(F119:G119),1)","v":0},null,null,{"$f":"ROUND(SUM(I119:J119),1)","v":0},null,null,{"$f":"ROUND(SUM(L119:M119),1)","v":0},null,null,null,{"$f":"O118","v":"៣.២.០១.១៖ ការអភិវឌ្ឍអប់រំកាយ និងកីឡាសិស្ស និស្សិត មហាជន និងកីឡាកម្រិតខ្ពស់"}]
[{"$f":"ព័ត៌មានអង្គភាព!C19","v":"កម្មវិធីទី៤៖ ការអភិវឌ្ឍជំនាញបច្ចេកទេស និងជំនាញទន់សម្រាប់យុវជន"},{"$f":"B121","v":0},{"$f":"C121","v":0},0,0,0,0,0,0,0,0,0,0]
[{"$f":"ព័ត៌មានអង្គភាព!C20","v":"អនុកម្មវិធីទី ៤.៤៖ សេវាគាំទ្រអភិវឌ្ឍជំនាញបច្ចេកទេស និងជំនាញទន់សម្រាប់យុវជនរបស់\nមន្ទីរជំនាញរាជធានី ខេត្ត"},{"$f":"B122","v":0},0,0,0,0,0,0,0,0,0,0,0]
[{"$f":"ព័ត៌មានអង្គភាព!C21","v":"ចង្កោមសកម្មភាពទី ០១៖ខេត្តបន្ទាយមានជ័យ"},{"$f":"SUM(B123,B133,B141)","v":0},{"$f":"SUM(C123,C133,C141)","v":0},0,0,0,0,0,0,0,0,0,0]
[{"$f":"ព័ត៌មានអង្គភាព!C22","v":"៤.៤.០១.១៖ ការពង្រឹងសមត្ថភាពយុវជន"},{"$f":"SUM(B124,B132)","v":0},{"$f":"SUM(C124,C132)","v":0},0,0,0,0,0,0,0,0,0,0]
[{"$f":"cluster_activity_1","v":"សកម្មភាពរងទី ១. ការចូលរៀនមានគុណភាពប្រកប​ដោយ​សមធម៌ និងបរិយាប័ន្ន និងលើកកម្ពស់ឱកាសក្នុងការសិក្សា​ពេញមួយជីវិតសម្រាប់ទាំងអស់គ្នា"},{"$f":"ROUND(SUM(B125:B131),1)","v":0},{"$f":"ROUND(SUM(C125:C131),1)","v":0},0,0,0,0,0,0,0,0,0,0,null,{"$f":"A123","v":"៤.៤.០១.១៖ ការពង្រឹងសមត្ថភាពយុវជន"}]
[{"$f":"ព័ត៌មានអង្គភាព!O16","v":"១. កិច្ចដំណើរការអង្គភាព"},{"$f":"ROUND(SUM(C125:D125),1)","v":0},null,null,{"$f":"ROUND(SUM(F125:G125),1)","v":0},null,null,{"$f":"ROUND(SUM(I125:J125),1)","v":0},null,null,{"$f":"ROUND(SUM(L125:M125),1)","v":0},null,null,null,{"$f":"O124","v":"៤.៤.០១.១៖ ការពង្រឹងសមត្ថភាពយុវជន"}]
[{"$f":"ព័ត៌មានអង្គភាព!O17","v":"២. ថវិកាលទ្ធកម្ម"},0,null,null,0,null,null,0,null,null,0,null,null,null,{"$f":"O125","v":"៤.៤.០១.១៖ ការពង្រឹងសមត្ថភាពយុវជន"}]
[{"$f":"ព័ត៌មានអង្គភាព!O18","v":"៣. ពិនិត្យតាមដាន និងវាយតម្លៃ"},0,null,null,0,null,null,0,null,null,0,null,null,null,"៤.៤.០១.១៖ ការពង្រឹងសមត្ថភាពយុវជន"]
[{"$f":"ព័ត៌មានអង្គភាព!O19","v":"៤. ផ្លាស់ប្ដូរទំនាក់ទំនងយុវជនជាតិ និងអន្ដរជាតិ"},0,null,null,0,null,null,0,null,null,0,null,null,null,"៤.៤.០១.១៖ ការពង្រឹងសមត្ថភាពយុវជន"]
[{"$f":"ព័ត៌មានអង្គភាព!O20","v":"៥. អភិវឌ្ឍសមត្ថភាពលើសហគ្រិនភាពដល់យុវជន"},0,null,null,0,null,null,0,null,null,0,null,null,null,"៤.៤.០១.១៖ ការពង្រឹងសមត្ថភាពយុវជន"]
[{"$f":"ព័ត៌មានអង្គភាព!O21","v":"៦. យល់ដឹងអំពីជម្ងឺអេដស៍របស់យុវជនក្រៅសាលា"},0,null,null,0,null,null,0,null,null,0,null,null,null,"៤.៤.០១.១៖ ការពង្រឹងសមត្ថភាពយុវជន"]
[{"$f":"ព័ត៌មានអង្គភាព!O22","v":"៧. ពង្រឹងដំណើរការក្រុមប្រឹក្សាកុមារ និងយុវជន"},0,null,null,0,null,null,0,null,null,0,null,null,null,"៤.៤.០១.១៖ ការពង្រឹងសមត្ថភាពយុវជន"]
[{"$f":"cluster_activity_2","v":"សកម្មភាពរងទី ២. ការលើកកម្ពស់ភាពជាអ្នកដឹកនាំ និងគ្រប់គ្រង របស់មន្រ្តីអប់រំគ្រប់លំដាប់ថ្នាក់"},0,0,0,0,0,0,0,0,0,0,0,0,null,"៤.៤.០១.១៖ ការពង្រឹងសមត្ថភាពយុវជន"]
[{"$f":"ព័ត៌មានអង្គភាព!C23","v":"៤.៤.០១.២៖ ការអភិវឌ្ឍមជ្ឈមណ្ឌលយុវជន"},{"$f":"SUM(B134,B140)","v":0},{"$f":"SUM(C134,C140)","v":0},0,0,0,0,0,0,0,0,0,0]
[{"$f":"cluster_activity_1","v":"សកម្មភាពរងទី ១. ការចូលរៀនមានគុណភាពប្រកប​ដោយ​សមធម៌ និងបរិយាប័ន្ន និងលើកកម្ពស់ឱកាសក្នុងការសិក្សា​ពេញមួយជីវិតសម្រាប់ទាំងអស់គ្នា"},{"$f":"ROUND(SUM(B135:B139),1)","v":0},{"$f":"ROUND(SUM(C135:C139),1)","v":0},0,0,0,0,0,0,0,0,0,0,null,{"$f":"A133","v":"៤.៤.០១.២៖ ការអភិវឌ្ឍមជ្ឈមណ្ឌលយុវជន"}]
[{"$f":"ព័ត៌មានអង្គភាព!Q16","v":"១. កិច្ចដំណើរការអង្គភាព"},{"$f":"ROUND(SUM(C135:D135),1)","v":0},null,null,{"$f":"ROUND(SUM(F135:G135),1)","v":0},null,null,{"$f":"ROUND(SUM(I135:J135),1)","v":0},null,null,{"$f":"ROUND(SUM(L135:M135),1)","v":0},null,null,null,{"$f":"O134","v":"៤.៤.០១.២៖ ការអភិវឌ្ឍមជ្ឈមណ្ឌលយុវជន"}]
[{"$f":"ព័ត៌មានអង្គភាព!Q17","v":"២. ថវិកាលទ្ធកម្ម"},0,null,null,0,null,null,0,null,null,0,null,null,null,{"$f":"O135","v":"៤.៤.០១.២៖ ការអភិវឌ្ឍមជ្ឈមណ្ឌលយុវជន"}]
[{"$f":"ព័ត៌មានអង្គភាព!Q18","v":"៣. ពិនិត្យតាមដាន និងវាយតម្លៃ"},0,null,null,0,null,null,0,null,null,0,null,null,null,"៤.៤.០១.២៖ ការអភិវឌ្ឍមជ្ឈមណ្ឌលយុវជន"]
[{"$f":"ព័ត៌មានអង្គភាព!Q19","v":"៤. គាំទ្រអភិវឌ្ឍមជ្ឈមណ្ឌលយុវជន"},0,null,null,0,null,null,0,null,null,0,null,null,null,"៤.៤.០១.២៖ ការអភិវឌ្ឍមជ្ឈមណ្ឌលយុវជន"]
[{"$f":"ព័ត៌មានអង្គភាព!Q20","v":"៥. កសាងសមត្ថភាពជំនាញ វិជ្ជាជីវៈតាមមជ្ឈមណ្ឌលយុវជន"},0,null,null,0,null,null,0,null,null,0,null,null,null,"៤.៤.០១.២៖ ការអភិវឌ្ឍមជ្ឈមណ្ឌលយុវជន"]
[{"$f":"cluster_activity_2","v":"សកម្មភាពរងទី ២. ការលើកកម្ពស់ភាពជាអ្នកដឹកនាំ និងគ្រប់គ្រង របស់មន្រ្តីអប់រំគ្រប់លំដាប់ថ្នាក់"},0,0,0,0,0,0,0,0,0,0,0,0,null,"៤.៤.០១.២៖ ការអភិវឌ្ឍមជ្ឈមណ្ឌលយុវជន"]
[{"$f":"ព័ត៌មានអង្គភាព!C24","v":"៤.៤.០១.៣៖ ការអភិវឌ្ឍកាយរឹទ្ធិកម្ម"},{"$f":"SUM(B142,B147)","v":0},{"$f":"SUM(C142,C147)","v":0},0,0,0,0,0,0,0,0,0,0]
[{"$f":"cluster_activity_1","v":"សកម្មភាពរងទី ១. ការចូលរៀនមានគុណភាពប្រកប​ដោយ​សមធម៌ និងបរិយាប័ន្ន និងលើកកម្ពស់ឱកាសក្នុងការសិក្សា​ពេញមួយជីវិតសម្រាប់ទាំងអស់គ្នា"},{"$f":"ROUND(SUM(B143:B146),1)","v":0},{"$f":"ROUND(SUM(C143:C146),1)","v":0},0,0,0,0,0,0,0,0,0,0,null,{"$f":"A141","v":"៤.៤.០១.៣៖ ការអភិវឌ្ឍកាយរឹទ្ធិកម្ម"}]
[{"$f":"ព័ត៌មានអង្គភាព!S16","v":"១. កិច្ចដំណើរការអង្គភាព"},{"$f":"ROUND(SUM(C143:D143),1)","v":0},null,null,{"$f":"ROUND(SUM(F143:G143),1)","v":0},null,null,{"$f":"ROUND(SUM(I143:J143),1)","v":0},null,null,{"$f":"ROUND(SUM(L143:M143),1)","v":0},null,null,null,{"$f":"O142","v":"៤.៤.០១.៣៖ ការអភិវឌ្ឍកាយរឹទ្ធិកម្ម"}]
[{"$f":"ព័ត៌មានអង្គភាព!S17","v":"២. ថវិកាលទ្ធកម្ម"},0,null,null,0,null,null,0,null,null,0,null,null,null,{"$f":"O143","v":"៤.៤.០១.៣៖ ការអភិវឌ្ឍកាយរឹទ្ធិកម្ម"}]
[{"$f":"ព័ត៌មានអង្គភាព!S18","v":"៣. ពិនិត្យតាមដាន និងវាយតម្លៃ"},0,null,null,0,null,null,0,null,null,0,null,null,null,"៤.៤.០១.៣៖ ការអភិវឌ្ឍកាយរឹទ្ធិកម្ម"]
[{"$f":"ព័ត៌មានអង្គភាព!S19","v":"៤. ពង្រឹងប្រព័ន្ធល្បាតកាយរឹទ្ធិកម្ម បណ្ដុះបណ្ដាលធនធានមនុស្ស និងកិច្ចសហប្រតិបត្តិការអន្ដរជាតិ"},0,null,null,0,null,null,0,null,null,0,null,null,null,"៤.៤.០១.៣៖ ការអភិវឌ្ឍកាយរឹទ្ធិកម្ម"]
[{"$f":"cluster_activity_2","v":"សកម្មភាពរងទី ២. ការលើកកម្ពស់ភាពជាអ្នកដឹកនាំ និងគ្រប់គ្រង របស់មន្រ្តីអប់រំគ្រប់លំដាប់ថ្នាក់"},0,0,0,0,0,0,0,0,0,0,0,0,null,"៤.៤.០១.៣៖ ការអភិវឌ្ឍកាយរឹទ្ធិកម្ម"]
[{"$f":"ព័ត៌មានអង្គភាព!C25","v":"កម្មវិធីទី៥៖ ការគាំទ្រសេវាអប់រំ និងអភិបាលកិច្ចល្អ"},{"$f":"B149","v":0},{"$f":"C149","v":0},0,0,0,0,0,0,0,0,0,0]
[{"$f":"ព័ត៌មានអង្គភាព!C26","v":"អនុកម្មវិធីទី ៥.១៨ សេវាគាំទ្រសេវាអប់រំ និងអភិបាលកិច្ចល្អ របស់មន្ទីរជំនាញរាជធានី ខេត្ត"},{"$f":"B150","v":0},0,0,0,0,0,0,0,0,0,0,0]
[{"$f":"ព័ត៌មានអង្គភាព!C27","v":"ចង្កោមសកម្មភាពទី ០១៖ខេត្តបន្ទាយមានជ័យ"},{"$f":"SUM(B151,B159,B170,B178,B186,B194,B202,B211,B218,B226,B233,B241,B249,B257,B267,B275,B284)","v":0},{"$f":"SUM(C151,C159,C170,C178,C186,C194,C202,C211,C218,C226,C233,C241,C249,C257,C267,C275,C284)","v":0},0,0,0,0,0,0,0,0,0,0]
[{"$f":"ព័ត៌មានអង្គភាព!C28","v":"៥.១៨.០១.១៖ ការអភិវឌ្ឍនិងពង្រឹងប្រព័ន្ធផែនការអប់រំ"},{"$f":"SUM(B152,B153)","v":0},{"$f":"SUM(C152,C153)","v":0},0,0,0,0,0,0,0,0,0,0]
[{"$f":"cluster_activity_1","v":"សកម្មភាពរងទី ១. ការចូលរៀនមានគុណភាពប្រកប​ដោយ​សមធម៌ និងបរិយាប័ន្ន និងលើកកម្ពស់ឱកាសក្នុងការសិក្សា​ពេញមួយជីវិតសម្រាប់ទាំងអស់គ្នា"},0,0,0,0,0,0,0,0,0,0,0,0,null,{"$f":"A151","v":"៥.១៨.០១.១៖ ការអភិវឌ្ឍនិងពង្រឹងប្រព័ន្ធផែនការអប់រំ"}]
[{"$f":"cluster_activity_2","v":"សកម្មភាពរងទី ២. ការលើកកម្ពស់ភាពជាអ្នកដឹកនាំ និងគ្រប់គ្រង របស់មន្រ្តីអប់រំគ្រប់លំដាប់ថ្នាក់"},{"$f":"ROUND(SUM(B154:B158),1)","v":0},{"$f":"ROUND(SUM(C154:C158),1)","v":0},0,0,0,0,0,0,0,0,0,0,null,{"$f":"O152","v":"៥.១៨.០១.១៖ ការអភិវឌ្ឍនិងពង្រឹងប្រព័ន្ធផែនការអប់រំ"}]
[{"$f":"ព័ត៌មានអង្គភាព!M38","v":"១. កិច្ចដំណើរការអង្គភាព"},{"$f":"ROUND(SUM(C154:D154),1)","v":0},null,null,{"$f":"ROUND(SUM(F154:G154),1)","v":0},null,null,{"$f":"ROUND(SUM(I154:J154),1)","v":0},null,null,{"$f":"ROUND(SUM(L154:M154),1)","v":0},null,null,null,{"$f":"O153","v":"៥.១៨.០១.១៖ ការអភិវឌ្ឍនិងពង្រឹងប្រព័ន្ធផែនការអប់រំ"}]
[{"$f":"ព័ត៌មានអង្គភាព!M39","v":"២. ថវិកាលទ្ធកម្ម"},0,null,null,0,null,null,0,null,null,0,null,null,null,"៥.១៨.០១.១៖ ការអភិវឌ្ឍនិងពង្រឹងប្រព័ន្ធផែនការអប់រំ"]
[{"$f":"ព័ត៌មានអង្គភាព!M40","v":"៣. ពិនិត្យតាមដាន និងវាយតម្លៃ"},0,null,null,0,null,null,0,null,null,0,null,null,null,"៥.១៨.០១.១៖ ការអភិវឌ្ឍនិងពង្រឹងប្រព័ន្ធផែនការអប់រំ"]
[{"$f":"ព័ត៌មានអង្គភាព!M41","v":"៤. កសាងផែនការយុទ្ធសាស្រ្ដ និងផែនការប្រតិបត្តិ"},0,null,null,0,null,null,0,null,null,0,null,null,null,"៥.១៨.០១.១៖ ការអភិវឌ្ឍនិងពង្រឹងប្រព័ន្ធផែនការអប់រំ"]
[{"$f":"ព័ត៌មានអង្គភាព!M42","v":"៥. អភិវឌ្ឍប្រព័ន្ធកសាងផែនការអប់រំ"},0,null,null,0,null,null,0,null,null,0,null,null,null,"៥.១៨.០១.១៖ ការអភិវឌ្ឍនិងពង្រឹងប្រព័ន្ធផែនការអប់រំ"]
[{"$f":"ព័ត៌មានអង្គភាព!C29","v":"៥.១៨.០១.២៖ ការគ្រប់គ្រង និងពង្រឹងប្រសិទ្ធភាព​ធនធានមនុស្ស"},{"$f":"SUM(B160,B164)","v":0},{"$f":"SUM(C160,C164)","v":0},0,0,0,0,0,0,0,0,0,0]
[{"$f":"cluster_activity_1","v":"សកម្មភាពរងទី ១. ការចូលរៀនមានគុណភាពប្រកប​ដោយ​សមធម៌ និងបរិយាប័ន្ន និងលើកកម្ពស់ឱកាសក្នុងការសិក្សា​ពេញមួយជីវិតសម្រាប់ទាំងអស់គ្នា"},{"$f":"ROUND(SUM(B161:B163),1)","v":0},{"$f":"ROUND(SUM(C161:C163),1)","v":0},0,0,0,0,0,0,0,0,0,0,null,{"$f":"A159","v":"៥.១៨.០១.២៖ ការគ្រប់គ្រង និងពង្រឹងប្រសិទ្ធភាព​ធនធានមនុស្ស"}]
[{"$f":"ព័ត៌មានអង្គភាព!O38","v":"១. កម្មវិធីគាំទ្រការពង្រាយគ្រូ និងប្រាក់បៀវត្ស"},{"$f":"ROUND(SUM(C161:D161),1)","v":0},null,null,{"$f":"ROUND(SUM(F161:G161),1)","v":0},null,null,{"$f":"ROUND(SUM(I161:J161),1)","v":0},null,null,{"$f":"ROUND(SUM(L161:M161),1)","v":0},null,null,null,{"$f":"O160","v":"៥.១៨.០១.២៖ ការគ្រប់គ្រង និងពង្រឹងប្រសិទ្ធភាព​ធនធានមនុស្ស"}]
[{"$f":"ព័ត៌មានអង្គភាព!O39","v":"២. កម្មវិធីគាំទ្រការឧបត្ថម្ភជីវភាពគ្រូនៅតំបន់ជួបការលំបាក"},0,null,null,0,null,null,0,null,null,0,null,null,null,{"$f":"O161","v":"៥.១៨.០១.២៖ ការគ្រប់គ្រង និងពង្រឹងប្រសិទ្ធភាព​ធនធានមនុស្ស"}]
[{"$f":"ព័ត៌មានអង្គភាព!O40","v":"៣. ប្រលងជ្រើសរើសគ្រូបង្រៀន"},0,null,null,0,null,null,0,null,null,0,null,null,null,"៥.១៨.០១.២៖ ការគ្រប់គ្រង និងពង្រឹងប្រសិទ្ធភាព​ធនធានមនុស្ស"]
[{"$f":"cluster_activity_2","v":"សកម្មភាពរងទី ២. ការលើកកម្ពស់ភាពជាអ្នកដឹកនាំ និងគ្រប់គ្រង របស់មន្រ្តីអប់រំគ្រប់លំដាប់ថ្នាក់"},{"$f":"ROUND(SUM(B165:B169),1)","v":0},{"$f":"ROUND(SUM(C165:C169),1)","v":0},0,0,0,0,0,0,0,0,0,0,null,"៥.១៨.០១.២៖ ការគ្រប់គ្រង និងពង្រឹងប្រសិទ្ធភាព​ធនធានមនុស្ស"]
[{"$f":"ព័ត៌មានអង្គភាព!O41","v":"១. កិច្ចដំណើរការអង្គភាព"},{"$f":"ROUND(SUM(C165:D165),1)","v":0},null,null,{"$f":"ROUND(SUM(F165:G165),1)","v":0},null,null,{"$f":"ROUND(SUM(I165:J165),1)","v":0},null,null,{"$f":"ROUND(SUM(L165:M165),1)","v":0},null,null,null,"៥.១៨.០១.២៖ ការគ្រប់គ្រង និងពង្រឹងប្រសិទ្ធភាព​ធនធានមនុស្ស"]
[{"$f":"ព័ត៌មានអង្គភាព!O42","v":"២. ថវិកាលទ្ធកម្ម"},0,null,null,0,null,null,0,null,null,0,null,null,null,"៥.១៨.០១.២៖ ការគ្រប់គ្រង និងពង្រឹងប្រសិទ្ធភាព​ធនធានមនុស្ស"]
[{"$f":"ព័ត៌មានអង្គភាព!O43","v":"៣. ពិនិត្យតាមដាន និងវាយតម្លៃ"},0,null,null,0,null,null,0,null,null,0,null,null,null,"៥.១៨.០១.២៖ ការគ្រប់គ្រង និងពង្រឹងប្រសិទ្ធភាព​ធនធានមនុស្ស"]
[{"$f":"ព័ត៌មានអង្គភាព!O44","v":"៤. សមាហរណកម្មប្រព័ន្ធទិន្ន័យគ្រប់គ្រងអប់រំ"},0,null,null,0,null,null,0,null,null,0,null,null,null,"៥.១៨.០១.២៖ ការគ្រប់គ្រង និងពង្រឹងប្រសិទ្ធភាព​ធនធានមនុស្ស"]
[{"$f":"ព័ត៌មានអង្គភាព!O45","v":"៥. ពង្រឹងសមត្ថភាពធនធានមនុស្ស"},0,null,null,0,null,null,0,null,null,0,null,null,null,"៥.១៨.០១.២៖ ការគ្រប់គ្រង និងពង្រឹងប្រសិទ្ធភាព​ធនធានមនុស្ស"]
[{"$f":"ព័ត៌មានអង្គភាព!C30","v":"៥.១៨.០១.៣៖ ការអភិវឌ្ឍសមត្ថភាព ការងារគ្រប់គ្រង ផែនការហិរញ្ញវត្ថុ និងមូលដ្ឋានសម្ភារៈ"},{"$f":"SUM(B171,B173)","v":0},{"$f":"SUM(C171,C173)","v":0},0,0,0,0,0,0,0,0,0,0]
[{"$f":"cluster_activity_1","v":"សកម្មភាពរងទី ១. ការចូលរៀនមានគុណភាពប្រកប​ដោយ​សមធម៌ និងបរិយាប័ន្ន និងលើកកម្ពស់ឱកាសក្នុងការសិក្សា​ពេញមួយជីវិតសម្រាប់ទាំងអស់គ្នា"},{"$f":"ROUND(B172,1)","v":0},{"$f":"ROUND(C172,1)","v":0},0,0,0,0,0,0,0,0,0,0,null,{"$f":"A170","v":"៥.១៨.០១.៣៖ ការអភិវឌ្ឍសមត្ថភាព ការងារគ្រប់គ្រង ផែនការហិរញ្ញវត្ថុ និងមូលដ្ឋានសម្ភារៈ"}]
[{"$f":"ព័ត៌មានអង្គភាព!Q38","v":"១. ចំណាយលើអត្ថប្រយជន៍សង្គម"},{"$f":"ROUND(SUM(C172:D172),1)","v":0},null,null,{"$f":"ROUND(SUM(F172:G172),1)","v":0},null,null,{"$f":"ROUND(SUM(I172:J172),1)","v":0},null,null,{"$f":"ROUND(SUM(L172:M172),1)","v":0},null,null,null,{"$f":"O171","v":"៥.១៨.០១.៣៖ ការអភិវឌ្ឍសមត្ថភាព ការងារគ្រប់គ្រង ផែនការហិរញ្ញវត្ថុ និងមូលដ្ឋានសម្ភារៈ"}]
[{"$f":"cluster_activity_2","v":"សកម្មភាពរងទី ២. ការលើកកម្ពស់ភាពជាអ្នកដឹកនាំ និងគ្រប់គ្រង របស់មន្រ្តីអប់រំគ្រប់លំដាប់ថ្នាក់"},{"$f":"ROUND(SUM(B174:B177),1)","v":0},{"$f":"ROUND(SUM(C174:C177),1)","v":0},0,0,0,0,0,0,0,0,0,0,null,{"$f":"O172","v":"៥.១៨.០១.៣៖ ការអភិវឌ្ឍសមត្ថភាព ការងារគ្រប់គ្រង ផែនការហិរញ្ញវត្ថុ និងមូលដ្ឋានសម្ភារៈ"}]
[{"$f":"ព័ត៌មានអង្គភាព!Q39","v":"១. កិច្ចដំណើរការអង្គភាព"},{"$f":"ROUND(SUM(C174:D174),1)","v":0},null,null,{"$f":"ROUND(SUM(F174:G174),1)","v":0},null,null,{"$f":"ROUND(SUM(I174:J174),1)","v":0},null,null,{"$f":"ROUND(SUM(L174:M174),1)","v":0},null,null,null,"៥.១៨.០១.៣៖ ការអភិវឌ្ឍសមត្ថភាព ការងារគ្រប់គ្រង ផែនការហិរញ្ញវត្ថុ និងមូលដ្ឋានសម្ភារៈ"]
[{"$f":"ព័ត៌មានអង្គភាព!Q40","v":"២. ថវិកាលទ្ធកម្ម"},0,null,null,0,null,null,0,null,null,0,null,null,null,"៥.១៨.០១.៣៖ ការអភិវឌ្ឍសមត្ថភាព ការងារគ្រប់គ្រង ផែនការហិរញ្ញវត្ថុ និងមូលដ្ឋានសម្ភារៈ"]
[{"$f":"ព័ត៌មានអង្គភាព!Q41","v":"៣. ពិនិត្យតាមដាន និងវាយតម្លៃ"},0,null,null,0,null,null,0,null,null,0,null,null,null,"៥.១៨.០១.៣៖ ការអភិវឌ្ឍសមត្ថភាព ការងារគ្រប់គ្រង ផែនការហិរញ្ញវត្ថុ និងមូលដ្ឋានសម្ភារៈ"]
[{"$f":"ព័ត៌មានអង្គភាព!Q42","v":"៤. ពង្រឹងសមត្ថភាព និងយន្តការលើការគ្រប់គ្រងហិរញ្ញវត្ថុសាធារណៈ"},0,null,null,0,null,null,0,null,null,0,null,null,null,"៥.១៨.០១.៣៖ ការអភិវឌ្ឍសមត្ថភាព ការងារគ្រប់គ្រង ផែនការហិរញ្ញវត្ថុ និងមូលដ្ឋានសម្ភារៈ"]
[{"$f":"ព័ត៌មានអង្គភាព!C31","v":"៥.១៨.០១.៤៖ ពង្រឹងការងារសវនកម្មផ្ទៃក្នុង"},{"$f":"SUM(B179,B180)","v":0},{"$f":"SUM(C179,C180)","v":0},0,0,0,0,0,0,0,0,0,0]
[{"$f":"cluster_activity_1","v":"សកម្មភាពរងទី ១. ការចូលរៀនមានគុណភាពប្រកប​ដោយ​សមធម៌ និងបរិយាប័ន្ន និងលើកកម្ពស់ឱកាសក្នុងការសិក្សា​ពេញមួយជីវិតសម្រាប់ទាំងអស់គ្នា"},0,0,0,0,0,0,0,0,0,0,0,0,null,{"$f":"A178","v":"៥.១៨.០១.៤៖ ពង្រឹងការងារសវនកម្មផ្ទៃក្នុង"}]
[{"$f":"cluster_activity_2","v":"សកម្មភាពរងទី ២. ការលើកកម្ពស់ភាពជាអ្នកដឹកនាំ និងគ្រប់គ្រង របស់មន្រ្តីអប់រំគ្រប់លំដាប់ថ្នាក់"},{"$f":"ROUND(SUM(B181:B185),1)","v":0},{"$f":"ROUND(SUM(C181:C185),1)","v":0},0,0,0,0,0,0,0,0,0,0,null,{"$f":"O179","v":"៥.១៨.០១.៤៖ ពង្រឹងការងារសវនកម្មផ្ទៃក្នុង"}]
[{"$f":"ព័ត៌មានអង្គភាព!S38","v":"១. កិច្ចដំណើរការអង្គភាព"},{"$f":"ROUND(SUM(C181:D181),1)","v":0},null,null,{"$f":"ROUND(SUM(F181:G181),1)","v":0},null,null,{"$f":"ROUND(SUM(I181:J181),1)","v":0},null,null,{"$f":"ROUND(SUM(L181:M181),1)","v":0},null,null,null,{"$f":"O180","v":"៥.១៨.០១.៤៖ ពង្រឹងការងារសវនកម្មផ្ទៃក្នុង"}]
[{"$f":"ព័ត៌មានអង្គភាព!S39","v":"២. ថវិកាលទ្ធកម្ម"},0,null,null,0,null,null,0,null,null,0,null,null,null,"៥.១៨.០១.៤៖ ពង្រឹងការងារសវនកម្មផ្ទៃក្នុង"]
[{"$f":"ព័ត៌មានអង្គភាព!S40","v":"៣. ពិនិត្យតាមដាន និងវាយតម្លៃ"},0,null,null,0,null,null,0,null,null,0,null,null,null,"៥.១៨.០១.៤៖ ពង្រឹងការងារសវនកម្មផ្ទៃក្នុង"]
[{"$f":"ព័ត៌មានអង្គភាព!S41","v":"៤. ពង្រឹងការងារសវនកម្មផ្ទៃក្នុង"},0,null,null,0,null,null,0,null,null,0,null,null,null,"៥.១៨.០១.៤៖ ពង្រឹងការងារសវនកម្មផ្ទៃក្នុង"]
[{"$f":"ព័ត៌មានអង្គភាព!S42","v":"៥. ពង្រឹងសមត្ថភាពមន្ដ្រីសវនកម្មផ្ទៃក្នុង"},0,null,null,0,null,null,0,null,null,0,null,null,null,"៥.១៨.០១.៤៖ ពង្រឹងការងារសវនកម្មផ្ទៃក្នុង"]
[{"$f":"ព័ត៌មានអង្គភាព!C32","v":"៥.១៨.០១.៥៖ ការពិនិត្យតាមដាន វាយតម្លៃ និងអធិការកិច្ចប្រព័ន្ធធានាគុណភាពអប់រំ"},{"$f":"SUM(B187,B189)","v":0},{"$f":"SUM(C187,C189)","v":0},0,0,0,0,0,0,0,0,0,0]
[{"$f":"cluster_activity_1","v":"សកម្មភាពរងទី ១. ការចូលរៀនមានគុណភាពប្រកប​ដោយ​សមធម៌ និងបរិយាប័ន្ន និងលើកកម្ពស់ឱកាសក្នុងការសិក្សា​ពេញមួយជីវិតសម្រាប់ទាំងអស់គ្នា"},{"$f":"ROUND(B188,1)","v":0},{"$f":"ROUND(C188,1)","v":0},0,0,0,0,0,0,0,0,0,0,null,{"$f":"A186","v":"៥.១៨.០១.៥៖ ការពិនិត្យតាមដាន វាយតម្លៃ និងអធិការកិច្ចប្រព័ន្ធធានាគុណភាពអប់រំ"}]
[{"$f":"ព័ត៌មានអង្គភាព!U38","v":"១. អធិការកិច្ចគុណភាពអប់រំ និងវាយតម្លៃលទ្ធផលសិក្សា"},{"$f":"ROUND(SUM(C188:D188),1)","v":0},null,null,{"$f":"ROUND(SUM(F188:G188),1)","v":0},null,null,{"$f":"ROUND(SUM(I188:J188),1)","v":0},null,null,{"$f":"ROUND(SUM(L188:M188),1)","v":0},null,null,null,{"$f":"O187","v":"៥.១៨.០១.៥៖ ការពិនិត្យតាមដាន វាយតម្លៃ និងអធិការកិច្ចប្រព័ន្ធធានាគុណភាពអប់រំ"}]
[{"$f":"cluster_activity_2","v":"សកម្មភាពរងទី ២. ការលើកកម្ពស់ភាពជាអ្នកដឹកនាំ និងគ្រប់គ្រង របស់មន្រ្តីអប់រំគ្រប់លំដាប់ថ្នាក់"},{"$f":"ROUND(SUM(B190:B193),1)","v":0},{"$f":"ROUND(SUM(C190:C193),1)","v":0},0,0,0,0,0,0,0,0,0,0,null,{"$f":"O188","v":"៥.១៨.០១.៥៖ ការពិនិត្យតាមដាន វាយតម្លៃ និងអធិការកិច្ចប្រព័ន្ធធានាគុណភាពអប់រំ"}]
[{"$f":"ព័ត៌មានអង្គភាព!U39","v":"១. កិច្ចដំណើរការអង្គភាព"},{"$f":"ROUND(SUM(C190:D190),1)","v":0},null,null,{"$f":"ROUND(SUM(F190:G190),1)","v":0},null,null,{"$f":"ROUND(SUM(I190:J190),1)","v":0},null,null,{"$f":"ROUND(SUM(L190:M190),1)","v":0},null,null,null,"៥.១៨.០១.៥៖ ការពិនិត្យតាមដាន វាយតម្លៃ និងអធិការកិច្ចប្រព័ន្ធធានាគុណភាពអប់រំ"]
[{"$f":"ព័ត៌មានអង្គភាព!U40","v":"២. ថវិកាលទ្ធកម្ម"},0,null,null,0,null,null,0,null,null,0,null,null,null,"៥.១៨.០១.៥៖ ការពិនិត្យតាមដាន វាយតម្លៃ និងអធិការកិច្ចប្រព័ន្ធធានាគុណភាពអប់រំ"]
[{"$f":"ព័ត៌មានអង្គភាព!U41","v":"៣. ពិនិត្យតាមដាន និងវាយតម្លៃ"},0,null,null,0,null,null,0,null,null,0,null,null,null,"៥.១៨.០១.៥៖ ការពិនិត្យតាមដាន វាយតម្លៃ និងអធិការកិច្ចប្រព័ន្ធធានាគុណភាពអប់រំ"]
[{"$f":"ព័ត៌មានអង្គភាព!U42","v":"៤. ពង្រឹងសមត្ថភាពមន្ដ្រីជំនាញ"},0,null,null,0,null,null,0,null,null,0,null,null,null,"៥.១៨.០១.៥៖ ការពិនិត្យតាមដាន វាយតម្លៃ និងអធិការកិច្ចប្រព័ន្ធធានាគុណភាពអប់រំ"]
[{"$f":"ព័ត៌មានអង្គភាព!C33","v":"៥.១៨.០១.៦៖ អធិការកិច្ចរដ្ឋបាល និងហិរញ្ញវត្ថុ"},{"$f":"SUM(B195,B196)","v":0},{"$f":"SUM(C195,C196)","v":0},0,0,0,0,0,0,0,0,0,0]
[{"$f":"cluster_activity_1","v":"សកម្មភាពរងទី ១. ការចូលរៀនមានគុណភាពប្រកប​ដោយ​សមធម៌ និងបរិយាប័ន្ន និងលើកកម្ពស់ឱកាសក្នុងការសិក្សា​ពេញមួយជីវិតសម្រាប់ទាំងអស់គ្នា"},0,0,0,0,0,0,0,0,0,0,0,0,null,{"$f":"A194","v":"៥.១៨.០១.៦៖ អធិការកិច្ចរដ្ឋបាល និងហិរញ្ញវត្ថុ"}]
[{"$f":"cluster_activity_2","v":"សកម្មភាពរងទី ២. ការលើកកម្ពស់ភាពជាអ្នកដឹកនាំ និងគ្រប់គ្រង របស់មន្រ្តីអប់រំគ្រប់លំដាប់ថ្នាក់"},{"$f":"ROUND(SUM(B197:B201),1)","v":0},{"$f":"ROUND(SUM(C197:C201),1)","v":0},0,0,0,0,0,0,0,0,0,0,null,{"$f":"O195","v":"៥.១៨.០១.៦៖ អធិការកិច្ចរដ្ឋបាល និងហិរញ្ញវត្ថុ"}]
[{"$f":"ព័ត៌មានអង្គភាព!W38","v":"១. កិច្ចដំណើរការអង្គភាព"},{"$f":"ROUND(SUM(C197:D197),1)","v":0},null,null,{"$f":"ROUND(SUM(F197:G197),1)","v":0},null,null,{"$f":"ROUND(SUM(I197:J197),1)","v":0},null,null,{"$f":"ROUND(SUM(L197:M197),1)","v":0},null,null,null,{"$f":"O196","v":"៥.១៨.០១.៦៖ អធិការកិច្ចរដ្ឋបាល និងហិរញ្ញវត្ថុ"}]
[{"$f":"ព័ត៌មានអង្គភាព!W39","v":"២. ថវិកាលទ្ធកម្ម"},0,null,null,0,null,null,0,null,null,0,null,null,null,"៥.១៨.០១.៦៖ អធិការកិច្ចរដ្ឋបាល និងហិរញ្ញវត្ថុ"]
[{"$f":"ព័ត៌មានអង្គភាព!W40","v":"៣. ពិនិត្យតាមដាន និងវាយតម្លៃ"},0,null,null,0,null,null,0,null,null,0,null,null,null,"៥.១៨.០១.៦៖ អធិការកិច្ចរដ្ឋបាល និងហិរញ្ញវត្ថុ"]
[{"$f":"ព័ត៌មានអង្គភាព!W41","v":"៤. អធិការកិច្ចគ្រប់គ្រងរដ្ឋបាល និងហិរញ្ញវត្ថុ"},0,null,null,0,null,null,0,null,null,0,null,null,null,"៥.១៨.០១.៦៖ អធិការកិច្ចរដ្ឋបាល និងហិរញ្ញវត្ថុ"]
[{"$f":"ព័ត៌មានអង្គភាព!W42","v":"៥. ផ្សព្វផ្សាយ និងការពង្រឹងសមត្ថភាព"},0,null,null,0,null,null,0,null,null,0,null,null,null,"៥.១៨.០១.៦៖ អធិការកិច្ចរដ្ឋបាល និងហិរញ្ញវត្ថុ"]
[{"$f":"ព័ត៌មានអង្គភាព!C34","v":"៥.១៨.០១.៧៖ លើកកម្ពស់ការផ្សព្វផ្សាយព័ត៌មានអប់រំ និងកិច្ចសហប្រតិបត្តិការអាស៊ាន និងស៊ីមេអូ"},{"$f":"SUM(B203,B206)","v":0},{"$f":"SUM(C203,C206)","v":0},0,0,0,0,0,0,0,0,0,0]
[{"$f":"cluster_activity_1","v":"សកម្មភាពរងទី ១. ការចូលរៀនមានគុណភាពប្រកប​ដោយ​សមធម៌ និងបរិយាប័ន្ន និងលើកកម្ពស់ឱកាសក្នុងការសិក្សា​ពេញមួយជីវិតសម្រាប់ទាំងអស់គ្នា"},{"$f":"ROUND(SUM(B204:B205),1)","v":0},{"$f":"ROUND(SUM(C204:C205),1)","v":0},0,0,0,0,0,0,0,0,0,0,null,{"$f":"A202","v":"៥.១៨.០១.៧៖ លើកកម្ពស់ការផ្សព្វផ្សាយព័ត៌មានអប់រំ និងកិច្ចសហប្រតិបត្តិការអាស៊ាន និងស៊ីមេអូ"}]
[{"$f":"ព័ត៌មានអង្គភាព!Y38","v":"១. ផលិត និងផ្សព្វផ្សាយព័ត៌មានអប់រំ"},{"$f":"ROUND(SUM(C204:D204),1)","v":0},null,null,{"$f":"ROUND(SUM(F204:G204),1)","v":0},null,null,{"$f":"ROUND(SUM(I204:J204),1)","v":0},null,null,{"$f":"ROUND(SUM(L204:M204),1)","v":0},null,null,null,{"$f":"O203","v":"៥.១៨.០១.៧៖ លើកកម្ពស់ការផ្សព្វផ្សាយព័ត៌មានអប់រំ និងកិច្ចសហប្រតិបត្តិការអាស៊ាន និងស៊ីមេអូ"}]
[{"$f":"ព័ត៌មានអង្គភាព!Y39","v":"២. លើកកម្ពស់កិច្ចសហប្រតិបត្តិការអាស៊ាន និងស៊ីមេអូ"},0,null,null,0,null,null,0,null,null,0,null,null,null,{"$f":"O204","v":"៥.១៨.០១.៧៖ លើកកម្ពស់ការផ្សព្វផ្សាយព័ត៌មានអប់រំ និងកិច្ចសហប្រតិបត្តិការអាស៊ាន និងស៊ីមេអូ"}]
[{"$f":"cluster_activity_2","v":"សកម្មភាពរងទី ២. ការលើកកម្ពស់ភាពជាអ្នកដឹកនាំ និងគ្រប់គ្រង របស់មន្រ្តីអប់រំគ្រប់លំដាប់ថ្នាក់"},{"$f":"ROUND(SUM(B207:B210),1)","v":0},{"$f":"ROUND(SUM(C207:C210),1)","v":0},0,0,0,0,0,0,0,0,0,0,null,"៥.១៨.០១.៧៖ លើកកម្ពស់ការផ្សព្វផ្សាយព័ត៌មានអប់រំ និងកិច្ចសហប្រតិបត្តិការអាស៊ាន និងស៊ីមេអូ"]
[{"$f":"ព័ត៌មានអង្គភាព!Y40","v":"១. កិច្ចដំណើរការអង្គភាព"},{"$f":"ROUND(SUM(C207:D207),1)","v":0},null,null,{"$f":"ROUND(SUM(F207:G207),1)","v":0},null,null,{"$f":"ROUND(SUM(I207:J207),1)","v":0},null,null,{"$f":"ROUND(SUM(L207:M207),1)","v":0},null,null,null,"៥.១៨.០១.៧៖ លើកកម្ពស់ការផ្សព្វផ្សាយព័ត៌មានអប់រំ និងកិច្ចសហប្រតិបត្តិការអាស៊ាន និងស៊ីមេអូ"]
[{"$f":"ព័ត៌មានអង្គភាព!Y41","v":"២. ថវិកាលទ្ធកម្ម"},0,null,null,0,null,null,0,null,null,0,null,null,null,"៥.១៨.០១.៧៖ លើកកម្ពស់ការផ្សព្វផ្សាយព័ត៌មានអប់រំ និងកិច្ចសហប្រតិបត្តិការអាស៊ាន និងស៊ីមេអូ"]
[{"$f":"ព័ត៌មានអង្គភាព!Y42","v":"៣. ពិនិត្យតាមដាន និងវាយតម្លៃ"},0,null,null,0,null,null,0,null,null,0,null,null,null,"៥.១៨.០១.៧៖ លើកកម្ពស់ការផ្សព្វផ្សាយព័ត៌មានអប់រំ និងកិច្ចសហប្រតិបត្តិការអាស៊ាន និងស៊ីមេអូ"]
[{"$f":"ព័ត៌មានអង្គភាព!Y43","v":"៤. ពង្រឹងសមត្ថភាពមន្ត្រីជំនាញ"},0,null,null,0,null,null,0,null,null,0,null,null,null,"៥.១៨.០១.៧៖ លើកកម្ពស់ការផ្សព្វផ្សាយព័ត៌មានអប់រំ និងកិច្ចសហប្រតិបត្តិការអាស៊ាន និងស៊ីមេអូ"]
[{"$f":"ព័ត៌មានអង្គភាព!C35","v":"៥.១៨.០១.៨៖ ការពង្រឹងការងារនីតិកម្មសម្រាប់វិស័យអប់រំ"},{"$f":"SUM(B212,B213)","v":0},{"$f":"SUM(C212,C213)","v":0},0,0,0,0,0,0,0,0,0,0]
[{"$f":"cluster_activity_1","v":"សកម្មភាពរងទី ១. ការចូលរៀនមានគុណភាពប្រកប​ដោយ​សមធម៌ និងបរិយាប័ន្ន និងលើកកម្ពស់ឱកាសក្នុងការសិក្សា​ពេញមួយជីវិតសម្រាប់ទាំងអស់គ្នា"},0,0,0,0,0,0,0,0,0,0,0,0,null,{"$f":"A211","v":"៥.១៨.០១.៨៖ ការពង្រឹងការងារនីតិកម្មសម្រាប់វិស័យអប់រំ"}]
[{"$f":"cluster_activity_2","v":"សកម្មភាពរងទី ២. ការលើកកម្ពស់ភាពជាអ្នកដឹកនាំ និងគ្រប់គ្រង របស់មន្រ្តីអប់រំគ្រប់លំដាប់ថ្នាក់"},{"$f":"ROUND(SUM(B214:B217),1)","v":0},{"$f":"ROUND(SUM(C214:C217),1)","v":0},0,0,0,0,0,0,0,0,0,0,null,{"$f":"O212","v":"៥.១៨.០១.៨៖ ការពង្រឹងការងារនីតិកម្មសម្រាប់វិស័យអប់រំ"}]
[{"$f":"ព័ត៌មានអង្គភាព!AA38","v":"១. កិច្ចដំណើរការអង្គភាព"},{"$f":"ROUND(SUM(C214:D214),1)","v":0},null,null,{"$f":"ROUND(SUM(F214:G214),1)","v":0},null,null,{"$f":"ROUND(SUM(I214:J214),1)","v":0},null,null,{"$f":"ROUND(SUM(L214:M214),1)","v":0},null,null,null,{"$f":"O213","v":"៥.១៨.០១.៨៖ ការពង្រឹងការងារនីតិកម្មសម្រាប់វិស័យអប់រំ"}]
[{"$f":"ព័ត៌មានអង្គភាព!AA39","v":"២. ថវិកាលទ្ធកម្ម"},0,null,null,0,null,null,0,null,null,0,null,null,null,"៥.១៨.០១.៨៖ ការពង្រឹងការងារនីតិកម្មសម្រាប់វិស័យអប់រំ"]
[{"$f":"ព័ត៌មានអង្គភាព!AA40","v":"៣. ពង្រឹងការងារនីតិកម្មសម្រាប់វិស័យអប់រំ"},0,null,null,0,null,null,0,null,null,0,null,null,null,"៥.១៨.០១.៨៖ ការពង្រឹងការងារនីតិកម្មសម្រាប់វិស័យអប់រំ"]
[{"$f":"ព័ត៌មានអង្គភាព!AA41","v":"៤. អនុវត្តការងារកំណែទម្រង់វិមជ្ឈការ និងវិសហមជ្ឈការ"},0,null,null,0,null,null,0,null,null,0,null,null,null,"៥.១៨.០១.៨៖ ការពង្រឹងការងារនីតិកម្មសម្រាប់វិស័យអប់រំ"]
[{"$f":"ព័ត៌មានអង្គភាព!C36","v":"៥.១៨.០១.៩៖ ការពង្រឹងការគ្រប់គ្រងហេដ្ឋារចនាសម្ព័ន្ធអប់រំ"},{"$f":"SUM(B219,B221)","v":0},{"$f":"SUM(C219,C221)","v":0},0,0,0,0,0,0,0,0,0,0]
[{"$f":"cluster_activity_1","v":"សកម្មភាពរងទី ១. ការចូលរៀនមានគុណភាពប្រកប​ដោយ​សមធម៌ និងបរិយាប័ន្ន និងលើកកម្ពស់ឱកាសក្នុងការសិក្សា​ពេញមួយជីវិតសម្រាប់ទាំងអស់គ្នា"},{"$f":"ROUND(B220,1)","v":0},{"$f":"ROUND(C220,1)","v":0},0,0,0,0,0,0,0,0,0,0,null,{"$f":"A218","v":"៥.១៨.០១.៩៖ ការពង្រឹងការគ្រប់គ្រងហេដ្ឋារចនាសម្ព័ន្ធអប់រំ"}]
[{"$f":"ព័ត៌មានអង្គភាព!AC38","v":"១. ថែទាំ និងជួសជុល"},{"$f":"ROUND(SUM(C220:D220),1)","v":0},null,null,{"$f":"ROUND(SUM(F220:G220),1)","v":0},null,null,{"$f":"ROUND(SUM(I220:J220),1)","v":0},null,null,{"$f":"ROUND(SUM(L220:M220),1)","v":0},null,null,null,{"$f":"O219","v":"៥.១៨.០១.៩៖ ការពង្រឹងការគ្រប់គ្រងហេដ្ឋារចនាសម្ព័ន្ធអប់រំ"}]
[{"$f":"cluster_activity_2","v":"សកម្មភាពរងទី ២. ការលើកកម្ពស់ភាពជាអ្នកដឹកនាំ និងគ្រប់គ្រង របស់មន្រ្តីអប់រំគ្រប់លំដាប់ថ្នាក់"},{"$f":"ROUND(SUM(B222:B225),1)","v":0},{"$f":"ROUND(SUM(C222:C225),1)","v":0},0,0,0,0,0,0,0,0,0,0,null,{"$f":"O220","v":"៥.១៨.០១.៩៖ ការពង្រឹងការគ្រប់គ្រងហេដ្ឋារចនាសម្ព័ន្ធអប់រំ"}]
[{"$f":"ព័ត៌មានអង្គភាព!AC39","v":"១. កិច្ចដំណើរការអង្គភាព"},{"$f":"ROUND(SUM(C222:D222),1)","v":0},null,null,{"$f":"ROUND(SUM(F222:G222),1)","v":0},null,null,{"$f":"ROUND(SUM(I222:J222),1)","v":0},null,null,{"$f":"ROUND(SUM(L222:M222),1)","v":0},null,null,null,"៥.១៨.០១.៩៖ ការពង្រឹងការគ្រប់គ្រងហេដ្ឋារចនាសម្ព័ន្ធអប់រំ"]
[{"$f":"ព័ត៌មានអង្គភាព!AC40","v":"២. ថវិកាលទ្ធកម្ម"},0,null,null,0,null,null,0,null,null,0,null,null,null,"៥.១៨.០១.៩៖ ការពង្រឹងការគ្រប់គ្រងហេដ្ឋារចនាសម្ព័ន្ធអប់រំ"]
[{"$f":"ព័ត៌មានអង្គភាព!AC41","v":"៣. ពិនិត្យតាមដាន និងវាយតម្លៃ"},0,null,null,0,null,null,0,null,null,0,null,null,null,"៥.១៨.០១.៩៖ ការពង្រឹងការគ្រប់គ្រងហេដ្ឋារចនាសម្ព័ន្ធអប់រំ"]
[{"$f":"ព័ត៌មានអង្គភាព!AC42","v":"៤. ពង្រឹងសមត្ថភាព"},0,null,null,0,null,null,0,null,null,0,null,null,null,"៥.១៨.០១.៩៖ ការពង្រឹងការគ្រប់គ្រងហេដ្ឋារចនាសម្ព័ន្ធអប់រំ"]
[{"$f":"ព័ត៌មានអង្គភាព!C37","v":"៥.១៨.០១.១០៖ ការពង្រឹងការគ្រប់គ្រង ការផ្គត់ផ្គង់សម្ភារៈ និងទ្រព្យសម្បត្តិរដ្ឋ"},{"$f":"SUM(B227,B228)","v":0},{"$f":"SUM(C227,C228)","v":0},0,0,0,0,0,0,0,0,0,0]
[{"$f":"cluster_activity_1","v":"សកម្មភាពរងទី ១. ការចូលរៀនមានគុណភាពប្រកប​ដោយ​សមធម៌ និងបរិយាប័ន្ន និងលើកកម្ពស់ឱកាសក្នុងការសិក្សា​ពេញមួយជីវិតសម្រាប់ទាំងអស់គ្នា"},0,0,0,0,0,0,0,0,0,0,0,0,null,{"$f":"A226","v":"៥.១៨.០១.១០៖ ការពង្រឹងការគ្រប់គ្រង ការផ្គត់ផ្គង់សម្ភារៈ និងទ្រព្យសម្បត្តិរដ្ឋ"}]
[{"$f":"cluster_activity_2","v":"សកម្មភាពរងទី ២. ការលើកកម្ពស់ភាពជាអ្នកដឹកនាំ និងគ្រប់គ្រង របស់មន្រ្តីអប់រំគ្រប់លំដាប់ថ្នាក់"},{"$f":"ROUND(SUM(B229:B232),1)","v":0},{"$f":"ROUND(SUM(C229:C232),1)","v":0},0,0,0,0,0,0,0,0,0,0,null,{"$f":"O227","v":"៥.១៨.០១.១០៖ ការពង្រឹងការគ្រប់គ្រង ការផ្គត់ផ្គង់សម្ភារៈ និងទ្រព្យសម្បត្តិរដ្ឋ"}]
[{"$f":"ព័ត៌មានអង្គភាព!AE38","v":"១. កិច្ចដំណើរការអង្គភាព"},{"$f":"ROUND(SUM(C229:D229),1)","v":0},null,null,{"$f":"ROUND(SUM(F229:G229),1)","v":0},null,null,{"$f":"ROUND(SUM(I229:J229),1)","v":0},null,null,{"$f":"ROUND(SUM(L229:M229),1)","v":0},null,null,null,{"$f":"O228","v":"៥.១៨.០១.១០៖ ការពង្រឹងការគ្រប់គ្រង ការផ្គត់ផ្គង់សម្ភារៈ និងទ្រព្យសម្បត្តិរដ្ឋ"}]
[{"$f":"ព័ត៌មានអង្គភាព!AE39","v":"២. ថវិកាលទ្ធកម្ម"},0,null,null,0,null,null,0,null,null,0,null,null,null,"៥.១៨.០១.១០៖ ការពង្រឹងការគ្រប់គ្រង ការផ្គត់ផ្គង់សម្ភារៈ និងទ្រព្យសម្បត្តិរដ្ឋ"]
[{"$f":"ព័ត៌មានអង្គភាព!AE40","v":"៣. ពិនិត្យតាមដាន និងវាយតម្លៃ"},0,null,null,0,null,null,0,null,null,0,null,null,null,"៥.១៨.០១.១០៖ ការពង្រឹងការគ្រប់គ្រង ការផ្គត់ផ្គង់សម្ភារៈ និងទ្រព្យសម្បត្តិរដ្ឋ"]
[{"$f":"ព័ត៌មានអង្គភាព!AE41","v":"៤. គាំទ្រ គ្រប់គ្រង និងអភិវឌ្ឍសមត្ថភាពលើការងារសម្ភារទ្រព្យសម្បត្តិរដ្ឋ"},0,null,null,0,null,null,0,null,null,0,null,null,null,"៥.១៨.០១.១០៖ ការពង្រឹងការគ្រប់គ្រង ការផ្គត់ផ្គង់សម្ភារៈ និងទ្រព្យសម្បត្តិរដ្ឋ"]
[{"$f":"ព័ត៌មានអង្គភាព!C38","v":"៥.១៨.០១.១១៖ ការអភិវឌ្ឍ និងពង្រឹងប្រសិទ្ធភាពការគ្រប់គ្រង និងការធានាភាពស័ក្តិសិទ្ធនៃសេវារដ្ឋបាលអប់រំ"},{"$f":"SUM(B234,B236)","v":0},{"$f":"SUM(C234,C236)","v":0},0,0,0,0,0,0,0,0,0,0]
[{"$f":"cluster_activity_1","v":"សកម្មភាពរងទី ១. ការចូលរៀនមានគុណភាពប្រកប​ដោយ​សមធម៌ និងបរិយាប័ន្ន និងលើកកម្ពស់ឱកាសក្នុងការសិក្សា​ពេញមួយជីវិតសម្រាប់ទាំងអស់គ្នា"},{"$f":"ROUND(B235,1)","v":0},{"$f":"ROUND(C235,1)","v":0},0,0,0,0,0,0,0,0,0,0,null,{"$f":"A233","v":"៥.១៨.០១.១១៖ ការអភិវឌ្ឍ និងពង្រឹងប្រសិទ្ធភាពការគ្រប់គ្រង និងការធានាភាពស័ក្តិសិទ្ធនៃសេវារដ្ឋបាលអប់រំ"}]
[{"$f":"ព័ត៌មានអង្គភាព!AG38","v":"១. គាំទ្រសេវារៀបចំពិធីសម្រាប់វិស័យអ​ប់រំ"},{"$f":"ROUND(SUM(C235:D235),1)","v":0},null,null,{"$f":"ROUND(SUM(F235:G235),1)","v":0},null,null,{"$f":"ROUND(SUM(I235:J235),1)","v":0},null,null,{"$f":"ROUND(SUM(L235:M235),1)","v":0},null,null,null,{"$f":"O234","v":"៥.១៨.០១.១១៖ ការអភិវឌ្ឍ និងពង្រឹងប្រសិទ្ធភាពការគ្រប់គ្រង និងការធានាភាពស័ក្តិសិទ្ធនៃសេវារដ្ឋបាលអប់រំ"}]
[{"$f":"cluster_activity_2","v":"សកម្មភាពរងទី ២. ការលើកកម្ពស់ភាពជាអ្នកដឹកនាំ និងគ្រប់គ្រង របស់មន្រ្តីអប់រំគ្រប់លំដាប់ថ្នាក់"},{"$f":"ROUND(SUM(B237:B240),1)","v":0},{"$f":"ROUND(SUM(C237:C240),1)","v":0},0,0,0,0,0,0,0,0,0,0,null,{"$f":"O235","v":"៥.១៨.០១.១១៖ ការអភិវឌ្ឍ និងពង្រឹងប្រសិទ្ធភាពការគ្រប់គ្រង និងការធានាភាពស័ក្តិសិទ្ធនៃសេវារដ្ឋបាលអប់រំ"}]
[{"$f":"ព័ត៌មានអង្គភាព!AG39","v":"១. កិច្ចដំណើរការអង្គភាព"},{"$f":"ROUND(SUM(C237:D237),1)","v":0},null,null,{"$f":"ROUND(SUM(F237:G237),1)","v":0},null,null,{"$f":"ROUND(SUM(I237:J237),1)","v":0},null,null,{"$f":"ROUND(SUM(L237:M237),1)","v":0},null,null,null,"៥.១៨.០១.១១៖ ការអភិវឌ្ឍ និងពង្រឹងប្រសិទ្ធភាពការគ្រប់គ្រង និងការធានាភាពស័ក្តិសិទ្ធនៃសេវារដ្ឋបាលអប់រំ"]
[{"$f":"ព័ត៌មានអង្គភាព!AG40","v":"២. ថវិកាលទ្ធកម្ម"},0,null,null,0,null,null,0,null,null,0,null,null,null,"៥.១៨.០១.១១៖ ការអភិវឌ្ឍ និងពង្រឹងប្រសិទ្ធភាពការគ្រប់គ្រង និងការធានាភាពស័ក្តិសិទ្ធនៃសេវារដ្ឋបាលអប់រំ"]
[{"$f":"ព័ត៌មានអង្គភាព!AG41","v":"៣. ពិនិត្យតាមដាន និងវាយតម្លៃ"},0,null,null,0,null,null,0,null,null,0,null,null,null,"៥.១៨.០១.១១៖ ការអភិវឌ្ឍ និងពង្រឹងប្រសិទ្ធភាពការគ្រប់គ្រង និងការធានាភាពស័ក្តិសិទ្ធនៃសេវារដ្ឋបាលអប់រំ"]
[{"$f":"ព័ត៌មានអង្គភាព!AG42","v":"៤. ពង្រឹងសមត្ថភាពគ្រប់គ្រងរដ្ឋបាលអប់រំ"},0,null,null,0,null,null,0,null,null,0,null,null,null,"៥.១៨.០១.១១៖ ការអភិវឌ្ឍ និងពង្រឹងប្រសិទ្ធភាពការគ្រប់គ្រង និងការធានាភាពស័ក្តិសិទ្ធនៃសេវារដ្ឋបាលអប់រំ"]
[{"$f":"ព័ត៌មានអង្គភាព!C39","v":"៥.១៨.០១.១២៖ ការអភិវឌ្ឍកិច្ចសហប្រតិបត្តិការជាតិ អន្តរជាតិលើវិស័យអប់រំ"},{"$f":"SUM(B242,B244)","v":0},{"$f":"SUM(C242,C244)","v":0},0,0,0,0,0,0,0,0,0,0]
[{"$f":"cluster_activity_1","v":"សកម្មភាពរងទី ១. ការចូលរៀនមានគុណភាពប្រកប​ដោយ​សមធម៌ និងបរិយាប័ន្ន និងលើកកម្ពស់ឱកាសក្នុងការសិក្សា​ពេញមួយជីវិតសម្រាប់ទាំងអស់គ្នា"},{"$f":"ROUND(B243,1)","v":0},{"$f":"ROUND(C243,1)","v":0},0,0,0,0,0,0,0,0,0,0,null,{"$f":"A241","v":"៥.១៨.០១.១២៖ ការអភិវឌ្ឍកិច្ចសហប្រតិបត្តិការជាតិ អន្តរជាតិលើវិស័យអប់រំ"}]
[{"$f":"ព័ត៌មានអង្គភាព!AI38","v":"១. ប្រឡងអាហារូបករណ៍"},{"$f":"ROUND(SUM(C243:D243),1)","v":0},null,null,{"$f":"ROUND(SUM(F243:G243),1)","v":0},null,null,{"$f":"ROUND(SUM(I243:J243),1)","v":0},null,null,{"$f":"ROUND(SUM(L243:M243),1)","v":0},null,null,null,{"$f":"O242","v":"៥.១៨.០១.១២៖ ការអភិវឌ្ឍកិច្ចសហប្រតិបត្តិការជាតិ អន្តរជាតិលើវិស័យអប់រំ"}]
[{"$f":"cluster_activity_2","v":"សកម្មភាពរងទី ២. ការលើកកម្ពស់ភាពជាអ្នកដឹកនាំ និងគ្រប់គ្រង របស់មន្រ្តីអប់រំគ្រប់លំដាប់ថ្នាក់"},{"$f":"ROUND(SUM(B245:B248),1)","v":0},{"$f":"ROUND(SUM(C245:C248),1)","v":0},0,0,0,0,0,0,0,0,0,0,null,{"$f":"O243","v":"៥.១៨.០១.១២៖ ការអភិវឌ្ឍកិច្ចសហប្រតិបត្តិការជាតិ អន្តរជាតិលើវិស័យអប់រំ"}]
[{"$f":"ព័ត៌មានអង្គភាព!AI39","v":"១. កិច្ចដំណើរការអង្គភាព"},{"$f":"ROUND(SUM(C245:D245),1)","v":0},null,null,{"$f":"ROUND(SUM(F245:G245),1)","v":0},null,null,{"$f":"ROUND(SUM(I245:J245),1)","v":0},null,null,{"$f":"ROUND(SUM(L245:M245),1)","v":0},null,null,null,"៥.១៨.០១.១២៖ ការអភិវឌ្ឍកិច្ចសហប្រតិបត្តិការជាតិ អន្តរជាតិលើវិស័យអប់រំ"]
[{"$f":"ព័ត៌មានអង្គភាព!AI40","v":"២. ថវិកាលទ្ធកម្ម"},0,null,null,0,null,null,0,null,null,0,null,null,null,"៥.១៨.០១.១២៖ ការអភិវឌ្ឍកិច្ចសហប្រតិបត្តិការជាតិ អន្តរជាតិលើវិស័យអប់រំ"]
[{"$f":"ព័ត៌មានអង្គភាព!AI41","v":"៣. ពិនិត្យតាមដាន និងវាយតម្លៃ"},0,null,null,0,null,null,0,null,null,0,null,null,null,"៥.១៨.០១.១២៖ ការអភិវឌ្ឍកិច្ចសហប្រតិបត្តិការជាតិ អន្តរជាតិលើវិស័យអប់រំ"]
[{"$f":"ព័ត៌មានអង្គភាព!AI42","v":"៤. ពង្រឹងសមត្ថភាពក្នុងការគ្រប់គ្រងសិស្ស និងនិស្សិតអាហារូបករណ៍ និងសហប្រតិបត្តិការ"},0,null,null,0,null,null,0,null,null,0,null,null,null,"៥.១៨.០១.១២៖ ការអភិវឌ្ឍកិច្ចសហប្រតិបត្តិការជាតិ អន្តរជាតិលើវិស័យអប់រំ"]
[{"$f":"ព័ត៌មានអង្គភាព!C40","v":"៥.១៨.០១.១៣៖ ការអភិវឌ្ឍប្រព័ន្ធព័ត៌មានគ្រប់គ្រងអប់រំ"},{"$f":"SUM(B250,B251)","v":0},{"$f":"SUM(C250,C251)","v":0},0,0,0,0,0,0,0,0,0,0]
[{"$f":"cluster_activity_1","v":"សកម្មភាពរងទី ១. ការចូលរៀនមានគុណភាពប្រកប​ដោយ​សមធម៌ និងបរិយាប័ន្ន និងលើកកម្ពស់ឱកាសក្នុងការសិក្សា​ពេញមួយជីវិតសម្រាប់ទាំងអស់គ្នា"},0,0,0,0,0,0,0,0,0,0,0,0,null,{"$f":"A249","v":"៥.១៨.០១.១៣៖ ការអភិវឌ្ឍប្រព័ន្ធព័ត៌មានគ្រប់គ្រងអប់រំ"}]
[{"$f":"cluster_activity_2","v":"សកម្មភាពរងទី ២. ការលើកកម្ពស់ភាពជាអ្នកដឹកនាំ និងគ្រប់គ្រង របស់មន្រ្តីអប់រំគ្រប់លំដាប់ថ្នាក់"},{"$f":"ROUND(SUM(B252:B256),1)","v":0},{"$f":"ROUND(SUM(C252:C256),1)","v":0},0,0,0,0,0,0,0,0,0,0,null,{"$f":"O250","v":"៥.១៨.០១.១៣៖ ការអភិវឌ្ឍប្រព័ន្ធព័ត៌មានគ្រប់គ្រងអប់រំ"}]
[{"$f":"ព័ត៌មានអង្គភាព!AK38","v":"១. កិច្ចដំណើរការអង្គភាព"},{"$f":"ROUND(SUM(C252:D252),1)","v":0},null,null,{"$f":"ROUND(SUM(F252:G252),1)","v":0},null,null,{"$f":"ROUND(SUM(I252:J252),1)","v":0},null,null,{"$f":"ROUND(SUM(L252:M252),1)","v":0},null,null,null,{"$f":"O251","v":"៥.១៨.០១.១៣៖ ការអភិវឌ្ឍប្រព័ន្ធព័ត៌មានគ្រប់គ្រងអប់រំ"}]
[{"$f":"ព័ត៌មានអង្គភាព!AK39","v":"២. ថវិកាលទ្ធកម្ម"},0,null,null,0,null,null,0,null,null,0,null,null,null,"៥.១៨.០១.១៣៖ ការអភិវឌ្ឍប្រព័ន្ធព័ត៌មានគ្រប់គ្រងអប់រំ"]
[{"$f":"ព័ត៌មានអង្គភាព!AK40","v":"៣. ពិនិត្យតាមដាន និងវាយតម្លៃ"},0,null,null,0,null,null,0,null,null,0,null,null,null,"៥.១៨.០១.១៣៖ ការអភិវឌ្ឍប្រព័ន្ធព័ត៌មានគ្រប់គ្រងអប់រំ"]
[{"$f":"ព័ត៌មានអង្គភាព!AK41","v":"៤. គាំទ្រប្រព័ន្ធព័ត៌មានគ្រប់គ្រងអប់រំ"},0,null,null,0,null,null,0,null,null,0,null,null,null,"៥.១៨.០១.១៣៖ ការអភិវឌ្ឍប្រព័ន្ធព័ត៌មានគ្រប់គ្រងអប់រំ"]
[{"$f":"ព័ត៌មានអង្គភាព!AK42","v":"៥. ពង្រឹងសមត្ថភាពក្នុងការគ្រប់គ្រងប្រព័ន្ធព័ត៌មាន ស្ថិតិ និងសូចនាករអប់រំ"},0,null,null,0,null,null,0,null,null,0,null,null,null,"៥.១៨.០១.១៣៖ ការអភិវឌ្ឍប្រព័ន្ធព័ត៌មានគ្រប់គ្រងអប់រំ"]
[{"$f":"ព័ត៌មានអង្គភាព!C41","v":"៥.១៨.០១.១៤៖ ការស្រាវជ្រាវ និងអភិវឌ្ឍគោលនយោបាយអប់រំ"},{"$f":"SUM(B258,B261)","v":0},{"$f":"SUM(C258,C261)","v":0},0,0,0,0,0,0,0,0,0,0]
[{"$f":"cluster_activity_1","v":"សកម្មភាពរងទី ១. ការចូលរៀនមានគុណភាពប្រកប​ដោយ​សមធម៌ និងបរិយាប័ន្ន និងលើកកម្ពស់ឱកាសក្នុងការសិក្សា​ពេញមួយជីវិតសម្រាប់ទាំងអស់គ្នា"},{"$f":"ROUND(SUM(B259:B260),1)","v":0},{"$f":"ROUND(SUM(C259:C260),1)","v":0},0,0,0,0,0,0,0,0,0,0,null,{"$f":"A257","v":"៥.១៨.០១.១៤៖ ការស្រាវជ្រាវ និងអភិវឌ្ឍគោលនយោបាយអប់រំ"}]
[{"$f":"ព័ត៌មានអង្គភាព!AM38","v":"១. រៀបចំ និងសម្របសម្រួលគោលនយោបាយអប់រំ យុវជន និងកីឡា"},{"$f":"ROUND(SUM(C259:D259),1)","v":0},null,null,{"$f":"ROUND(SUM(F259:G259),1)","v":0},null,null,{"$f":"ROUND(SUM(I259:J259),1)","v":0},null,null,{"$f":"ROUND(SUM(L259:M259),1)","v":0},null,null,null,{"$f":"O258","v":"៥.១៨.០១.១៤៖ ការស្រាវជ្រាវ និងអភិវឌ្ឍគោលនយោបាយអប់រំ"}]
[{"$f":"ព័ត៌មានអង្គភាព!AM39","v":"២. សិក្សាស្រាវជ្រាវ និងតាមដាននិន្នាការក្នុងតំបន់ និងពិភពលោក "},0,null,null,0,null,null,0,null,null,0,null,null,null,{"$f":"O259","v":"៥.១៨.០១.១៤៖ ការស្រាវជ្រាវ និងអភិវឌ្ឍគោលនយោបាយអប់រំ"}]
[{"$f":"cluster_activity_2","v":"សកម្មភាពរងទី ២. ការលើកកម្ពស់ភាពជាអ្នកដឹកនាំ និងគ្រប់គ្រង របស់មន្រ្តីអប់រំគ្រប់លំដាប់ថ្នាក់"},{"$f":"ROUND(SUM(B262:B266),1)","v":0},{"$f":"ROUND(SUM(C262:C266),1)","v":0},0,0,0,0,0,0,0,0,0,0,null,"៥.១៨.០១.១៤៖ ការស្រាវជ្រាវ និងអភិវឌ្ឍគោលនយោបាយអប់រំ"]
[{"$f":"ព័ត៌មានអង្គភាព!AM40","v":"១. កិច្ចដំណើរការអង្គភាព"},{"$f":"ROUND(SUM(C262:D262),1)","v":0},null,null,{"$f":"ROUND(SUM(F262:G262),1)","v":0},null,null,{"$f":"ROUND(SUM(I262:J262),1)","v":0},null,null,{"$f":"ROUND(SUM(L262:M262),1)","v":0},null,null,null,"៥.១៨.០១.១៤៖ ការស្រាវជ្រាវ និងអភិវឌ្ឍគោលនយោបាយអប់រំ"]
[{"$f":"ព័ត៌មានអង្គភាព!AM41","v":"២. ថវិកាលទ្ធកម្ម"},0,null,null,0,null,null,0,null,null,0,null,null,null,"៥.១៨.០១.១៤៖ ការស្រាវជ្រាវ និងអភិវឌ្ឍគោលនយោបាយអប់រំ"]
[{"$f":"ព័ត៌មានអង្គភាព!AM42","v":"៣. ផ្សព្វផ្សាយលទ្ធផលស្រាវជ្រាវ និងគោលនយោបាយ"},0,null,null,0,null,null,0,null,null,0,null,null,null,"៥.១៨.០១.១៤៖ ការស្រាវជ្រាវ និងអភិវឌ្ឍគោលនយោបាយអប់រំ"]
[{"$f":"ព័ត៌មានអង្គភាព!AM43","v":"៤. អភិវឌ្ឍសមត្ថភាពលើការស្រាវជ្រាវ និងការអភិវឌ្ឍគោលនយោបាយ"},0,null,null,0,null,null,0,null,null,0,null,null,null,"៥.១៨.០១.១៤៖ ការស្រាវជ្រាវ និងអភិវឌ្ឍគោលនយោបាយអប់រំ"]
[{"$f":"ព័ត៌មានអង្គភាព!AM44","v":"៥. អាហារូបករណ៍សម្រាប់ថ្នាក់បណ្ឌិត សិក្សានៅប្រទេសបារាំង"},0,null,null,0,null,null,0,null,null,0,null,null,null,"៥.១៨.០១.១៤៖ ការស្រាវជ្រាវ និងអភិវឌ្ឍគោលនយោបាយអប់រំ"]
[{"$f":"ព័ត៌មានអង្គភាព!C42","v":"៥.១៨.០១.១៥៖ ការអភិវឌ្ឍនិងពង្រឹងប្រព័ន្ធពិនិត្យ តាមដាន និងវាយតម្លៃ"},{"$f":"SUM(B268,B269)","v":0},{"$f":"SUM(C268,C269)","v":0},0,0,0,0,0,0,0,0,0,0]
[{"$f":"cluster_activity_1","v":"សកម្មភាពរងទី ១. ការចូលរៀនមានគុណភាពប្រកប​ដោយ​សមធម៌ និងបរិយាប័ន្ន និងលើកកម្ពស់ឱកាសក្នុងការសិក្សា​ពេញមួយជីវិតសម្រាប់ទាំងអស់គ្នា"},0,0,0,0,0,0,0,0,0,0,0,0,null,{"$f":"A267","v":"៥.១៨.០១.១៥៖ ការអភិវឌ្ឍនិងពង្រឹងប្រព័ន្ធពិនិត្យ តាមដាន និងវាយតម្លៃ"}]
[{"$f":"cluster_activity_2","v":"សកម្មភាពរងទី ២. ការលើកកម្ពស់ភាពជាអ្នកដឹកនាំ និងគ្រប់គ្រង របស់មន្រ្តីអប់រំគ្រប់លំដាប់ថ្នាក់"},{"$f":"ROUND(SUM(B270:B274),1)","v":0},{"$f":"ROUND(SUM(C270:C274),1)","v":0},0,0,0,0,0,0,0,0,0,0,null,{"$f":"O268","v":"៥.១៨.០១.១៥៖ ការអភិវឌ្ឍនិងពង្រឹងប្រព័ន្ធពិនិត្យ តាមដាន និងវាយតម្លៃ"}]
[{"$f":"ព័ត៌មានអង្គភាព!AO38","v":"១. កិច្ចដំណើរការអង្គភាព"},{"$f":"ROUND(SUM(C270:D270),1)","v":0},null,null,{"$f":"ROUND(SUM(F270:G270),1)","v":0},null,null,{"$f":"ROUND(SUM(I270:J270),1)","v":0},null,null,{"$f":"ROUND(SUM(L270:M270),1)","v":0},null,null,null,{"$f":"O269","v":"៥.១៨.០១.១៥៖ ការអភិវឌ្ឍនិងពង្រឹងប្រព័ន្ធពិនិត្យ តាមដាន និងវាយតម្លៃ"}]
[{"$f":"ព័ត៌មានអង្គភាព!AO39","v":"២. ថវិកាលទ្ធកម្ម"},0,null,null,0,null,null,0,null,null,0,null,null,null,"៥.១៨.០១.១៥៖ ការអភិវឌ្ឍនិងពង្រឹងប្រព័ន្ធពិនិត្យ តាមដាន និងវាយតម្លៃ"]
[{"$f":"ព័ត៌មានអង្គភាព!AO40","v":"៣. ពិនិត្យតាមដាន និងវាយតម្លៃ"},0,null,null,0,null,null,0,null,null,0,null,null,null,"៥.១៨.០១.១៥៖ ការអភិវឌ្ឍនិងពង្រឹងប្រព័ន្ធពិនិត្យ តាមដាន និងវាយតម្លៃ"]
[{"$f":"ព័ត៌មានអង្គភាព!AO41","v":"៤. អភិវឌ្ឍយន្តការពិនិត្យតាមដាន និងវាយតម្លៃ"},0,null,null,0,null,null,0,null,null,0,null,null,null,"៥.១៨.០១.១៥៖ ការអភិវឌ្ឍនិងពង្រឹងប្រព័ន្ធពិនិត្យ តាមដាន និងវាយតម្លៃ"]
[{"$f":"ព័ត៌មានអង្គភាព!AO42","v":"៥. ពង្រឹងសមត្ថភាពមន្រ្តីជំនាញ"},0,null,null,0,null,null,0,null,null,0,null,null,null,"៥.១៨.០១.១៥៖ ការអភិវឌ្ឍនិងពង្រឹងប្រព័ន្ធពិនិត្យ តាមដាន និងវាយតម្លៃ"]
[{"$f":"ព័ត៌មានអង្គភាព!C43","v":"៥.១៨.០១.១៦៖ ការអភិវឌ្ឍ​បច្ចេកវិទ្យាព័ត៌មានសម្រាប់ការងារអប់រំ យុវជន និងកីឡា"},{"$f":"SUM(B276,B278)","v":0},{"$f":"SUM(C276,C278)","v":0},0,0,0,0,0,0,0,0,0,0]
[{"$f":"cluster_activity_1","v":"សកម្មភាពរងទី ១. ការចូលរៀនមានគុណភាពប្រកប​ដោយ​សមធម៌ និងបរិយាប័ន្ន និងលើកកម្ពស់ឱកាសក្នុងការសិក្សា​ពេញមួយជីវិតសម្រាប់ទាំងអស់គ្នា"},{"$f":"ROUND(B277,1)","v":0},{"$f":"ROUND(C277,1)","v":0},0,0,0,0,0,0,0,0,0,0,null,{"$f":"A275","v":"៥.១៨.០១.១៦៖ ការអភិវឌ្ឍ​បច្ចេកវិទ្យាព័ត៌មានសម្រាប់ការងារអប់រំ យុវជន និងកីឡា"}]
[{"$f":"ព័ត៌មានអង្គភាព!AQ38","v":"១. ការផ្តល់សេវាកម្ម និងការអប់រំមិនផ្លូវការ"},{"$f":"ROUND(SUM(C277:D277),1)","v":0},null,null,{"$f":"ROUND(SUM(F277:G277),1)","v":0},null,null,{"$f":"ROUND(SUM(I277:J277),1)","v":0},null,null,{"$f":"ROUND(SUM(L277:M277),1)","v":0},null,null,null,{"$f":"O276","v":"៥.១៨.០១.១៦៖ ការអភិវឌ្ឍ​បច្ចេកវិទ្យាព័ត៌មានសម្រាប់ការងារអប់រំ យុវជន និងកីឡា"}]
[{"$f":"cluster_activity_2","v":"សកម្មភាពរងទី ២. ការលើកកម្ពស់ភាពជាអ្នកដឹកនាំ និងគ្រប់គ្រង របស់មន្រ្តីអប់រំគ្រប់លំដាប់ថ្នាក់"},{"$f":"ROUND(SUM(B279:B283),1)","v":0},{"$f":"ROUND(SUM(C279:C283),1)","v":0},0,0,0,0,0,0,0,0,0,0,null,{"$f":"O277","v":"៥.១៨.០១.១៦៖ ការអភិវឌ្ឍ​បច្ចេកវិទ្យាព័ត៌មានសម្រាប់ការងារអប់រំ យុវជន និងកីឡា"}]
[{"$f":"ព័ត៌មានអង្គភាព!AQ39","v":"១. កិច្ចដំណើរការអង្គភាព"},{"$f":"ROUND(SUM(C279:D279),1)","v":0},null,null,{"$f":"ROUND(SUM(F279:G279),1)","v":0},null,null,{"$f":"ROUND(SUM(I279:J279),1)","v":0},null,null,{"$f":"ROUND(SUM(L279:M279),1)","v":0},null,null,null,"៥.១៨.០១.១៦៖ ការអភិវឌ្ឍ​បច្ចេកវិទ្យាព័ត៌មានសម្រាប់ការងារអប់រំ យុវជន និងកីឡា"]
[{"$f":"ព័ត៌មានអង្គភាព!AQ40","v":"២. ថវិកាលទ្ធកម្ម"},0,null,null,0,null,null,0,null,null,0,null,null,null,"៥.១៨.០១.១៦៖ ការអភិវឌ្ឍ​បច្ចេកវិទ្យាព័ត៌មានសម្រាប់ការងារអប់រំ យុវជន និងកីឡា"]
[{"$f":"ព័ត៌មានអង្គភាព!AQ41","v":"៣. ពិនិត្យតាមដាន និងវាយតម្លៃ"},0,null,null,0,null,null,0,null,null,0,null,null,null,"៥.១៨.០១.១៦៖ ការអភិវឌ្ឍ​បច្ចេកវិទ្យាព័ត៌មានសម្រាប់ការងារអប់រំ យុវជន និងកីឡា"]
[{"$f":"ព័ត៌មានអង្គភាព!AQ42","v":"៤. ពង្រឹងកិច្ចសហប្រតិបតិ្តការបច្ចេកវិទ្យាព័ត៌មាន"},0,null,null,0,null,null,0,null,null,0,null,null,null,"៥.១៨.០១.១៦៖ ការអភិវឌ្ឍ​បច្ចេកវិទ្យាព័ត៌មានសម្រាប់ការងារអប់រំ យុវជន និងកីឡា"]
[{"$f":"ព័ត៌មានអង្គភាព!AQ43","v":"៥. ពង្រឹងសមត្ថភាពមន្រ្តីជំនាញ"},0,null,null,0,null,null,0,null,null,0,null,null,null,"៥.១៨.០១.១៦៖ ការអភិវឌ្ឍ​បច្ចេកវិទ្យាព័ត៌មានសម្រាប់ការងារអប់រំ យុវជន និងកីឡា"]
[{"$f":"ព័ត៌មានអង្គភាព!C44","v":"៥.១៨.០១.១៧៖ ការពង្រឹងគុណភាព និងប្រសិទ្ធភាពការងារប្រឡងនៅមធ្យមសិក្សានិងអប់រំបច្ចេកទេស"},{"$f":"SUM(B285,B287)","v":0},{"$f":"SUM(C285,C287)","v":0},0,0,0,0,0,0,0,0,0,0]
[{"$f":"cluster_activity_1","v":"សកម្មភាពរងទី ១. ការចូលរៀនមានគុណភាពប្រកប​ដោយ​សមធម៌ និងបរិយាប័ន្ន និងលើកកម្ពស់ឱកាសក្នុងការសិក្សា​ពេញមួយជីវិតសម្រាប់ទាំងអស់គ្នា"},{"$f":"ROUND(B286,1)","v":0},{"$f":"ROUND(C286,1)","v":0},0,0,0,0,0,0,0,0,0,0,null,{"$f":"A284","v":"៥.១៨.០១.១៧៖ ការពង្រឹងគុណភាព និងប្រសិទ្ធភាពការងារប្រឡងនៅមធ្យមសិក្សានិងអប់រំបច្ចេកទេស"}]
[{"$f":"ព័ត៌មានអង្គភាព!AS38","v":"១. ការងារប្រឡង"},{"$f":"ROUND(SUM(C286:D286),1)","v":0},null,null,{"$f":"ROUND(SUM(F286:G286),1)","v":0},null,null,{"$f":"ROUND(SUM(I286:J286),1)","v":0},null,null,{"$f":"ROUND(SUM(L286:M286),1)","v":0},null,null,null,{"$f":"O285","v":"៥.១៨.០១.១៧៖ ការពង្រឹងគុណភាព និងប្រសិទ្ធភាពការងារប្រឡងនៅមធ្យមសិក្សានិងអប់រំបច្ចេកទេស"}]
[{"$f":"cluster_activity_2","v":"សកម្មភាពរងទី ២. ការលើកកម្ពស់ភាពជាអ្នកដឹកនាំ និងគ្រប់គ្រង របស់មន្រ្តីអប់រំគ្រប់លំដាប់ថ្នាក់"},{"$f":"ROUND(SUM(B288:B291),1)","v":0},{"$f":"ROUND(SUM(C288:C291),1)","v":0},0,0,0,0,0,0,0,0,0,0,null,{"$f":"O286","v":"៥.១៨.០១.១៧៖ ការពង្រឹងគុណភាព និងប្រសិទ្ធភាពការងារប្រឡងនៅមធ្យមសិក្សានិងអប់រំបច្ចេកទេស"}]
[{"$f":"ព័ត៌មានអង្គភាព!AS39","v":"១. កិច្ចដំណើរការអង្គភាព"},{"$f":"ROUND(SUM(C288:D288),1)","v":0},null,null,{"$f":"ROUND(SUM(F288:G288),1)","v":0},null,null,{"$f":"ROUND(SUM(I288:J288),1)","v":0},null,null,{"$f":"ROUND(SUM(L288:M288),1)","v":0},null,null,null,"៥.១៨.០១.១៧៖ ការពង្រឹងគុណភាព និងប្រសិទ្ធភាពការងារប្រឡងនៅមធ្យមសិក្សានិងអប់រំបច្ចេកទេស"]
[{"$f":"ព័ត៌មានអង្គភាព!AS40","v":"២. ថវិកាលទ្ធកម្ម"},0,null,null,0,null,null,0,null,null,0,null,null,null,"៥.១៨.០១.១៧៖ ការពង្រឹងគុណភាព និងប្រសិទ្ធភាពការងារប្រឡងនៅមធ្យមសិក្សានិងអប់រំបច្ចេកទេស"]
[{"$f":"ព័ត៌មានអង្គភាព!AS41","v":"៣. ពិនិត្យតាមដាន និងវាយតម្លៃ"},0,null,null,0,null,null,0,null,null,0,null,null,null,"៥.១៨.០១.១៧៖ ការពង្រឹងគុណភាព និងប្រសិទ្ធភាពការងារប្រឡងនៅមធ្យមសិក្សានិងអប់រំបច្ចេកទេស"]
[{"$f":"ព័ត៌មានអង្គភាព!AS42","v":"៤. ពង្រឹងសមត្ថភាពលើការងារប្រឡង"},0,null,null,0,null,null,0,null,null,0,null,null,null,"៥.១៨.០១.១៧៖ ការពង្រឹងគុណភាព និងប្រសិទ្ធភាពការងារប្រឡងនៅមធ្យមសិក្សានិងអប់រំបច្ចេកទេស"]

{"sheet":"Table 4.0","index":3,"n_rows":111,"n_cols":13,"rows_kept":111,"cut":false,"hidden":false,"merged":[[4,0,4,12],[6,0,7,0],[6,1,6,3],[6,4,6,6],[6,7,6,9],[6,10,6,12]]}
[]
[]
["ក្រសួងអប់រំ​​​​​​​​​​​ យុវជន និងកីឡា"]
[{"$f":"CONCATENATE(\"មន្ទីរអប់រំ យុវជន និងកីឡា\",province)","v":"មន្ទីរអប់រំ យុវជន និងកីឡាខេត្តបន្ទាយមានជ័យ"}]
["សរុបការកំណត់តម្រូវការចំណាយសម្រាប់កម្មវិធី និងអនុកម្មវិធី"]
[null,null,null,null,null,null,null,null,null,null,null,null,"ឯកតា៖ លានរៀល"]
["តម្រូវការឥណទាន\nតាមប្រភេទចំណាយ","ច្បាប់ហិរញ្ញវត្ថុ \nឆ្នាំ ២០១៨",null,null,"គ្រោងតម្រូវការឥណទាន\nសម្រាប់ឆ្នាំ ២០១៩",null,null,"គ្រោងតម្រូវការឥណទាន\nសម្រាប់ឆ្នាំ ២០២០",null,null,"គ្រោងតម្រូវការឥណទាន\nសម្រាប់ឆ្នាំ ២០២១"]
[null,"សរុប","បន្ទុកបុគ្គលិក","ក្រៅបន្ទុក​បុគ្គលិក","សរុប","បន្ទុកបុគ្គលិក","ក្រៅបន្ទុក​បុគ្គលិក","សរុប","បន្ទុកបុគ្គលិក","ក្រៅបន្ទុក​បុគ្គលិក","សរុប","បន្ទុកបុគ្គលិក","ក្រៅបន្ទុក​បុគ្គលិក"]
["សរុបរួម",{"$f":"SUM(C9:D9)","v":0},{"$f":"SUM(C10,C40,C46,C58)","v":0},0,{"$f":"SUM(F9:G9)","v":0},{"$f":"SUM(F10,F40,F46,F58)","v":0},0,{"$f":"SUM(I9:J9)","v":0},{"$f":"SUM(I10,I40,I46,I58)","v":0},0,{"$f":"SUM(L9:M9)","v":0},{"$f":"SUM(L10,L40,L46,L58)","v":0},0]
[{"$f":"'ចំណាយ-ថវិការដ្ឋ'!A12","v":"កម្មវិធីទី១៖ ការអភិវឌ្ឍការអប់រំក្នុងប្រព័ន្ធ ក្រៅប្រព័ន្ធ និងមិនផ្លូវការ"},{"$f":"SUM(C10:D10)","v":0},{"$f":"C11","v":0},0,{"$f":"SUM(F10:G10)","v":0},0,0,{"$f":"SUM(I10:J10)","v":0},0,0,{"$f":"SUM(L10:M10)","v":0},0,0]
[{"$f":"'ចំណាយ-ថវិការដ្ឋ'!A13","v":"អនុកម្មវិធីទី ១.១០៖ សេវាគាំទ្រការអភិវឌ្ឍការអប់រំក្នុងប្រព័ន្ធ ក្រៅប្រព័ន្ធ និងមិនផ្លូវការរបស់មន្ទីរជំនាញ រាជធានី ខេត្ត"},0,0,0,0,0,0,0,0,0,0,0,0]
[{"$f":"'ចំណាយ-ថវិការដ្ឋ'!A14","v":"ចង្កោមសកម្មភាពទី ០១៖ខេត្តបន្ទាយមានជ័យ"},0,{"$f":"SUM(C13,C16,C19,C22,C25,C28,C31,C34,C37)","v":0},0,0,{"$f":"SUM(F13,F16,F19,F22,F25,F28,F31,F34,F37)","v":0},0,0,{"$f":"SUM(I13,I16,I19,I22,I25,I28,I31,I34,I37)","v":0},0,0,{"$f":"SUM(L13,L16,L19,L22,L25,L28,L31,L34,L37)","v":0},0]
[{"$f":"'ចំណាយ-ថវិការដ្ឋ'!A15","v":"១.១០.០១.១៖ ការពង្រីកការអប់រំកុមារតូច"},0,{"$f":"SUM(C14:C15)","v":0},{"$f":"SUM(D14:D15)","v":0},0,{"$f":"SUM(F14:F15)","v":0},{"$f":"SUM(G14:G15)","v":0},0,{"$f":"SUM(I14:I15)","v":0},{"$f":"SUM(J14:J15)","v":0},0,{"$f":"SUM(L14:L15)","v":0},{"$f":"SUM(M14:M15)","v":0}]
[{"$f":"cluster_activity_1","v":"សកម្មភាពរងទី ១. ការចូលរៀនមានគុណភាពប្រកប​ដោយ​សមធម៌ និងបរិយាប័ន្ន និងលើកកម្ពស់ឱកាសក្នុងការសិក្សា​ពេញមួយជីវិតសម្រាប់ទាំងអស់គ្នា"},{"$f":"SUM(C14:D14)","v":0},{"$f":"SUMIFS(staff_exp2018,activities,A14,act, A13)","v":0},{"$f":"SUMIFS(non_staffexp2018,activities,A14,act, A13)","v":0},{"$f":"SUM(F14:G14)","v":0},{"$f":"SUMIFS(staff_exp2019,activities,A14,act, A13)","v":0},{"$f":"SUMIFS(non_staffexp2019,activities,A14,act, A13)","v":0},{"$f":"SUM(I14:J14)","v":0},{"$f":"SUMIFS(staff_exp2020,activities,A14,act, A13)","v":0},{"$f":"SUMIFS(non_staffexp2020,activities,A14,act, A13)","v":0},{"$f":"SUM(L14:M14)","v":0},{"$f":"SUMIFS(staff_exp2021,activities,A14,act, A13)","v":0},{"$f":"SUMIFS(non_staffexp2021,activities,A14,act, A13)","v":0}]
[{"$f":"cluster_activity_2","v":"សកម្មភាពរងទី ២. ការលើកកម្ពស់ភាពជាអ្នកដឹកនាំ និងគ្រប់គ្រង របស់មន្រ្តីអប់រំគ្រប់លំដាប់ថ្នាក់"},{"$f":"SUM(C15:D15)","v":0},{"$f":"SUMIFS(staff_exp2018,activities,A15,act, A13)","v":0},{"$f":"SUMIFS(non_staffexp2018,activities,A15,act, A13)","v":0},{"$f":"SUMIFS(total2019,activities,D15,act, D13)","v":0},{"$f":"SUMIFS(staff_exp2019,activities,A15,act, A13)","v":0},{"$f":"SUMIFS(non_staffexp2019,activities,A15,act, A13)","v":0},{"$f":"SUMIFS(total2020,activities,G15,act, G13)","v":0},{"$f":"SUMIFS(staff_exp2020,activities,A15,act, A13)","v":0},{"$f":"SUMIFS(non_staffexp2020,activities,A15,act, A13)","v":0},{"$f":"SUMIFS(total2021,activities,J15,act, J13)","v":0},{"$f":"SUMIFS(staff_exp2021,activities,A15,act, A13)","v":0},{"$f":"SUMIFS(non_staffexp2021,activities,A15,act, A13)","v":0}]
[{"$f":"'ចំណាយ-ថវិការដ្ឋ'!A25","v":"១.១០.០១.២៖ ការពង្រឹងគុណភាព និងប្រសិទ្ធភាពនៃការអប់រំនៅបឋមសិក្សា"},0,{"$f":"SUM(C17:C18)","v":0},0,0,{"$f":"SUM(F17:F18)","v":0},0,0,{"$f":"SUM(I17:I18)","v":0},0,0,{"$f":"SUM(L17:L18)","v":0},0]
[{"$f":"cluster_activity_1","v":"សកម្មភាពរងទី ១. ការចូលរៀនមានគុណភាពប្រកប​ដោយ​សមធម៌ និងបរិយាប័ន្ន និងលើកកម្ពស់ឱកាសក្នុងការសិក្សា​ពេញមួយជីវិតសម្រាប់ទាំងអស់គ្នា"},{"$f":"SUM(C17:D17)","v":0},{"$f":"SUMIFS(staff_exp2018,activities,A17,act, A16)","v":0},{"$f":"SUMIFS(non_staffexp2018,activities,A17,act, A16)","v":0},{"$f":"SUM(F17:G17)","v":0},{"$f":"SUMIFS(staff_exp2019,activities,A17,act, A16)","v":0},{"$f":"SUMIFS(non_staffexp2019,activities,A17,act, A16)","v":0},{"$f":"SUM(I17:J17)","v":0},{"$f":"SUMIFS(staff_exp2020,activities,A17,act, A16)","v":0},{"$f":"SUMIFS(non_staffexp2020,activities,A17,act, A16)","v":0},{"$f":"SUM(L17:M17)","v":0},{"$f":"SUMIFS(staff_exp2021,activities,A17,act, A16)","v":0},{"$f":"SUMIFS(non_staffexp2021,activities,A17,act, A16)","v":0}]
[{"$f":"cluster_activity_2","v":"សកម្មភាពរងទី ២. ការលើកកម្ពស់ភាពជាអ្នកដឹកនាំ និងគ្រប់គ្រង របស់មន្រ្តីអប់រំគ្រប់លំដាប់ថ្នាក់"},{"$f":"SUM(C18:D18)","v":0},{"$f":"SUMIFS(staff_exp2018,activities,A18,act, A16)","v":0},{"$f":"SUMIFS(non_staffexp2018,activities,A18,act, A16)","v":0},{"$f":"SUMIFS(total2019,activities,D18,act, D16)","v":0},{"$f":"SUMIFS(staff_exp2019,activities,A18,act, A16)","v":0},{"$f":"SUMIFS(non_staffexp2019,activities,A18,act, A16)","v":0},{"$f":"SUMIFS(total2020,activities,G18,act, G16)","v":0},{"$f":"SUMIFS(staff_exp2020,activities,A18,act, A16)","v":0},{"$f":"SUMIFS(non_staffexp2020,activities,A18,act, A16)","v":0},{"$f":"SUMIFS(total2021,activities,J18,act, J16)","v":0},{"$f":"SUMIFS(staff_exp2021,activities,A18,act, A16)","v":0},{"$f":"SUMIFS(non_staffexp2021,activities,A18,act, A16)","v":0}]
[{"$f":"'ចំណាយ-ថវិការដ្ឋ'!A36","v":"១.១០.០១.៣៖ ការចូលរៀនប្រកបដោយសមធម៌​ ការពង្រឹងគុណភាព និងប្រសិទ្ធភាពនៃការ​អប់រំនៅមធ្យមសិក្សា"},0,{"$f":"SUM(C20:C21)","v":0},0,0,{"$f":"SUM(F20:F21)","v":0},0,0,{"$f":"SUM(I20:I21)","v":0},0,0,{"$f":"SUM(L20:L21)","v":0},0]
[{"$f":"cluster_activity_1","v":"សកម្មភាពរងទី ១. ការចូលរៀនមានគុណភាពប្រកប​ដោយ​សមធម៌ និងបរិយាប័ន្ន និងលើកកម្ពស់ឱកាសក្នុងការសិក្សា​ពេញមួយជីវិតសម្រាប់ទាំងអស់គ្នា"},{"$f":"SUM(C20:D20)","v":0},{"$f":"SUMIFS(staff_exp2018,activities,A20,act, A19)","v":0},{"$f":"SUMIFS(non_staffexp2018,activities,A20,act, A19)","v":0},{"$f":"SUM(F20:G20)","v":0},{"$f":"SUMIFS(staff_exp2019,activities,A20,act, A19)","v":0},{"$f":"SUMIFS(non_staffexp2019,activities,A20,act, A19)","v":0},{"$f":"SUM(I20:J20)","v":0},{"$f":"SUMIFS(staff_exp2020,activities,A20,act, A19)","v":0},{"$f":"SUMIFS(non_staffexp2020,activities,A20,act, A19)","v":0},{"$f":"SUM(L20:M20)","v":0},{"$f":"SUMIFS(staff_exp2021,activities,A20,act, A19)","v":0},{"$f":"SUMIFS(non_staffexp2021,activities,A20,act, A19)","v":0}]
[{"$f":"cluster_activity_2","v":"សកម្មភាពរងទី ២. ការលើកកម្ពស់ភាពជាអ្នកដឹកនាំ និងគ្រប់គ្រង របស់មន្រ្តីអប់រំគ្រប់លំដាប់ថ្នាក់"},{"$f":"SUM(C21:D21)","v":0},{"$f":"SUMIFS(staff_exp2018,activities,A21,act, A19)","v":0},{"$f":"SUMIFS(non_staffexp2018,activities,A21,act, A19)","v":0},{"$f":"SUMIFS(total2019,activities,D21,act, D19)","v":0},{"$f":"SUMIFS(staff_exp2019,activities,A21,act, A19)","v":0},{"$f":"SUMIFS(non_staffexp2019,activities,A21,act, A19)","v":0},{"$f":"SUMIFS(total2020,activities,G21,act, G19)","v":0},{"$f":"SUMIFS(staff_exp2020,activities,A21,act, A19)","v":0},{"$f":"SUMIFS(non_staffexp2020,activities,A21,act, A19)","v":0},{"$f":"SUMIFS(total2021,activities,J21,act, J19)","v":0},{"$f":"SUMIFS(staff_exp2021,activities,A21,act, A19)","v":0},{"$f":"SUMIFS(non_staffexp2021,activities,A21,act, A19)","v":0}]
[{"$f":"'ចំណាយ-ថវិការដ្ឋ'!A50","v":"១.១០.០១.៤៖ ការពង្រីកការអប់រំក្រៅប្រព័ន្ធ"},0,{"$f":"SUM(C23:C24)","v":0},0,0,{"$f":"SUM(F23:F24)","v":0},0,0,{"$f":"SUM(I23:I24)","v":0},0,0,{"$f":"SUM(L23:L24)","v":0},0]
[{"$f":"cluster_activity_1","v":"សកម្មភាពរងទី ១. ការចូលរៀនមានគុណភាពប្រកប​ដោយ​សមធម៌ និងបរិយាប័ន្ន និងលើកកម្ពស់ឱកាសក្នុងការសិក្សា​ពេញមួយជីវិតសម្រាប់ទាំងអស់គ្នា"},{"$f":"SUM(C23:D23)","v":0},{"$f":"SUMIFS(staff_exp2018,activities,A23,act, A22)","v":0},{"$f":"SUMIFS(non_staffexp2018,activities,A23,act, A22)","v":0},{"$f":"SUM(F23:G23)","v":0},{"$f":"SUMIFS(staff_exp2019,activities,A23,act, A22)","v":0},{"$f":"SUMIFS(non_staffexp2019,activities,A23,act, A22)","v":0},{"$f":"SUM(I23:J23)","v":0},{"$f":"SUMIFS(staff_exp2020,activities,A23,act, A22)","v":0},{"$f":"SUMIFS(non_staffexp2020,activities,A23,act, A22)","v":0},{"$f":"SUM(L23:M23)","v":0},{"$f":"SUMIFS(staff_exp2021,activities,A23,act, A22)","v":0},{"$f":"SUMIFS(non_staffexp2021,activities,A23,act, A22)","v":0}]
[{"$f":"cluster_activity_2","v":"សកម្មភាពរងទី ២. ការលើកកម្ពស់ភាពជាអ្នកដឹកនាំ និងគ្រប់គ្រង របស់មន្រ្តីអប់រំគ្រប់លំដាប់ថ្នាក់"},{"$f":"SUM(C24:D24)","v":0},{"$f":"SUMIFS(staff_exp2018,activities,A24,act, A22)","v":0},{"$f":"SUMIFS(non_staffexp2018,activities,A24,act, A22)","v":0},{"$f":"SUMIFS(total2019,activities,D24,act, D22)","v":0},{"$f":"SUMIFS(staff_exp2019,activities,A24,act, A22)","v":0},{"$f":"SUMIFS(non_staffexp2019,activities,A24,act, A22)","v":0},{"$f":"SUMIFS(total2020,activities,G24,act, G22)","v":0},{"$f":"SUMIFS(staff_exp2020,activities,A24,act, A22)","v":0},{"$f":"SUMIFS(non_staffexp2020,activities,A24,act, A22)","v":0},{"$f":"SUMIFS(total2021,activities,J24,act, J22)","v":0},{"$f":"SUMIFS(staff_exp2021,activities,A24,act, A22)","v":0},{"$f":"SUMIFS(non_staffexp2021,activities,A24,act, A22)","v":0}]
[{"$f":"'ចំណាយ-ថវិការដ្ឋ'!A58","v":"១.១០.០១.៥៖ ការពង្រឹង​ និងការពង្រីកកម្មវិធីលើកកម្ពស់សុខភាពសិក្សា"},0,{"$f":"SUM(C26:C27)","v":0},0,0,{"$f":"SUM(F26:F27)","v":0},0,0,{"$f":"SUM(I26:I27)","v":0},0,0,{"$f":"SUM(L26:L27)","v":0},0]
[{"$f":"cluster_activity_1","v":"សកម្មភាពរងទី ១. ការចូលរៀនមានគុណភាពប្រកប​ដោយ​សមធម៌ និងបរិយាប័ន្ន និងលើកកម្ពស់ឱកាសក្នុងការសិក្សា​ពេញមួយជីវិតសម្រាប់ទាំងអស់គ្នា"},{"$f":"SUM(C26:D26)","v":0},{"$f":"SUMIFS(staff_exp2018,activities,A26,act, A25)","v":0},{"$f":"SUMIFS(non_staffexp2018,activities,A26,act, A25)","v":0},{"$f":"SUM(F26:G26)","v":0},{"$f":"SUMIFS(staff_exp2019,activities,A26,act, A25)","v":0},{"$f":"SUMIFS(non_staffexp2019,activities,A26,act, A25)","v":0},{"$f":"SUM(I26:J26)","v":0},{"$f":"SUMIFS(staff_exp2020,activities,A26,act, A25)","v":0},{"$f":"SUMIFS(non_staffexp2020,activities,A26,act, A25)","v":0},{"$f":"SUM(L26:M26)","v":0},{"$f":"SUMIFS(staff_exp2021,activities,A26,act, A25)","v":0},{"$f":"SUMIFS(non_staffexp2021,activities,A26,act, A25)","v":0}]
[{"$f":"cluster_activity_2","v":"សកម្មភាពរងទី ២. ការលើកកម្ពស់ភាពជាអ្នកដឹកនាំ និងគ្រប់គ្រង របស់មន្រ្តីអប់រំគ្រប់លំដាប់ថ្នាក់"},{"$f":"SUM(C27:D27)","v":0},{"$f":"SUMIFS(staff_exp2018,activities,A27,act, A25)","v":0},{"$f":"SUMIFS(non_staffexp2018,activities,A27,act, A25)","v":0},{"$f":"SUMIFS(total2019,activities,D27,act, D25)","v":0},{"$f":"SUMIFS(staff_exp2019,activities,A27,act, A25)","v":0},{"$f":"SUMIFS(non_staffexp2019,activities,A27,act, A25)","v":0},{"$f":"SUMIFS(total2020,activities,G27,act, G25)","v":0},{"$f":"SUMIFS(staff_exp2020,activities,A27,act, A25)","v":0},{"$f":"SUMIFS(non_staffexp2020,activities,A27,act, A25)","v":0},{"$f":"SUMIFS(total2021,activities,J27,act, J25)","v":0},{"$f":"SUMIFS(staff_exp2021,activities,A27,act, A25)","v":0},{"$f":"SUMIFS(non_staffexp2021,activities,A27,act, A25)","v":0}]
[{"$f":"'ចំណាយ-ថវិការដ្ឋ'!A68","v":"១.១០.០១.៦៖ លើកកម្ពស់គុណភាព និងប្រសិទ្ធភាពនៃការអនុវត្តកម្មវិធីអប់រំបច្ចេកទេស"},0,{"$f":"SUM(C29:C30)","v":0},0,0,{"$f":"SUM(F29:F30)","v":0},0,0,{"$f":"SUM(I29:I30)","v":0},0,0,{"$f":"SUM(L29:L30)","v":0},0]
[{"$f":"cluster_activity_1","v":"សកម្មភាពរងទី ១. ការចូលរៀនមានគុណភាពប្រកប​ដោយ​សមធម៌ និងបរិយាប័ន្ន និងលើកកម្ពស់ឱកាសក្នុងការសិក្សា​ពេញមួយជីវិតសម្រាប់ទាំងអស់គ្នា"},{"$f":"SUM(C29:D29)","v":0},{"$f":"SUMIFS(staff_exp2018,activities,A29,act, A28)","v":0},{"$f":"SUMIFS(non_staffexp2018,activities,A29,act, A28)","v":0},{"$f":"SUM(F29:G29)","v":0},{"$f":"SUMIFS(staff_exp2019,activities,A29,act, A28)","v":0},{"$f":"SUMIFS(non_staffexp2019,activities,A29,act, A28)","v":0},{"$f":"SUM(I29:J29)","v":0},{"$f":"SUMIFS(staff_exp2020,activities,A29,act, A28)","v":0},{"$f":"SUMIFS(non_staffexp2020,activities,A29,act, A28)","v":0},{"$f":"SUM(L29:M29)","v":0},{"$f":"SUMIFS(staff_exp2021,activities,A29,act, A28)","v":0},{"$f":"SUMIFS(non_staffexp2021,activities,A29,act, A28)","v":0}]
[{"$f":"cluster_activity_2","v":"សកម្មភាពរងទី ២. ការលើកកម្ពស់ភាពជាអ្នកដឹកនាំ និងគ្រប់គ្រង របស់មន្រ្តីអប់រំគ្រប់លំដាប់ថ្នាក់"},{"$f":"SUM(C30:D30)","v":0},{"$f":"SUMIFS(staff_exp2018,activities,A30,act, A28)","v":0},{"$f":"SUMIFS(non_staffexp2018,activities,A30,act, A28)","v":0},{"$f":"SUMIFS(total2019,activities,D30,act, D28)","v":0},{"$f":"SUMIFS(staff_exp2019,activities,A30,act, A28)","v":0},{"$f":"SUMIFS(non_staffexp2019,activities,A30,act, A28)","v":0},{"$f":"SUMIFS(total2020,activities,G30,act, G28)","v":0},{"$f":"SUMIFS(staff_exp2020,activities,A30,act, A28)","v":0},{"$f":"SUMIFS(non_staffexp2020,activities,A30,act, A28)","v":0},{"$f":"SUMIFS(total2021,activities,J30,act, J28)","v":0},{"$f":"SUMIFS(staff_exp2021,activities,A30,act, A28)","v":0},{"$f":"SUMIFS(non_staffexp2021,activities,A30,act, A28)","v":0}]
[{"$f":"'ចំណាយ-ថវិការដ្ឋ'!A76","v":"១.១០.០១.៧៖ ការអភិវឌ្ឍការងារបណ្តុះបណ្តុះ និងវិក្រឹតការគ្រូបង្រៀន"},0,{"$f":"SUM(C32:C33)","v":0},0,0,{"$f":"SUM(F32:F33)","v":0},0,0,{"$f":"SUM(I32:I33)","v":0},0,0,{"$f":"SUM(L32:L33)","v":0},0]
[{"$f":"cluster_activity_1","v":"សកម្មភាពរងទី ១. ការចូលរៀនមានគុណភាពប្រកប​ដោយ​សមធម៌ និងបរិយាប័ន្ន និងលើកកម្ពស់ឱកាសក្នុងការសិក្សា​ពេញមួយជីវិតសម្រាប់ទាំងអស់គ្នា"},{"$f":"SUM(C32:D32)","v":0},{"$f":"SUMIFS(staff_exp2018,activities,A32,act, A31)","v":0},{"$f":"SUMIFS(non_staffexp2018,activities,A32,act, A31)","v":0},{"$f":"SUM(F32:G32)","v":0},{"$f":"SUMIFS(staff_exp2019,activities,A32,act, A31)","v":0},{"$f":"SUMIFS(non_staffexp2019,activities,A32,act, A31)","v":0},{"$f":"SUM(I32:J32)","v":0},{"$f":"SUMIFS(staff_exp2020,activities,A32,act, A31)","v":0},{"$f":"SUMIFS(non_staffexp2020,activities,A32,act, A31)","v":0},{"$f":"SUM(L32:M32)","v":0},{"$f":"SUMIFS(staff_exp2021,activities,A32,act, A31)","v":0},{"$f":"SUMIFS(non_staffexp2021,activities,A32,act, A31)","v":0}]
[{"$f":"cluster_activity_2","v":"សកម្មភាពរងទី ២. ការលើកកម្ពស់ភាពជាអ្នកដឹកនាំ និងគ្រប់គ្រង របស់មន្រ្តីអប់រំគ្រប់លំដាប់ថ្នាក់"},{"$f":"SUM(C33:D33)","v":0},{"$f":"SUMIFS(staff_exp2018,activities,A33,act, A31)","v":0},{"$f":"SUMIFS(non_staffexp2018,activities,A33,act, A31)","v":0},{"$f":"SUMIFS(total2019,activities,D33,act, D31)","v":0},{"$f":"SUMIFS(staff_exp2019,activities,A33,act, A31)","v":0},{"$f":"SUMIFS(non_staffexp2019,activities,A33,act, A31)","v":0},{"$f":"SUMIFS(total2020,activities,G33,act, G31)","v":0},{"$f":"SUMIFS(staff_exp2020,activities,A33,act, A31)","v":0},{"$f":"SUMIFS(non_staffexp2020,activities,A33,act, A31)","v":0},{"$f":"SUMIFS(total2021,activities,J33,act, J31)","v":0},{"$f":"SUMIFS(staff_exp2021,activities,A33,act, A31)","v":0},{"$f":"SUMIFS(non_staffexp2021,activities,A33,act, A31)","v":0}]
[{"$f":"'ចំណាយ-ថវិការដ្ឋ'!A87","v":"១.១០.០១.៨៖ ការអភិវឌ្ឍកម្មវិធីសិក្សា សម្ភារៈសិក្សា និងបណ្ណាល័យ"},0,{"$f":"SUM(C35:C36)","v":0},0,0,{"$f":"SUM(F35:F36)","v":0},0,0,{"$f":"SUM(I35:I36)","v":0},0,0,{"$f":"SUM(L35:L36)","v":0},0]
[{"$f":"cluster_activity_1","v":"សកម្មភាពរងទី ១. ការចូលរៀនមានគុណភាពប្រកប​ដោយ​សមធម៌ និងបរិយាប័ន្ន និងលើកកម្ពស់ឱកាសក្នុងការសិក្សា​ពេញមួយជីវិតសម្រាប់ទាំងអស់គ្នា"},{"$f":"SUM(C35:D35)","v":0},{"$f":"SUMIFS(staff_exp2018,activities,A35,act, A34)","v":0},{"$f":"SUMIFS(non_staffexp2018,activities,A35,act, A34)","v":0},{"$f":"SUM(F35:G35)","v":0},{"$f":"SUMIFS(staff_exp2019,activities,A35,act, A34)","v":0},{"$f":"SUMIFS(non_staffexp2019,activities,A35,act, A34)","v":0},{"$f":"SUM(I35:J35)","v":0},{"$f":"SUMIFS(staff_exp2020,activities,A35,act, A34)","v":0},{"$f":"SUMIFS(non_staffexp2020,activities,A35,act, A34)","v":0},{"$f":"SUM(L35:M35)","v":0},{"$f":"SUMIFS(staff_exp2021,activities,A35,act, A34)","v":0},{"$f":"SUMIFS(non_staffexp2021,activities,A35,act, A34)","v":0}]
[{"$f":"cluster_activity_2","v":"សកម្មភាពរងទី ២. ការលើកកម្ពស់ភាពជាអ្នកដឹកនាំ និងគ្រប់គ្រង របស់មន្រ្តីអប់រំគ្រប់លំដាប់ថ្នាក់"},{"$f":"SUM(C36:D36)","v":0},{"$f":"SUMIFS(staff_exp2018,activities,A36,act, A34)","v":0},{"$f":"SUMIFS(non_staffexp2018,activities,A36,act, A34)","v":0},{"$f":"SUMIFS(total2019,activities,D36,act, D34)","v":0},{"$f":"SUMIFS(staff_exp2019,activities,A36,act, A34)","v":0},{"$f":"SUMIFS(non_staffexp2019,activities,A36,act, A34)","v":0},{"$f":"SUMIFS(total2020,activities,G36,act, G34)","v":0},{"$f":"SUMIFS(staff_exp2020,activities,A36,act, A34)","v":0},{"$f":"SUMIFS(non_staffexp2020,activities,A36,act, A34)","v":0},{"$f":"SUMIFS(total2021,activities,J36,act, J34)","v":0},{"$f":"SUMIFS(staff_exp2021,activities,A36,act, A34)","v":0},{"$f":"SUMIFS(non_staffexp2021,activities,A36,act, A34)","v":0}]
[{"$f":"'ចំណាយ-ថវិការដ្ឋ'!A96","v":"១.១០.០១.៩៖ ពង្រីកការអប់រំបរិយាបន្នគ្រប់ភូមិសិក្សា"},0,{"$f":"SUM(C38:C39)","v":0},0,0,{"$f":"SUM(F38:F39)","v":0},0,0,{"$f":"SUM(I38:I39)","v":0},0,0,{"$f":"SUM(L38:L39)","v":0},0]
[{"$f":"cluster_activity_1","v":"សកម្មភាពរងទី ១. ការចូលរៀនមានគុណភាពប្រកប​ដោយ​សមធម៌ និងបរិយាប័ន្ន និងលើកកម្ពស់ឱកាសក្នុងការសិក្សា​ពេញមួយជីវិតសម្រាប់ទាំងអស់គ្នា"},{"$f":"SUM(C38:D38)","v":0},{"$f":"SUMIFS(staff_exp2018,activities,A38,act, A37)","v":0},{"$f":"SUMIFS(non_staffexp2018,activities,A38,act, A37)","v":0},{"$f":"SUM(F38:G38)","v":0},{"$f":"SUMIFS(staff_exp2019,activities,A38,act, A37)","v":0},{"$f":"SUMIFS(non_staffexp2019,activities,A38,act, A37)","v":0},{"$f":"SUM(I38:J38)","v":0},{"$f":"SUMIFS(staff_exp2020,activities,A38,act, A37)","v":0},{"$f":"SUMIFS(non_staffexp2020,activities,A38,act, A37)","v":0},{"$f":"SUM(L38:M38)","v":0},{"$f":"SUMIFS(staff_exp2021,activities,A38,act, A37)","v":0},{"$f":"SUMIFS(non_staffexp2021,activities,A38,act, A37)","v":0}]
[{"$f":"cluster_activity_2","v":"សកម្មភាពរងទី ២. ការលើកកម្ពស់ភាពជាអ្នកដឹកនាំ និងគ្រប់គ្រង របស់មន្រ្តីអប់រំគ្រប់លំដាប់ថ្នាក់"},{"$f":"SUM(C39:D39)","v":0},{"$f":"SUMIFS(staff_exp2018,activities,A39,act, A37)","v":0},{"$f":"SUMIFS(non_staffexp2018,activities,A39,act, A37)","v":0},{"$f":"SUMIFS(total2019,activities,D39,act, D37)","v":0},{"$f":"SUMIFS(staff_exp2019,activities,A39,act, A37)","v":0},{"$f":"SUMIFS(non_staffexp2019,activities,A39,act, A37)","v":0},{"$f":"SUMIFS(total2020,activities,G39,act, G37)","v":0},{"$f":"SUMIFS(staff_exp2020,activities,A39,act, A37)","v":0},{"$f":"SUMIFS(non_staffexp2020,activities,A39,act, A37)","v":0},{"$f":"SUMIFS(total2021,activities,J39,act, J37)","v":0},{"$f":"SUMIFS(staff_exp2021,activities,A39,act, A37)","v":0},{"$f":"SUMIFS(non_staffexp2021,activities,A39,act, A37)","v":0}]
[{"$f":"'ចំណាយ-ថវិការដ្ឋ'!A105","v":"កម្មវិធីទី ៣៖ ការអភិវឌ្ឍវិស័យអប់រំកាយ និងកីឡា"},0,{"$f":"C41","v":0},0,0,0,0,0,0,0,0,0,0]
[{"$f":"'ចំណាយ-ថវិការដ្ឋ'!A106","v":"អនុកម្មវិធីទី ៣.២ សេវាគាំទ្រការអភិវឌ្ឍវិស័យអប់រំកាយ និងកីឡារបស់មន្ទីរជំនាញរាជធានី ខេត្ត"},0,0,0,0,0,0,0,0,0,0,0,0]
[{"$f":"'ចំណាយ-ថវិការដ្ឋ'!A107","v":"ចង្កោមសកម្មភាពទី ០១៖ខេត្តបន្ទាយមានជ័យ"},0,0,0,0,0,0,0,0,0,0,0,0]
[{"$f":"'ចំណាយ-ថវិការដ្ឋ'!A108","v":"៣.២.០១.១៖ ការអភិវឌ្ឍអប់រំកាយ និងកីឡាសិស្ស និស្សិត មហាជន និងកីឡាកម្រិតខ្ពស់"},0,{"$f":"SUM(C44:C45)","v":0},0,0,{"$f":"SUM(F44:F45)","v":0},0,0,{"$f":"SUM(I44:I45)","v":0},0,0,{"$f":"SUM(L44:L45)","v":0},0]
[{"$f":"cluster_activity_1","v":"សកម្មភាពរងទី ១. ការចូលរៀនមានគុណភាពប្រកប​ដោយ​សមធម៌ និងបរិយាប័ន្ន និងលើកកម្ពស់ឱកាសក្នុងការសិក្សា​ពេញមួយជីវិតសម្រាប់ទាំងអស់គ្នា"},{"$f":"SUM(C44:D44)","v":0},{"$f":"SUMIFS(staff_exp2018,activities,A44,act, A43)","v":0},{"$f":"SUMIFS(non_staffexp2018,activities,A44,act, A43)","v":0},{"$f":"SUM(F44:G44)","v":0},{"$f":"SUMIFS(staff_exp2019,activities,A44,act, A43)","v":0},{"$f":"SUMIFS(non_staffexp2019,activities,A44,act, A43)","v":0},{"$f":"SUM(I44:J44)","v":0},{"$f":"SUMIFS(staff_exp2020,activities,A44,act, A43)","v":0},{"$f":"SUMIFS(non_staffexp2020,activities,A44,act, A43)","v":0},{"$f":"SUM(L44:M44)","v":0},{"$f":"SUMIFS(staff_exp2021,activities,A44,act, A43)","v":0},{"$f":"SUMIFS(non_staffexp2021,activities,A44,act, A43)","v":0}]
[{"$f":"cluster_activity_2","v":"សកម្មភាពរងទី ២. ការលើកកម្ពស់ភាពជាអ្នកដឹកនាំ និងគ្រប់គ្រង របស់មន្រ្តីអប់រំគ្រប់លំដាប់ថ្នាក់"},{"$f":"SUM(C45:D45)","v":0},{"$f":"SUMIFS(staff_exp2018,activities,A45,act, A43)","v":0},{"$f":"SUMIFS(non_staffexp2018,activities,A45,act, A43)","v":0},{"$f":"SUMIFS(total2019,activities,D45,act, D43)","v":0},{"$f":"SUMIFS(staff_exp2019,activities,A45,act, A43)","v":0},{"$f":"SUMIFS(non_staffexp2019,activities,A45,act, A43)","v":0},{"$f":"SUMIFS(total2020,activities,G45,act, G43)","v":0},{"$f":"SUMIFS(staff_exp2020,activities,A45,act, A43)","v":0},{"$f":"SUMIFS(non_staffexp2020,activities,A45,act, A43)","v":0},{"$f":"SUMIFS(total2021,activities,J45,act, J43)","v":0},{"$f":"SUMIFS(staff_exp2021,activities,A45,act, A43)","v":0},{"$f":"SUMIFS(non_staffexp2021,activities,A45,act, A43)","v":0}]
[{"$f":"'ចំណាយ-ថវិការដ្ឋ'!A120","v":"កម្មវិធីទី៤៖ ការអភិវឌ្ឍជំនាញបច្ចេកទេស និងជំនាញទន់សម្រាប់យុវជន"},0,{"$f":"C47","v":0},0,0,0,0,0,0,0,0,0,0]
[{"$f":"'ចំណាយ-ថវិការដ្ឋ'!A121","v":"អនុកម្មវិធីទី ៤.៤៖ សេវាគាំទ្រអភិវឌ្ឍជំនាញបច្ចេកទេស និងជំនាញទន់សម្រាប់យុវជនរបស់\nមន្ទីរជំនាញរាជធានី ខេត្ត"},0,0,0,0,0,0,0,0,0,0,0,0]
[{"$f":"'ចំណាយ-ថវិការដ្ឋ'!A122","v":"ចង្កោមសកម្មភាពទី ០១៖ខេត្តបន្ទាយមានជ័យ"},0,{"$f":"SUM(C49,C52,C55)","v":0},0,0,{"$f":"SUM(F49,F52,F55)","v":0},0,0,{"$f":"SUM(I49,I52,I55)","v":0},0,0,{"$f":"SUM(L49,L52,L55)","v":0},0]
[{"$f":"'ចំណាយ-ថវិការដ្ឋ'!A123","v":"៤.៤.០១.១៖ ការពង្រឹងសមត្ថភាពយុវជន"},0,{"$f":"SUM(C50:C51)","v":0},0,0,{"$f":"SUM(F50:F51)","v":0},0,0,{"$f":"SUM(I50:I51)","v":0},0,0,{"$f":"SUM(L50:L51)","v":0},0]
[{"$f":"cluster_activity_1","v":"សកម្មភាពរងទី ១. ការចូលរៀនមានគុណភាពប្រកប​ដោយ​សមធម៌ និងបរិយាប័ន្ន និងលើកកម្ពស់ឱកាសក្នុងការសិក្សា​ពេញមួយជីវិតសម្រាប់ទាំងអស់គ្នា"},{"$f":"SUM(C50:D50)","v":0},{"$f":"SUMIFS(staff_exp2018,activities,A50,act, A49)","v":0},{"$f":"SUMIFS(non_staffexp2018,activities,A50,act, A49)","v":0},{"$f":"SUM(F50:G50)","v":0},{"$f":"SUMIFS(staff_exp2019,activities,A50,act, A49)","v":0},{"$f":"SUMIFS(non_staffexp2019,activities,A50,act, A49)","v":0},{"$f":"SUM(I50:J50)","v":0},{"$f":"SUMIFS(staff_exp2020,activities,A50,act, A49)","v":0},{"$f":"SUMIFS(non_staffexp2020,activities,A50,act, A49)","v":0},{"$f":"SUM(L50:M50)","v":0},{"$f":"SUMIFS(staff_exp2021,activities,A50,act, A49)","v":0},{"$f":"SUMIFS(non_staffexp2021,activities,A50,act, A49)","v":0}]
[{"$f":"cluster_activity_2","v":"សកម្មភាពរងទី ២. ការលើកកម្ពស់ភាពជាអ្នកដឹកនាំ និងគ្រប់គ្រង របស់មន្រ្តីអប់រំគ្រប់លំដាប់ថ្នាក់"},{"$f":"SUM(C51:D51)","v":0},{"$f":"SUMIFS(staff_exp2018,activities,A51,act, A49)","v":0},{"$f":"SUMIFS(non_staffexp2018,activities,A51,act, A49)","v":0},{"$f":"SUMIFS(total2019,activities,D51,act, D49)","v":0},{"$f":"SUMIFS(staff_exp2019,activities,A51,act, A49)","v":0},{"$f":"SUMIFS(non_staffexp2019,activities,A51,act, A49)","v":0},{"$f":"SUMIFS(total2020,activities,G51,act, G49)","v":0},{"$f":"SUMIFS(staff_exp2020,activities,A51,act, A49)","v":0},{"$f":"SUMIFS(non_staffexp2020,activities,A51,act, A49)","v":0},{"$f":"SUMIFS(total2021,activities,J51,act, J49)","v":0},{"$f":"SUMIFS(staff_exp2021,activities,A51,act, A49)","v":0},{"$f":"SUMIFS(non_staffexp2021,activities,A51,act, A49)","v":0}]
[{"$f":"'ចំណាយ-ថវិការដ្ឋ'!A133","v":"៤.៤.០១.២៖ ការអភិវឌ្ឍមជ្ឈមណ្ឌលយុវជន"},0,{"$f":"SUM(C53:C54)","v":0},0,0,{"$f":"SUM(F53:F54)","v":0},0,0,{"$f":"SUM(I53:I54)","v":0},0,0,{"$f":"SUM(L53:L54)","v":0},0]
[{"$f":"cluster_activity_1","v":"សកម្មភាពរងទី ១. ការចូលរៀនមានគុណភាពប្រកប​ដោយ​សមធម៌ និងបរិយាប័ន្ន និងលើកកម្ពស់ឱកាសក្នុងការសិក្សា​ពេញមួយជីវិតសម្រាប់ទាំងអស់គ្នា"},{"$f":"SUM(C53:D53)","v":0},{"$f":"SUMIFS(staff_exp2018,activities,A53,act, A52)","v":0},{"$f":"SUMIFS(non_staffexp2018,activities,A53,act, A52)","v":0},{"$f":"SUM(F53:G53)","v":0},{"$f":"SUMIFS(staff_exp2019,activities,A53,act, A52)","v":0},{"$f":"SUMIFS(non_staffexp2019,activities,A53,act, A52)","v":0},{"$f":"SUM(I53:J53)","v":0},{"$f":"SUMIFS(staff_exp2020,activities,A53,act, A52)","v":0},{"$f":"SUMIFS(non_staffexp2020,activities,A53,act, A52)","v":0},{"$f":"SUM(L53:M53)","v":0},{"$f":"SUMIFS(staff_exp2021,activities,A53,act, A52)","v":0},{"$f":"SUMIFS(non_staffexp2021,activities,A53,act, A52)","v":0}]
[{"$f":"cluster_activity_2","v":"សកម្មភាពរងទី ២. ការលើកកម្ពស់ភាពជាអ្នកដឹកនាំ និងគ្រប់គ្រង របស់មន្រ្តីអប់រំគ្រប់លំដាប់ថ្នាក់"},{"$f":"SUM(C54:D54)","v":0},{"$f":"SUMIFS(staff_exp2018,activities,A54,act, A52)","v":0},{"$f":"SUMIFS(non_staffexp2018,activities,A54,act, A52)","v":0},{"$f":"SUMIFS(total2019,activities,D54,act, D52)","v":0},{"$f":"SUMIFS(staff_exp2019,activities,A54,act, A52)","v":0},{"$f":"SUMIFS(non_staffexp2019,activities,A54,act, A52)","v":0},{"$f":"SUMIFS(total2020,activities,G54,act, G52)","v":0},{"$f":"SUMIFS(staff_exp2020,activities,A54,act, A52)","v":0},{"$f":"SUMIFS(non_staffexp2020,activities,A54,act, A52)","v":0},{"$f":"SUMIFS(total2021,activities,J54,act, J52)","v":0},{"$f":"SUMIFS(staff_exp2021,activities,A54,act, A52)","v":0},{"$f":"SUMIFS(non_staffexp2021,activities,A54,act, A52)","v":0}]
[{"$f":"'ចំណាយ-ថវិការដ្ឋ'!A141","v":"៤.៤.០១.៣៖ ការអភិវឌ្ឍកាយរឹទ្ធិកម្ម"},0,{"$f":"SUM(C56:C57)","v":0},0,0,{"$f":"SUM(F56:F57)","v":0},0,0,{"$f":"SUM(I56:I57)","v":0},0,0,{"$f":"SUM(L56:L57)","v":0},0]
[{"$f":"cluster_activity_1","v":"សកម្មភាពរងទី ១. ការចូលរៀនមានគុណភាពប្រកប​ដោយ​សមធម៌ និងបរិយាប័ន្ន និងលើកកម្ពស់ឱកាសក្នុងការសិក្សា​ពេញមួយជីវិតសម្រាប់ទាំងអស់គ្នា"},{"$f":"SUM(C56:D56)","v":0},{"$f":"SUMIFS(staff_exp2018,activities,A56,act, A55)","v":0},{"$f":"SUMIFS(non_staffexp2018,activities,A56,act, A55)","v":0},{"$f":"SUM(F56:G56)","v":0},{"$f":"SUMIFS(staff_exp2019,activities,A56,act, A55)","v":0},{"$f":"SUMIFS(non_staffexp2019,activities,A56,act, A55)","v":0},{"$f":"SUM(I56:J56)","v":0},{"$f":"SUMIFS(staff_exp2020,activities,A56,act, A55)","v":0},{"$f":"SUMIFS(non_staffexp2020,activities,A56,act, A55)","v":0},{"$f":"SUM(L56:M56)","v":0},{"$f":"SUMIFS(staff_exp2021,activities,A56,act, A55)","v":0},{"$f":"SUMIFS(non_staffexp2021,activities,A56,act, A55)","v":0}]
[{"$f":"cluster_activity_2","v":"សកម្មភាពរងទី ២. ការលើកកម្ពស់ភាពជាអ្នកដឹកនាំ និងគ្រប់គ្រង របស់មន្រ្តីអប់រំគ្រប់លំដាប់ថ្នាក់"},{"$f":"SUM(C57:D57)","v":0},{"$f":"SUMIFS(staff_exp2018,activities,A57,act, A55)","v":0},{"$f":"SUMIFS(non_staffexp2018,activities,A57,act, A55)","v":0},{"$f":"SUMIFS(total2019,activities,D57,act, D55)","v":0},{"$f":"SUMIFS(staff_exp2019,activities,A57,act, A55)","v":0},{"$f":"SUMIFS(non_staffexp2019,activities,A57,act, A55)","v":0},{"$f":"SUMIFS(total2020,activities,G57,act, G55)","v":0},{"$f":"SUMIFS(staff_exp2020,activities,A57,act, A55)","v":0},{"$f":"SUMIFS(non_staffexp2020,activities,A57,act, A55)","v":0},{"$f":"SUMIFS(total2021,activities,J57,act, J55)","v":0},{"$f":"SUMIFS(staff_exp2021,activities,A57,act, A55)","v":0},{"$f":"SUMIFS(non_staffexp2021,activities,A57,act, A55)","v":0}]
[{"$f":"'ចំណាយ-ថវិការដ្ឋ'!A148","v":"កម្មវិធីទី៥៖ ការគាំទ្រសេវាអប់រំ និងអភិបាលកិច្ចល្អ"},0,{"$f":"C59","v":0},0,0,0,0,0,0,0,0,0,0]
[{"$f":"'ចំណាយ-ថវិការដ្ឋ'!A149","v":"អនុកម្មវិធីទី ៥.១៨ សេវាគាំទ្រសេវាអប់រំ និងអភិបាលកិច្ចល្អ របស់មន្ទីរជំនាញរាជធានី ខេត្ត"},0,0,0,0,0,0,0,0,0,0,0,0]
[{"$f":"'ចំណាយ-ថវិការដ្ឋ'!A150","v":"ចង្កោមសកម្មភាពទី ០១៖ខេត្តបន្ទាយមានជ័យ"},0,{"$f":"SUM(C61,C64,C67,C70,C73,C76,C79,C82,C85,C88,C91,C94,C97,C100,C103,C106,C109)","v":0},0,0,{"$f":"SUM(F61,F64,F67,F70,F73,F76,F79,F82,F85,F88,F91,F94,F97,F100,F103,F106,F109)","v":0},0,0,{"$f":"SUM(I61,I64,I67,I70,I73,I76,I79,I82,I85,I88,I91,I94,I97,I100,I103,I106,I109)","v":0},0,0,{"$f":"SUM(L61,L64,L67,L70,L73,L76,L79,L82,L85,L88,L91,L94,L97,L100,L103,L106,L109)","v":0},0]
[{"$f":"'ចំណាយ-ថវិការដ្ឋ'!A151","v":"៥.១៨.០១.១៖ ការអភិវឌ្ឍនិងពង្រឹងប្រព័ន្ធផែនការអប់រំ"},0,{"$f":"SUM(C62:C63)","v":0},0,0,{"$f":"SUM(F62:F63)","v":0},0,0,{"$f":"SUM(I62:I63)","v":0},0,0,{"$f":"SUM(L62:L63)","v":0},0]
[{"$f":"cluster_activity_1","v":"សកម្មភាពរងទី ១. ការចូលរៀនមានគុណភាពប្រកប​ដោយ​សមធម៌ និងបរិយាប័ន្ន និងលើកកម្ពស់ឱកាសក្នុងការសិក្សា​ពេញមួយជីវិតសម្រាប់ទាំងអស់គ្នា"},{"$f":"SUM(C62:D62)","v":0},{"$f":"SUMIFS(staff_exp2018,activities,A62,act, A61)","v":0},{"$f":"SUMIFS(non_staffexp2018,activities,A62,act, A61)","v":0},{"$f":"SUM(F62:G62)","v":0},{"$f":"SUMIFS(staff_exp2019,activities,A62,act, A61)","v":0},{"$f":"SUMIFS(non_staffexp2019,activities,A62,act, A61)","v":0},{"$f":"SUM(I62:J62)","v":0},{"$f":"SUMIFS(staff_exp2020,activities,A62,act, A61)","v":0},{"$f":"SUMIFS(non_staffexp2020,activities,A62,act, A61)","v":0},{"$f":"SUM(L62:M62)","v":0},{"$f":"SUMIFS(staff_exp2021,activities,A62,act, A61)","v":0},{"$f":"SUMIFS(non_staffexp2021,activities,A62,act, A61)","v":0}]
[{"$f":"cluster_activity_2","v":"សកម្មភាពរងទី ២. ការលើកកម្ពស់ភាពជាអ្នកដឹកនាំ និងគ្រប់គ្រង របស់មន្រ្តីអប់រំគ្រប់លំដាប់ថ្នាក់"},{"$f":"SUM(C63:D63)","v":0},{"$f":"SUMIFS(staff_exp2018,activities,A63,act, A61)","v":0},{"$f":"SUMIFS(non_staffexp2018,activities,A63,act, A61)","v":0},{"$f":"SUMIFS(total2019,activities,D63,act, D61)","v":0},{"$f":"SUMIFS(staff_exp2019,activities,A63,act, A61)","v":0},{"$f":"SUMIFS(non_staffexp2019,activities,A63,act, A61)","v":0},{"$f":"SUMIFS(total2020,activities,G63,act, G61)","v":0},{"$f":"SUMIFS(staff_exp2020,activities,A63,act, A61)","v":0},{"$f":"SUMIFS(non_staffexp2020,activities,A63,act, A61)","v":0},{"$f":"SUMIFS(total2021,activities,J63,act, J61)","v":0},{"$f":"SUMIFS(staff_exp2021,activities,A63,act, A61)","v":0},{"$f":"SUMIFS(non_staffexp2021,activities,A63,act, A61)","v":0}]
[{"$f":"'ចំណាយ-ថវិការដ្ឋ'!A159","v":"៥.១៨.០១.២៖ ការគ្រប់គ្រង និងពង្រឹងប្រសិទ្ធភាព​ធនធានមនុស្ស"},0,{"$f":"SUM(C65:C66)","v":0},0,0,{"$f":"SUM(F65:F66)","v":0},0,0,{"$f":"SUM(I65:I66)","v":0},0,0,{"$f":"SUM(L65:L66)","v":0},0]
[{"$f":"cluster_activity_1","v":"សកម្មភាពរងទី ១. ការចូលរៀនមានគុណភាពប្រកប​ដោយ​សមធម៌ និងបរិយាប័ន្ន និងលើកកម្ពស់ឱកាសក្នុងការសិក្សា​ពេញមួយជីវិតសម្រាប់ទាំងអស់គ្នា"},{"$f":"SUM(C65:D65)","v":0},{"$f":"SUMIFS(staff_exp2018,activities,A65,act, A64)","v":0},{"$f":"SUMIFS(non_staffexp2018,activities,A65,act, A64)","v":0},{"$f":"SUM(F65:G65)","v":0},{"$f":"SUMIFS(staff_exp2019,activities,A65,act, A64)","v":0},{"$f":"SUMIFS(non_staffexp2019,activities,A65,act, A64)","v":0},{"$f":"SUM(I65:J65)","v":0},{"$f":"SUMIFS(staff_exp2020,activities,A65,act, A64)","v":0},{"$f":"SUMIFS(non_staffexp2020,activities,A65,act, A64)","v":0},{"$f":"SUM(L65:M65)","v":0},{"$f":"SUMIFS(staff_exp2021,activities,A65,act, A64)","v":0},{"$f":"SUMIFS(non_staffexp2021,activities,A65,act, A64)","v":0}]
[{"$f":"cluster_activity_2","v":"សកម្មភាពរងទី ២. ការលើកកម្ពស់ភាពជាអ្នកដឹកនាំ និងគ្រប់គ្រង របស់មន្រ្តីអប់រំគ្រប់លំដាប់ថ្នាក់"},{"$f":"SUM(C66:D66)","v":0},{"$f":"SUMIFS(staff_exp2018,activities,A66,act, A64)","v":0},{"$f":"SUMIFS(non_staffexp2018,activities,A66,act, A64)","v":0},{"$f":"SUMIFS(total2019,activities,D66,act, D64)","v":0},{"$f":"SUMIFS(staff_exp2019,activities,A66,act, A64)","v":0},{"$f":"SUMIFS(non_staffexp2019,activities,A66,act, A64)","v":0},{"$f":"SUMIFS(total2020,activities,G66,act, G64)","v":0},{"$f":"SUMIFS(staff_exp2020,activities,A66,act, A64)","v":0},{"$f":"SUMIFS(non_staffexp2020,activities,A66,act, A64)","v":0},{"$f":"SUMIFS(total2021,activities,J66,act, J64)","v":0},{"$f":"SUMIFS(staff_exp2021,activities,A66,act, A64)","v":0},{"$f":"SUMIFS(non_staffexp2021,activities,A66,act, A64)","v":0}]
[{"$f":"'ចំណាយ-ថវិការដ្ឋ'!A170","v":"៥.១៨.០១.៣៖ ការអភិវឌ្ឍសមត្ថភាព ការងារគ្រប់គ្រង ផែនការហិរញ្ញវត្ថុ និងមូលដ្ឋានសម្ភារៈ"},0,{"$f":"SUM(C68:C69)","v":0},0,0,{"$f":"SUM(F68:F69)","v":0},0,0,{"$f":"SUM(I68:I69)","v":0},0,0,{"$f":"SUM(L68:L69)","v":0},0]
[{"$f":"cluster_activity_1","v":"សកម្មភាពរងទី ១. ការចូលរៀនមានគុណភាពប្រកប​ដោយ​សមធម៌ និងបរិយាប័ន្ន និងលើកកម្ពស់ឱកាសក្នុងការសិក្សា​ពេញមួយជីវិតសម្រាប់ទាំងអស់គ្នា"},{"$f":"SUM(C68:D68)","v":0},{"$f":"SUMIFS(staff_exp2018,activities,A68,act, A67)","v":0},{"$f":"SUMIFS(non_staffexp2018,activities,A68,act, A67)","v":0},{"$f":"SUM(F68:G68)","v":0},{"$f":"SUMIFS(staff_exp2019,activities,A68,act, A67)","v":0},{"$f":"SUMIFS(non_staffexp2019,activities,A68,act, A67)","v":0},{"$f":"SUM(I68:J68)","v":0},{"$f":"SUMIFS(staff_exp2020,activities,A68,act, A67)","v":0},{"$f":"SUMIFS(non_staffexp2020,activities,A68,act, A67)","v":0},{"$f":"SUM(L68:M68)","v":0},{"$f":"SUMIFS(staff_exp2021,activities,A68,act, A67)","v":0},{"$f":"SUMIFS(non_staffexp2021,activities,A68,act, A67)","v":0}]
[{"$f":"cluster_activity_2","v":"សកម្មភាពរងទី ២. ការលើកកម្ពស់ភាពជាអ្នកដឹកនាំ និងគ្រប់គ្រង របស់មន្រ្តីអប់រំគ្រប់លំដាប់ថ្នាក់"},{"$f":"SUM(C69:D69)","v":0},{"$f":"SUMIFS(staff_exp2018,activities,A69,act, A67)","v":0},{"$f":"SUMIFS(non_staffexp2018,activities,A69,act, A67)","v":0},{"$f":"SUMIFS(total2019,activities,D69,act, D67)","v":0},{"$f":"SUMIFS(staff_exp2019,activities,A69,act, A67)","v":0},{"$f":"SUMIFS(non_staffexp2019,activities,A69,act, A67)","v":0},{"$f":"SUMIFS(total2020,activities,G69,act, G67)","v":0},{"$f":"SUMIFS(staff_exp2020,activities,A69,act, A67)","v":0},{"$f":"SUMIFS(non_staffexp2020,activities,A69,act, A67)","v":0},{"$f":"SUMIFS(total2021,activities,J69,act, J67)","v":0},{"$f":"SUMIFS(staff_exp2021,activities,A69,act, A67)","v":0},{"$f":"SUMIFS(non_staffexp2021,activities,A69,act, A67)","v":0}]
[{"$f":"'ចំណាយ-ថវិការដ្ឋ'!A178","v":"៥.១៨.០១.៤៖ ពង្រឹងការងារសវនកម្មផ្ទៃក្នុង"},0,{"$f":"SUM(C71:C72)","v":0},0,0,{"$f":"SUM(F71:F72)","v":0},0,0,{"$f":"SUM(I71:I72)","v":0},0,0,{"$f":"SUM(L71:L72)","v":0},0]
[{"$f":"cluster_activity_1","v":"សកម្មភាពរងទី ១. ការចូលរៀនមានគុណភាពប្រកប​ដោយ​សមធម៌ និងបរិយាប័ន្ន និងលើកកម្ពស់ឱកាសក្នុងការសិក្សា​ពេញមួយជីវិតសម្រាប់ទាំងអស់គ្នា"},{"$f":"SUM(C71:D71)","v":0},{"$f":"SUMIFS(staff_exp2018,activities,A71,act, A70)","v":0},{"$f":"SUMIFS(non_staffexp2018,activities,A71,act, A70)","v":0},{"$f":"SUM(F71:G71)","v":0},{"$f":"SUMIFS(staff_exp2019,activities,A71,act, A70)","v":0},{"$f":"SUMIFS(non_staffexp2019,activities,A71,act, A70)","v":0},{"$f":"SUM(I71:J71)","v":0},{"$f":"SUMIFS(staff_exp2020,activities,A71,act, A70)","v":0},{"$f":"SUMIFS(non_staffexp2020,activities,A71,act, A70)","v":0},{"$f":"SUM(L71:M71)","v":0},{"$f":"SUMIFS(staff_exp2021,activities,A71,act, A70)","v":0},{"$f":"SUMIFS(non_staffexp2021,activities,A71,act, A70)","v":0}]
[{"$f":"cluster_activity_2","v":"សកម្មភាពរងទី ២. ការលើកកម្ពស់ភាពជាអ្នកដឹកនាំ និងគ្រប់គ្រង របស់មន្រ្តីអប់រំគ្រប់លំដាប់ថ្នាក់"},{"$f":"SUM(C72:D72)","v":0},{"$f":"SUMIFS(staff_exp2018,activities,A72,act, A70)","v":0},{"$f":"SUMIFS(non_staffexp2018,activities,A72,act, A70)","v":0},{"$f":"SUMIFS(total2019,activities,D72,act, D70)","v":0},{"$f":"SUMIFS(staff_exp2019,activities,A72,act, A70)","v":0},{"$f":"SUMIFS(non_staffexp2019,activities,A72,act, A70)","v":0},{"$f":"SUMIFS(total2020,activities,G72,act, G70)","v":0},{"$f":"SUMIFS(staff_exp2020,activities,A72,act, A70)","v":0},{"$f":"SUMIFS(non_staffexp2020,activities,A72,act, A70)","v":0},{"$f":"SUMIFS(total2021,activities,J72,act, J70)","v":0},{"$f":"SUMIFS(staff_exp2021,activities,A72,act, A70)","v":0},{"$f":"SUMIFS(non_staffexp2021,activities,A72,act, A70)","v":0}]
[{"$f":"'ចំណាយ-ថវិការដ្ឋ'!A186","v":"៥.១៨.០១.៥៖ ការពិនិត្យតាមដាន វាយតម្លៃ និងអធិការកិច្ចប្រព័ន្ធធានាគុណភាពអប់រំ"},0,{"$f":"SUM(C74:C75)","v":0},0,0,{"$f":"SUM(F74:F75)","v":0},0,0,{"$f":"SUM(I74:I75)","v":0},0,0,{"$f":"SUM(L74:L75)","v":0},0]
[{"$f":"cluster_activity_1","v":"សកម្មភាពរងទី ១. ការចូលរៀនមានគុណភាពប្រកប​ដោយ​សមធម៌ និងបរិយាប័ន្ន និងលើកកម្ពស់ឱកាសក្នុងការសិក្សា​ពេញមួយជីវិតសម្រាប់ទាំងអស់គ្នា"},{"$f":"SUM(C74:D74)","v":0},{"$f":"SUMIFS(staff_exp2018,activities,A74,act, A73)","v":0},{"$f":"SUMIFS(non_staffexp2018,activities,A74,act, A73)","v":0},{"$f":"SUM(F74:G74)","v":0},{"$f":"SUMIFS(staff_exp2019,activities,A74,act, A73)","v":0},{"$f":"SUMIFS(non_staffexp2019,activities,A74,act, A73)","v":0},{"$f":"SUM(I74:J74)","v":0},{"$f":"SUMIFS(staff_exp2020,activities,A74,act, A73)","v":0},{"$f":"SUMIFS(non_staffexp2020,activities,A74,act, A73)","v":0},{"$f":"SUM(L74:M74)","v":0},{"$f":"SUMIFS(staff_exp2021,activities,A74,act, A73)","v":0},{"$f":"SUMIFS(non_staffexp2021,activities,A74,act, A73)","v":0}]
[{"$f":"cluster_activity_2","v":"សកម្មភាពរងទី ២. ការលើកកម្ពស់ភាពជាអ្នកដឹកនាំ និងគ្រប់គ្រង របស់មន្រ្តីអប់រំគ្រប់លំដាប់ថ្នាក់"},{"$f":"SUM(C75:D75)","v":0},{"$f":"SUMIFS(staff_exp2018,activities,A75,act, A73)","v":0},{"$f":"SUMIFS(non_staffexp2018,activities,A75,act, A73)","v":0},{"$f":"SUMIFS(total2019,activities,D75,act, D73)","v":0},{"$f":"SUMIFS(staff_exp2019,activities,A75,act, A73)","v":0},{"$f":"SUMIFS(non_staffexp2019,activities,A75,act, A73)","v":0},{"$f":"SUMIFS(total2020,activities,G75,act, G73)","v":0},{"$f":"SUMIFS(staff_exp2020,activities,A75,act, A73)","v":0},{"$f":"SUMIFS(non_staffexp2020,activities,A75,act, A73)","v":0},{"$f":"SUMIFS(total2021,activities,J75,act, J73)","v":0},{"$f":"SUMIFS(staff_exp2021,activities,A75,act, A73)","v":0},{"$f":"SUMIFS(non_staffexp2021,activities,A75,act, A73)","v":0}]
[{"$f":"'ចំណាយ-ថវិការដ្ឋ'!A194","v":"៥.១៨.០១.៦៖ អធិការកិច្ចរដ្ឋបាល និងហិរញ្ញវត្ថុ"},{"$f":"SUM(C76:D76)","v":0},{"$f":"SUM(C77:C78)","v":0},0,{"$f":"SUM(F76:G76)","v":0},{"$f":"SUM(F77:F78)","v":0},0,{"$f":"SUM(I76:J76)","v":0},{"$f":"SUM(I77:I78)","v":0},0,{"$f":"SUM(L76:M76)","v":0},{"$f":"SUM(L77:L78)","v":0},0]
[{"$f":"cluster_activity_1","v":"សកម្មភាពរងទី ១. ការចូលរៀនមានគុណភាពប្រកប​ដោយ​សមធម៌ និងបរិយាប័ន្ន និងលើកកម្ពស់ឱកាសក្នុងការសិក្សា​ពេញមួយជីវិតសម្រាប់ទាំងអស់គ្នា"},{"$f":"SUM(C77:D77)","v":0},{"$f":"SUMIFS(staff_exp2018,activities,A77,act, A76)","v":0},{"$f":"SUMIFS(non_staffexp2018,activities,A77,act, A76)","v":0},{"$f":"SUM(F77:G77)","v":0},{"$f":"SUMIFS(staff_exp2019,activities,A77,act, A76)","v":0},{"$f":"SUMIFS(non_staffexp2019,activities,A77,act, A76)","v":0},{"$f":"SUM(I77:J77)","v":0},{"$f":"SUMIFS(staff_exp2020,activities,A77,act, A76)","v":0},{"$f":"SUMIFS(non_staffexp2020,activities,A77,act, A76)","v":0},{"$f":"SUM(L77:M77)","v":0},{"$f":"SUMIFS(staff_exp2021,activities,A77,act, A76)","v":0},{"$f":"SUMIFS(non_staffexp2021,activities,A77,act, A76)","v":0}]
[{"$f":"cluster_activity_2","v":"សកម្មភាពរងទី ២. ការលើកកម្ពស់ភាពជាអ្នកដឹកនាំ និងគ្រប់គ្រង របស់មន្រ្តីអប់រំគ្រប់លំដាប់ថ្នាក់"},{"$f":"SUM(C78:D78)","v":0},{"$f":"SUMIFS(staff_exp2018,activities,A78,act, A76)","v":0},{"$f":"SUMIFS(non_staffexp2018,activities,A78,act, A76)","v":0},{"$f":"SUMIFS(total2019,activities,D78,act, D76)","v":0},{"$f":"SUMIFS(staff_exp2019,activities,A78,act, A76)","v":0},{"$f":"SUMIFS(non_staffexp2019,activities,A78,act, A76)","v":0},{"$f":"SUMIFS(total2020,activities,G78,act, G76)","v":0},{"$f":"SUMIFS(staff_exp2020,activities,A78,act, A76)","v":0},{"$f":"SUMIFS(non_staffexp2020,activities,A78,act, A76)","v":0},{"$f":"SUMIFS(total2021,activities,J78,act, J76)","v":0},{"$f":"SUMIFS(staff_exp2021,activities,A78,act, A76)","v":0},{"$f":"SUMIFS(non_staffexp2021,activities,A78,act, A76)","v":0}]
[{"$f":"'ចំណាយ-ថវិការដ្ឋ'!A202","v":"៥.១៨.០១.៧៖ លើកកម្ពស់ការផ្សព្វផ្សាយព័ត៌មានអប់រំ និងកិច្ចសហប្រតិបត្តិការអាស៊ាន និងស៊ីមេអូ"},0,{"$f":"SUM(C80:C81)","v":0},0,0,{"$f":"SUM(F80:F81)","v":0},0,0,{"$f":"SUM(I80:I81)","v":0},0,0,{"$f":"SUM(L80:L81)","v":0},0]
[{"$f":"cluster_activity_1","v":"សកម្មភាពរងទី ១. ការចូលរៀនមានគុណភាពប្រកប​ដោយ​សមធម៌ និងបរិយាប័ន្ន និងលើកកម្ពស់ឱកាសក្នុងការសិក្សា​ពេញមួយជីវិតសម្រាប់ទាំងអស់គ្នា"},{"$f":"SUM(C80:D80)","v":0},{"$f":"SUMIFS(staff_exp2018,activities,A80,act, A79)","v":0},{"$f":"SUMIFS(non_staffexp2018,activities,A80,act, A79)","v":0},{"$f":"SUM(F80:G80)","v":0},{"$f":"SUMIFS(staff_exp2019,activities,A80,act, A79)","v":0},{"$f":"SUMIFS(non_staffexp2019,activities,A80,act, A79)","v":0},{"$f":"SUM(I80:J80)","v":0},{"$f":"SUMIFS(staff_exp2020,activities,A80,act, A79)","v":0},{"$f":"SUMIFS(non_staffexp2020,activities,A80,act, A79)","v":0},{"$f":"SUM(L80:M80)","v":0},{"$f":"SUMIFS(staff_exp2021,activities,A80,act, A79)","v":0},{"$f":"SUMIFS(non_staffexp2021,activities,A80,act, A79)","v":0}]
[{"$f":"cluster_activity_2","v":"សកម្មភាពរងទី ២. ការលើកកម្ពស់ភាពជាអ្នកដឹកនាំ និងគ្រប់គ្រង របស់មន្រ្តីអប់រំគ្រប់លំដាប់ថ្នាក់"},{"$f":"SUM(C81:D81)","v":0},{"$f":"SUMIFS(staff_exp2018,activities,A81,act, A79)","v":0},{"$f":"SUMIFS(non_staffexp2018,activities,A81,act, A79)","v":0},{"$f":"SUMIFS(total2019,activities,D81,act, D79)","v":0},{"$f":"SUMIFS(staff_exp2019,activities,A81,act, A79)","v":0},{"$f":"SUMIFS(non_staffexp2019,activities,A81,act, A79)","v":0},{"$f":"SUMIFS(total2020,activities,G81,act, G79)","v":0},{"$f":"SUMIFS(staff_exp2020,activities,A81,act, A79)","v":0},{"$f":"SUMIFS(non_staffexp2020,activities,A81,act, A79)","v":0},{"$f":"SUMIFS(total2021,activities,J81,act, J79)","v":0},{"$f":"SUMIFS(staff_exp2021,activities,A81,act, A79)","v":0},{"$f":"SUMIFS(non_staffexp2021,activities,A81,act, A79)","v":0}]
[{"$f":"'ចំណាយ-ថវិការដ្ឋ'!A211","v":"៥.១៨.០១.៨៖ ការពង្រឹងការងារនីតិកម្មសម្រាប់វិស័យអប់រំ"},0,{"$f":"SUM(C83:C84)","v":0},0,0,{"$f":"SUM(F83:F84)","v":0},0,0,{"$f":"SUM(I83:I84)","v":0},0,0,{"$f":"SUM(L83:L84)","v":0},0]
[{"$f":"cluster_activity_1","v":"សកម្មភាពរងទី ១. ការចូលរៀនមានគុណភាពប្រកប​ដោយ​សមធម៌ និងបរិយាប័ន្ន និងលើកកម្ពស់ឱកាសក្នុងការសិក្សា​ពេញមួយជីវិតសម្រាប់ទាំងអស់គ្នា"},{"$f":"SUM(C83:D83)","v":0},{"$f":"SUMIFS(staff_exp2018,activities,A83,act, A82)","v":0},{"$f":"SUMIFS(non_staffexp2018,activities,A83,act, A82)","v":0},{"$f":"SUM(F83:G83)","v":0},{"$f":"SUMIFS(staff_exp2019,activities,A83,act, A82)","v":0},{"$f":"SUMIFS(non_staffexp2019,activities,A83,act, A82)","v":0},{"$f":"SUM(I83:J83)","v":0},{"$f":"SUMIFS(staff_exp2020,activities,A83,act, A82)","v":0},{"$f":"SUMIFS(non_staffexp2020,activities,A83,act, A82)","v":0},{"$f":"SUM(L83:M83)","v":0},{"$f":"SUMIFS(staff_exp2021,activities,A83,act, A82)","v":0},{"$f":"SUMIFS(non_staffexp2021,activities,A83,act, A82)","v":0}]
[{"$f":"cluster_activity_2","v":"សកម្មភាពរងទី ២. ការលើកកម្ពស់ភាពជាអ្នកដឹកនាំ និងគ្រប់គ្រង របស់មន្រ្តីអប់រំគ្រប់លំដាប់ថ្នាក់"},{"$f":"SUM(C84:D84)","v":0},{"$f":"SUMIFS(staff_exp2018,activities,A84,act, A82)","v":0},{"$f":"SUMIFS(non_staffexp2018,activities,A84,act, A82)","v":0},{"$f":"SUMIFS(total2019,activities,D84,act, D82)","v":0},{"$f":"SUMIFS(staff_exp2019,activities,A84,act, A82)","v":0},{"$f":"SUMIFS(non_staffexp2019,activities,A84,act, A82)","v":0},{"$f":"SUMIFS(total2020,activities,G84,act, G82)","v":0},{"$f":"SUMIFS(staff_exp2020,activities,A84,act, A82)","v":0},{"$f":"SUMIFS(non_staffexp2020,activities,A84,act, A82)","v":0},{"$f":"SUMIFS(total2021,activities,J84,act, J82)","v":0},{"$f":"SUMIFS(staff_exp2021,activities,A84,act, A82)","v":0},{"$f":"SUMIFS(non_staffexp2021,activities,A84,act, A82)","v":0}]
[{"$f":"'ចំណាយ-ថវិការដ្ឋ'!A218","v":"៥.១៨.០១.៩៖ ការពង្រឹងការគ្រប់គ្រងហេដ្ឋារចនាសម្ព័ន្ធអប់រំ"},0,{"$f":"SUM(C86:C87)","v":0},0,0,{"$f":"SUM(F86:F87)","v":0},0,0,{"$f":"SUM(I86:I87)","v":0},0,0,{"$f":"SUM(L86:L87)","v":0},0]
[{"$f":"cluster_activity_1","v":"សកម្មភាពរងទី ១. ការចូលរៀនមានគុណភាពប្រកប​ដោយ​សមធម៌ និងបរិយាប័ន្ន និងលើកកម្ពស់ឱកាសក្នុងការសិក្សា​ពេញមួយជីវិតសម្រាប់ទាំងអស់គ្នា"},{"$f":"SUM(C86:D86)","v":0},{"$f":"SUMIFS(staff_exp2018,activities,A86,act, A85)","v":0},{"$f":"SUMIFS(non_staffexp2018,activities,A86,act, A85)","v":0},{"$f":"SUM(F86:G86)","v":0},{"$f":"SUMIFS(staff_exp2019,activities,A86,act, A85)","v":0},{"$f":"SUMIFS(non_staffexp2019,activities,A86,act, A85)","v":0},{"$f":"SUM(I86:J86)","v":0},{"$f":"SUMIFS(staff_exp2020,activities,A86,act, A85)","v":0},{"$f":"SUMIFS(non_staffexp2020,activities,A86,act, A85)","v":0},{"$f":"SUM(L86:M86)","v":0},{"$f":"SUMIFS(staff_exp2021,activities,A86,act, A85)","v":0},{"$f":"SUMIFS(non_staffexp2021,activities,A86,act, A85)","v":0}]
[{"$f":"cluster_activity_2","v":"សកម្មភាពរងទី ២. ការលើកកម្ពស់ភាពជាអ្នកដឹកនាំ និងគ្រប់គ្រង របស់មន្រ្តីអប់រំគ្រប់លំដាប់ថ្នាក់"},{"$f":"SUM(C87:D87)","v":0},{"$f":"SUMIFS(staff_exp2018,activities,A87,act, A85)","v":0},{"$f":"SUMIFS(non_staffexp2018,activities,A87,act, A85)","v":0},{"$f":"SUMIFS(total2019,activities,D87,act, D85)","v":0},{"$f":"SUMIFS(staff_exp2019,activities,A87,act, A85)","v":0},{"$f":"SUMIFS(non_staffexp2019,activities,A87,act, A85)","v":0},{"$f":"SUMIFS(total2020,activities,G87,act, G85)","v":0},{"$f":"SUMIFS(staff_exp2020,activities,A87,act, A85)","v":0},{"$f":"SUMIFS(non_staffexp2020,activities,A87,act, A85)","v":0},{"$f":"SUMIFS(total2021,activities,J87,act, J85)","v":0},{"$f":"SUMIFS(staff_exp2021,activities,A87,act, A85)","v":0},{"$f":"SUMIFS(non_staffexp2021,activities,A87,act, A85)","v":0}]
[{"$f":"'ចំណាយ-ថវិការដ្ឋ'!A226","v":"៥.១៨.០១.១០៖ ការពង្រឹងការគ្រប់គ្រង ការផ្គត់ផ្គង់សម្ភារៈ និងទ្រព្យសម្បត្តិរដ្ឋ"},0,{"$f":"SUM(C89:C90)","v":0},0,0,{"$f":"SUM(F89:F90)","v":0},0,0,{"$f":"SUM(I89:I90)","v":0},0,0,{"$f":"SUM(L89:L90)","v":0},0]
[{"$f":"cluster_activity_1","v":"សកម្មភាពរងទី ១. ការចូលរៀនមានគុណភាពប្រកប​ដោយ​សមធម៌ និងបរិយាប័ន្ន និងលើកកម្ពស់ឱកាសក្នុងការសិក្សា​ពេញមួយជីវិតសម្រាប់ទាំងអស់គ្នា"},{"$f":"SUM(C89:D89)","v":0},{"$f":"SUMIFS(staff_exp2018,activities,A89,act, A88)","v":0},{"$f":"SUMIFS(non_staffexp2018,activities,A89,act, A88)","v":0},{"$f":"SUM(F89:G89)","v":0},{"$f":"SUMIFS(staff_exp2019,activities,A89,act, A88)","v":0},{"$f":"SUMIFS(non_staffexp2019,activities,A89,act, A88)","v":0},{"$f":"SUM(I89:J89)","v":0},{"$f":"SUMIFS(staff_exp2020,activities,A89,act, A88)","v":0},{"$f":"SUMIFS(non_staffexp2020,activities,A89,act, A88)","v":0},{"$f":"SUM(L89:M89)","v":0},{"$f":"SUMIFS(staff_exp2021,activities,A89,act, A88)","v":0},{"$f":"SUMIFS(non_staffexp2021,activities,A89,act, A88)","v":0}]
[{"$f":"cluster_activity_2","v":"សកម្មភាពរងទី ២. ការលើកកម្ពស់ភាពជាអ្នកដឹកនាំ និងគ្រប់គ្រង របស់មន្រ្តីអប់រំគ្រប់លំដាប់ថ្នាក់"},{"$f":"SUM(C90:D90)","v":0},{"$f":"SUMIFS(staff_exp2018,activities,A90,act, A88)","v":0},{"$f":"SUMIFS(non_staffexp2018,activities,A90,act, A88)","v":0},{"$f":"SUMIFS(total2019,activities,D90,act, D88)","v":0},{"$f":"SUMIFS(staff_exp2019,activities,A90,act, A88)","v":0},{"$f":"SUMIFS(non_staffexp2019,activities,A90,act, A88)","v":0},{"$f":"SUMIFS(total2020,activities,G90,act, G88)","v":0},{"$f":"SUMIFS(staff_exp2020,activities,A90,act, A88)","v":0},{"$f":"SUMIFS(non_staffexp2020,activities,A90,act, A88)","v":0},{"$f":"SUMIFS(total2021,activities,J90,act, J88)","v":0},{"$f":"SUMIFS(staff_exp2021,activities,A90,act, A88)","v":0},{"$f":"SUMIFS(non_staffexp2021,activities,A90,act, A88)","v":0}]
[{"$f":"'ចំណាយ-ថវិការដ្ឋ'!A233","v":"៥.១៨.០១.១១៖ ការអភិវឌ្ឍ និងពង្រឹងប្រសិទ្ធភាពការគ្រប់គ្រង និងការធានាភាពស័ក្តិសិទ្ធនៃសេវារដ្ឋបាលអប់រំ"},0,{"$f":"SUM(C92:C93)","v":0},0,0,{"$f":"SUM(F92:F93)","v":0},0,0,{"$f":"SUM(I92:I93)","v":0},0,0,{"$f":"SUM(L92:L93)","v":0},0]
[{"$f":"cluster_activity_1","v":"សកម្មភាពរងទី ១. ការចូលរៀនមានគុណភាពប្រកប​ដោយ​សមធម៌ និងបរិយាប័ន្ន និងលើកកម្ពស់ឱកាសក្នុងការសិក្សា​ពេញមួយជីវិតសម្រាប់ទាំងអស់គ្នា"},{"$f":"SUM(C92:D92)","v":0},{"$f":"SUMIFS(staff_exp2018,activities,A92,act, A91)","v":0},{"$f":"SUMIFS(non_staffexp2018,activities,A92,act, A91)","v":0},{"$f":"SUM(F92:G92)","v":0},{"$f":"SUMIFS(staff_exp2019,activities,A92,act, A91)","v":0},{"$f":"SUMIFS(non_staffexp2019,activities,A92,act, A91)","v":0},{"$f":"SUM(I92:J92)","v":0},{"$f":"SUMIFS(staff_exp2020,activities,A92,act, A91)","v":0},{"$f":"SUMIFS(non_staffexp2020,activities,A92,act, A91)","v":0},{"$f":"SUM(L92:M92)","v":0},{"$f":"SUMIFS(staff_exp2021,activities,A92,act, A91)","v":0},{"$f":"SUMIFS(non_staffexp2021,activities,A92,act, A91)","v":0}]
[{"$f":"cluster_activity_2","v":"សកម្មភាពរងទី ២. ការលើកកម្ពស់ភាពជាអ្នកដឹកនាំ និងគ្រប់គ្រង របស់មន្រ្តីអប់រំគ្រប់លំដាប់ថ្នាក់"},{"$f":"SUM(C93:D93)","v":0},{"$f":"SUMIFS(staff_exp2018,activities,A93,act, A91)","v":0},{"$f":"SUMIFS(non_staffexp2018,activities,A93,act, A91)","v":0},{"$f":"SUMIFS(total2019,activities,D93,act, D91)","v":0},{"$f":"SUMIFS(staff_exp2019,activities,A93,act, A91)","v":0},{"$f":"SUMIFS(non_staffexp2019,activities,A93,act, A91)","v":0},{"$f":"SUMIFS(total2020,activities,G93,act, G91)","v":0},{"$f":"SUMIFS(staff_exp2020,activities,A93,act, A91)","v":0},{"$f":"SUMIFS(non_staffexp2020,activities,A93,act, A91)","v":0},{"$f":"SUMIFS(total2021,activities,J93,act, J91)","v":0},{"$f":"SUMIFS(staff_exp2021,activities,A93,act, A91)","v":0},{"$f":"SUMIFS(non_staffexp2021,activities,A93,act, A91)","v":0}]
[{"$f":"'ចំណាយ-ថវិការដ្ឋ'!A241","v":"៥.១៨.០១.១២៖ ការអភិវឌ្ឍកិច្ចសហប្រតិបត្តិការជាតិ អន្តរជាតិលើវិស័យអប់រំ"},0,{"$f":"SUM(C95:C96)","v":0},0,0,{"$f":"SUM(F95:F96)","v":0},0,0,{"$f":"SUM(I95:I96)","v":0},0,0,{"$f":"SUM(L95:L96)","v":0},0]
[{"$f":"cluster_activity_1","v":"សកម្មភាពរងទី ១. ការចូលរៀនមានគុណភាពប្រកប​ដោយ​សមធម៌ និងបរិយាប័ន្ន និងលើកកម្ពស់ឱកាសក្នុងការសិក្សា​ពេញមួយជីវិតសម្រាប់ទាំងអស់គ្នា"},{"$f":"SUM(C95:D95)","v":0},{"$f":"SUMIFS(staff_exp2018,activities,A95,act, A94)","v":0},{"$f":"SUMIFS(non_staffexp2018,activities,A95,act, A94)","v":0},{"$f":"SUM(F95:G95)","v":0},{"$f":"SUMIFS(staff_exp2019,activities,A95,act, A94)","v":0},{"$f":"SUMIFS(non_staffexp2019,activities,A95,act, A94)","v":0},{"$f":"SUM(I95:J95)","v":0},{"$f":"SUMIFS(staff_exp2020,activities,A95,act, A94)","v":0},{"$f":"SUMIFS(non_staffexp2020,activities,A95,act, A94)","v":0},{"$f":"SUM(L95:M95)","v":0},{"$f":"SUMIFS(staff_exp2021,activities,A95,act, A94)","v":0},{"$f":"SUMIFS(non_staffexp2021,activities,A95,act, A94)","v":0}]
[{"$f":"cluster_activity_2","v":"សកម្មភាពរងទី ២. ការលើកកម្ពស់ភាពជាអ្នកដឹកនាំ និងគ្រប់គ្រង របស់មន្រ្តីអប់រំគ្រប់លំដាប់ថ្នាក់"},{"$f":"SUM(C96:D96)","v":0},{"$f":"SUMIFS(staff_exp2018,activities,A96,act, A94)","v":0},{"$f":"SUMIFS(non_staffexp2018,activities,A96,act, A94)","v":0},{"$f":"SUMIFS(total2019,activities,D96,act, D94)","v":0},{"$f":"SUMIFS(staff_exp2019,activities,A96,act, A94)","v":0},{"$f":"SUMIFS(non_staffexp2019,activities,A96,act, A94)","v":0},{"$f":"SUMIFS(total2020,activities,G96,act, G94)","v":0},{"$f":"SUMIFS(staff_exp2020,activities,A96,act, A94)","v":0},{"$f":"SUMIFS(non_staffexp2020,activities,A96,act, A94)","v":0},{"$f":"SUMIFS(total2021,activities,J96,act, J94)","v":0},{"$f":"SUMIFS(staff_exp2021,activities,A96,act, A94)","v":0},{"$f":"SUMIFS(non_staffexp2021,activities,A96,act, A94)","v":0}]
[{"$f":"'ចំណាយ-ថវិការដ្ឋ'!A249","v":"៥.១៨.០១.១៣៖ ការអភិវឌ្ឍប្រព័ន្ធព័ត៌មានគ្រប់គ្រងអប់រំ"},0,{"$f":"SUM(C98:C99)","v":0},0,0,{"$f":"SUM(F98:F99)","v":0},0,0,{"$f":"SUM(I98:I99)","v":0},0,0,{"$f":"SUM(L98:L99)","v":0},0]
[{"$f":"cluster_activity_1","v":"សកម្មភាពរងទី ១. ការចូលរៀនមានគុណភាពប្រកប​ដោយ​សមធម៌ និងបរិយាប័ន្ន និងលើកកម្ពស់ឱកាសក្នុងការសិក្សា​ពេញមួយជីវិតសម្រាប់ទាំងអស់គ្នា"},{"$f":"SUM(C98:D98)","v":0},{"$f":"SUMIFS(staff_exp2018,activities,A98,act, A97)","v":0},{"$f":"SUMIFS(non_staffexp2018,activities,A98,act, A97)","v":0},{"$f":"SUM(F98:G98)","v":0},{"$f":"SUMIFS(staff_exp2019,activities,A98,act, A97)","v":0},{"$f":"SUMIFS(non_staffexp2019,activities,A98,act, A97)","v":0},{"$f":"SUM(I98:J98)","v":0},{"$f":"SUMIFS(staff_exp2020,activities,A98,act, A97)","v":0},{"$f":"SUMIFS(non_staffexp2020,activities,A98,act, A97)","v":0},{"$f":"SUM(L98:M98)","v":0},{"$f":"SUMIFS(staff_exp2021,activities,A98,act, A97)","v":0},{"$f":"SUMIFS(non_staffexp2021,activities,A98,act, A97)","v":0}]
[{"$f":"cluster_activity_2","v":"សកម្មភាពរងទី ២. ការលើកកម្ពស់ភាពជាអ្នកដឹកនាំ និងគ្រប់គ្រង របស់មន្រ្តីអប់រំគ្រប់លំដាប់ថ្នាក់"},{"$f":"SUM(C99:D99)","v":0},{"$f":"SUMIFS(staff_exp2018,activities,A99,act, A97)","v":0},{"$f":"SUMIFS(non_staffexp2018,activities,A99,act, A97)","v":0},{"$f":"SUMIFS(total2019,activities,D99,act, D97)","v":0},{"$f":"SUMIFS(staff_exp2019,activities,A99,act, A97)","v":0},{"$f":"SUMIFS(non_staffexp2019,activities,A99,act, A97)","v":0},{"$f":"SUMIFS(total2020,activities,G99,act, G97)","v":0},{"$f":"SUMIFS(staff_exp2020,activities,A99,act, A97)","v":0},{"$f":"SUMIFS(non_staffexp2020,activities,A99,act, A97)","v":0},{"$f":"SUMIFS(total2021,activities,J99,act, J97)","v":0},{"$f":"SUMIFS(staff_exp2021,activities,A99,act, A97)","v":0},{"$f":"SUMIFS(non_staffexp2021,activities,A99,act, A97)","v":0}]
[{"$f":"'ចំណាយ-ថវិការដ្ឋ'!A257","v":"៥.១៨.០១.១៤៖ ការស្រាវជ្រាវ និងអភិវឌ្ឍគោលនយោបាយអប់រំ"},0,{"$f":"SUM(C101:C102)","v":0},0,0,{"$f":"SUM(F101:F102)","v":0},0,0,{"$f":"SUM(I101:I102)","v":0},0,0,{"$f":"SUM(L101:L102)","v":0},0]
[{"$f":"cluster_activity_1","v":"សកម្មភាពរងទី ១. ការចូលរៀនមានគុណភាពប្រកប​ដោយ​សមធម៌ និងបរិយាប័ន្ន និងលើកកម្ពស់ឱកាសក្នុងការសិក្សា​ពេញមួយជីវិតសម្រាប់ទាំងអស់គ្នា"},{"$f":"SUM(C101:D101)","v":0},{"$f":"SUMIFS(staff_exp2018,activities,A101,act, A100)","v":0},{"$f":"SUMIFS(non_staffexp2018,activities,A101,act, A100)","v":0},{"$f":"SUM(F101:G101)","v":0},{"$f":"SUMIFS(staff_exp2019,activities,A101,act, A100)","v":0},{"$f":"SUMIFS(non_staffexp2019,activities,A101,act, A100)","v":0},{"$f":"SUM(I101:J101)","v":0},{"$f":"SUMIFS(staff_exp2020,activities,A101,act, A100)","v":0},{"$f":"SUMIFS(non_staffexp2020,activities,A101,act, A100)","v":0},{"$f":"SUM(L101:M101)","v":0},{"$f":"SUMIFS(staff_exp2021,activities,A101,act, A100)","v":0},{"$f":"SUMIFS(non_staffexp2021,activities,A101,act, A100)","v":0}]
[{"$f":"cluster_activity_2","v":"សកម្មភាពរងទី ២. ការលើកកម្ពស់ភាពជាអ្នកដឹកនាំ និងគ្រប់គ្រង របស់មន្រ្តីអប់រំគ្រប់លំដាប់ថ្នាក់"},{"$f":"SUM(C102:D102)","v":0},{"$f":"SUMIFS(staff_exp2018,activities,A102,act, A100)","v":0},{"$f":"SUMIFS(non_staffexp2018,activities,A102,act, A100)","v":0},{"$f":"SUMIFS(total2019,activities,D102,act, D100)","v":0},{"$f":"SUMIFS(staff_exp2019,activities,A102,act, A100)","v":0},{"$f":"SUMIFS(non_staffexp2019,activities,A102,act, A100)","v":0},{"$f":"SUMIFS(total2020,activities,G102,act, G100)","v":0},{"$f":"SUMIFS(staff_exp2020,activities,A102,act, A100)","v":0},{"$f":"SUMIFS(non_staffexp2020,activities,A102,act, A100)","v":0},{"$f":"SUMIFS(total2021,activities,J102,act, J100)","v":0},{"$f":"SUMIFS(staff_exp2021,activities,A102,act, A100)","v":0},{"$f":"SUMIFS(non_staffexp2021,activities,A102,act, A100)","v":0}]
[{"$f":"'ចំណាយ-ថវិការដ្ឋ'!A267","v":"៥.១៨.០១.១៥៖ ការអភិវឌ្ឍនិងពង្រឹងប្រព័ន្ធពិនិត្យ តាមដាន និងវាយតម្លៃ"},0,{"$f":"SUM(C104:C105)","v":0},0,0,{"$f":"SUM(F104:F105)","v":0},0,0,{"$f":"SUM(I104:I105)","v":0},0,0,{"$f":"SUM(L104:L105)","v":0},0]
[{"$f":"cluster_activity_1","v":"សកម្មភាពរងទី ១. ការចូលរៀនមានគុណភាពប្រកប​ដោយ​សមធម៌ និងបរិយាប័ន្ន និងលើកកម្ពស់ឱកាសក្នុងការសិក្សា​ពេញមួយជីវិតសម្រាប់ទាំងអស់គ្នា"},{"$f":"SUM(C104:D104)","v":0},{"$f":"SUMIFS(staff_exp2018,activities,A104,act, A103)","v":0},{"$f":"SUMIFS(non_staffexp2018,activities,A104,act, A103)","v":0},{"$f":"SUM(F104:G104)","v":0},{"$f":"SUMIFS(staff_exp2019,activities,A104,act, A103)","v":0},{"$f":"SUMIFS(non_staffexp2019,activities,A104,act, A103)","v":0},{"$f":"SUM(I104:J104)","v":0},{"$f":"SUMIFS(staff_exp2020,activities,A104,act, A103)","v":0},{"$f":"SUMIFS(non_staffexp2020,activities,A104,act, A103)","v":0},{"$f":"SUM(L104:M104)","v":0},{"$f":"SUMIFS(staff_exp2021,activities,A104,act, A103)","v":0},{"$f":"SUMIFS(non_staffexp2021,activities,A104,act, A103)","v":0}]
[{"$f":"cluster_activity_2","v":"សកម្មភាពរងទី ២. ការលើកកម្ពស់ភាពជាអ្នកដឹកនាំ និងគ្រប់គ្រង របស់មន្រ្តីអប់រំគ្រប់លំដាប់ថ្នាក់"},{"$f":"SUM(C105:D105)","v":0},{"$f":"SUMIFS(staff_exp2018,activities,A105,act, A103)","v":0},{"$f":"SUMIFS(non_staffexp2018,activities,A105,act, A103)","v":0},{"$f":"SUMIFS(total2019,activities,D105,act, D103)","v":0},{"$f":"SUMIFS(staff_exp2019,activities,A105,act, A103)","v":0},{"$f":"SUMIFS(non_staffexp2019,activities,A105,act, A103)","v":0},{"$f":"SUMIFS(total2020,activities,G105,act, G103)","v":0},{"$f":"SUMIFS(staff_exp2020,activities,A105,act, A103)","v":0},{"$f":"SUMIFS(non_staffexp2020,activities,A105,act, A103)","v":0},{"$f":"SUMIFS(total2021,activities,J105,act, J103)","v":0},{"$f":"SUMIFS(staff_exp2021,activities,A105,act, A103)","v":0},{"$f":"SUMIFS(non_staffexp2021,activities,A105,act, A103)","v":0}]
[{"$f":"'ចំណាយ-ថវិការដ្ឋ'!A275","v":"៥.១៨.០១.១៦៖ ការអភិវឌ្ឍ​បច្ចេកវិទ្យាព័ត៌មានសម្រាប់ការងារអប់រំ យុវជន និងកីឡា"},0,{"$f":"SUM(C107:C108)","v":0},0,0,{"$f":"SUM(F107:F108)","v":0},0,0,{"$f":"SUM(I107:I108)","v":0},0,0,{"$f":"SUM(L107:L108)","v":0},0]
[{"$f":"cluster_activity_1","v":"សកម្មភាពរងទី ១. ការចូលរៀនមានគុណភាពប្រកប​ដោយ​សមធម៌ និងបរិយាប័ន្ន និងលើកកម្ពស់ឱកាសក្នុងការសិក្សា​ពេញមួយជីវិតសម្រាប់ទាំងអស់គ្នា"},{"$f":"SUM(C107:D107)","v":0},{"$f":"SUMIFS(staff_exp2018,activities,A107,act, A106)","v":0},{"$f":"SUMIFS(non_staffexp2018,activities,A107,act, A106)","v":0},{"$f":"SUM(F107:G107)","v":0},{"$f":"SUMIFS(staff_exp2019,activities,A107,act, A106)","v":0},{"$f":"SUMIFS(non_staffexp2019,activities,A107,act, A106)","v":0},{"$f":"SUM(I107:J107)","v":0},{"$f":"SUMIFS(staff_exp2020,activities,A107,act, A106)","v":0},{"$f":"SUMIFS(non_staffexp2020,activities,A107,act, A106)","v":0},{"$f":"SUM(L107:M107)","v":0},{"$f":"SUMIFS(staff_exp2021,activities,A107,act, A106)","v":0},{"$f":"SUMIFS(non_staffexp2021,activities,A107,act, A106)","v":0}]
[{"$f":"cluster_activity_2","v":"សកម្មភាពរងទី ២. ការលើកកម្ពស់ភាពជាអ្នកដឹកនាំ និងគ្រប់គ្រង របស់មន្រ្តីអប់រំគ្រប់លំដាប់ថ្នាក់"},{"$f":"SUM(C108:D108)","v":0},{"$f":"SUMIFS(staff_exp2018,activities,A108,act, A106)","v":0},{"$f":"SUMIFS(non_staffexp2018,activities,A108,act, A106)","v":0},{"$f":"SUMIFS(total2019,activities,D108,act, D106)","v":0},{"$f":"SUMIFS(staff_exp2019,activities,A108,act, A106)","v":0},{"$f":"SUMIFS(non_staffexp2019,activities,A108,act, A106)","v":0},{"$f":"SUMIFS(total2020,activities,G108,act, G106)","v":0},{"$f":"SUMIFS(staff_exp2020,activities,A108,act, A106)","v":0},{"$f":"SUMIFS(non_staffexp2020,activities,A108,act, A106)","v":0},{"$f":"SUMIFS(total2021,activities,J108,act, J106)","v":0},{"$f":"SUMIFS(staff_exp2021,activities,A108,act, A106)","v":0},{"$f":"SUMIFS(non_staffexp2021,activities,A108,act, A106)","v":0}]
[{"$f":"'ចំណាយ-ថវិការដ្ឋ'!A284","v":"៥.១៨.០១.១៧៖ ការពង្រឹងគុណភាព និងប្រសិទ្ធភាពការងារប្រឡងនៅមធ្យមសិក្សានិងអប់រំបច្ចេកទេស"},0,{"$f":"SUM(C110:C111)","v":0},0,0,{"$f":"SUM(F110:F111)","v":0},0,0,{"$f":"SUM(I110:I111)","v":0},0,0,{"$f":"SUM(L110:L111)","v":0},0]
[{"$f":"cluster_activity_1","v":"សកម្មភាពរងទី ១. ការចូលរៀនមានគុណភាពប្រកប​ដោយ​សមធម៌ និងបរិយាប័ន្ន និងលើកកម្ពស់ឱកាសក្នុងការសិក្សា​ពេញមួយជីវិតសម្រាប់ទាំងអស់គ្នា"},{"$f":"SUM(C110:D110)","v":0},{"$f":"SUMIFS(staff_exp2018,activities,A110,act, A109)","v":0},{"$f":"SUMIFS(non_staffexp2018,activities,A110,act, A109)","v":0},{"$f":"SUM(F110:G110)","v":0},{"$f":"SUMIFS(staff_exp2019,activities,A110,act, A109)","v":0},{"$f":"SUMIFS(non_staffexp2019,activities,A110,act, A109)","v":0},{"$f":"SUM(I110:J110)","v":0},{"$f":"SUMIFS(staff_exp2020,activities,A110,act, A109)","v":0},{"$f":"SUMIFS(non_staffexp2020,activities,A110,act, A109)","v":0},{"$f":"SUM(L110:M110)","v":0},{"$f":"SUMIFS(staff_exp2021,activities,A110,act, A109)","v":0},{"$f":"SUMIFS(non_staffexp2021,activities,A110,act, A109)","v":0}]
[{"$f":"cluster_activity_2","v":"សកម្មភាពរងទី ២. ការលើកកម្ពស់ភាពជាអ្នកដឹកនាំ និងគ្រប់គ្រង របស់មន្រ្តីអប់រំគ្រប់លំដាប់ថ្នាក់"},{"$f":"SUM(C111:D111)","v":0},{"$f":"SUMIFS(staff_exp2018,activities,A111,act, A109)","v":0},{"$f":"SUMIFS(non_staffexp2018,activities,A111,act, A109)","v":0},{"$f":"SUMIFS(total2019,activities,D111,act, D109)","v":0},{"$f":"SUMIFS(staff_exp2019,activities,A111,act, A109)","v":0},{"$f":"SUMIFS(non_staffexp2019,activities,A111,act, A109)","v":0},{"$f":"SUMIFS(total2020,activities,G111,act, G109)","v":0},{"$f":"SUMIFS(staff_exp2020,activities,A111,act, A109)","v":0},{"$f":"SUMIFS(non_staffexp2020,activities,A111,act, A109)","v":0},{"$f":"SUMIFS(total2021,activities,J111,act, J109)","v":0},{"$f":"SUMIFS(staff_exp2021,activities,A111,act, A109)","v":0},{"$f":"SUMIFS(non_staffexp2021,activities,A111,act, A109)","v":0}]

{"sheet":"Table 4.1","index":4,"n_rows":51,"n_cols":13,"rows_kept":51,"cut":false,"hidden":false,"merged":[[4,0,4,12],[6,0,7,0],[6,1,6,3],[6,4,6,6],[6,7,6,9],[6,10,6,12]]}
[]
[]
["ក្រសួងអប់រំ​​​​​​​​​​​ យុវជន និងកីឡា"]
[{"$f":"CONCATENATE(\"មន្ទីរអប់រំ យុវជន និងកីឡា\",province)","v":"មន្ទីរអប់រំ យុវជន និងកីឡាខេត្តបន្ទាយមានជ័យ"}]
["សរុបការកំណត់តម្រូវការចំណាយសម្រាប់កម្មវិធី និងអនុកម្មវិធី"]
["តារាង ៤.១ ",null,null,null,null,null,null,null,null,null,null,null,"ឯកតា៖ លានរៀល"]
["តម្រូវការឥណទាន\nតាមប្រភេទចំណាយ","ច្បាប់ហិរញ្ញវត្ថុ \nឆ្នាំ ២០១៨",null,null,"គ្រោងតម្រូវការឥណទាន\nសម្រាប់ឆ្នាំ ២០១៩",null,null,"គ្រោងតម្រូវការឥណទាន\nសម្រាប់ឆ្នាំ ២០២០",null,null,"គ្រោងតម្រូវការឥណទាន\nសម្រាប់ឆ្នាំ ២០២១"]
[null,"ថវិការដ្ឋ","ថវិកាដៃគូ \nអភិវឌ្ឍ","ផ្សេងៗ","ថវិការដ្ឋ","ថវិកាដៃគូ \nអភិវឌ្ឍ","ផ្សេងៗ","ថវិការដ្ឋ","ថវិកាដៃគូ \nអភិវឌ្ឍ","ផ្សេងៗ","ថវិការដ្ឋ","ថវិកាដៃគូ \nអភិវឌ្ឍ","ផ្សេងៗ"]
["សរុបរួម",{"$f":"SUM(B10,B22,B26,B32)","v":0},null,null,{"$f":"SUM(E10,E22,E26,E32)","v":0},null,null,0,null,null,0]
[{"$f":"'ចំណាយ-ថវិការដ្ឋ'!A12","v":"កម្មវិធីទី១៖ ការអភិវឌ្ឍការអប់រំក្នុងប្រព័ន្ធ ក្រៅប្រព័ន្ធ និងមិនផ្លូវការ"},{"$f":"B11","v":0},null,null,0,null,null,0,null,null,0]
[{"$f":"'ចំណាយ-ថវិការដ្ឋ'!A13","v":"អនុកម្មវិធីទី ១.១០៖ សេវាគាំទ្រការអភិវឌ្ឍការអប់រំក្នុងប្រព័ន្ធ ក្រៅប្រព័ន្ធ និងមិនផ្លូវការរបស់មន្ទីរជំនាញ រាជធានី ខេត្ត"},0,null,null,0,null,null,0,null,null,0]
[{"$f":"'ចំណាយ-ថវិការដ្ឋ'!A14","v":"ចង្កោមសកម្មភាពទី ០១៖ខេត្តបន្ទាយមានជ័យ"},{"$f":"SUM(B13:B21)","v":0},null,null,0,null,null,0,null,null,0]
[{"$f":"'ចំណាយ-ថវិការដ្ឋ'!A15","v":"១.១០.០១.១៖ ការពង្រីកការអប់រំកុមារតូច"},{"$f":"INDEX(total2018,MATCH(A13,activities,0))","v":0},null,null,{"$f":"INDEX(total2019,MATCH(A13,activities,0))","v":0},null,null,{"$f":"INDEX(total2020,MATCH(A13,activities,0))","v":0},null,null,{"$f":"INDEX(total2021,MATCH(A13,activities,0))","v":0}]
[{"$f":"'ចំណាយ-ថវិការដ្ឋ'!A25","v":"១.១០.០១.២៖ ការពង្រឹងគុណភាព និងប្រសិទ្ធភាពនៃការអប់រំនៅបឋមសិក្សា"},0,null,null,0,null,null,0,null,null,0]
[{"$f":"'ចំណាយ-ថវិការដ្ឋ'!A36","v":"១.១០.០១.៣៖ ការចូលរៀនប្រកបដោយសមធម៌​ ការពង្រឹងគុណភាព និងប្រសិទ្ធភាពនៃការ​អប់រំនៅមធ្យមសិក្សា"},0,null,null,0,null,null,0,null,null,0]
[{"$f":"'ចំណាយ-ថវិការដ្ឋ'!A50","v":"១.១០.០១.៤៖ ការពង្រីកការអប់រំក្រៅប្រព័ន្ធ"},0,null,null,0,null,null,0,null,null,0]
[{"$f":"'ចំណាយ-ថវិការដ្ឋ'!A58","v":"១.១០.០១.៥៖ ការពង្រឹង​ និងការពង្រីកកម្មវិធីលើកកម្ពស់សុខភាពសិក្សា"},0,null,null,0,null,null,0,null,null,0]
[{"$f":"'ចំណាយ-ថវិការដ្ឋ'!A68","v":"១.១០.០១.៦៖ លើកកម្ពស់គុណភាព និងប្រសិទ្ធភាពនៃការអនុវត្តកម្មវិធីអប់រំបច្ចេកទេស"},0,null,null,0,null,null,0,null,null,0]
[{"$f":"'ចំណាយ-ថវិការដ្ឋ'!A76","v":"១.១០.០១.៧៖ ការអភិវឌ្ឍការងារបណ្តុះបណ្តុះ និងវិក្រឹតការគ្រូបង្រៀន"},0,null,null,0,null,null,0,null,null,0]
[{"$f":"'ចំណាយ-ថវិការដ្ឋ'!A87","v":"១.១០.០១.៨៖ ការអភិវឌ្ឍកម្មវិធីសិក្សា សម្ភារៈសិក្សា និងបណ្ណាល័យ"},0,null,null,0,null,null,0,null,null,0]
[{"$f":"'ចំណាយ-ថវិការដ្ឋ'!A96","v":"១.១០.០១.៩៖ ពង្រីកការអប់រំបរិយាបន្នគ្រប់ភូមិសិក្សា"},0,null,null,0,null,null,0,null,null,0]
[{"$f":"'ចំណាយ-ថវិការដ្ឋ'!A105","v":"កម្មវិធីទី ៣៖ ការអភិវឌ្ឍវិស័យអប់រំកាយ និងកីឡា"},{"$f":"B23","v":0},null,null,0,null,null,0,null,null,0]
[{"$f":"'ចំណាយ-ថវិការដ្ឋ'!A106","v":"អនុកម្មវិធីទី ៣.២ សេវាគាំទ្រការអភិវឌ្ឍវិស័យអប់រំកាយ និងកីឡារបស់មន្ទីរជំនាញរាជធានី ខេត្ត"},0,null,null,0,null,null,0,null,null,0]
[{"$f":"'ចំណាយ-ថវិការដ្ឋ'!A107","v":"ចង្កោមសកម្មភាពទី ០១៖ខេត្តបន្ទាយមានជ័យ"},0,null,null,0,null,null,0,null,null,0]
[{"$f":"'ចំណាយ-ថវិការដ្ឋ'!A108","v":"៣.២.០១.១៖ ការអភិវឌ្ឍអប់រំកាយ និងកីឡាសិស្ស និស្សិត មហាជន និងកីឡាកម្រិតខ្ពស់"},{"$f":"INDEX(total2018,MATCH(A25,activities,0))","v":0},null,null,{"$f":"INDEX(total2019,MATCH(A25,activities,0))","v":0},null,null,{"$f":"INDEX(total2020,MATCH(A25,activities,0))","v":0},null,null,{"$f":"INDEX(total2021,MATCH(A25,activities,0))","v":0}]
[{"$f":"'ចំណាយ-ថវិការដ្ឋ'!A120","v":"កម្មវិធីទី៤៖ ការអភិវឌ្ឍជំនាញបច្ចេកទេស និងជំនាញទន់សម្រាប់យុវជន"},{"$f":"B27","v":0},null,null,0,null,null,0,null,null,0]
[{"$f":"'ចំណាយ-ថវិការដ្ឋ'!A121","v":"អនុកម្មវិធីទី ៤.៤៖ សេវាគាំទ្រអភិវឌ្ឍជំនាញបច្ចេកទេស និងជំនាញទន់សម្រាប់យុវជនរបស់\nមន្ទីរជំនាញរាជធានី ខេត្ត"},0,null,null,0,null,null,0,null,null,0]
[{"$f":"'ចំណាយ-ថវិការដ្ឋ'!A122","v":"ចង្កោមសកម្មភាពទី ០១៖ខេត្តបន្ទាយមានជ័យ"},{"$f":"SUM(B29:B31)","v":0},null,null,0,null,null,0,null,null,0]
[{"$f":"'ចំណាយ-ថវិការដ្ឋ'!A123","v":"៤.៤.០១.១៖ ការពង្រឹងសមត្ថភាពយុវជន"},{"$f":"INDEX(total2018,MATCH(A29,activities,0))","v":0},null,null,{"$f":"INDEX(total2019,MATCH(A29,activities,0))","v":0},null,null,{"$f":"INDEX(total2020,MATCH(A29,activities,0))","v":0},null,null,{"$f":"INDEX(total2021,MATCH(A29,activities,0))","v":0}]
[{"$f":"'ចំណាយ-ថវិការដ្ឋ'!A133","v":"៤.៤.០១.២៖ ការអភិវឌ្ឍមជ្ឈមណ្ឌលយុវជន"},{"$f":"INDEX(total2018,MATCH(A30,activities,0))","v":0},null,null,{"$f":"INDEX(total2019,MATCH(A30,activities,0))","v":0},null,null,{"$f":"INDEX(total2020,MATCH(A30,activities,0))","v":0},null,null,{"$f":"INDEX(total2021,MATCH(A30,activities,0))","v":0}]
[{"$f":"'ចំណាយ-ថវិការដ្ឋ'!A141","v":"៤.៤.០១.៣៖ ការអភិវឌ្ឍកាយរឹទ្ធិកម្ម"},{"$f":"INDEX(total2018,MATCH(A31,activities,0))","v":0},null,null,{"$f":"INDEX(total2019,MATCH(A31,activities,0))","v":0},null,null,{"$f":"INDEX(total2020,MATCH(A31,activities,0))","v":0},null,null,{"$f":"INDEX(total2021,MATCH(A31,activities,0))","v":0}]
[{"$f":"'ចំណាយ-ថវិការដ្ឋ'!A148","v":"កម្មវិធីទី៥៖ ការគាំទ្រសេវាអប់រំ និងអភិបាលកិច្ចល្អ"},{"$f":"B33","v":0},null,null,{"$f":"E33","v":0},null,null,0,null,null,0]
[{"$f":"'ចំណាយ-ថវិការដ្ឋ'!A149","v":"អនុកម្មវិធីទី ៥.១៨ សេវាគាំទ្រសេវាអប់រំ និងអភិបាលកិច្ចល្អ របស់មន្ទីរជំនាញរាជធានី ខេត្ត"},{"$f":"B34","v":0},null,null,0,null,null,0,null,null,0]
[{"$f":"'ចំណាយ-ថវិការដ្ឋ'!A150","v":"ចង្កោមសកម្មភាពទី ០១៖ខេត្តបន្ទាយមានជ័យ"},{"$f":"SUM(B35:B51)","v":0},null,null,{"$f":"SUM(E35:E51)","v":0},null,null,0,null,null,0]
[{"$f":"'ចំណាយ-ថវិការដ្ឋ'!A151","v":"៥.១៨.០១.១៖ ការអភិវឌ្ឍនិងពង្រឹងប្រព័ន្ធផែនការអប់រំ"},{"$f":"INDEX(total2018,MATCH(A35,activities,0))","v":0},null,null,{"$f":"INDEX(total2019,MATCH(A35,activities,0))","v":0},null,null,{"$f":"INDEX(total2020,MATCH(A35,activities,0))","v":0},null,null,{"$f":"INDEX(total2021,MATCH(A35,activities,0))","v":0}]
[{"$f":"'ចំណាយ-ថវិការដ្ឋ'!A159","v":"៥.១៨.០១.២៖ ការគ្រប់គ្រង និងពង្រឹងប្រសិទ្ធភាព​ធនធានមនុស្ស"},0,null,null,0,null,null,0,null,null,0]
[{"$f":"'ចំណាយ-ថវិការដ្ឋ'!A170","v":"៥.១៨.០១.៣៖ ការអភិវឌ្ឍសមត្ថភាព ការងារគ្រប់គ្រង ផែនការហិរញ្ញវត្ថុ និងមូលដ្ឋានសម្ភារៈ"},0,null,null,0,null,null,0,null,null,0]
[{"$f":"'ចំណាយ-ថវិការដ្ឋ'!A178","v":"៥.១៨.០១.៤៖ ពង្រឹងការងារសវនកម្មផ្ទៃក្នុង"},0,null,null,0,null,null,0,null,null,0]
[{"$f":"'ចំណាយ-ថវិការដ្ឋ'!A186","v":"៥.១៨.០១.៥៖ ការពិនិត្យតាមដាន វាយតម្លៃ និងអធិការកិច្ចប្រព័ន្ធធានាគុណភាពអប់រំ"},0,null,null,0,null,null,0,null,null,0]
[{"$f":"'ចំណាយ-ថវិការដ្ឋ'!A194","v":"៥.១៨.០១.៦៖ អធិការកិច្ចរដ្ឋបាល និងហិរញ្ញវត្ថុ"},0,null,null,0,null,null,0,null,null,0]
[{"$f":"'ចំណាយ-ថវិការដ្ឋ'!A202","v":"៥.១៨.០១.៧៖ លើកកម្ពស់ការផ្សព្វផ្សាយព័ត៌មានអប់រំ និងកិច្ចសហប្រតិបត្តិការអាស៊ាន និងស៊ីមេអូ"},0,null,null,0,null,null,0,null,null,0]
[{"$f":"'ចំណាយ-ថវិការដ្ឋ'!A211","v":"៥.១៨.០១.៨៖ ការពង្រឹងការងារនីតិកម្មសម្រាប់វិស័យអប់រំ"},0,null,null,0,null,null,0,null,null,0]
[{"$f":"'ចំណាយ-ថវិការដ្ឋ'!A218","v":"៥.១៨.០១.៩៖ ការពង្រឹងការគ្រប់គ្រងហេដ្ឋារចនាសម្ព័ន្ធអប់រំ"},0,null,null,0,null,null,0,null,null,0]
[{"$f":"'ចំណាយ-ថវិការដ្ឋ'!A226","v":"៥.១៨.០១.១០៖ ការពង្រឹងការគ្រប់គ្រង ការផ្គត់ផ្គង់សម្ភារៈ និងទ្រព្យសម្បត្តិរដ្ឋ"},0,null,null,0,null,null,0,null,null,0]
[{"$f":"'ចំណាយ-ថវិការដ្ឋ'!A233","v":"៥.១៨.០១.១១៖ ការអភិវឌ្ឍ និងពង្រឹងប្រសិទ្ធភាពការគ្រប់គ្រង និងការធានាភាពស័ក្តិសិទ្ធនៃសេវារដ្ឋបាលអប់រំ"},0,null,null,0,null,null,0,null,null,0]
[{"$f":"'ចំណាយ-ថវិការដ្ឋ'!A241","v":"៥.១៨.០១.១២៖ ការអភិវឌ្ឍកិច្ចសហប្រតិបត្តិការជាតិ អន្តរជាតិលើវិស័យអប់រំ"},0,null,null,0,null,null,0,null,null,0]
[{"$f":"'ចំណាយ-ថវិការដ្ឋ'!A249","v":"៥.១៨.០១.១៣៖ ការអភិវឌ្ឍប្រព័ន្ធព័ត៌មានគ្រប់គ្រងអប់រំ"},0,null,null,0,null,null,0,null,null,0]
[{"$f":"'ចំណាយ-ថវិការដ្ឋ'!A257","v":"៥.១៨.០១.១៤៖ ការស្រាវជ្រាវ និងអភិវឌ្ឍគោលនយោបាយអប់រំ"},0,null,null,0,null,null,0,null,null,0]
[{"$f":"'ចំណាយ-ថវិការដ្ឋ'!A267","v":"៥.១៨.០១.១៥៖ ការអភិវឌ្ឍនិងពង្រឹងប្រព័ន្ធពិនិត្យ តាមដាន និងវាយតម្លៃ"},0,null,null,0,null,null,0,null,null,0]
[{"$f":"'ចំណាយ-ថវិការដ្ឋ'!A275","v":"៥.១៨.០១.១៦៖ ការអភិវឌ្ឍ​បច្ចេកវិទ្យាព័ត៌មានសម្រាប់ការងារអប់រំ យុវជន និងកីឡា"},0,null,null,0,null,null,0,null,null,0]
[{"$f":"'ចំណាយ-ថវិការដ្ឋ'!A284","v":"៥.១៨.០១.១៧៖ ការពង្រឹងគុណភាព និងប្រសិទ្ធភាពការងារប្រឡងនៅមធ្យមសិក្សានិងអប់រំបច្ចេកទេស"},0,null,null,0,null,null,0,null,null,0]

{"sheet":"Table 4.2","index":5,"n_rows":150,"n_cols":13,"rows_kept":150,"cut":false,"hidden":false,"merged":[[3,0,3,12],[5,0,6,0],[5,1,5,3],[5,4,5,6],[5,7,5,9],[5,10,5,12]]}
[]
["ក្រសួងអប់រំ​​​​​​​​​​​ យុវជន និងកីឡា"]
[{"$f":"CONCATENATE(\"មន្ទីរអប់រំ យុវជន និងកីឡា\",province)","v":"មន្ទីរអប់រំ យុវជន និងកីឡាខេត្តបន្ទាយមានជ័យ"}]
["តារាង ៤ ការកំណត់តម្រូវការចំណាយសម្រាប់កម្មវិធី និងអនុកម្មវិធី"]
[null,null,null,null,null,null,null,null,null,null,null,null,"ឯកតា៖ លានរៀល"]
["តម្រូវការឥណទាន\nតាមប្រភេទចំណាយ","ច្បាប់ហិរញ្ញវត្ថុ \nឆ្នាំ ២០១៨",null,null,"គ្រោងតម្រូវការឥណទាន\nសម្រាប់ឆ្នាំ ២០១៩",null,null,"គ្រោងតម្រូវការឥណទាន\nសម្រាប់ឆ្នាំ ២០២០",null,null,"គ្រោងតម្រូវការឥណទាន\nសម្រាប់ឆ្នាំ ២០២១"]
[null,"ថវិការដ្ឋ","ថវិកាដៃគូ \nអភិវឌ្ឍ","ផ្សេងៗ","ថវិការដ្ឋ","ថវិកាដៃគូ \nអភិវឌ្ឍ","ផ្សេងៗ","ថវិការដ្ឋ","ថវិកាដៃគូ \nអភិវឌ្ឍ","ផ្សេងៗ","ថវិការដ្ឋ","ថវិកាដៃគូ \nអភិវឌ្ឍ","ផ្សេងៗ"]
["សរុបរួម",{"$f":"SUM(B9,B12)","v":0},null,null,{"$f":"SUM(E9,E12)","v":0},null,null,0,null,null,0]
["□ សរុបចំណាយចរន្ដ",{"$f":"SUM(B10:B11)","v":0},null,null,{"$f":"SUM(E10:E11)","v":0},null,null,0,null,null,0]
["•  បន្ទុកបុគ្គលិក",{"$f":"SUM(B21,B54,B87,B120)","v":0},null,null,{"$f":"SUM(E21,E54,E87,E120)","v":0},null,null,{"$f":"SUM(H21,H54,H87,H120)","v":0},null,null,{"$f":"SUM(K21,K54,K87,K120)","v":0}]
["•  ក្រៅបន្ទុកបុគ្គលិក",{"$f":"SUM(B22,B55,B88,B121)","v":0},null,null,{"$f":"SUM(E22,E55,E88,E121)","v":0},null,null,{"$f":"SUM(H22,H55,H88,H121)","v":0},null,null,{"$f":"SUM(K22,K55,K88,K121)","v":0}]
["□ សរុបចំណាយមូលធន",{"$f":"SUM(B13,B16)","v":0},null,null,{"$f":"SUM(E13,E16)","v":0},null,null,0,null,null,0]
["•  គម្រោងវិនិយោគ",{"$f":"SUM(B14:B15)","v":0},null,null,{"$f":"SUM(E14:E15)","v":0},null,null,0,null,null,0]
["- មានហិរញ្ញប្បទាន",{"$f":"SUM(B25,B58,B91,B124)","v":0},null,null,{"$f":"SUM(E25,E58,E91,E124)","v":0},null,null,{"$f":"SUM(H25,H58,H91,H124)","v":0},null,null,{"$f":"SUM(K25,K58,K91,K124)","v":0}]
["- មិនទាន់មានហិរញ្ញប្បទាន",{"$f":"SUM(B26,B59,B92,B125)","v":0},null,null,{"$f":"SUM(E26,E59,E92,E125)","v":0},null,null,{"$f":"SUM(H26,H59,H92,H125)","v":0},null,null,{"$f":"SUM(K26,K59,K92,K125)","v":0}]
["•  ជំនួយបច្ចេកទេស",{"$f":"SUM(B17:B18)","v":0},null,null,{"$f":"SUM(E17:E18)","v":0},null,null,0,null,null,0]
["- មានហិរញ្ញប្បទាន",{"$f":"SUM(B28,B61,B94,B127)","v":0},null,null,{"$f":"SUM(E28,E61,E94,E127)","v":0},null,null,{"$f":"SUM(H28,H61,H94,H127)","v":0},null,null,{"$f":"SUM(K28,K61,K94,K127)","v":0}]
["- មិនទាន់មានហិរញ្ញប្បទាន",{"$f":"SUM(B29,B62,B95,B128)","v":0},null,null,{"$f":"SUM(E29,E62,E95,E128)","v":0},null,null,{"$f":"SUM(H29,H62,H95,H128)","v":0},null,null,{"$f":"SUM(K29,K62,K95,K128)","v":0}]
[{"$f":"ព័ត៌មានអង្គភាព!C3","v":"កម្មវិធីទី១៖ ការអភិវឌ្ឍការអប់រំក្នុងប្រព័ន្ធ ក្រៅប្រព័ន្ធ និងមិនផ្លូវការ"},{"$f":"SUM(B20,B23)","v":0},null,null,{"$f":"SUM(E20,E23)","v":0},null,null,0,null,null,0]
["□ សរុបចំណាយចរន្ដ",{"$f":"SUM(B21:B22)","v":0},null,null,{"$f":"SUM(E21:E22)","v":0},null,null,0,null,null,0]
["•  បន្ទុកបុគ្គលិក",{"$f":"B32","v":0},null,null,{"$f":"E32","v":0},null,null,{"$f":"H32","v":0},null,null,{"$f":"K32","v":0}]
["•  ក្រៅបន្ទុកបុគ្គលិក",{"$f":"B33","v":0},null,null,{"$f":"E33","v":0},null,null,{"$f":"H33","v":0},null,null,{"$f":"K33","v":0}]
["□ សរុបចំណាយមូលធន",{"$f":"SUM(B24,B27)","v":0},null,null,{"$f":"SUM(E24,E27)","v":0},null,null,0,null,null,0]
["•  គម្រោងវិនិយោគ",{"$f":"SUM(B25:B26)","v":0},null,null,{"$f":"SUM(E25:E26)","v":0},null,null,0,null,null,0]
["- មានហិរញ្ញប្បទាន",{"$f":"B36","v":0},null,null,{"$f":"E36","v":0},null,null,{"$f":"H36","v":0},null,null,{"$f":"K36","v":0}]
["- មិនទាន់មានហិរញ្ញប្បទាន",0,null,null,0,null,null,0,null,null,0]
["•  ជំនួយបច្ចេកទេស",{"$f":"SUM(B28:B29)","v":0},null,null,{"$f":"SUM(E28:E29)","v":0},null,null,0,null,null,0]
["- មានហិរញ្ញប្បទាន",{"$f":"B39","v":0},null,null,{"$f":"E39","v":0},null,null,{"$f":"H39","v":0},null,null,{"$f":"K39","v":0}]
["- មិនទាន់មានហិរញ្ញប្បទាន",0,null,null,0,null,null,0,null,null,0]
[{"$f":"ព័ត៌មានអង្គភាព!C4","v":"អនុកម្មវិធីទី ១.១០៖ សេវាគាំទ្រការអភិវឌ្ឍការអប់រំក្នុងប្រព័ន្ធ ក្រៅប្រព័ន្ធ និងមិនផ្លូវការរបស់មន្ទីរជំនាញ រាជធានី ខេត្ត"},{"$f":"SUM(B31,B34)","v":0},null,null,{"$f":"SUM(E31,E34)","v":0},null,null,{"$f":"SUM(H31,H34)","v":0},null,null,{"$f":"SUM(K31,K34)","v":0}]
["□ សរុបចំណាយចរន្ដ",{"$f":"SUM(B32:B33)","v":0},null,null,{"$f":"SUM(E32:E33)","v":0},null,null,{"$f":"SUM(H32:H33)","v":0},null,null,{"$f":"SUM(K32:K33)","v":0}]
["•  បន្ទុកបុគ្គលិក",{"$f":"B43","v":0},null,null,{"$f":"E43","v":0},null,null,{"$f":"H43","v":0},null,null,{"$f":"K43","v":0}]
["•  ក្រៅបន្ទុកបុគ្គលិក",{"$f":"B44","v":0},null,null,0,null,null,0,null,null,0]
["□ សរុបចំណាយមូលធន",{"$f":"SUM(B35,B38)","v":0},null,null,{"$f":"SUM(E35,E38)","v":0},null,null,{"$f":"SUM(H35,H38)","v":0},null,null,{"$f":"SUM(K35,K38)","v":0}]
["•  គម្រោងវិនិយោគ",{"$f":"SUM(B36:B37)","v":0},null,null,{"$f":"SUM(E36:E37)","v":0},null,null,{"$f":"SUM(H36:H37)","v":0},null,null,{"$f":"SUM(K36:K37)","v":0}]
["- មានហិរញ្ញប្បទាន",{"$f":"B47","v":0},null,null,{"$f":"E47","v":0},null,null,{"$f":"H47","v":0},null,null,{"$f":"K47","v":0}]
["- មិនទាន់មានហិរញ្ញប្បទាន",0,null,null,0,null,null,0,null,null,0]
["•  ជំនួយបច្ចេកទេស",{"$f":"SUM(B39:B40)","v":0},null,null,{"$f":"SUM(E39:E40)","v":0},null,null,{"$f":"SUM(H39:H40)","v":0},null,null,{"$f":"SUM(K39:K40)","v":0}]
["- មានហិរញ្ញប្បទាន",{"$f":"B50","v":0},null,null,{"$f":"E50","v":0},null,null,{"$f":"H50","v":0},null,null,{"$f":"K50","v":0}]
["- មិនទាន់មានហិរញ្ញប្បទាន",0,null,null,0,null,null,0,null,null,0]
[{"$f":"ព័ត៌មានអង្គភាព!C5","v":"ចង្កោមសកម្មភាពទី ០១៖ខេត្តបន្ទាយមានជ័យ"},{"$f":"SUM(B42,B45)","v":0},null,null,{"$f":"SUM(E42,E45)","v":0},null,null,{"$f":"SUM(H42,H45)","v":0},null,null,{"$f":"SUM(K42,K45)","v":0}]
["□ សរុបចំណាយចរន្ដ",{"$f":"SUM(B43:B44)","v":0},null,null,{"$f":"SUM(E43:E44)","v":0},null,null,{"$f":"SUM(H43:H44)","v":0},null,null,{"$f":"SUM(K43:K44)","v":0}]
["•  បន្ទុកបុគ្គលិក",{"$f":"'Table 4 MEF'!B43","v":0},null,null,{"$f":"'Table 4 MEF'!E43","v":0},null,null,{"$f":"'Table 4 MEF'!H43","v":0},null,null,{"$f":"'Table 4 MEF'!K43","v":0}]
["•  ក្រៅបន្ទុកបុគ្គលិក",{"$f":"'Table 4 MEF'!B44","v":0},null,null,{"$f":"'Table 4 MEF'!E44","v":0},null,null,{"$f":"'Table 4 MEF'!H44","v":0},null,null,{"$f":"'Table 4 MEF'!K44","v":0}]
["□ សរុបចំណាយមូលធន",{"$f":"SUM(B46,B49)","v":0},null,null,{"$f":"SUM(E46,E49)","v":0},null,null,{"$f":"SUM(H46,H49)","v":0},null,null,{"$f":"SUM(K46,K49)","v":0}]
["•  គម្រោងវិនិយោគ",{"$f":"SUM(B47:B48)","v":0},null,null,{"$f":"SUM(E47:E48)","v":0},null,null,{"$f":"SUM(H47:H48)","v":0},null,null,{"$f":"SUM(K47:K48)","v":0}]
["- មានហិរញ្ញប្បទាន",{"$f":"'Table 4 MEF'!B47","v":0},null,null,{"$f":"'Table 4 MEF'!E47","v":0},null,null,{"$f":"'Table 4 MEF'!H47","v":0},null,null,{"$f":"'Table 4 MEF'!K47","v":0}]
["- មិនទាន់មានហិរញ្ញប្បទាន",{"$f":"'Table 4 MEF'!B48","v":0},null,null,{"$f":"'Table 4 MEF'!E48","v":0},null,null,{"$f":"'Table 4 MEF'!H48","v":0},null,null,{"$f":"'Table 4 MEF'!K48","v":0}]
["•  ជំនួយបច្ចេកទេស",{"$f":"SUM(B50:B51)","v":0},null,null,{"$f":"SUM(E50:E51)","v":0},null,null,{"$f":"SUM(H50:H51)","v":0},null,null,{"$f":"SUM(K50:K51)","v":0}]
["- មានហិរញ្ញប្បទាន",{"$f":"'Table 4 MEF'!B50","v":0},null,null,{"$f":"'Table 4 MEF'!E50","v":0},null,null,{"$f":"'Table 4 MEF'!H50","v":0},null,null,{"$f":"'Table 4 MEF'!K50","v":0}]
["- មិនទាន់មានហិរញ្ញប្បទាន",{"$f":"'Table 4 MEF'!B51","v":0},null,null,{"$f":"'Table 4 MEF'!E51","v":0},null,null,{"$f":"'Table 4 MEF'!H51","v":0},null,null,{"$f":"'Table 4 MEF'!K51","v":0}]
[{"$f":"ព័ត៌មានអង្គភាព!C15","v":"កម្មវិធីទី ៣៖ ការអភិវឌ្ឍវិស័យអប់រំកាយ និងកីឡា"},{"$f":"SUM(B53,B56)","v":0},null,null,{"$f":"SUM(E53,E56)","v":0},null,null,0,null,null,0]
["□ សរុបចំណាយចរន្ដ",{"$f":"SUM(B54:B55)","v":0},null,null,{"$f":"SUM(E54:E55)","v":0},null,null,{"$f":"SUM(H54:H55)","v":0},null,null,{"$f":"SUM(K54:K55)","v":0}]
["•  បន្ទុកបុគ្គលិក",{"$f":"B65","v":0},null,null,{"$f":"E65","v":0},null,null,{"$f":"H65","v":0},null,null,{"$f":"K65","v":0}]
["•  ក្រៅបន្ទុកបុគ្គលិក",{"$f":"B66","v":0},null,null,0,null,null,0,null,null,0]
["□ សរុបចំណាយមូលធន",{"$f":"SUM(B57,B60)","v":0},null,null,{"$f":"SUM(E57,E60)","v":0},null,null,{"$f":"SUM(H57,H60)","v":0},null,null,{"$f":"SUM(K57,K60)","v":0}]
["•  គម្រោងវិនិយោគ",{"$f":"SUM(B58:B59)","v":0},null,null,{"$f":"SUM(E58:E59)","v":0},null,null,{"$f":"SUM(H58:H59)","v":0},null,null,{"$f":"SUM(K58:K59)","v":0}]
["- មានហិរញ្ញប្បទាន",{"$f":"B69","v":0},null,null,{"$f":"E69","v":0},null,null,{"$f":"H69","v":0},null,null,{"$f":"K69","v":0}]
["- មិនទាន់មានហិរញ្ញប្បទាន",0,null,null,0,null,null,0,null,null,0]
["•  ជំនួយបច្ចេកទេស",{"$f":"SUM(B61:B62)","v":0},null,null,{"$f":"SUM(E61:E62)","v":0},null,null,{"$f":"SUM(H61:H62)","v":0},null,null,{"$f":"SUM(K61:K62)","v":0}]
["- មានហិរញ្ញប្បទាន",{"$f":"B72","v":0},null,null,{"$f":"E72","v":0},null,null,{"$f":"H72","v":0},null,null,{"$f":"K72","v":0}]
["- មិនទាន់មានហិរញ្ញប្បទាន",0,null,null,0,null,null,0,null,null,0]
[{"$f":"ព័ត៌មានអង្គភាព!C16","v":"អនុកម្មវិធីទី ៣.២ សេវាគាំទ្រការអភិវឌ្ឍវិស័យអប់រំកាយ និងកីឡារបស់មន្ទីរជំនាញរាជធានី ខេត្ត"},{"$f":"SUM(B64,B67)","v":0},null,null,{"$f":"SUM(E64,E67)","v":0},null,null,{"$f":"SUM(H64,H67)","v":0},null,null,{"$f":"SUM(K64,K67)","v":0}]
["□ សរុបចំណាយចរន្ដ",{"$f":"SUM(B65:B66)","v":0},null,null,{"$f":"SUM(E65:E66)","v":0},null,null,{"$f":"SUM(H65:H66)","v":0},null,null,{"$f":"SUM(K65:K66)","v":0}]
["•  បន្ទុកបុគ្គលិក",{"$f":"B76","v":0},null,null,{"$f":"E76","v":0},null,null,{"$f":"H76","v":0},null,null,{"$f":"K76","v":0}]
["•  ក្រៅបន្ទុកបុគ្គលិក",{"$f":"B77","v":0},null,null,0,null,null,0,null,null,0]
["□ សរុបចំណាយមូលធន",{"$f":"SUM(B68,B71)","v":0},null,null,{"$f":"SUM(E68,E71)","v":0},null,null,{"$f":"SUM(H68,H71)","v":0},null,null,{"$f":"SUM(K68,K71)","v":0}]
["•  គម្រោងវិនិយោគ",{"$f":"SUM(B69:B70)","v":0},null,null,{"$f":"SUM(E69:E70)","v":0},null,null,{"$f":"SUM(H69:H70)","v":0},null,null,{"$f":"SUM(K69:K70)","v":0}]
["- មានហិរញ្ញប្បទាន",{"$f":"B80","v":0},null,null,{"$f":"E80","v":0},null,null,{"$f":"H80","v":0},null,null,{"$f":"K80","v":0}]
["- មិនទាន់មានហិរញ្ញប្បទាន",0,null,null,0,null,null,0,null,null,0]
["•  ជំនួយបច្ចេកទេស",{"$f":"SUM(B72:B73)","v":0},null,null,{"$f":"SUM(E72:E73)","v":0},null,null,{"$f":"SUM(H72:H73)","v":0},null,null,{"$f":"SUM(K72:K73)","v":0}]
["- មានហិរញ្ញប្បទាន",{"$f":"B83","v":0},null,null,{"$f":"E83","v":0},null,null,{"$f":"H83","v":0},null,null,{"$f":"K83","v":0}]
["- មិនទាន់មានហិរញ្ញប្បទាន",0,null,null,0,null,null,0,null,null,0]
[{"$f":"ព័ត៌មានអង្គភាព!C5","v":"ចង្កោមសកម្មភាពទី ០១៖ខេត្តបន្ទាយមានជ័យ"},{"$f":"SUM(B75,B78)","v":0},null,null,{"$f":"SUM(E75,E78)","v":0},null,null,{"$f":"SUM(H75,H78)","v":0},null,null,{"$f":"SUM(K75,K78)","v":0}]
["□ សរុបចំណាយចរន្ដ",{"$f":"SUM(B76:B77)","v":0},null,null,{"$f":"SUM(E76:E77)","v":0},null,null,{"$f":"SUM(H76:H77)","v":0},null,null,{"$f":"SUM(K76:K77)","v":0}]
["•  បន្ទុកបុគ្គលិក",{"$f":"'Table 4 MEF'!B175","v":0},null,null,{"$f":"'Table 4 MEF'!E175","v":0},null,null,{"$f":"'Table 4 MEF'!H175","v":0},null,null,{"$f":"'Table 4 MEF'!K175","v":0}]
["•  ក្រៅបន្ទុកបុគ្គលិក",{"$f":"'Table 4 MEF'!B176","v":0},null,null,{"$f":"'Table 4 MEF'!E176","v":0},null,null,{"$f":"'Table 4 MEF'!H176","v":0},null,null,{"$f":"'Table 4 MEF'!K176","v":0}]
["□ សរុបចំណាយមូលធន",{"$f":"SUM(B79,B82)","v":0},null,null,{"$f":"SUM(E79,E82)","v":0},null,null,{"$f":"SUM(H79,H82)","v":0},null,null,{"$f":"SUM(K79,K82)","v":0}]
["•  គម្រោងវិនិយោគ",{"$f":"SUM(B80:B81)","v":0},null,null,{"$f":"SUM(E80:E81)","v":0},null,null,{"$f":"SUM(H80:H81)","v":0},null,null,{"$f":"SUM(K80:K81)","v":0}]
["- មានហិរញ្ញប្បទាន",{"$f":"'Table 4 MEF'!B179","v":0},null,null,{"$f":"'Table 4 MEF'!E179","v":0},null,null,{"$f":"'Table 4 MEF'!H179","v":0},null,null,{"$f":"'Table 4 MEF'!K179","v":0}]
["- មិនទាន់មានហិរញ្ញប្បទាន",{"$f":"'Table 4 MEF'!B180","v":0},null,null,{"$f":"'Table 4 MEF'!E180","v":0},null,null,{"$f":"'Table 4 MEF'!H180","v":0},null,null,{"$f":"'Table 4 MEF'!K180","v":0}]
["•  ជំនួយបច្ចេកទេស",{"$f":"SUM(B83:B84)","v":0},null,null,{"$f":"SUM(E83:E84)","v":0},null,null,{"$f":"SUM(H83:H84)","v":0},null,null,{"$f":"SUM(K83:K84)","v":0}]
["- មានហិរញ្ញប្បទាន",{"$f":"'Table 4 MEF'!B182","v":0},null,null,{"$f":"'Table 4 MEF'!E182","v":0},null,null,{"$f":"'Table 4 MEF'!H182","v":0},null,null,{"$f":"'Table 4 MEF'!K182","v":0}]
["- មិនទាន់មានហិរញ្ញប្បទាន",{"$f":"'Table 4 MEF'!B183","v":0},null,null,{"$f":"'Table 4 MEF'!E183","v":0},null,null,{"$f":"'Table 4 MEF'!H183","v":0},null,null,{"$f":"'Table 4 MEF'!K183","v":0}]
[{"$f":"ព័ត៌មានអង្គភាព!C19","v":"កម្មវិធីទី៤៖ ការអភិវឌ្ឍជំនាញបច្ចេកទេស និងជំនាញទន់សម្រាប់យុវជន"},{"$f":"SUM(B86,B89)","v":0},null,null,{"$f":"SUM(E86,E89)","v":0},null,null,0,null,null,0]
["□ សរុបចំណាយចរន្ដ",{"$f":"SUM(B87:B88)","v":0},null,null,{"$f":"SUM(E87:E88)","v":0},null,null,{"$f":"SUM(H87:H88)","v":0},null,null,{"$f":"SUM(K87:K88)","v":0}]
["•  បន្ទុកបុគ្គលិក",{"$f":"B98","v":0},null,null,{"$f":"E98","v":0},null,null,{"$f":"H98","v":0},null,null,{"$f":"K98","v":0}]
["•  ក្រៅបន្ទុកបុគ្គលិក",{"$f":"B99","v":0},null,null,0,null,null,0,null,null,0]
["□ សរុបចំណាយមូលធន",{"$f":"SUM(B90,B93)","v":0},null,null,{"$f":"SUM(E90,E93)","v":0},null,null,{"$f":"SUM(H90,H93)","v":0},null,null,{"$f":"SUM(K90,K93)","v":0}]
["•  គម្រោងវិនិយោគ",{"$f":"SUM(B91:B92)","v":0},null,null,{"$f":"SUM(E91:E92)","v":0},null,null,{"$f":"SUM(H91:H92)","v":0},null,null,{"$f":"SUM(K91:K92)","v":0}]
["- មានហិរញ្ញប្បទាន",{"$f":"B102","v":0},null,null,{"$f":"E102","v":0},null,null,{"$f":"H102","v":0},null,null,{"$f":"K102","v":0}]
["- មិនទាន់មានហិរញ្ញប្បទាន",0,null,null,0,null,null,0,null,null,0]
["•  ជំនួយបច្ចេកទេស",{"$f":"SUM(B94:B95)","v":0},null,null,{"$f":"SUM(E94:E95)","v":0},null,null,{"$f":"SUM(H94:H95)","v":0},null,null,{"$f":"SUM(K94:K95)","v":0}]
["- មានហិរញ្ញប្បទាន",{"$f":"B105","v":0},null,null,{"$f":"E105","v":0},null,null,{"$f":"H105","v":0},null,null,{"$f":"K105","v":0}]
["- មិនទាន់មានហិរញ្ញប្បទាន",0,null,null,0,null,null,0,null,null,0]
[{"$f":"ព័ត៌មានអង្គភាព!C20","v":"អនុកម្មវិធីទី ៤.៤៖ សេវាគាំទ្រអភិវឌ្ឍជំនាញបច្ចេកទេស និងជំនាញទន់សម្រាប់យុវជនរបស់\nមន្ទីរជំនាញរាជធានី ខេត្ត"},{"$f":"SUM(B97,B100)","v":0},null,null,{"$f":"SUM(E97,E100)","v":0},null,null,{"$f":"SUM(H97,H100)","v":0},null,null,{"$f":"SUM(K97,K100)","v":0}]
["□ សរុបចំណាយចរន្ដ",{"$f":"SUM(B98:B99)","v":0},null,null,{"$f":"SUM(E98:E99)","v":0},null,null,{"$f":"SUM(H98:H99)","v":0},null,null,{"$f":"SUM(K98:K99)","v":0}]
["•  បន្ទុកបុគ្គលិក",{"$f":"B109","v":0},null,null,{"$f":"E109","v":0},null,null,{"$f":"H109","v":0},null,null,{"$f":"K109","v":0}]
["•  ក្រៅបន្ទុកបុគ្គលិក",{"$f":"B110","v":0},null,null,0,null,null,0,null,null,0]
["□ សរុបចំណាយមូលធន",{"$f":"SUM(B101,B104)","v":0},null,null,{"$f":"SUM(E101,E104)","v":0},null,null,{"$f":"SUM(H101,H104)","v":0},null,null,{"$f":"SUM(K101,K104)","v":0}]
["•  គម្រោងវិនិយោគ",{"$f":"SUM(B102:B103)","v":0},null,null,{"$f":"SUM(E102:E103)","v":0},null,null,{"$f":"SUM(H102:H103)","v":0},null,null,{"$f":"SUM(K102:K103)","v":0}]
["- មានហិរញ្ញប្បទាន",{"$f":"B113","v":0},null,null,{"$f":"E113","v":0},null,null,{"$f":"H113","v":0},null,null,{"$f":"K113","v":0}]
["- មិនទាន់មានហិរញ្ញប្បទាន",0,null,null,0,null,null,0,null,null,0]
["•  ជំនួយបច្ចេកទេស",{"$f":"SUM(B105:B106)","v":0},null,null,{"$f":"SUM(E105:E106)","v":0},null,null,{"$f":"SUM(H105:H106)","v":0},null,null,{"$f":"SUM(K105:K106)","v":0}]
["- មានហិរញ្ញប្បទាន",{"$f":"B116","v":0},null,null,{"$f":"E116","v":0},null,null,{"$f":"H116","v":0},null,null,{"$f":"K116","v":0}]
["- មិនទាន់មានហិរញ្ញប្បទាន",0,null,null,0,null,null,0,null,null,0]
[{"$f":"ព័ត៌មានអង្គភាព!C21","v":"ចង្កោមសកម្មភាពទី ០១៖ខេត្តបន្ទាយមានជ័យ"},{"$f":"SUM(B108,B111)","v":0},null,null,{"$f":"SUM(E108,E111)","v":0},null,null,{"$f":"SUM(H108,H111)","v":0},null,null,{"$f":"SUM(K108,K111)","v":0}]
["□ សរុបចំណាយចរន្ដ",{"$f":"SUM(B109:B110)","v":0},null,null,{"$f":"SUM(E109:E110)","v":0},null,null,{"$f":"SUM(H109:H110)","v":0},null,null,{"$f":"SUM(K109:K110)","v":0}]
["•  បន្ទុកបុគ្គលិក",{"$f":"'Table 4 MEF'!B219","v":0},null,null,{"$f":"'Table 4 MEF'!E219","v":0},null,null,{"$f":"'Table 4 MEF'!H219","v":0},null,null,{"$f":"'Table 4 MEF'!K219","v":0}]
["•  ក្រៅបន្ទុកបុគ្គលិក",{"$f":"'Table 4 MEF'!B220","v":0},null,null,{"$f":"'Table 4 MEF'!E220","v":0},null,null,{"$f":"'Table 4 MEF'!H220","v":0},null,null,{"$f":"'Table 4 MEF'!K220","v":0}]
["□ សរុបចំណាយមូលធន",{"$f":"SUM(B112,B115)","v":0},null,null,{"$f":"SUM(E112,E115)","v":0},null,null,{"$f":"SUM(H112,H115)","v":0},null,null,{"$f":"SUM(K112,K115)","v":0}]
["•  គម្រោងវិនិយោគ",{"$f":"SUM(B113:B114)","v":0},null,null,{"$f":"SUM(E113:E114)","v":0},null,null,{"$f":"SUM(H113:H114)","v":0},null,null,{"$f":"SUM(K113:K114)","v":0}]
["- មានហិរញ្ញប្បទាន",{"$f":"'Table 4 MEF'!B223","v":0},null,null,{"$f":"'Table 4 MEF'!E223","v":0},null,null,{"$f":"'Table 4 MEF'!H223","v":0},null,null,{"$f":"'Table 4 MEF'!K223","v":0}]
["- មិនទាន់មានហិរញ្ញប្បទាន",{"$f":"'Table 4 MEF'!B224","v":0},null,null,{"$f":"'Table 4 MEF'!E224","v":0},null,null,{"$f":"'Table 4 MEF'!H224","v":0},null,null,{"$f":"'Table 4 MEF'!K224","v":0}]
["•  ជំនួយបច្ចេកទេស",{"$f":"SUM(B116:B117)","v":0},null,null,{"$f":"SUM(E116:E117)","v":0},null,null,{"$f":"SUM(H116:H117)","v":0},null,null,{"$f":"SUM(K116:K117)","v":0}]
["- មានហិរញ្ញប្បទាន",{"$f":"'Table 4 MEF'!B226","v":0},null,null,{"$f":"'Table 4 MEF'!E226","v":0},null,null,{"$f":"'Table 4 MEF'!H226","v":0},null,null,{"$f":"'Table 4 MEF'!K226","v":0}]
["- មិនទាន់មានហិរញ្ញប្បទាន",{"$f":"'Table 4 MEF'!B227","v":0},null,null,{"$f":"'Table 4 MEF'!E227","v":0},null,null,{"$f":"'Table 4 MEF'!H227","v":0},null,null,{"$f":"'Table 4 MEF'!K227","v":0}]
[{"$f":"ព័ត៌មានអង្គភាព!C25","v":"កម្មវិធីទី៥៖ ការគាំទ្រសេវាអប់រំ និងអភិបាលកិច្ចល្អ"},{"$f":"SUM(B119,B122)","v":0},null,null,{"$f":"SUM(E119,E122)","v":0},null,null,0,null,null,0]
["□ សរុបចំណាយចរន្ដ",{"$f":"SUM(B120:B121)","v":0},null,null,{"$f":"SUM(E120:E121)","v":0},null,null,{"$f":"SUM(H120:H121)","v":0},null,null,{"$f":"SUM(K120:K121)","v":0}]
["•  បន្ទុកបុគ្គលិក",{"$f":"B131","v":0},null,null,{"$f":"E131","v":0},null,null,{"$f":"H131","v":0},null,null,{"$f":"K131","v":0}]
["•  ក្រៅបន្ទុកបុគ្គលិក",{"$f":"B132","v":0},null,null,0,null,null,0,null,null,0]
["□ សរុបចំណាយមូលធន",{"$f":"SUM(B123,B126)","v":0},null,null,{"$f":"SUM(E123,E126)","v":0},null,null,{"$f":"SUM(H123,H126)","v":0},null,null,{"$f":"SUM(K123,K126)","v":0}]
["•  គម្រោងវិនិយោគ",{"$f":"SUM(B124:B125)","v":0},null,null,{"$f":"SUM(E124:E125)","v":0},null,null,{"$f":"SUM(H124:H125)","v":0},null,null,{"$f":"SUM(K124:K125)","v":0}]
["- មានហិរញ្ញប្បទាន",{"$f":"B135","v":0},null,null,{"$f":"E135","v":0},null,null,{"$f":"H135","v":0},null,null,{"$f":"K135","v":0}]
["- មិនទាន់មានហិរញ្ញប្បទាន",0,null,null,0,null,null,0,null,null,0]
["•  ជំនួយបច្ចេកទេស",{"$f":"SUM(B127:B128)","v":0},null,null,{"$f":"SUM(E127:E128)","v":0},null,null,{"$f":"SUM(H127:H128)","v":0},null,null,{"$f":"SUM(K127:K128)","v":0}]
["- មានហិរញ្ញប្បទាន",{"$f":"B138","v":0},null,null,{"$f":"E138","v":0},null,null,{"$f":"H138","v":0},null,null,{"$f":"K138","v":0}]
["- មិនទាន់មានហិរញ្ញប្បទាន",0,null,null,0,null,null,0,null,null,0]
[{"$f":"ព័ត៌មានអង្គភាព!C26","v":"អនុកម្មវិធីទី ៥.១៨ សេវាគាំទ្រសេវាអប់រំ និងអភិបាលកិច្ចល្អ របស់មន្ទីរជំនាញរាជធានី ខេត្ត"},{"$f":"SUM(B130,B133)","v":0},null,null,{"$f":"SUM(E130,E133)","v":0},null,null,{"$f":"SUM(H130,H133)","v":0},null,null,{"$f":"SUM(K130,K133)","v":0}]
["□ សរុបចំណាយចរន្ដ",{"$f":"SUM(B131:B132)","v":0},null,null,{"$f":"SUM(E131:E132)","v":0},null,null,{"$f":"SUM(H131:H132)","v":0},null,null,{"$f":"SUM(K131:K132)","v":0}]
["•  បន្ទុកបុគ្គលិក",{"$f":"B142","v":0},null,null,{"$f":"E142","v":0},null,null,{"$f":"H142","v":0},null,null,{"$f":"K142","v":0}]
["•  ក្រៅបន្ទុកបុគ្គលិក",{"$f":"B143","v":0},null,null,0,null,null,0,null,null,0]
["□ សរុបចំណាយមូលធន",{"$f":"SUM(B134,B137)","v":0},null,null,{"$f":"SUM(E134,E137)","v":0},null,null,{"$f":"SUM(H134,H137)","v":0},null,null,{"$f":"SUM(K134,K137)","v":0}]
["•  គម្រោងវិនិយោគ",{"$f":"SUM(B135:B136)","v":0},null,null,{"$f":"SUM(E135:E136)","v":0},null,null,{"$f":"SUM(H135:H136)","v":0},null,null,{"$f":"SUM(K135:K136)","v":0}]
["- មានហិរញ្ញប្បទាន",{"$f":"B146","v":0},null,null,{"$f":"E146","v":0},null,null,{"$f":"H146","v":0},null,null,{"$f":"K146","v":0}]
["- មិនទាន់មានហិរញ្ញប្បទាន",0,null,null,0,null,null,0,null,null,0]
["•  ជំនួយបច្ចេកទេស",{"$f":"SUM(B138:B139)","v":0},null,null,{"$f":"SUM(E138:E139)","v":0},null,null,{"$f":"SUM(H138:H139)","v":0},null,null,{"$f":"SUM(K138:K139)","v":0}]
["- មានហិរញ្ញប្បទាន",{"$f":"B149","v":0},null,null,{"$f":"E149","v":0},null,null,{"$f":"H149","v":0},null,null,{"$f":"K149","v":0}]
["- មិនទាន់មានហិរញ្ញប្បទាន",0,null,null,0,null,null,0,null,null,0]
[{"$f":"ព័ត៌មានអង្គភាព!C27","v":"ចង្កោមសកម្មភាពទី ០១៖ខេត្តបន្ទាយមានជ័យ"},{"$f":"SUM(B141,B144)","v":0},null,null,{"$f":"SUM(E141,E144)","v":0},null,null,{"$f":"SUM(H141,H144)","v":0},null,null,{"$f":"SUM(K141,K144)","v":0}]
["□ សរុបចំណាយចរន្ដ",{"$f":"SUM(B142:B143)","v":0},null,null,{"$f":"SUM(E142:E143)","v":0},null,null,{"$f":"SUM(H142:H143)","v":0},null,null,{"$f":"SUM(K142:K143)","v":0}]
["•  បន្ទុកបុគ្គលិក",{"$f":"'Table 4 MEF'!B285","v":0},null,null,{"$f":"'Table 4 MEF'!E285","v":0},null,null,{"$f":"'Table 4 MEF'!H285","v":0},null,null,{"$f":"'Table 4 MEF'!K285","v":0}]
["•  ក្រៅបន្ទុកបុគ្គលិក",{"$f":"'Table 4 MEF'!B286","v":0},null,null,{"$f":"'Table 4 MEF'!E286","v":0},null,null,{"$f":"'Table 4 MEF'!H286","v":0},null,null,{"$f":"'Table 4 MEF'!K286","v":0}]
["□ សរុបចំណាយមូលធន",{"$f":"SUM(B145,B148)","v":0},null,null,{"$f":"SUM(E145,E148)","v":0},null,null,{"$f":"SUM(H145,H148)","v":0},null,null,{"$f":"SUM(K145,K148)","v":0}]
["•  គម្រោងវិនិយោគ",{"$f":"SUM(B146:B147)","v":0},null,null,{"$f":"SUM(E146:E147)","v":0},null,null,{"$f":"SUM(H146:H147)","v":0},null,null,{"$f":"SUM(K146:K147)","v":0}]
["- មានហិរញ្ញប្បទាន",{"$f":"'Table 4 MEF'!B289","v":0},null,null,{"$f":"'Table 4 MEF'!E289","v":0},null,null,{"$f":"'Table 4 MEF'!H289","v":0},null,null,{"$f":"'Table 4 MEF'!K289","v":0}]
["- មិនទាន់មានហិរញ្ញប្បទាន",{"$f":"'Table 4 MEF'!B290","v":0},null,null,{"$f":"'Table 4 MEF'!E290","v":0},null,null,{"$f":"'Table 4 MEF'!H290","v":0},null,null,{"$f":"'Table 4 MEF'!K290","v":0}]
["•  ជំនួយបច្ចេកទេស",{"$f":"SUM(B149:B150)","v":0},null,null,{"$f":"SUM(E149:E150)","v":0},null,null,{"$f":"SUM(H149:H150)","v":0},null,null,{"$f":"SUM(K149:K150)","v":0}]
["- មានហិរញ្ញប្បទាន",{"$f":"'Table 4 MEF'!B292","v":0},null,null,{"$f":"'Table 4 MEF'!E292","v":0},null,null,{"$f":"'Table 4 MEF'!H292","v":0},null,null,{"$f":"'Table 4 MEF'!K292","v":0}]
["- មិនទាន់មានហិរញ្ញប្បទាន",{"$f":"'Table 4 MEF'!B293","v":0},null,null,{"$f":"'Table 4 MEF'!E293","v":0},null,null,{"$f":"'Table 4 MEF'!H293","v":0},null,null,{"$f":"'Table 4 MEF'!K293","v":0}]

{"sheet":"Table 4.3","index":6,"n_rows":23,"n_cols":13,"rows_kept":23,"cut":false,"hidden":false,"merged":[[4,0,4,12],[6,0,7,0],[6,1,6,3],[6,4,6,6],[6,7,6,9],[6,10,6,12]]}
[]
[]
["ក្រសួងអប់រំ​​​​​​​​​​​ យុវជន និងកីឡា"]
[{"$f":"CONCATENATE(\"មន្ទីរអប់រំ យុវជន និងកីឡា\",province)","v":"មន្ទីរអប់រំ យុវជន និងកីឡាខេត្តបន្ទាយមានជ័យ"}]
["សរុបការកំណត់តម្រូវការចំណាយសម្រាប់កម្មវិធី និងអនុកម្មវិធី"]
[null,null,null,null,null,null,null,null,null,null,null,null,"ឯកតា៖ លានរៀល"]
["តម្រូវការឥណទាន\nតាមប្រភេទចំណាយ","ច្បាប់ហិរញ្ញវត្ថុ \nឆ្នាំ ២០១៨",null,null,"គ្រោងតម្រូវការឥណទាន\nសម្រាប់ឆ្នាំ ២០១៩",null,null,"គ្រោងតម្រូវការឥណទាន\nសម្រាប់ឆ្នាំ ២០២០",null,null,"គ្រោងតម្រូវការឥណទាន\nសម្រាប់ឆ្នាំ ២០២១"]
[null,"ថវិការដ្ឋ","ថវិកាដៃគូ \nអភិវឌ្ឍ","ផ្សេងៗ","ថវិការដ្ឋ","ថវិកាដៃគូ \nអភិវឌ្ឍ","ផ្សេងៗ","ថវិការដ្ឋ","ថវិកាដៃគូ \nអភិវឌ្ឍ","ផ្សេងៗ","ថវិការដ្ឋ","ថវិកាដៃគូ \nអភិវឌ្ឍ","ផ្សេងៗ"]
["សរុបរួម",{"$f":"SUM(B10:B11)","v":0},null,null,{"$f":"SUM(E10:E11)","v":0},null,null,{"$f":"SUM(H10:H11)","v":0},null,null,{"$f":"SUM(K10:K11)","v":0}]
[{"$f":"RIGHT(A13,LEN(A13)-12)","v":" ១. ការចូលរៀនមានគុណភាពប្រកប​ដោយ​សមធម៌ និងបរិយាប័ន្ន និងលើកកម្ពស់ឱកាសក្នុងការសិក្សា​ពេញមួយជីវិតសម្រាប់ទាំងអស់គ្នា"},{"$f":"SUM(B13,B16,B19,B22)","v":0},null,null,{"$f":"SUM(E13,E16,E19,E22)","v":0},null,null,{"$f":"SUM(H13,H16,H19,H22)","v":0},null,null,{"$f":"SUM(K13,K16,K19,K22)","v":0}]
[{"$f":"RIGHT(A14,LEN(A14)-12)","v":" ២. ការលើកកម្ពស់ភាពជាអ្នកដឹកនាំ និងគ្រប់គ្រង របស់មន្រ្តីអប់រំគ្រប់លំដាប់ថ្នាក់"},{"$f":"SUM(B14,B17,B20,B23)","v":0},null,null,{"$f":"SUM(E14,E17,E20,E23)","v":0},null,null,{"$f":"SUM(H14,H17,H20,H23)","v":0},null,null,{"$f":"SUM(K14,K17,K20,K23)","v":0}]
[{"$f":"'ចំណាយ-ថវិការដ្ឋ'!A12","v":"កម្មវិធីទី១៖ ការអភិវឌ្ឍការអប់រំក្នុងប្រព័ន្ធ ក្រៅប្រព័ន្ធ និងមិនផ្លូវការ"},{"$f":"SUM(B13:B14)","v":0},null,null,{"$f":"SUM(E13:E14)","v":0},null,null,{"$f":"SUM(H13:H14)","v":0},null,null,{"$f":"SUM(K13:K14)","v":0}]
[{"$f":"cluster_activity_1","v":"សកម្មភាពរងទី ១. ការចូលរៀនមានគុណភាពប្រកប​ដោយ​សមធម៌ និងបរិយាប័ន្ន និងលើកកម្ពស់ឱកាសក្នុងការសិក្សា​ពេញមួយជីវិតសម្រាប់ទាំងអស់គ្នា"},{"$f":"SUM('Table 4.0'!B14,'Table 4.0'!B17,'Table 4.0'!B20,'Table 4.0'!B23,'Table 4.0'!B26,'Table 4.0'!B29,'Table 4.0'!B32,'Table 4.0'!B35,'Table 4.0'!B38)","v":0},null,null,{"$f":"SUM('Table 4.0'!E14,'Table 4.0'!E17,'Table 4.0'!E20,'Table 4.0'!E23,'Table 4.0'!E26,'Table 4.0'!E29,'Table 4.0'!E32,'Table 4.0'!E35,'Table 4.0'!E38)","v":0},null,null,{"$f":"SUM('Table 4.0'!H14,'Table 4.0'!H17,'Table 4.0'!H20,'Table 4.0'!H23,'Table 4.0'!H26,'Table 4.0'!H29,'Table 4.0'!H32,'Table 4.0'!H35,'Table 4.0'!H38)","v":0},null,null,{"$f":"SUM('Table 4.0'!K14,'Table 4.0'!K17,'Table 4.0'!K20,'Table 4.0'!K23,'Table 4.0'!K26,'Table 4.0'!K29,'Table 4.0'!K32,'Table 4.0'!K35,'Table 4.0'!K38)","v":0}]
[{"$f":"cluster_activity_2","v":"សកម្មភាពរងទី ២. ការលើកកម្ពស់ភាពជាអ្នកដឹកនាំ និងគ្រប់គ្រង របស់មន្រ្តីអប់រំគ្រប់លំដាប់ថ្នាក់"},{"$f":"SUM('Table 4.0'!B15,'Table 4.0'!B18,'Table 4.0'!B21,'Table 4.0'!B24,'Table 4.0'!B27,'Table 4.0'!B30,'Table 4.0'!B33,'Table 4.0'!B36,'Table 4.0'!B39)","v":0},null,null,{"$f":"SUM('Table 4.0'!E15,'Table 4.0'!E18,'Table 4.0'!E21,'Table 4.0'!E24,'Table 4.0'!E27,'Table 4.0'!E30,'Table 4.0'!E33,'Table 4.0'!E36,'Table 4.0'!E39)","v":0},null,null,{"$f":"SUM('Table 4.0'!H15,'Table 4.0'!H18,'Table 4.0'!H21,'Table 4.0'!H24,'Table 4.0'!H27,'Table 4.0'!H30,'Table 4.0'!H33,'Table 4.0'!H36,'Table 4.0'!H39)","v":0},null,null,{"$f":"SUM('Table 4.0'!K15,'Table 4.0'!K18,'Table 4.0'!K21,'Table 4.0'!K24,'Table 4.0'!K27,'Table 4.0'!K30,'Table 4.0'!K33,'Table 4.0'!K36,'Table 4.0'!K39)","v":0}]
[{"$f":"'ចំណាយ-ថវិការដ្ឋ'!A105","v":"កម្មវិធីទី ៣៖ ការអភិវឌ្ឍវិស័យអប់រំកាយ និងកីឡា"},{"$f":"SUM(B16:B17)","v":0},null,null,{"$f":"SUM(E16:E17)","v":0},null,null,{"$f":"SUM(H16:H17)","v":0},null,null,{"$f":"SUM(K16:K17)","v":0}]
[{"$f":"cluster_activity_1","v":"សកម្មភាពរងទី ១. ការចូលរៀនមានគុណភាពប្រកប​ដោយ​សមធម៌ និងបរិយាប័ន្ន និងលើកកម្ពស់ឱកាសក្នុងការសិក្សា​ពេញមួយជីវិតសម្រាប់ទាំងអស់គ្នា"},{"$f":"'Table 4.0'!B44","v":0},null,null,{"$f":"'Table 4.0'!E44","v":0},null,null,{"$f":"'Table 4.0'!H44","v":0},null,null,{"$f":"'Table 4.0'!K44","v":0}]
[{"$f":"cluster_activity_2","v":"សកម្មភាពរងទី ២. ការលើកកម្ពស់ភាពជាអ្នកដឹកនាំ និងគ្រប់គ្រង របស់មន្រ្តីអប់រំគ្រប់លំដាប់ថ្នាក់"},{"$f":"'Table 4.0'!B45","v":0},null,null,{"$f":"'Table 4.0'!E45","v":0},null,null,{"$f":"'Table 4.0'!H45","v":0},null,null,{"$f":"'Table 4.0'!K45","v":0}]
[{"$f":"'ចំណាយ-ថវិការដ្ឋ'!A120","v":"កម្មវិធីទី៤៖ ការអភិវឌ្ឍជំនាញបច្ចេកទេស និងជំនាញទន់សម្រាប់យុវជន"},{"$f":"SUM(B19:B20)","v":0},null,null,{"$f":"SUM(E19:E20)","v":0},null,null,{"$f":"SUM(H19:H20)","v":0},null,null,{"$f":"SUM(K19:K20)","v":0}]
[{"$f":"cluster_activity_1","v":"សកម្មភាពរងទី ១. ការចូលរៀនមានគុណភាពប្រកប​ដោយ​សមធម៌ និងបរិយាប័ន្ន និងលើកកម្ពស់ឱកាសក្នុងការសិក្សា​ពេញមួយជីវិតសម្រាប់ទាំងអស់គ្នា"},{"$f":"SUM('Table 4.0'!B50,'Table 4.0'!B53,'Table 4.0'!B56)","v":0},null,null,{"$f":"SUM('Table 4.0'!E50,'Table 4.0'!E53,'Table 4.0'!E56)","v":0},null,null,{"$f":"SUM('Table 4.0'!H50,'Table 4.0'!H53,'Table 4.0'!H56)","v":0},null,null,{"$f":"SUM('Table 4.0'!K50,'Table 4.0'!K53,'Table 4.0'!K56)","v":0}]
[{"$f":"cluster_activity_2","v":"សកម្មភាពរងទី ២. ការលើកកម្ពស់ភាពជាអ្នកដឹកនាំ និងគ្រប់គ្រង របស់មន្រ្តីអប់រំគ្រប់លំដាប់ថ្នាក់"},{"$f":"SUM('Table 4.0'!B51,'Table 4.0'!B54,'Table 4.0'!B57)","v":0},null,null,{"$f":"SUM('Table 4.0'!E51,'Table 4.0'!E54,'Table 4.0'!E57)","v":0},null,null,{"$f":"SUM('Table 4.0'!H51,'Table 4.0'!H54,'Table 4.0'!H57)","v":0},null,null,{"$f":"SUM('Table 4.0'!K51,'Table 4.0'!K54,'Table 4.0'!K57)","v":0}]
[{"$f":"'ចំណាយ-ថវិការដ្ឋ'!A148","v":"កម្មវិធីទី៥៖ ការគាំទ្រសេវាអប់រំ និងអភិបាលកិច្ចល្អ"},{"$f":"SUM(B22:B23)","v":0},null,null,{"$f":"SUM(E22:E23)","v":0},null,null,{"$f":"SUM(H22:H23)","v":0},null,null,{"$f":"SUM(K22:K23)","v":0}]
[{"$f":"cluster_activity_1","v":"សកម្មភាពរងទី ១. ការចូលរៀនមានគុណភាពប្រកប​ដោយ​សមធម៌ និងបរិយាប័ន្ន និងលើកកម្ពស់ឱកាសក្នុងការសិក្សា​ពេញមួយជីវិតសម្រាប់ទាំងអស់គ្នា"},{"$f":"SUM('Table 4.0'!B62,'Table 4.0'!B65,'Table 4.0'!B68,'Table 4.0'!B71,'Table 4.0'!B74,'Table 4.0'!B77,'Table 4.0'!B80,'Table 4.0'!B83,'Table 4.0'!B86,'Table 4.0'!B89,'Table 4.0'!B92,'Table 4.0'!B95,'Table 4.0'!B98,'Table 4.0'!B101,'Table 4.0'!B104,'Table 4.0'!B107,'Table 4.0'!B110)","v":0},null,null,{"$f":"SUM('Table 4.0'!E62,'Table 4.0'!E65,'Table 4.0'!E68,'Table 4.0'!E71,'Table 4.0'!E74,'Table 4.0'!E77,'Table 4.0'!E80,'Table 4.0'!E83,'Table 4.0'!E86,'Table 4.0'!E89,'Table 4.0'!E92,'Table 4.0'!E95,'Table 4.0'!E98,'Table 4.0'!E101,'Table 4.0'!E104,'Table 4.0'!E107,'Table 4.0'!E110)","v":0},null,null,{"$f":"SUM('Table 4.0'!H62,'Table 4.0'!H65,'Table 4.0'!H68,'Table 4.0'!H71,'Table 4.0'!H74,'Table 4.0'!H77,'Table 4.0'!H80,'Table 4.0'!H83,'Table 4.0'!H86,'Table 4.0'!H89,'Table 4.0'!H92,'Table 4.0'!H95,'Table 4.0'!H98,'Table 4.0'!H101,'Table 4.0'!H104,'Table 4.0'!H107,'Table 4.0'!H110)","v":0},null,null,{"$f":"SUM('Table 4.0'!K62,'Table 4.0'!K65,'Table 4.0'!K68,'Table 4.0'!K71,'Table 4.0'!K74,'Table 4.0'!K77,'Table 4.0'!K80,'Table 4.0'!K83,'Table 4.0'!K86,'Table 4.0'!K89,'Table 4.0'!K92,'Table 4.0'!K95,'Table 4.0'!K98,'Table 4.0'!K101,'Table 4.0'!K104,'Table 4.0'!K107,'Table 4.0'!K110)","v":0}]
[{"$f":"cluster_activity_2","v":"សកម្មភាពរងទី ២. ការលើកកម្ពស់ភាពជាអ្នកដឹកនាំ និងគ្រប់គ្រង របស់មន្រ្តីអប់រំគ្រប់លំដាប់ថ្នាក់"},{"$f":"SUM('Table 4.0'!B63,'Table 4.0'!B66,'Table 4.0'!B69,'Table 4.0'!B72,'Table 4.0'!B75,'Table 4.0'!B78,'Table 4.0'!B81,'Table 4.0'!B84,'Table 4.0'!B87,'Table 4.0'!B90,'Table 4.0'!B93,'Table 4.0'!B96,'Table 4.0'!B99,'Table 4.0'!B102,'Table 4.0'!B105,'Table 4.0'!B108,'Table 4.0'!B111)","v":0},null,null,{"$f":"SUM('Table 4.0'!E63,'Table 4.0'!E66,'Table 4.0'!E69,'Table 4.0'!E72,'Table 4.0'!E75,'Table 4.0'!E78,'Table 4.0'!E81,'Table 4.0'!E84,'Table 4.0'!E87,'Table 4.0'!E90,'Table 4.0'!E93,'Table 4.0'!E96,'Table 4.0'!E99,'Table 4.0'!E102,'Table 4.0'!E105,'Table 4.0'!E108,'Table 4.0'!E111)","v":0},null,null,{"$f":"SUM('Table 4.0'!H63,'Table 4.0'!H66,'Table 4.0'!H69,'Table 4.0'!H72,'Table 4.0'!H75,'Table 4.0'!H78,'Table 4.0'!H81,'Table 4.0'!H84,'Table 4.0'!H87,'Table 4.0'!H90,'Table 4.0'!H93,'Table 4.0'!H96,'Table 4.0'!H99,'Table 4.0'!H102,'Table 4.0'!H105,'Table 4.0'!H108,'Table 4.0'!H111)","v":0},null,null,{"$f":"SUM('Table 4.0'!K63,'Table 4.0'!K66,'Table 4.0'!K69,'Table 4.0'!K72,'Table 4.0'!K75,'Table 4.0'!K78,'Table 4.0'!K81,'Table 4.0'!K84,'Table 4.0'!K87,'Table 4.0'!K90,'Table 4.0'!K93,'Table 4.0'!K96,'Table 4.0'!K99,'Table 4.0'!K102,'Table 4.0'!K105,'Table 4.0'!K108,'Table 4.0'!K111)","v":0}]

{"sheet":"Table 4.4","index":7,"n_rows":291,"n_cols":15,"rows_kept":291,"cut":false,"hidden":false,"merged":[[4,0,4,12],[6,0,9,0],[6,1,6,3],[6,4,6,6],[6,7,6,9],[6,10,6,12],[7,1,7,3],[7,4,7,6],[7,7,7,9],[7,10,7,12],[8,12,9,12],[8,1,9,1],[8,2,9,2],[8,3,9,3],[8,4,9,4],[8,5,9,5],[8,11,9,11],[8,6,9,6],[8,7,9,7],[8,8,9,8],[8,9,9,9],[8,10,9,10]]}
[]
["ក្រសួងអប់រំ​​​​​​​​​​​ យុវជន និងកីឡា"]
[{"$f":"CONCATENATE(\"មន្ទីរអប់រំ យុវជន និងកីឡា\",province)","v":"មន្ទីរអប់រំ យុវជន និងកីឡាខេត្តបន្ទាយមានជ័យ"}]
[]
["ការកំណត់តម្រូវការចំណាយសម្រាប់កម្មវិធី និងអនុកម្មវិធី (ថវិការដ្ឋ)"]
[null,null,null,null,null,null,null,null,null,null,null,null,"ឯកតា៖ លានរៀល"]
["តម្រូវការឥណទាន\nតាមប្រភេទចំណាយ","ច្បាប់ហិរញ្ញវត្ថុឆ្នាំ ២០១៨",null,null,"គ្រោងតម្រូវការឥណទាន សម្រាប់ឆ្នាំ ២០១៩",null,null,"គ្រោងតម្រូវការឥណទាន សម្រាប់ឆ្នាំ ២០២០",null,null,"គ្រោងតម្រូវការឥណទាន សម្រាប់ឆ្នាំ ២០២១"]
[null,"ចំណាយចរន្ដ",null,null,"ចំណាយចរន្ដ",null,null,"ចំណាយចរន្ដ",null,null,"ចំណាយចរន្ដ"]
[null,"សរុប","បន្ទុកបុគ្គលិក","ក្រៅបន្ទុកបុគ្គលិក","សរុប","បន្ទុកបុគ្គលិក","ក្រៅបន្ទុកបុគ្គលិក","សរុប","បន្ទុកបុគ្គលិក","ក្រៅបន្ទុកបុគ្គលិក","សរុប","បន្ទុកបុគ្គលិក","ក្រៅបន្ទុកបុគ្គលិក"]
[]
["សរុបរួម",{"$f":"SUM(B12,B105,B120,B148)","v":0},0,0,0,0,0,0,0,0,0,0,0]
[{"$f":"ព័ត៌មានអង្គភាព!C3","v":"កម្មវិធីទី១៖ ការអភិវឌ្ឍការអប់រំក្នុងប្រព័ន្ធ ក្រៅប្រព័ន្ធ និងមិនផ្លូវការ"},{"$f":"B13","v":0},{"$f":"C13","v":0},0,0,0,0,0,0,0,0,0,0]
[{"$f":"ព័ត៌មានអង្គភាព!C4","v":"អនុកម្មវិធីទី ១.១០៖ សេវាគាំទ្រការអភិវឌ្ឍការអប់រំក្នុងប្រព័ន្ធ ក្រៅប្រព័ន្ធ និងមិនផ្លូវការរបស់មន្ទីរជំនាញ រាជធានី ខេត្ត"},{"$f":"B14","v":0},0,0,0,0,0,0,0,0,0,0,0]
[{"$f":"ព័ត៌មានអង្គភាព!C5","v":"ចង្កោមសកម្មភាពទី ០១៖ខេត្តបន្ទាយមានជ័យ"},{"$f":"SUM(B15,B25,B36,B50,B58,B68,B76,B87,B96)","v":0},0,0,0,0,0,0,0,0,0,0,0]
[{"$f":"ព័ត៌មានអង្គភាព!C6","v":"១.១០.០១.១៖ ការពង្រីកការអប់រំកុមារតូច"},{"$f":"SUM(B16,B23)","v":0},{"$f":"SUM(C16,C23)","v":0},0,0,0,0,0,0,0,0,0,0]
[{"$f":"cluster_activity_1","v":"សកម្មភាពរងទី ១. ការចូលរៀនមានគុណភាពប្រកប​ដោយ​សមធម៌ និងបរិយាប័ន្ន និងលើកកម្ពស់ឱកាសក្នុងការសិក្សា​ពេញមួយជីវិតសម្រាប់ទាំងអស់គ្នា"},{"$f":"ROUND(SUM(B17:B22),1)","v":0},{"$f":"ROUND(SUM(C17:C22),1)","v":0},{"$f":"ROUND(SUM(D17:D22),1)","v":0},0,0,0,0,0,0,0,0,0,null,{"$f":"A15","v":"១.១០.០១.១៖ ការពង្រីកការអប់រំកុមារតូច"}]
[{"$f":"ព័ត៌មានអង្គភាព!M4","v":"១. កិច្ចដំណើរការអង្គភាព"},{"$f":"ROUND(SUM(C17:D17),1)","v":0},{"$f":"'ចំណាយ-ថវិការដ្ឋ'!C17","v":0},{"$f":"'ចំណាយ-ថវិការដ្ឋ'!D17","v":0},{"$f":"ROUND(SUM(F17:G17),1)","v":0},{"$f":"'ចំណាយ-ថវិការដ្ឋ'!F17","v":0},{"$f":"'ចំណាយ-ថវិការដ្ឋ'!G17","v":0},{"$f":"ROUND(SUM(I17:J17),1)","v":0},{"$f":"'ចំណាយ-ថវិការដ្ឋ'!I17","v":0},{"$f":"'ចំណាយ-ថវិការដ្ឋ'!J17","v":0},{"$f":"ROUND(SUM(L17:M17),1)","v":0},{"$f":"'ចំណាយ-ថវិការដ្ឋ'!L17","v":0},{"$f":"'ចំណាយ-ថវិការដ្ឋ'!M17","v":0},null,{"$f":"O16","v":"១.១០.០១.១៖ ការពង្រីកការអប់រំកុមារតូច"}]
[{"$f":"ព័ត៌មានអង្គភាព!M5","v":"២. ថវិកាលទ្ធកម្ម"},{"$f":"ROUND(SUM(C18:D18),1)","v":0},{"$f":"'ចំណាយ-ថវិការដ្ឋ'!C18","v":0},{"$f":"'ចំណាយ-ថវិការដ្ឋ'!D18","v":0},{"$f":"ROUND(SUM(F18:G18),1)","v":0},{"$f":"'ចំណាយ-ថវិការដ្ឋ'!F18","v":0},{"$f":"'ចំណាយ-ថវិការដ្ឋ'!G18","v":0},{"$f":"ROUND(SUM(I18:J18),1)","v":0},{"$f":"'ចំណាយ-ថវិការដ្ឋ'!I18","v":0},{"$f":"'ចំណាយ-ថវិការដ្ឋ'!J18","v":0},{"$f":"ROUND(SUM(L18:M18),1)","v":0},{"$f":"'ចំណាយ-ថវិការដ្ឋ'!L18","v":0},{"$f":"'ចំណាយ-ថវិការដ្ឋ'!M18","v":0},null,"១.១០.០១.១៖ ការពង្រីកការអប់រំកុមារតូច"]
[{"$f":"ព័ត៌មានអង្គភាព!M6","v":"៣. ពិនិត្យតាមដាន និងវាយតម្លៃ"},0,{"$f":"'ចំណាយ-ថវិការដ្ឋ'!C19","v":0},{"$f":"'ចំណាយ-ថវិការដ្ឋ'!D19","v":0},0,{"$f":"'ចំណាយ-ថវិការដ្ឋ'!F19","v":0},{"$f":"'ចំណាយ-ថវិការដ្ឋ'!G19","v":0},0,{"$f":"'ចំណាយ-ថវិការដ្ឋ'!I19","v":0},{"$f":"'ចំណាយ-ថវិការដ្ឋ'!J19","v":0},0,{"$f":"'ចំណាយ-ថវិការដ្ឋ'!L19","v":0},{"$f":"'ចំណាយ-ថវិការដ្ឋ'!M19","v":0},null,"១.១០.០១.១៖ ការពង្រីកការអប់រំកុមារតូច"]
[{"$f":"ព័ត៌មានអង្គភាព!M7","v":"៤. អភិវឌ្ឍការអប់រំកុមារតូចឲ្យមានស្ដង់ដា"},0,{"$f":"'ចំណាយ-ថវិការដ្ឋ'!C20","v":0},{"$f":"'ចំណាយ-ថវិការដ្ឋ'!D20","v":0},0,{"$f":"'ចំណាយ-ថវិការដ្ឋ'!F20","v":0},{"$f":"'ចំណាយ-ថវិការដ្ឋ'!G20","v":0},0,{"$f":"'ចំណាយ-ថវិការដ្ឋ'!I20","v":0},{"$f":"'ចំណាយ-ថវិការដ្ឋ'!J20","v":0},0,{"$f":"'ចំណាយ-ថវិការដ្ឋ'!L20","v":0},{"$f":"'ចំណាយ-ថវិការដ្ឋ'!M20","v":0},null,"១.១០.០១.១៖ ការពង្រីកការអប់រំកុមារតូច"]
[{"$f":"ព័ត៌មានអង្គភាព!M8","v":"៥. ថវិកាដំណើរការសាលារៀន"},0,{"$f":"'ចំណាយ-ថវិការដ្ឋ'!C21","v":0},{"$f":"'ចំណាយ-ថវិការដ្ឋ'!D21","v":0},0,{"$f":"'ចំណាយ-ថវិការដ្ឋ'!F21","v":0},{"$f":"'ចំណាយ-ថវិការដ្ឋ'!G21","v":0},0,{"$f":"'ចំណាយ-ថវិការដ្ឋ'!I21","v":0},{"$f":"'ចំណាយ-ថវិការដ្ឋ'!J21","v":0},0,{"$f":"'ចំណាយ-ថវិការដ្ឋ'!L21","v":0},{"$f":"'ចំណាយ-ថវិការដ្ឋ'!M21","v":0},null,"១.១០.០១.១៖ ការពង្រីកការអប់រំកុមារតូច"]
[{"$f":"ព័ត៌មានអង្គភាព!M9","v":"៦. គ្រប់គ្រងមត្តេយ្យសិក្សាសហគមន៍"},0,{"$f":"'ចំណាយ-ថវិការដ្ឋ'!C22","v":0},{"$f":"'ចំណាយ-ថវិការដ្ឋ'!D22","v":0},0,{"$f":"'ចំណាយ-ថវិការដ្ឋ'!F22","v":0},{"$f":"'ចំណាយ-ថវិការដ្ឋ'!G22","v":0},0,{"$f":"'ចំណាយ-ថវិការដ្ឋ'!I22","v":0},{"$f":"'ចំណាយ-ថវិការដ្ឋ'!J22","v":0},0,{"$f":"'ចំណាយ-ថវិការដ្ឋ'!L22","v":0},{"$f":"'ចំណាយ-ថវិការដ្ឋ'!M22","v":0},null,"១.១០.០១.១៖ ការពង្រីកការអប់រំកុមារតូច"]
[{"$f":"cluster_activity_2","v":"សកម្មភាពរងទី ២. ការលើកកម្ពស់ភាពជាអ្នកដឹកនាំ និងគ្រប់គ្រង របស់មន្រ្តីអប់រំគ្រប់លំដាប់ថ្នាក់"},{"$f":"ROUND(B24,1)","v":0},{"$f":"ROUND(C24,1)","v":0},{"$f":"ROUND(D24,1)","v":0},0,0,0,0,0,0,0,0,0,null,"១.១០.០១.១៖ ការពង្រីកការអប់រំកុមារតូច"]
[{"$f":"ព័ត៌មានអង្គភាព!M10","v":"១. អភិវឌ្ឍសមត្ថភាពមន្ដ្រីអប់រំកុមារតូច"},{"$f":"ROUND(SUM(C24:D24),1)","v":0},{"$f":"'ចំណាយ-ថវិការដ្ឋ'!C24","v":0},{"$f":"'ចំណាយ-ថវិការដ្ឋ'!D24","v":0},{"$f":"ROUND(SUM(F24:G24),1)","v":0},{"$f":"'ចំណាយ-ថវិការដ្ឋ'!F24","v":0},{"$f":"'ចំណាយ-ថវិការដ្ឋ'!G24","v":0},{"$f":"ROUND(SUM(I24:J24),1)","v":0},{"$f":"'ចំណាយ-ថវិការដ្ឋ'!I24","v":0},{"$f":"'ចំណាយ-ថវិការដ្ឋ'!J24","v":0},{"$f":"ROUND(SUM(L24:M24),1)","v":0},{"$f":"'ចំណាយ-ថវិការដ្ឋ'!L24","v":0},{"$f":"'ចំណាយ-ថវិការដ្ឋ'!M24","v":0},null,"១.១០.០១.១៖ ការពង្រីកការអប់រំកុមារតូច"]
[{"$f":"ព័ត៌មានអង្គភាព!C7","v":"១.១០.០១.២៖ ការពង្រឹងគុណភាព និងប្រសិទ្ធភាពនៃការអប់រំនៅបឋមសិក្សា"},{"$f":"SUM(B26,B34)","v":0},0,0,0,0,0,0,0,0,0,0,0]
[{"$f":"cluster_activity_1","v":"សកម្មភាពរងទី ១. ការចូលរៀនមានគុណភាពប្រកប​ដោយ​សមធម៌ និងបរិយាប័ន្ន និងលើកកម្ពស់ឱកាសក្នុងការសិក្សា​ពេញមួយជីវិតសម្រាប់ទាំងអស់គ្នា"},{"$f":"ROUND(SUM(B27:B33),1)","v":0},{"$f":"ROUND(SUM(C27:C33),1)","v":0},0,0,0,0,0,0,0,0,0,0,null,{"$f":"A25","v":"១.១០.០១.២៖ ការពង្រឹងគុណភាព និងប្រសិទ្ធភាពនៃការអប់រំនៅបឋមសិក្សា"}]
[{"$f":"ព័ត៌មានអង្គភាព!O4","v":"១. កិច្ចដំណើរការអង្គភាព"},{"$f":"ROUND(SUM(C27:D27),1)","v":0},{"$f":"'ចំណាយ-ថវិការដ្ឋ'!C27","v":0},{"$f":"'ចំណាយ-ថវិការដ្ឋ'!D27","v":0},{"$f":"ROUND(SUM(F27:G27),1)","v":0},{"$f":"'ចំណាយ-ថវិការដ្ឋ'!F27","v":0},{"$f":"'ចំណាយ-ថវិការដ្ឋ'!G27","v":0},{"$f":"ROUND(SUM(I27:J27),1)","v":0},{"$f":"'ចំណាយ-ថវិការដ្ឋ'!I27","v":0},{"$f":"'ចំណាយ-ថវិការដ្ឋ'!J27","v":0},{"$f":"ROUND(SUM(L27:M27),1)","v":0},{"$f":"'ចំណាយ-ថវិការដ្ឋ'!L27","v":0},{"$f":"'ចំណាយ-ថវិការដ្ឋ'!M27","v":0},null,{"$f":"O26","v":"១.១០.០១.២៖ ការពង្រឹងគុណភាព និងប្រសិទ្ធភាពនៃការអប់រំនៅបឋមសិក្សា"}]
[{"$f":"ព័ត៌មានអង្គភាព!O5","v":"២. ថវិកាលទ្ធកម្ម"},0,{"$f":"'ចំណាយ-ថវិការដ្ឋ'!C28","v":0},{"$f":"'ចំណាយ-ថវិការដ្ឋ'!D28","v":0},0,{"$f":"'ចំណាយ-ថវិការដ្ឋ'!F28","v":0},{"$f":"'ចំណាយ-ថវិការដ្ឋ'!G28","v":0},0,{"$f":"'ចំណាយ-ថវិការដ្ឋ'!I28","v":0},{"$f":"'ចំណាយ-ថវិការដ្ឋ'!J28","v":0},0,{"$f":"'ចំណាយ-ថវិការដ្ឋ'!L28","v":0},{"$f":"'ចំណាយ-ថវិការដ្ឋ'!M28","v":0},null,{"$f":"O27","v":"១.១០.០១.២៖ ការពង្រឹងគុណភាព និងប្រសិទ្ធភាពនៃការអប់រំនៅបឋមសិក្សា"}]
[{"$f":"ព័ត៌មានអង្គភាព!O6","v":"៣. ពិនិត្យតាមដាន និងវាយតម្លៃ"},0,{"$f":"'ចំណាយ-ថវិការដ្ឋ'!C29","v":0},{"$f":"'ចំណាយ-ថវិការដ្ឋ'!D29","v":0},0,{"$f":"'ចំណាយ-ថវិការដ្ឋ'!F29","v":0},{"$f":"'ចំណាយ-ថវិការដ្ឋ'!G29","v":0},0,{"$f":"'ចំណាយ-ថវិការដ្ឋ'!I29","v":0},{"$f":"'ចំណាយ-ថវិការដ្ឋ'!J29","v":0},0,{"$f":"'ចំណាយ-ថវិការដ្ឋ'!L29","v":0},{"$f":"'ចំណាយ-ថវិការដ្ឋ'!M29","v":0},null,"១.១០.០១.២៖ ការពង្រឹងគុណភាព និងប្រសិទ្ធភាពនៃការអប់រំនៅបឋមសិក្សា"]
[{"$f":"ព័ត៌មានអង្គភាព!O7","v":"៤. ថវិកាដំណើរការសាលារៀន"},0,{"$f":"'ចំណាយ-ថវិការដ្ឋ'!C30","v":0},{"$f":"'ចំណាយ-ថវិការដ្ឋ'!D30","v":0},0,{"$f":"'ចំណាយ-ថវិការដ្ឋ'!F30","v":0},{"$f":"'ចំណាយ-ថវិការដ្ឋ'!G30","v":0},0,{"$f":"'ចំណាយ-ថវិការដ្ឋ'!I30","v":0},{"$f":"'ចំណាយ-ថវិការដ្ឋ'!J30","v":0},0,{"$f":"'ចំណាយ-ថវិការដ្ឋ'!L30","v":0},{"$f":"'ចំណាយ-ថវិការដ្ឋ'!M30","v":0},null,"១.១០.០១.២៖ ការពង្រឹងគុណភាព និងប្រសិទ្ធភាពនៃការអប់រំនៅបឋមសិក្សា"]
[{"$f":"ព័ត៌មានអង្គភាព!O8","v":"៥. សាលារៀនជំនាន់ថ្មី"},0,{"$f":"'ចំណាយ-ថវិការដ្ឋ'!C31","v":0},{"$f":"'ចំណាយ-ថវិការដ្ឋ'!D31","v":0},0,{"$f":"'ចំណាយ-ថវិការដ្ឋ'!F31","v":0},{"$f":"'ចំណាយ-ថវិការដ្ឋ'!G31","v":0},0,{"$f":"'ចំណាយ-ថវិការដ្ឋ'!I31","v":0},{"$f":"'ចំណាយ-ថវិការដ្ឋ'!J31","v":0},0,{"$f":"'ចំណាយ-ថវិការដ្ឋ'!L31","v":0},{"$f":"'ចំណាយ-ថវិការដ្ឋ'!M31","v":0},null,"១.១០.០១.២៖ ការពង្រឹងគុណភាព និងប្រសិទ្ធភាពនៃការអប់រំនៅបឋមសិក្សា"]
[{"$f":"ព័ត៌មានអង្គភាព!O9","v":"៦. ថវិកាអាហារូបករណ៍"},0,{"$f":"'ចំណាយ-ថវិការដ្ឋ'!C32","v":0},{"$f":"'ចំណាយ-ថវិការដ្ឋ'!D32","v":0},0,{"$f":"'ចំណាយ-ថវិការដ្ឋ'!F32","v":0},{"$f":"'ចំណាយ-ថវិការដ្ឋ'!G32","v":0},0,{"$f":"'ចំណាយ-ថវិការដ្ឋ'!I32","v":0},{"$f":"'ចំណាយ-ថវិការដ្ឋ'!J32","v":0},0,{"$f":"'ចំណាយ-ថវិការដ្ឋ'!L32","v":0},{"$f":"'ចំណាយ-ថវិការដ្ឋ'!M32","v":0},null,"១.១០.០១.២៖ ការពង្រឹងគុណភាព និងប្រសិទ្ធភាពនៃការអប់រំនៅបឋមសិក្សា"]
[{"$f":"ព័ត៌មានអង្គភាព!O10","v":"៧. ថវិកាពង្រឹងគុណភាពបង្រៀន"},0,{"$f":"'ចំណាយ-ថវិការដ្ឋ'!C33","v":0},{"$f":"'ចំណាយ-ថវិការដ្ឋ'!D33","v":0},0,{"$f":"'ចំណាយ-ថវិការដ្ឋ'!F33","v":0},{"$f":"'ចំណាយ-ថវិការដ្ឋ'!G33","v":0},0,{"$f":"'ចំណាយ-ថវិការដ្ឋ'!I33","v":0},{"$f":"'ចំណាយ-ថវិការដ្ឋ'!J33","v":0},0,{"$f":"'ចំណាយ-ថវិការដ្ឋ'!L33","v":0},{"$f":"'ចំណាយ-ថវិការដ្ឋ'!M33","v":0},null,"១.១០.០១.២៖ ការពង្រឹងគុណភាព និងប្រសិទ្ធភាពនៃការអប់រំនៅបឋមសិក្សា"]
[{"$f":"cluster_activity_2","v":"សកម្មភាពរងទី ២. ការលើកកម្ពស់ភាពជាអ្នកដឹកនាំ និងគ្រប់គ្រង របស់មន្រ្តីអប់រំគ្រប់លំដាប់ថ្នាក់"},{"$f":"ROUND(B35,1)","v":0},{"$f":"ROUND(C35,1)","v":0},0,0,0,0,0,0,0,0,0,0,null,{"$f":"O33","v":"១.១០.០១.២៖ ការពង្រឹងគុណភាព និងប្រសិទ្ធភាពនៃការអប់រំនៅបឋមសិក្សា"}]
[{"$f":"ព័ត៌មានអង្គភាព!O11","v":"១. ពង្រឹងសមត្ថភាព និងការលើកទឹកចិត្ត"},{"$f":"ROUND(SUM(C35:D35),1)","v":0},{"$f":"'ចំណាយ-ថវិការដ្ឋ'!C35","v":0},{"$f":"'ចំណាយ-ថវិការដ្ឋ'!D35","v":0},{"$f":"ROUND(SUM(F35:G35),1)","v":0},{"$f":"'ចំណាយ-ថវិការដ្ឋ'!F35","v":0},{"$f":"'ចំណាយ-ថវិការដ្ឋ'!G35","v":0},{"$f":"ROUND(SUM(I35:J35),1)","v":0},{"$f":"'ចំណាយ-ថវិការដ្ឋ'!I35","v":0},{"$f":"'ចំណាយ-ថវិការដ្ឋ'!J35","v":0},{"$f":"ROUND(SUM(L35:M35),1)","v":0},{"$f":"'ចំណាយ-ថវិការដ្ឋ'!L35","v":0},{"$f":"'ចំណាយ-ថវិការដ្ឋ'!M35","v":0},null,"១.១០.០១.២៖ ការពង្រឹងគុណភាព និងប្រសិទ្ធភាពនៃការអប់រំនៅបឋមសិក្សា"]
[{"$f":"ព័ត៌មានអង្គភាព!C8","v":"១.១០.០១.៣៖ ការចូលរៀនប្រកបដោយសមធម៌​ ការពង្រឹងគុណភាព និងប្រសិទ្ធភាពនៃការ​អប់រំនៅមធ្យមសិក្សា"},{"$f":"SUM(B37,B48)","v":0},{"$f":"SUM(C37,C48)","v":0},0,0,0,0,0,0,0,0,0,0]
[{"$f":"cluster_activity_1","v":"សកម្មភាពរងទី ១. ការចូលរៀនមានគុណភាពប្រកប​ដោយ​សមធម៌ និងបរិយាប័ន្ន និងលើកកម្ពស់ឱកាសក្នុងការសិក្សា​ពេញមួយជីវិតសម្រាប់ទាំងអស់គ្នា"},{"$f":"ROUND(SUM(B38:B47),1)","v":0},{"$f":"ROUND(SUM(C38:C47),1)","v":0},0,0,0,0,0,0,0,0,0,0,null,{"$f":"A36","v":"១.១០.០១.៣៖ ការចូលរៀនប្រកបដោយសមធម៌​ ការពង្រឹងគុណភាព និងប្រសិទ្ធភាពនៃការ​អប់រំនៅមធ្យមសិក្សា"}]
[{"$f":"ព័ត៌មានអង្គភាព!Q4","v":"១. កិច្ចដំណើរការអង្គភាព"},{"$f":"ROUND(SUM(C38:D38),1)","v":0},{"$f":"'ចំណាយ-ថវិការដ្ឋ'!C38","v":0},{"$f":"'ចំណាយ-ថវិការដ្ឋ'!D38","v":0},{"$f":"ROUND(SUM(F38:G38),1)","v":0},{"$f":"'ចំណាយ-ថវិការដ្ឋ'!F38","v":0},{"$f":"'ចំណាយ-ថវិការដ្ឋ'!G38","v":0},{"$f":"ROUND(SUM(I38:J38),1)","v":0},{"$f":"'ចំណាយ-ថវិការដ្ឋ'!I38","v":0},{"$f":"'ចំណាយ-ថវិការដ្ឋ'!J38","v":0},{"$f":"ROUND(SUM(L38:M38),1)","v":0},{"$f":"'ចំណាយ-ថវិការដ្ឋ'!L38","v":0},{"$f":"'ចំណាយ-ថវិការដ្ឋ'!M38","v":0},null,{"$f":"O37","v":"១.១០.០១.៣៖ ការចូលរៀនប្រកបដោយសមធម៌​ ការពង្រឹងគុណភាព និងប្រសិទ្ធភាពនៃការ​អប់រំនៅមធ្យមសិក្សា"}]
[{"$f":"ព័ត៌មានអង្គភាព!Q5","v":"២. ថវិកាលទ្ធកម្ម"},0,{"$f":"'ចំណាយ-ថវិការដ្ឋ'!C39","v":0},{"$f":"'ចំណាយ-ថវិការដ្ឋ'!D39","v":0},0,{"$f":"'ចំណាយ-ថវិការដ្ឋ'!F39","v":0},{"$f":"'ចំណាយ-ថវិការដ្ឋ'!G39","v":0},0,{"$f":"'ចំណាយ-ថវិការដ្ឋ'!I39","v":0},{"$f":"'ចំណាយ-ថវិការដ្ឋ'!J39","v":0},0,{"$f":"'ចំណាយ-ថវិការដ្ឋ'!L39","v":0},{"$f":"'ចំណាយ-ថវិការដ្ឋ'!M39","v":0},null,{"$f":"O38","v":"១.១០.០១.៣៖ ការចូលរៀនប្រកបដោយសមធម៌​ ការពង្រឹងគុណភាព និងប្រសិទ្ធភាពនៃការ​អប់រំនៅមធ្យមសិក្សា"}]
[{"$f":"ព័ត៌មានអង្គភាព!Q6","v":"៣. ពិនិត្យតាមដាន និងវាយតម្លៃ"},0,{"$f":"'ចំណាយ-ថវិការដ្ឋ'!C40","v":0},{"$f":"'ចំណាយ-ថវិការដ្ឋ'!D40","v":0},0,{"$f":"'ចំណាយ-ថវិការដ្ឋ'!F40","v":0},{"$f":"'ចំណាយ-ថវិការដ្ឋ'!G40","v":0},0,{"$f":"'ចំណាយ-ថវិការដ្ឋ'!I40","v":0},{"$f":"'ចំណាយ-ថវិការដ្ឋ'!J40","v":0},0,{"$f":"'ចំណាយ-ថវិការដ្ឋ'!L40","v":0},{"$f":"'ចំណាយ-ថវិការដ្ឋ'!M40","v":0},null,"១.១០.០១.៣៖ ការចូលរៀនប្រកបដោយសមធម៌​ ការពង្រឹងគុណភាព និងប្រសិទ្ធភាពនៃការ​អប់រំនៅមធ្យមសិក្សា"]
[{"$f":"ព័ត៌មានអង្គភាព!Q7","v":"៤. លើកកម្ពស់មុខវិជ្ជា STEM"},0,{"$f":"'ចំណាយ-ថវិការដ្ឋ'!C41","v":0},{"$f":"'ចំណាយ-ថវិការដ្ឋ'!D41","v":0},0,{"$f":"'ចំណាយ-ថវិការដ្ឋ'!F41","v":0},{"$f":"'ចំណាយ-ថវិការដ្ឋ'!G41","v":0},0,{"$f":"'ចំណាយ-ថវិការដ្ឋ'!I41","v":0},{"$f":"'ចំណាយ-ថវិការដ្ឋ'!J41","v":0},0,{"$f":"'ចំណាយ-ថវិការដ្ឋ'!L41","v":0},{"$f":"'ចំណាយ-ថវិការដ្ឋ'!M41","v":0},null,"១.១០.០១.៣៖ ការចូលរៀនប្រកបដោយសមធម៌​ ការពង្រឹងគុណភាព និងប្រសិទ្ធភាពនៃការ​អប់រំនៅមធ្យមសិក្សា"]
[{"$f":"ព័ត៌មានអង្គភាព!Q8","v":"៥. ថ្នាក់ពីរភាសា បារាំង-ខ្មែរ"},0,{"$f":"'ចំណាយ-ថវិការដ្ឋ'!C42","v":0},{"$f":"'ចំណាយ-ថវិការដ្ឋ'!D42","v":0},0,{"$f":"'ចំណាយ-ថវិការដ្ឋ'!F42","v":0},{"$f":"'ចំណាយ-ថវិការដ្ឋ'!G42","v":0},0,{"$f":"'ចំណាយ-ថវិការដ្ឋ'!I42","v":0},{"$f":"'ចំណាយ-ថវិការដ្ឋ'!J42","v":0},0,{"$f":"'ចំណាយ-ថវិការដ្ឋ'!L42","v":0},{"$f":"'ចំណាយ-ថវិការដ្ឋ'!M42","v":0},null,"១.១០.០១.៣៖ ការចូលរៀនប្រកបដោយសមធម៌​ ការពង្រឹងគុណភាព និងប្រសិទ្ធភាពនៃការ​អប់រំនៅមធ្យមសិក្សា"]
[{"$f":"ព័ត៌មានអង្គភាព!Q9","v":"៦. ថវិកាដំណើរការអគារធនធាន"},0,{"$f":"'ចំណាយ-ថវិការដ្ឋ'!C43","v":0},{"$f":"'ចំណាយ-ថវិការដ្ឋ'!D43","v":0},0,{"$f":"'ចំណាយ-ថវិការដ្ឋ'!F43","v":0},{"$f":"'ចំណាយ-ថវិការដ្ឋ'!G43","v":0},0,{"$f":"'ចំណាយ-ថវិការដ្ឋ'!I43","v":0},{"$f":"'ចំណាយ-ថវិការដ្ឋ'!J43","v":0},0,{"$f":"'ចំណាយ-ថវិការដ្ឋ'!L43","v":0},{"$f":"'ចំណាយ-ថវិការដ្ឋ'!M43","v":0},null,"១.១០.០១.៣៖ ការចូលរៀនប្រកបដោយសមធម៌​ ការពង្រឹងគុណភាព និងប្រសិទ្ធភាពនៃការ​អប់រំនៅមធ្យមសិក្សា"]
[{"$f":"ព័ត៌មានអង្គភាព!Q10","v":"៧. សាលារៀនជំនាន់ថ្មី"},0,{"$f":"'ចំណាយ-ថវិការដ្ឋ'!C44","v":0},{"$f":"'ចំណាយ-ថវិការដ្ឋ'!D44","v":0},0,{"$f":"'ចំណាយ-ថវិការដ្ឋ'!F44","v":0},{"$f":"'ចំណាយ-ថវិការដ្ឋ'!G44","v":0},0,{"$f":"'ចំណាយ-ថវិការដ្ឋ'!I44","v":0},{"$f":"'ចំណាយ-ថវិការដ្ឋ'!J44","v":0},0,{"$f":"'ចំណាយ-ថវិការដ្ឋ'!L44","v":0},{"$f":"'ចំណាយ-ថវិការដ្ឋ'!M44","v":0},null,"១.១០.០១.៣៖ ការចូលរៀនប្រកបដោយសមធម៌​ ការពង្រឹងគុណភាព និងប្រសិទ្ធភាពនៃការ​អប់រំនៅមធ្យមសិក្សា"]
[{"$f":"ព័ត៌មានអង្គភាព!Q11","v":"៨. ថវិកាអាហារូបករណ៍"},0,{"$f":"'ចំណាយ-ថវិការដ្ឋ'!C45","v":0},{"$f":"'ចំណាយ-ថវិការដ្ឋ'!D45","v":0},0,{"$f":"'ចំណាយ-ថវិការដ្ឋ'!F45","v":0},{"$f":"'ចំណាយ-ថវិការដ្ឋ'!G45","v":0},0,{"$f":"'ចំណាយ-ថវិការដ្ឋ'!I45","v":0},{"$f":"'ចំណាយ-ថវិការដ្ឋ'!J45","v":0},0,{"$f":"'ចំណាយ-ថវិការដ្ឋ'!L45","v":0},{"$f":"'ចំណាយ-ថវិការដ្ឋ'!M45","v":0},null,"១.១០.០១.៣៖ ការចូលរៀនប្រកបដោយសមធម៌​ ការពង្រឹងគុណភាព និងប្រសិទ្ធភាពនៃការ​អប់រំនៅមធ្យមសិក្សា"]
[{"$f":"ព័ត៌មានអង្គភាព!Q12","v":"៩. ថវិកាដំណើរការសាលារៀន"},0,{"$f":"'ចំណាយ-ថវិការដ្ឋ'!C46","v":0},{"$f":"'ចំណាយ-ថវិការដ្ឋ'!D46","v":0},0,{"$f":"'ចំណាយ-ថវិការដ្ឋ'!F46","v":0},{"$f":"'ចំណាយ-ថវិការដ្ឋ'!G46","v":0},0,{"$f":"'ចំណាយ-ថវិការដ្ឋ'!I46","v":0},{"$f":"'ចំណាយ-ថវិការដ្ឋ'!J46","v":0},0,{"$f":"'ចំណាយ-ថវិការដ្ឋ'!L46","v":0},{"$f":"'ចំណាយ-ថវិការដ្ឋ'!M46","v":0},null,"១.១០.០១.៣៖ ការចូលរៀនប្រកបដោយសមធម៌​ ការពង្រឹងគុណភាព និងប្រសិទ្ធភាពនៃការ​អប់រំនៅមធ្យមសិក្សា"]
[{"$f":"ព័ត៌មានអង្គភាព!Q13","v":"១០. ពង្រឹងសមត្ថភាពលើការងារគ្រប់គ្រង និងការបង្រៀននិងរៀន"},0,{"$f":"'ចំណាយ-ថវិការដ្ឋ'!C47","v":0},{"$f":"'ចំណាយ-ថវិការដ្ឋ'!D47","v":0},0,{"$f":"'ចំណាយ-ថវិការដ្ឋ'!F47","v":0},{"$f":"'ចំណាយ-ថវិការដ្ឋ'!G47","v":0},0,{"$f":"'ចំណាយ-ថវិការដ្ឋ'!I47","v":0},{"$f":"'ចំណាយ-ថវិការដ្ឋ'!J47","v":0},0,{"$f":"'ចំណាយ-ថវិការដ្ឋ'!L47","v":0},{"$f":"'ចំណាយ-ថវិការដ្ឋ'!M47","v":0},null,"១.១០.០១.៣៖ ការចូលរៀនប្រកបដោយសមធម៌​ ការពង្រឹងគុណភាព និងប្រសិទ្ធភាពនៃការ​អប់រំនៅមធ្យមសិក្សា"]
[{"$f":"cluster_activity_2","v":"សកម្មភាពរងទី ២. ការលើកកម្ពស់ភាពជាអ្នកដឹកនាំ និងគ្រប់គ្រង របស់មន្រ្តីអប់រំគ្រប់លំដាប់ថ្នាក់"},{"$f":"ROUND(SUM(C48:D48),1)","v":0},{"$f":"ROUND(C49,1)","v":0},0,0,0,0,0,0,0,0,0,0,null,"១.១០.០១.៣៖ ការចូលរៀនប្រកបដោយសមធម៌​ ការពង្រឹងគុណភាព និងប្រសិទ្ធភាពនៃការ​អប់រំនៅមធ្យមសិក្សា"]
[{"$f":"ព័ត៌មានអង្គភាព!Q14","v":"១. ពង្រឹងសមត្ថភាព និងការលើកទឹកចិត្ត"},{"$f":"ROUND(SUM(C49:D49),1)","v":0},{"$f":"'ចំណាយ-ថវិការដ្ឋ'!C49","v":0},{"$f":"'ចំណាយ-ថវិការដ្ឋ'!D49","v":0},{"$f":"ROUND(SUM(F49:G49),1)","v":0},{"$f":"'ចំណាយ-ថវិការដ្ឋ'!F49","v":0},{"$f":"'ចំណាយ-ថវិការដ្ឋ'!G49","v":0},{"$f":"ROUND(SUM(I49:J49),1)","v":0},{"$f":"'ចំណាយ-ថវិការដ្ឋ'!I49","v":0},{"$f":"'ចំណាយ-ថវិការដ្ឋ'!J49","v":0},{"$f":"ROUND(SUM(L49:M49),1)","v":0},{"$f":"'ចំណាយ-ថវិការដ្ឋ'!L49","v":0},{"$f":"'ចំណាយ-ថវិការដ្ឋ'!M49","v":0},null,"១.១០.០១.៣៖ ការចូលរៀនប្រកបដោយសមធម៌​ ការពង្រឹងគុណភាព និងប្រសិទ្ធភាពនៃការ​អប់រំនៅមធ្យមសិក្សា"]
[{"$f":"ព័ត៌មានអង្គភាព!C9","v":"១.១០.០១.៤៖ ការពង្រីកការអប់រំក្រៅប្រព័ន្ធ"},{"$f":"SUM(B51,B56)","v":0},{"$f":"SUM(C51,C56)","v":0},0,0,0,0,0,0,0,0,0,0]
[{"$f":"cluster_activity_1","v":"សកម្មភាពរងទី ១. ការចូលរៀនមានគុណភាពប្រកប​ដោយ​សមធម៌ និងបរិយាប័ន្ន និងលើកកម្ពស់ឱកាសក្នុងការសិក្សា​ពេញមួយជីវិតសម្រាប់ទាំងអស់គ្នា"},{"$f":"ROUND(SUM(B52:B55),1)","v":0},{"$f":"ROUND(SUM(C52:C55),1)","v":0},0,0,0,0,0,0,0,0,0,0,null,{"$f":"A50","v":"១.១០.០១.៤៖ ការពង្រីកការអប់រំក្រៅប្រព័ន្ធ"}]
[{"$f":"ព័ត៌មានអង្គភាព!S4","v":"១. កិច្ចដំណើរការអង្គភាព"},{"$f":"ROUND(SUM(C52:D52),1)","v":0},{"$f":"'ចំណាយ-ថវិការដ្ឋ'!C52","v":0},{"$f":"'ចំណាយ-ថវិការដ្ឋ'!D52","v":0},{"$f":"ROUND(SUM(F52:G52),1)","v":0},{"$f":"'ចំណាយ-ថវិការដ្ឋ'!F52","v":0},{"$f":"'ចំណាយ-ថវិការដ្ឋ'!G52","v":0},{"$f":"ROUND(SUM(I52:J52),1)","v":0},{"$f":"'ចំណាយ-ថវិការដ្ឋ'!I52","v":0},{"$f":"'ចំណាយ-ថវិការដ្ឋ'!J52","v":0},{"$f":"ROUND(SUM(L52:M52),1)","v":0},{"$f":"'ចំណាយ-ថវិការដ្ឋ'!L52","v":0},{"$f":"'ចំណាយ-ថវិការដ្ឋ'!M52","v":0},null,{"$f":"O51","v":"១.១០.០១.៤៖ ការពង្រីកការអប់រំក្រៅប្រព័ន្ធ"}]
[{"$f":"ព័ត៌មានអង្គភាព!S5","v":"២. ថវិកាលទ្ធកម្ម"},0,{"$f":"'ចំណាយ-ថវិការដ្ឋ'!C53","v":0},{"$f":"'ចំណាយ-ថវិការដ្ឋ'!D53","v":0},0,{"$f":"'ចំណាយ-ថវិការដ្ឋ'!F53","v":0},{"$f":"'ចំណាយ-ថវិការដ្ឋ'!G53","v":0},0,{"$f":"'ចំណាយ-ថវិការដ្ឋ'!I53","v":0},{"$f":"'ចំណាយ-ថវិការដ្ឋ'!J53","v":0},0,{"$f":"'ចំណាយ-ថវិការដ្ឋ'!L53","v":0},{"$f":"'ចំណាយ-ថវិការដ្ឋ'!M53","v":0},null,{"$f":"O52","v":"១.១០.០១.៤៖ ការពង្រីកការអប់រំក្រៅប្រព័ន្ធ"}]
[{"$f":"ព័ត៌មានអង្គភាព!S6","v":"៣. ពិនិត្យតាមដាន និងវាយតម្លៃ"},0,{"$f":"'ចំណាយ-ថវិការដ្ឋ'!C54","v":0},{"$f":"'ចំណាយ-ថវិការដ្ឋ'!D54","v":0},0,{"$f":"'ចំណាយ-ថវិការដ្ឋ'!F54","v":0},{"$f":"'ចំណាយ-ថវិការដ្ឋ'!G54","v":0},0,{"$f":"'ចំណាយ-ថវិការដ្ឋ'!I54","v":0},{"$f":"'ចំណាយ-ថវិការដ្ឋ'!J54","v":0},0,{"$f":"'ចំណាយ-ថវិការដ្ឋ'!L54","v":0},{"$f":"'ចំណាយ-ថវិការដ្ឋ'!M54","v":0},null,"១.១០.០១.៤៖ ការពង្រីកការអប់រំក្រៅប្រព័ន្ធ"]
[{"$f":"ព័ត៌មានអង្គភាព!S7","v":"៤. ថវិកាដំណើរការនៃការអប់រំក្រៅប្រព័ន្ធ"},0,{"$f":"'ចំណាយ-ថវិការដ្ឋ'!C55","v":0},{"$f":"'ចំណាយ-ថវិការដ្ឋ'!D55","v":0},0,{"$f":"'ចំណាយ-ថវិការដ្ឋ'!F55","v":0},{"$f":"'ចំណាយ-ថវិការដ្ឋ'!G55","v":0},0,{"$f":"'ចំណាយ-ថវិការដ្ឋ'!I55","v":0},{"$f":"'ចំណាយ-ថវិការដ្ឋ'!J55","v":0},0,{"$f":"'ចំណាយ-ថវិការដ្ឋ'!L55","v":0},{"$f":"'ចំណាយ-ថវិការដ្ឋ'!M55","v":0},null,"១.១០.០១.៤៖ ការពង្រីកការអប់រំក្រៅប្រព័ន្ធ"]
[{"$f":"cluster_activity_2","v":"សកម្មភាពរងទី ២. ការលើកកម្ពស់ភាពជាអ្នកដឹកនាំ និងគ្រប់គ្រង របស់មន្រ្តីអប់រំគ្រប់លំដាប់ថ្នាក់"},{"$f":"ROUND(B57,1)","v":0},{"$f":"ROUND(C57,1)","v":0},{"$f":"ROUND(D57,1)","v":0},0,0,0,0,0,0,0,0,0,null,"១.១០.០១.៤៖ ការពង្រីកការអប់រំក្រៅប្រព័ន្ធ"]
[{"$f":"ព័ត៌មានអង្គភាព!S8","v":"១. អភិវឌ្ឍសមត្ថភាពមន្ត្រីអប់រំក្រៅប្រព័ន្ធ"},{"$f":"ROUND(SUM(C57:D57),1)","v":0},{"$f":"'ចំណាយ-ថវិការដ្ឋ'!C57","v":0},{"$f":"'ចំណាយ-ថវិការដ្ឋ'!D57","v":0},{"$f":"ROUND(SUM(F57:G57),1)","v":0},{"$f":"'ចំណាយ-ថវិការដ្ឋ'!F57","v":0},{"$f":"'ចំណាយ-ថវិការដ្ឋ'!G57","v":0},{"$f":"ROUND(SUM(I57:J57),1)","v":0},{"$f":"'ចំណាយ-ថវិការដ្ឋ'!I57","v":0},{"$f":"'ចំណាយ-ថវិការដ្ឋ'!J57","v":0},{"$f":"ROUND(SUM(L57:M57),1)","v":0},{"$f":"'ចំណាយ-ថវិការដ្ឋ'!L57","v":0},{"$f":"'ចំណាយ-ថវិការដ្ឋ'!M57","v":0},null,"១.១០.០១.៤៖ ការពង្រីកការអប់រំក្រៅប្រព័ន្ធ"]
[{"$f":"ព័ត៌មានអង្គភាព!C10","v":"១.១០.០១.៥៖ ការពង្រឹង​ និងការពង្រីកកម្មវិធីលើកកម្ពស់សុខភាពសិក្សា"},{"$f":"SUM(B59,B66)","v":0},{"$f":"SUM(C59,C66)","v":0},0,0,0,0,0,0,0,0,0,0]
[{"$f":"cluster_activity_1","v":"សកម្មភាពរងទី ១. ការចូលរៀនមានគុណភាពប្រកប​ដោយ​សមធម៌ និងបរិយាប័ន្ន និងលើកកម្ពស់ឱកាសក្នុងការសិក្សា​ពេញមួយជីវិតសម្រាប់ទាំងអស់គ្នា"},{"$f":"ROUND(SUM(B60:B65),1)","v":0},{"$f":"ROUND(SUM(C60:C65),1)","v":0},0,0,0,0,0,0,0,0,0,0,null,{"$f":"A58","v":"១.១០.០១.៥៖ ការពង្រឹង​ និងការពង្រីកកម្មវិធីលើកកម្ពស់សុខភាពសិក្សា"}]
[{"$f":"ព័ត៌មានអង្គភាព!U4","v":"១. កិច្ចដំណើរការអង្គភាព"},{"$f":"ROUND(SUM(C60:D60),1)","v":0},{"$f":"'ចំណាយ-ថវិការដ្ឋ'!C60","v":0},{"$f":"'ចំណាយ-ថវិការដ្ឋ'!D60","v":0},{"$f":"ROUND(SUM(F60:G60),1)","v":0},{"$f":"'ចំណាយ-ថវិការដ្ឋ'!F60","v":0},{"$f":"'ចំណាយ-ថវិការដ្ឋ'!G60","v":0},{"$f":"ROUND(SUM(I60:J60),1)","v":0},{"$f":"'ចំណាយ-ថវិការដ្ឋ'!I60","v":0},{"$f":"'ចំណាយ-ថវិការដ្ឋ'!J60","v":0},{"$f":"ROUND(SUM(L60:M60),1)","v":0},{"$f":"'ចំណាយ-ថវិការដ្ឋ'!L60","v":0},{"$f":"'ចំណាយ-ថវិការដ្ឋ'!M60","v":0},null,{"$f":"O59","v":"១.១០.០១.៥៖ ការពង្រឹង​ និងការពង្រីកកម្មវិធីលើកកម្ពស់សុខភាពសិក្សា"}]
[{"$f":"ព័ត៌មានអង្គភាព!U5","v":"២. ថវិកាលទ្ធកម្ម"},0,{"$f":"'ចំណាយ-ថវិការដ្ឋ'!C61","v":0},{"$f":"'ចំណាយ-ថវិការដ្ឋ'!D61","v":0},0,{"$f":"'ចំណាយ-ថវិការដ្ឋ'!F61","v":0},{"$f":"'ចំណាយ-ថវិការដ្ឋ'!G61","v":0},0,{"$f":"'ចំណាយ-ថវិការដ្ឋ'!I61","v":0},{"$f":"'ចំណាយ-ថវិការដ្ឋ'!J61","v":0},0,{"$f":"'ចំណាយ-ថវិការដ្ឋ'!L61","v":0},{"$f":"'ចំណាយ-ថវិការដ្ឋ'!M61","v":0},null,{"$f":"O60","v":"១.១០.០១.៥៖ ការពង្រឹង​ និងការពង្រីកកម្មវិធីលើកកម្ពស់សុខភាពសិក្សា"}]
[{"$f":"ព័ត៌មានអង្គភាព!U6","v":"៣. ពិនិត្យតាមដាន និងវាយតម្លៃ"},0,{"$f":"'ចំណាយ-ថវិការដ្ឋ'!C62","v":0},{"$f":"'ចំណាយ-ថវិការដ្ឋ'!D62","v":0},0,{"$f":"'ចំណាយ-ថវិការដ្ឋ'!F62","v":0},{"$f":"'ចំណាយ-ថវិការដ្ឋ'!G62","v":0},0,{"$f":"'ចំណាយ-ថវិការដ្ឋ'!I62","v":0},{"$f":"'ចំណាយ-ថវិការដ្ឋ'!J62","v":0},0,{"$f":"'ចំណាយ-ថវិការដ្ឋ'!L62","v":0},{"$f":"'ចំណាយ-ថវិការដ្ឋ'!M62","v":0},null,"១.១០.០១.៥៖ ការពង្រឹង​ និងការពង្រីកកម្មវិធីលើកកម្ពស់សុខភាពសិក្សា"]
[{"$f":"ព័ត៌មានអង្គភាព!U7","v":"៤. កម្មវិធីអាហាររូបត្ថម្ភ"},0,{"$f":"'ចំណាយ-ថវិការដ្ឋ'!C63","v":0},{"$f":"'ចំណាយ-ថវិការដ្ឋ'!D63","v":0},0,{"$f":"'ចំណាយ-ថវិការដ្ឋ'!F63","v":0},{"$f":"'ចំណាយ-ថវិការដ្ឋ'!G63","v":0},0,{"$f":"'ចំណាយ-ថវិការដ្ឋ'!I63","v":0},{"$f":"'ចំណាយ-ថវិការដ្ឋ'!J63","v":0},0,{"$f":"'ចំណាយ-ថវិការដ្ឋ'!L63","v":0},{"$f":"'ចំណាយ-ថវិការដ្ឋ'!M63","v":0},null,"១.១០.០១.៥៖ ការពង្រឹង​ និងការពង្រីកកម្មវិធីលើកកម្ពស់សុខភាពសិក្សា"]
[{"$f":"ព័ត៌មានអង្គភាព!U8","v":"៥. កម្មវិធីទឹកស្អាត និងអនាម័យ"},0,{"$f":"'ចំណាយ-ថវិការដ្ឋ'!C64","v":0},{"$f":"'ចំណាយ-ថវិការដ្ឋ'!D64","v":0},0,{"$f":"'ចំណាយ-ថវិការដ្ឋ'!F64","v":0},{"$f":"'ចំណាយ-ថវិការដ្ឋ'!G64","v":0},0,{"$f":"'ចំណាយ-ថវិការដ្ឋ'!I64","v":0},{"$f":"'ចំណាយ-ថវិការដ្ឋ'!J64","v":0},0,{"$f":"'ចំណាយ-ថវិការដ្ឋ'!L64","v":0},{"$f":"'ចំណាយ-ថវិការដ្ឋ'!M64","v":0},null,"១.១០.០១.៥៖ ការពង្រឹង​ និងការពង្រីកកម្មវិធីលើកកម្ពស់សុខភាពសិក្សា"]
[{"$f":"ព័ត៌មានអង្គភាព!U9","v":"៦. ផ្តល់សេវាថែទាំសុខភាពចាំបាច់​ "},0,{"$f":"'ចំណាយ-ថវិការដ្ឋ'!C65","v":0},{"$f":"'ចំណាយ-ថវិការដ្ឋ'!D65","v":0},0,{"$f":"'ចំណាយ-ថវិការដ្ឋ'!F65","v":0},{"$f":"'ចំណាយ-ថវិការដ្ឋ'!G65","v":0},0,{"$f":"'ចំណាយ-ថវិការដ្ឋ'!I65","v":0},{"$f":"'ចំណាយ-ថវិការដ្ឋ'!J65","v":0},0,{"$f":"'ចំណាយ-ថវិការដ្ឋ'!L65","v":0},{"$f":"'ចំណាយ-ថវិការដ្ឋ'!M65","v":0},null,"១.១០.០១.៥៖ ការពង្រឹង​ និងការពង្រីកកម្មវិធីលើកកម្ពស់សុខភាពសិក្សា"]
[{"$f":"cluster_activity_2","v":"សកម្មភាពរងទី ២. ការលើកកម្ពស់ភាពជាអ្នកដឹកនាំ និងគ្រប់គ្រង របស់មន្រ្តីអប់រំគ្រប់លំដាប់ថ្នាក់"},{"$f":"ROUND(B67,1)","v":0},{"$f":"ROUND(C67,1)","v":0},0,0,0,0,0,0,0,0,0,0,null,"១.១០.០១.៥៖ ការពង្រឹង​ និងការពង្រីកកម្មវិធីលើកកម្ពស់សុខភាពសិក្សា"]
[{"$f":"ព័ត៌មានអង្គភាព!U10","v":"១. ការអភិវឌ្ឍ និងពង្រឹងសមត្ថភាពកម្មវិធីអប់រំសុខភាព"},{"$f":"ROUND(SUM(C67:D67),1)","v":0},{"$f":"'ចំណាយ-ថវិការដ្ឋ'!C67","v":0},{"$f":"'ចំណាយ-ថវិការដ្ឋ'!D67","v":0},{"$f":"ROUND(SUM(F67:G67),1)","v":0},{"$f":"'ចំណាយ-ថវិការដ្ឋ'!F67","v":0},{"$f":"'ចំណាយ-ថវិការដ្ឋ'!G67","v":0},{"$f":"ROUND(SUM(I67:J67),1)","v":0},{"$f":"'ចំណាយ-ថវិការដ្ឋ'!I67","v":0},{"$f":"'ចំណាយ-ថវិការដ្ឋ'!J67","v":0},{"$f":"ROUND(SUM(L67:M67),1)","v":0},{"$f":"'ចំណាយ-ថវិការដ្ឋ'!L67","v":0},{"$f":"'ចំណាយ-ថវិការដ្ឋ'!M67","v":0},null,"១.១០.០១.៥៖ ការពង្រឹង​ និងការពង្រីកកម្មវិធីលើកកម្ពស់សុខភាពសិក្សា"]
[{"$f":"ព័ត៌មានអង្គភាព!C11","v":"១.១០.០១.៦៖ លើកកម្ពស់គុណភាព និងប្រសិទ្ធភាពនៃការអនុវត្តកម្មវិធីអប់រំបច្ចេកទេស"},{"$f":"SUM(B69,B75)","v":0},{"$f":"SUM(C69,C75)","v":0},0,0,0,0,0,0,0,0,0,0]
[{"$f":"cluster_activity_1","v":"សកម្មភាពរងទី ១. ការចូលរៀនមានគុណភាពប្រកប​ដោយ​សមធម៌ និងបរិយាប័ន្ន និងលើកកម្ពស់ឱកាសក្នុងការសិក្សា​ពេញមួយជីវិតសម្រាប់ទាំងអស់គ្នា"},{"$f":"ROUND(SUM(B70:B74),1)","v":0},{"$f":"ROUND(SUM(C70:C74),1)","v":0},{"$f":"ROUND(SUM(D70:D74),1)","v":0},{"$f":"ROUND(SUM(E70:E74),1)","v":0},0,0,0,0,0,0,0,0,null,{"$f":"A68","v":"១.១០.០១.៦៖ លើកកម្ពស់គុណភាព និងប្រសិទ្ធភាពនៃការអនុវត្តកម្មវិធីអប់រំបច្ចេកទេស"}]
[{"$f":"ព័ត៌មានអង្គភាព!W4","v":"១. កិច្ចដំណើរការអង្គភាព"},{"$f":"ROUND(SUM(C70:D70),1)","v":0},{"$f":"'ចំណាយ-ថវិការដ្ឋ'!C70","v":0},{"$f":"'ចំណាយ-ថវិការដ្ឋ'!D70","v":0},{"$f":"ROUND(SUM(F70:G70),1)","v":0},{"$f":"'ចំណាយ-ថវិការដ្ឋ'!F70","v":0},{"$f":"'ចំណាយ-ថវិការដ្ឋ'!G70","v":0},{"$f":"ROUND(SUM(I70:J70),1)","v":0},{"$f":"'ចំណាយ-ថវិការដ្ឋ'!I70","v":0},{"$f":"'ចំណាយ-ថវិការដ្ឋ'!J70","v":0},{"$f":"ROUND(SUM(L70:M70),1)","v":0},{"$f":"'ចំណាយ-ថវិការដ្ឋ'!L70","v":0},{"$f":"'ចំណាយ-ថវិការដ្ឋ'!M70","v":0},null,{"$f":"O69","v":"១.១០.០១.៦៖ លើកកម្ពស់គុណភាព និងប្រសិទ្ធភាពនៃការអនុវត្តកម្មវិធីអប់រំបច្ចេកទេស"}]
[{"$f":"ព័ត៌មានអង្គភាព!W5","v":"២. ថវិកាលទ្ធកម្ម"},0,{"$f":"'ចំណាយ-ថវិការដ្ឋ'!C71","v":0},{"$f":"'ចំណាយ-ថវិការដ្ឋ'!D71","v":0},0,{"$f":"'ចំណាយ-ថវិការដ្ឋ'!F71","v":0},{"$f":"'ចំណាយ-ថវិការដ្ឋ'!G71","v":0},0,{"$f":"'ចំណាយ-ថវិការដ្ឋ'!I71","v":0},{"$f":"'ចំណាយ-ថវិការដ្ឋ'!J71","v":0},0,{"$f":"'ចំណាយ-ថវិការដ្ឋ'!L71","v":0},{"$f":"'ចំណាយ-ថវិការដ្ឋ'!M71","v":0},null,{"$f":"O70","v":"១.១០.០១.៦៖ លើកកម្ពស់គុណភាព និងប្រសិទ្ធភាពនៃការអនុវត្តកម្មវិធីអប់រំបច្ចេកទេស"}]
[{"$f":"ព័ត៌មានអង្គភាព!W6","v":"៣. ពិនិត្យតាមដាន និងវាយតម្លៃ"},0,{"$f":"'ចំណាយ-ថវិការដ្ឋ'!C72","v":0},{"$f":"'ចំណាយ-ថវិការដ្ឋ'!D72","v":0},0,{"$f":"'ចំណាយ-ថវិការដ្ឋ'!F72","v":0},{"$f":"'ចំណាយ-ថវិការដ្ឋ'!G72","v":0},0,{"$f":"'ចំណាយ-ថវិការដ្ឋ'!I72","v":0},{"$f":"'ចំណាយ-ថវិការដ្ឋ'!J72","v":0},0,{"$f":"'ចំណាយ-ថវិការដ្ឋ'!L72","v":0},{"$f":"'ចំណាយ-ថវិការដ្ឋ'!M72","v":0},null,"១.១០.០១.៦៖ លើកកម្ពស់គុណភាព និងប្រសិទ្ធភាពនៃការអនុវត្តកម្មវិធីអប់រំបច្ចេកទេស"]
[{"$f":"ព័ត៌មានអង្គភាព!W7","v":"៤. ថវិកាដំណើការ និងការលើកកម្ពស់ការអប់រំបច្ចេកទេស"},0,{"$f":"'ចំណាយ-ថវិការដ្ឋ'!C73","v":0},{"$f":"'ចំណាយ-ថវិការដ្ឋ'!D73","v":0},0,{"$f":"'ចំណាយ-ថវិការដ្ឋ'!F73","v":0},{"$f":"'ចំណាយ-ថវិការដ្ឋ'!G73","v":0},0,{"$f":"'ចំណាយ-ថវិការដ្ឋ'!I73","v":0},{"$f":"'ចំណាយ-ថវិការដ្ឋ'!J73","v":0},0,{"$f":"'ចំណាយ-ថវិការដ្ឋ'!L73","v":0},{"$f":"'ចំណាយ-ថវិការដ្ឋ'!M73","v":0},null,"១.១០.០១.៦៖ លើកកម្ពស់គុណភាព និងប្រសិទ្ធភាពនៃការអនុវត្តកម្មវិធីអប់រំបច្ចេកទេស"]
[{"$f":"ព័ត៌មានអង្គភាព!W8","v":"៥. ពង្រឹង និងពង្រីកកម្មវិធីតម្រង់ទិសវិជ្ជាជីវៈអប់រំ បំណិនជីវិត និងប្រឹក្សាអាជីព"},0,{"$f":"'ចំណាយ-ថវិការដ្ឋ'!C74","v":0},{"$f":"'ចំណាយ-ថវិការដ្ឋ'!D74","v":0},0,{"$f":"'ចំណាយ-ថវិការដ្ឋ'!F74","v":0},{"$f":"'ចំណាយ-ថវិការដ្ឋ'!G74","v":0},0,{"$f":"'ចំណាយ-ថវិការដ្ឋ'!I74","v":0},{"$f":"'ចំណាយ-ថវិការដ្ឋ'!J74","v":0},0,{"$f":"'ចំណាយ-ថវិការដ្ឋ'!L74","v":0},{"$f":"'ចំណាយ-ថវិការដ្ឋ'!M74","v":0},null,"១.១០.០១.៦៖ លើកកម្ពស់គុណភាព និងប្រសិទ្ធភាពនៃការអនុវត្តកម្មវិធីអប់រំបច្ចេកទេស"]
[{"$f":"cluster_activity_2","v":"សកម្មភាពរងទី ២. ការលើកកម្ពស់ភាពជាអ្នកដឹកនាំ និងគ្រប់គ្រង របស់មន្រ្តីអប់រំគ្រប់លំដាប់ថ្នាក់"},0,0,0,0,0,0,0,0,0,0,0,0,null,"១.១០.០១.៦៖ លើកកម្ពស់គុណភាព និងប្រសិទ្ធភាពនៃការអនុវត្តកម្មវិធីអប់រំបច្ចេកទេស"]
[{"$f":"ព័ត៌មានអង្គភាព!C12","v":"១.១០.០១.៧៖ ការអភិវឌ្ឍការងារបណ្តុះបណ្តុះ និងវិក្រឹតការគ្រូបង្រៀន"},{"$f":"SUM(B77,B86)","v":0},{"$f":"SUM(C77,C86)","v":0},0,0,0,0,0,0,0,0,0,0]
[{"$f":"cluster_activity_1","v":"សកម្មភាពរងទី ១. ការចូលរៀនមានគុណភាពប្រកប​ដោយ​សមធម៌ និងបរិយាប័ន្ន និងលើកកម្ពស់ឱកាសក្នុងការសិក្សា​ពេញមួយជីវិតសម្រាប់ទាំងអស់គ្នា"},{"$f":"ROUND(SUM(B78:B85),1)","v":0},{"$f":"ROUND(SUM(C78:C85),1)","v":0},{"$f":"ROUND(SUM(D78:D85),1)","v":0},0,0,0,0,0,0,0,0,0,null,{"$f":"A76","v":"១.១០.០១.៧៖ ការអភិវឌ្ឍការងារបណ្តុះបណ្តុះ និងវិក្រឹតការគ្រូបង្រៀន"}]
[{"$f":"ព័ត៌មានអង្គភាព!Y4","v":"១. កិច្ចដំណើរការអង្គភាព"},{"$f":"ROUND(SUM(C78:D78),1)","v":0},{"$f":"'ចំណាយ-ថវិការដ្ឋ'!C78","v":0},{"$f":"'ចំណាយ-ថវិការដ្ឋ'!D78","v":0},{"$f":"ROUND(SUM(F78:G78),1)","v":0},{"$f":"'ចំណាយ-ថវិការដ្ឋ'!F78","v":0},{"$f":"'ចំណាយ-ថវិការដ្ឋ'!G78","v":0},{"$f":"ROUND(SUM(I78:J78),1)","v":0},{"$f":"'ចំណាយ-ថវិការដ្ឋ'!I78","v":0},{"$f":"'ចំណាយ-ថវិការដ្ឋ'!J78","v":0},{"$f":"ROUND(SUM(L78:M78),1)","v":0},{"$f":"'ចំណាយ-ថវិការដ្ឋ'!L78","v":0},{"$f":"'ចំណាយ-ថវិការដ្ឋ'!M78","v":0},null,{"$f":"O77","v":"១.១០.០១.៧៖ ការអភិវឌ្ឍការងារបណ្តុះបណ្តុះ និងវិក្រឹតការគ្រូបង្រៀន"}]
[{"$f":"ព័ត៌មានអង្គភាព!Y5","v":"២. ថវិកាលទ្ធកម្ម"},0,{"$f":"'ចំណាយ-ថវិការដ្ឋ'!C79","v":0},{"$f":"'ចំណាយ-ថវិការដ្ឋ'!D79","v":0},0,{"$f":"'ចំណាយ-ថវិការដ្ឋ'!F79","v":0},{"$f":"'ចំណាយ-ថវិការដ្ឋ'!G79","v":0},0,{"$f":"'ចំណាយ-ថវិការដ្ឋ'!I79","v":0},{"$f":"'ចំណាយ-ថវិការដ្ឋ'!J79","v":0},0,{"$f":"'ចំណាយ-ថវិការដ្ឋ'!L79","v":0},{"$f":"'ចំណាយ-ថវិការដ្ឋ'!M79","v":0},null,{"$f":"O78","v":"១.១០.០១.៧៖ ការអភិវឌ្ឍការងារបណ្តុះបណ្តុះ និងវិក្រឹតការគ្រូបង្រៀន"}]
[{"$f":"ព័ត៌មានអង្គភាព!Y6","v":"៣. ពិនិត្យតាមដាន និងវាយតម្លៃ"},0,{"$f":"'ចំណាយ-ថវិការដ្ឋ'!C80","v":0},{"$f":"'ចំណាយ-ថវិការដ្ឋ'!D80","v":0},0,{"$f":"'ចំណាយ-ថវិការដ្ឋ'!F80","v":0},{"$f":"'ចំណាយ-ថវិការដ្ឋ'!G80","v":0},0,{"$f":"'ចំណាយ-ថវិការដ្ឋ'!I80","v":0},{"$f":"'ចំណាយ-ថវិការដ្ឋ'!J80","v":0},0,{"$f":"'ចំណាយ-ថវិការដ្ឋ'!L80","v":0},{"$f":"'ចំណាយ-ថវិការដ្ឋ'!M80","v":0},null,"១.១០.០១.៧៖ ការអភិវឌ្ឍការងារបណ្តុះបណ្តុះ និងវិក្រឹតការគ្រូបង្រៀន"]
[{"$f":"ព័ត៌មានអង្គភាព!Y7","v":"៤. អភិវឌ្ឍវិទ្យាស្ថានគរុកោសល្យ ២ (បាត់ដំបង និងភ្នំពេញ)"},0,{"$f":"'ចំណាយ-ថវិការដ្ឋ'!C81","v":0},{"$f":"'ចំណាយ-ថវិការដ្ឋ'!D81","v":0},0,{"$f":"'ចំណាយ-ថវិការដ្ឋ'!F81","v":0},{"$f":"'ចំណាយ-ថវិការដ្ឋ'!G81","v":0},0,{"$f":"'ចំណាយ-ថវិការដ្ឋ'!I81","v":0},{"$f":"'ចំណាយ-ថវិការដ្ឋ'!J81","v":0},0,{"$f":"'ចំណាយ-ថវិការដ្ឋ'!L81","v":0},{"$f":"'ចំណាយ-ថវិការដ្ឋ'!M81","v":0},null,"១.១០.០១.៧៖ ការអភិវឌ្ឍការងារបណ្តុះបណ្តុះ និងវិក្រឹតការគ្រូបង្រៀន"]
[{"$f":"ព័ត៌មានអង្គភាព!Y8","v":"៥. អភិវឌ្ឍសាលាមធ្យមសិក្សាគរុកោសល្យមត្តេយ្យមជ្ឈិម"},0,{"$f":"'ចំណាយ-ថវិការដ្ឋ'!C82","v":0},{"$f":"'ចំណាយ-ថវិការដ្ឋ'!D82","v":0},0,{"$f":"'ចំណាយ-ថវិការដ្ឋ'!F82","v":0},{"$f":"'ចំណាយ-ថវិការដ្ឋ'!G82","v":0},0,{"$f":"'ចំណាយ-ថវិការដ្ឋ'!I82","v":0},{"$f":"'ចំណាយ-ថវិការដ្ឋ'!J82","v":0},0,{"$f":"'ចំណាយ-ថវិការដ្ឋ'!L82","v":0},{"$f":"'ចំណាយ-ថវិការដ្ឋ'!M82","v":0},null,"១.១០.០១.៧៖ ការអភិវឌ្ឍការងារបណ្តុះបណ្តុះ និងវិក្រឹតការគ្រូបង្រៀន"]
[{"$f":"ព័ត៌មានអង្គភាព!Y9","v":"៦. ប្រឡងជ្រើសរើស និងបញ្ចប់វគ្គបណ្ដុះបណ្ដាលគ្រូបង្រៀន"},0,{"$f":"'ចំណាយ-ថវិការដ្ឋ'!C83","v":0},{"$f":"'ចំណាយ-ថវិការដ្ឋ'!D83","v":0},0,{"$f":"'ចំណាយ-ថវិការដ្ឋ'!F83","v":0},{"$f":"'ចំណាយ-ថវិការដ្ឋ'!G83","v":0},0,{"$f":"'ចំណាយ-ថវិការដ្ឋ'!I83","v":0},{"$f":"'ចំណាយ-ថវិការដ្ឋ'!J83","v":0},0,{"$f":"'ចំណាយ-ថវិការដ្ឋ'!L83","v":0},{"$f":"'ចំណាយ-ថវិការដ្ឋ'!M83","v":0},null,"១.១០.០១.៧៖ ការអភិវឌ្ឍការងារបណ្តុះបណ្តុះ និងវិក្រឹតការគ្រូបង្រៀន"]
[{"$f":"ព័ត៌មានអង្គភាព!Y10","v":"៧. ថវិកាដំណើរការសាលាគរុកោសល្យ និងមណ្ឌលធនធាន"},0,{"$f":"'ចំណាយ-ថវិការដ្ឋ'!C84","v":0},{"$f":"'ចំណាយ-ថវិការដ្ឋ'!D84","v":0},0,{"$f":"'ចំណាយ-ថវិការដ្ឋ'!F84","v":0},{"$f":"'ចំណាយ-ថវិការដ្ឋ'!G84","v":0},0,{"$f":"'ចំណាយ-ថវិការដ្ឋ'!I84","v":0},{"$f":"'ចំណាយ-ថវិការដ្ឋ'!J84","v":0},0,{"$f":"'ចំណាយ-ថវិការដ្ឋ'!L84","v":0},{"$f":"'ចំណាយ-ថវិការដ្ឋ'!M84","v":0},null,"១.១០.០១.៧៖ ការអភិវឌ្ឍការងារបណ្តុះបណ្តុះ និងវិក្រឹតការគ្រូបង្រៀន"]
[{"$f":"ព័ត៌មានអង្គភាព!Y11","v":"៨. អភិវឌ្ឍសមត្ថភាពនាយក និងគ្រូបង្រៀន"},0,{"$f":"'ចំណាយ-ថវិការដ្ឋ'!C85","v":0},{"$f":"'ចំណាយ-ថវិការដ្ឋ'!D85","v":0},0,{"$f":"'ចំណាយ-ថវិការដ្ឋ'!F85","v":0},{"$f":"'ចំណាយ-ថវិការដ្ឋ'!G85","v":0},0,{"$f":"'ចំណាយ-ថវិការដ្ឋ'!I85","v":0},{"$f":"'ចំណាយ-ថវិការដ្ឋ'!J85","v":0},0,{"$f":"'ចំណាយ-ថវិការដ្ឋ'!L85","v":0},{"$f":"'ចំណាយ-ថវិការដ្ឋ'!M85","v":0},null,"១.១០.០១.៧៖ ការអភិវឌ្ឍការងារបណ្តុះបណ្តុះ និងវិក្រឹតការគ្រូបង្រៀន"]
[{"$f":"cluster_activity_2","v":"សកម្មភាពរងទី ២. ការលើកកម្ពស់ភាពជាអ្នកដឹកនាំ និងគ្រប់គ្រង របស់មន្រ្តីអប់រំគ្រប់លំដាប់ថ្នាក់"},0,0,0,0,0,0,0,0,0,0,0,0,null,"១.១០.០១.៧៖ ការអភិវឌ្ឍការងារបណ្តុះបណ្តុះ និងវិក្រឹតការគ្រូបង្រៀន"]
[{"$f":"ព័ត៌មានអង្គភាព!C13","v":"១.១០.០១.៨៖ ការអភិវឌ្ឍកម្មវិធីសិក្សា សម្ភារៈសិក្សា និងបណ្ណាល័យ"},{"$f":"SUM(B88,B94)","v":0},0,0,0,0,0,0,0,0,0,0,0]
[{"$f":"cluster_activity_1","v":"សកម្មភាពរងទី ១. ការចូលរៀនមានគុណភាពប្រកប​ដោយ​សមធម៌ និងបរិយាប័ន្ន និងលើកកម្ពស់ឱកាសក្នុងការសិក្សា​ពេញមួយជីវិតសម្រាប់ទាំងអស់គ្នា"},{"$f":"ROUND(SUM(B89:B93),1)","v":0},0,0,0,0,0,0,0,0,0,0,0,null,{"$f":"A87","v":"១.១០.០១.៨៖ ការអភិវឌ្ឍកម្មវិធីសិក្សា សម្ភារៈសិក្សា និងបណ្ណាល័យ"}]
[{"$f":"ព័ត៌មានអង្គភាព!AA4","v":"១. កិច្ចដំណើរការអង្គភាព"},{"$f":"ROUND(SUM(C89:D89),1)","v":0},{"$f":"'ចំណាយ-ថវិការដ្ឋ'!C89","v":0},{"$f":"'ចំណាយ-ថវិការដ្ឋ'!D89","v":0},{"$f":"ROUND(SUM(F89:G89),1)","v":0},{"$f":"'ចំណាយ-ថវិការដ្ឋ'!F89","v":0},{"$f":"'ចំណាយ-ថវិការដ្ឋ'!G89","v":0},{"$f":"ROUND(SUM(I89:J89),1)","v":0},{"$f":"'ចំណាយ-ថវិការដ្ឋ'!I89","v":0},{"$f":"'ចំណាយ-ថវិការដ្ឋ'!J89","v":0},{"$f":"ROUND(SUM(L89:M89),1)","v":0},{"$f":"'ចំណាយ-ថវិការដ្ឋ'!L89","v":0},{"$f":"'ចំណាយ-ថវិការដ្ឋ'!M89","v":0},null,{"$f":"O88","v":"១.១០.០១.៨៖ ការអភិវឌ្ឍកម្មវិធីសិក្សា សម្ភារៈសិក្សា និងបណ្ណាល័យ"}]
[{"$f":"ព័ត៌មានអង្គភាព!AA5","v":"២. ថវិកាលទ្ធកម្ម"},0,{"$f":"'ចំណាយ-ថវិការដ្ឋ'!C90","v":0},{"$f":"'ចំណាយ-ថវិការដ្ឋ'!D90","v":0},0,{"$f":"'ចំណាយ-ថវិការដ្ឋ'!F90","v":0},{"$f":"'ចំណាយ-ថវិការដ្ឋ'!G90","v":0},0,{"$f":"'ចំណាយ-ថវិការដ្ឋ'!I90","v":0},{"$f":"'ចំណាយ-ថវិការដ្ឋ'!J90","v":0},0,{"$f":"'ចំណាយ-ថវិការដ្ឋ'!L90","v":0},{"$f":"'ចំណាយ-ថវិការដ្ឋ'!M90","v":0},null,{"$f":"O89","v":"១.១០.០១.៨៖ ការអភិវឌ្ឍកម្មវិធីសិក្សា សម្ភារៈសិក្សា និងបណ្ណាល័យ"}]
[{"$f":"ព័ត៌មានអង្គភាព!AA6","v":"៣. រៀប​ចំ​ទិវាជាតិ​អំណាន និង​ពិធី​បុណ្យផ្សេងៗ"},0,{"$f":"'ចំណាយ-ថវិការដ្ឋ'!C91","v":0},{"$f":"'ចំណាយ-ថវិការដ្ឋ'!D91","v":0},0,{"$f":"'ចំណាយ-ថវិការដ្ឋ'!F91","v":0},{"$f":"'ចំណាយ-ថវិការដ្ឋ'!G91","v":0},0,{"$f":"'ចំណាយ-ថវិការដ្ឋ'!I91","v":0},{"$f":"'ចំណាយ-ថវិការដ្ឋ'!J91","v":0},0,{"$f":"'ចំណាយ-ថវិការដ្ឋ'!L91","v":0},{"$f":"'ចំណាយ-ថវិការដ្ឋ'!M91","v":0},null,"១.១០.០១.៨៖ ការអភិវឌ្ឍកម្មវិធីសិក្សា សម្ភារៈសិក្សា និងបណ្ណាល័យ"]
[{"$f":"ព័ត៌មានអង្គភាព!AA7","v":"៤. ពិនិត្យតាមដាន និងវាយតម្លៃ"},0,{"$f":"'ចំណាយ-ថវិការដ្ឋ'!C92","v":0},{"$f":"'ចំណាយ-ថវិការដ្ឋ'!D92","v":0},0,{"$f":"'ចំណាយ-ថវិការដ្ឋ'!F92","v":0},{"$f":"'ចំណាយ-ថវិការដ្ឋ'!G92","v":0},0,{"$f":"'ចំណាយ-ថវិការដ្ឋ'!I92","v":0},{"$f":"'ចំណាយ-ថវិការដ្ឋ'!J92","v":0},0,{"$f":"'ចំណាយ-ថវិការដ្ឋ'!L92","v":0},{"$f":"'ចំណាយ-ថវិការដ្ឋ'!M92","v":0},null,"១.១០.០១.៨៖ ការអភិវឌ្ឍកម្មវិធីសិក្សា សម្ភារៈសិក្សា និងបណ្ណាល័យ"]
[{"$f":"ព័ត៌មានអង្គភាព!AA8","v":"៥. អភិវឌ្ឍកម្មវិធីសិក្សា វិធីសាស្រ្តបង្រៀន ឯកសារ​  និងសម្ភារៈសិក្សា"},0,{"$f":"'ចំណាយ-ថវិការដ្ឋ'!C93","v":0},{"$f":"'ចំណាយ-ថវិការដ្ឋ'!D93","v":0},0,{"$f":"'ចំណាយ-ថវិការដ្ឋ'!F93","v":0},{"$f":"'ចំណាយ-ថវិការដ្ឋ'!G93","v":0},0,{"$f":"'ចំណាយ-ថវិការដ្ឋ'!I93","v":0},{"$f":"'ចំណាយ-ថវិការដ្ឋ'!J93","v":0},0,{"$f":"'ចំណាយ-ថវិការដ្ឋ'!L93","v":0},{"$f":"'ចំណាយ-ថវិការដ្ឋ'!M93","v":0},null,"១.១០.០១.៨៖ ការអភិវឌ្ឍកម្មវិធីសិក្សា សម្ភារៈសិក្សា និងបណ្ណាល័យ"]
[{"$f":"cluster_activity_2","v":"សកម្មភាពរងទី ២. ការលើកកម្ពស់ភាពជាអ្នកដឹកនាំ និងគ្រប់គ្រង របស់មន្រ្តីអប់រំគ្រប់លំដាប់ថ្នាក់"},{"$f":"ROUND(B95,1)","v":0},{"$f":"ROUND(C95,1)","v":0},0,0,0,0,0,0,0,0,0,0,null,"១.១០.០១.៨៖ ការអភិវឌ្ឍកម្មវិធីសិក្សា សម្ភារៈសិក្សា និងបណ្ណាល័យ"]
[{"$f":"ព័ត៌មានអង្គភាព!AA9","v":"១. ពង្រឹងសមត្ថភាពមន្ដ្រីជំនាញ និងផ្សព្វផ្សាយ"},{"$f":"ROUND(SUM(C95:D95),1)","v":0},{"$f":"'ចំណាយ-ថវិការដ្ឋ'!C95","v":0},{"$f":"'ចំណាយ-ថវិការដ្ឋ'!D95","v":0},{"$f":"ROUND(SUM(F95:G95),1)","v":0},{"$f":"'ចំណាយ-ថវិការដ្ឋ'!F95","v":0},{"$f":"'ចំណាយ-ថវិការដ្ឋ'!G95","v":0},{"$f":"ROUND(SUM(I95:J95),1)","v":0},{"$f":"'ចំណាយ-ថវិការដ្ឋ'!I95","v":0},{"$f":"'ចំណាយ-ថវិការដ្ឋ'!J95","v":0},{"$f":"ROUND(SUM(L95:M95),1)","v":0},{"$f":"'ចំណាយ-ថវិការដ្ឋ'!L95","v":0},{"$f":"'ចំណាយ-ថវិការដ្ឋ'!M95","v":0},null,"១.១០.០១.៨៖ ការអភិវឌ្ឍកម្មវិធីសិក្សា សម្ភារៈសិក្សា និងបណ្ណាល័យ"]
[{"$f":"ព័ត៌មានអង្គភាព!C14","v":"១.១០.០១.៩៖ ពង្រីកការអប់រំបរិយាបន្នគ្រប់ភូមិសិក្សា"},{"$f":"SUM(B97,B103)","v":0},{"$f":"SUM(C97,C103)","v":0},0,0,0,0,0,0,0,0,0,0]
[{"$f":"cluster_activity_1","v":"សកម្មភាពរងទី ១. ការចូលរៀនមានគុណភាពប្រកប​ដោយ​សមធម៌ និងបរិយាប័ន្ន និងលើកកម្ពស់ឱកាសក្នុងការសិក្សា​ពេញមួយជីវិតសម្រាប់ទាំងអស់គ្នា"},{"$f":"ROUND(SUM(B98:B102),1)","v":0},{"$f":"ROUND(SUM(C98:C102),1)","v":0},0,0,0,0,0,0,0,0,0,0,null,{"$f":"A96","v":"១.១០.០១.៩៖ ពង្រីកការអប់រំបរិយាបន្នគ្រប់ភូមិសិក្សា"}]
[{"$f":"ព័ត៌មានអង្គភាព!AC4","v":"១. កិច្ចដំណើរការអង្គភាព"},{"$f":"ROUND(SUM(C98:D98),1)","v":0},{"$f":"'ចំណាយ-ថវិការដ្ឋ'!C98","v":0},{"$f":"'ចំណាយ-ថវិការដ្ឋ'!D98","v":0},{"$f":"ROUND(SUM(F98:G98),1)","v":0},{"$f":"'ចំណាយ-ថវិការដ្ឋ'!F98","v":0},{"$f":"'ចំណាយ-ថវិការដ្ឋ'!G98","v":0},{"$f":"ROUND(SUM(I98:J98),1)","v":0},{"$f":"'ចំណាយ-ថវិការដ្ឋ'!I98","v":0},{"$f":"'ចំណាយ-ថវិការដ្ឋ'!J98","v":0},{"$f":"ROUND(SUM(L98:M98),1)","v":0},{"$f":"'ចំណាយ-ថវិការដ្ឋ'!L98","v":0},{"$f":"'ចំណាយ-ថវិការដ្ឋ'!M98","v":0},null,{"$f":"O97","v":"១.១០.០១.៩៖ ពង្រីកការអប់រំបរិយាបន្នគ្រប់ភូមិសិក្សា"}]
[{"$f":"ព័ត៌មានអង្គភាព!AC5","v":"២. ថវិកាលទ្ធកម្ម"},0,{"$f":"'ចំណាយ-ថវិការដ្ឋ'!C99","v":0},{"$f":"'ចំណាយ-ថវិការដ្ឋ'!D99","v":0},0,{"$f":"'ចំណាយ-ថវិការដ្ឋ'!F99","v":0},{"$f":"'ចំណាយ-ថវិការដ្ឋ'!G99","v":0},0,{"$f":"'ចំណាយ-ថវិការដ្ឋ'!I99","v":0},{"$f":"'ចំណាយ-ថវិការដ្ឋ'!J99","v":0},0,{"$f":"'ចំណាយ-ថវិការដ្ឋ'!L99","v":0},{"$f":"'ចំណាយ-ថវិការដ្ឋ'!M99","v":0},null,{"$f":"O98","v":"១.១០.០១.៩៖ ពង្រីកការអប់រំបរិយាបន្នគ្រប់ភូមិសិក្សា"}]
[{"$f":"ព័ត៌មានអង្គភាព!AC6","v":"៣. ពិនិត្យតាមដាន និងវាយតម្លៃ"},0,{"$f":"'ចំណាយ-ថវិការដ្ឋ'!C100","v":0},{"$f":"'ចំណាយ-ថវិការដ្ឋ'!D100","v":0},0,{"$f":"'ចំណាយ-ថវិការដ្ឋ'!F100","v":0},{"$f":"'ចំណាយ-ថវិការដ្ឋ'!G100","v":0},0,{"$f":"'ចំណាយ-ថវិការដ្ឋ'!I100","v":0},{"$f":"'ចំណាយ-ថវិការដ្ឋ'!J100","v":0},0,{"$f":"'ចំណាយ-ថវិការដ្ឋ'!L100","v":0},{"$f":"'ចំណាយ-ថវិការដ្ឋ'!M100","v":0},null,"១.១០.០១.៩៖ ពង្រីកការអប់រំបរិយាបន្នគ្រប់ភូមិសិក្សា"]
[{"$f":"ព័ត៌មានអង្គភាព!AC7","v":"៤. អភិវឌ្ឍការងារអប់រំពិសេស និងពហុភាសា"},0,{"$f":"'ចំណាយ-ថវិការដ្ឋ'!C101","v":0},{"$f":"'ចំណាយ-ថវិការដ្ឋ'!D101","v":0},0,{"$f":"'ចំណាយ-ថវិការដ្ឋ'!F101","v":0},{"$f":"'ចំណាយ-ថវិការដ្ឋ'!G101","v":0},0,{"$f":"'ចំណាយ-ថវិការដ្ឋ'!I101","v":0},{"$f":"'ចំណាយ-ថវិការដ្ឋ'!J101","v":0},0,{"$f":"'ចំណាយ-ថវិការដ្ឋ'!L101","v":0},{"$f":"'ចំណាយ-ថវិការដ្ឋ'!M101","v":0},null,"១.១០.០១.៩៖ ពង្រីកការអប់រំបរិយាបន្នគ្រប់ភូមិសិក្សា"]
[{"$f":"ព័ត៌មានអង្គភាព!AC8","v":"៥. អភិវឌ្ឍហេដ្ឋារចនាសម្ពន្ធ័សាលារៀនអប់រំបរិយាបន្ន"},0,{"$f":"'ចំណាយ-ថវិការដ្ឋ'!C102","v":0},{"$f":"'ចំណាយ-ថវិការដ្ឋ'!D102","v":0},0,{"$f":"'ចំណាយ-ថវិការដ្ឋ'!F102","v":0},{"$f":"'ចំណាយ-ថវិការដ្ឋ'!G102","v":0},0,{"$f":"'ចំណាយ-ថវិការដ្ឋ'!I102","v":0},{"$f":"'ចំណាយ-ថវិការដ្ឋ'!J102","v":0},0,{"$f":"'ចំណាយ-ថវិការដ្ឋ'!L102","v":0},{"$f":"'ចំណាយ-ថវិការដ្ឋ'!M102","v":0},null,{"$f":"O100","v":"១.១០.០១.៩៖ ពង្រីកការអប់រំបរិយាបន្នគ្រប់ភូមិសិក្សា"}]
[{"$f":"cluster_activity_2","v":"សកម្មភាពរងទី ២. ការលើកកម្ពស់ភាពជាអ្នកដឹកនាំ និងគ្រប់គ្រង របស់មន្រ្តីអប់រំគ្រប់លំដាប់ថ្នាក់"},{"$f":"ROUND(SUM(B104:B104),1)","v":0},0,0,0,0,0,0,0,0,0,0,0,null,"១.១០.០១.៩៖ ពង្រីកការអប់រំបរិយាបន្នគ្រប់ភូមិសិក្សា"]
[{"$f":"ព័ត៌មានអង្គភាព!AC9","v":"១.ពង្រឹងការអភិវឌ្ឍសមត្ថភាព និងថវិកាលើកទឹកចិត្ត"},{"$f":"ROUND(SUM(C104:D104),1)","v":0},{"$f":"'ចំណាយ-ថវិការដ្ឋ'!C104","v":0},{"$f":"'ចំណាយ-ថវិការដ្ឋ'!D104","v":0},{"$f":"ROUND(SUM(F104:G104),1)","v":0},{"$f":"'ចំណាយ-ថវិការដ្ឋ'!F104","v":0},{"$f":"'ចំណាយ-ថវិការដ្ឋ'!G104","v":0},{"$f":"ROUND(SUM(I104:J104),1)","v":0},{"$f":"'ចំណាយ-ថវិការដ្ឋ'!I104","v":0},{"$f":"'ចំណាយ-ថវិការដ្ឋ'!J104","v":0},{"$f":"ROUND(SUM(L104:M104),1)","v":0},{"$f":"'ចំណាយ-ថវិការដ្ឋ'!L104","v":0},{"$f":"'ចំណាយ-ថវិការដ្ឋ'!M104","v":0},null,"១.១០.០១.៩៖ ពង្រីកការអប់រំបរិយាបន្នគ្រប់ភូមិសិក្សា"]
[{"$f":"ព័ត៌មានអង្គភាព!C15","v":"កម្មវិធីទី ៣៖ ការអភិវឌ្ឍវិស័យអប់រំកាយ និងកីឡា"},{"$f":"B106","v":0},{"$f":"C106","v":0},0,0,0,0,0,0,0,0,0,0]
[{"$f":"ព័ត៌មានអង្គភាព!C16","v":"អនុកម្មវិធីទី ៣.២ សេវាគាំទ្រការអភិវឌ្ឍវិស័យអប់រំកាយ និងកីឡារបស់មន្ទីរជំនាញរាជធានី ខេត្ត"},{"$f":"B107","v":0},0,0,0,0,0,0,0,0,0,0,0]
[{"$f":"ព័ត៌មានអង្គភាព!C17","v":"ចង្កោមសកម្មភាពទី ០១៖ខេត្តបន្ទាយមានជ័យ"},{"$f":"B108","v":0},0,0,0,0,0,0,0,0,0,0,0]
[{"$f":"ព័ត៌មានអង្គភាព!C18","v":"៣.២.០១.១៖ ការអភិវឌ្ឍអប់រំកាយ និងកីឡាសិស្ស និស្សិត មហាជន និងកីឡាកម្រិតខ្ពស់"},{"$f":"ROUND(SUM(B109,B118),1)","v":0},{"$f":"ROUND(SUM(C109,C118),1)","v":0},{"$f":"ROUND(SUM(D109,D118),1)","v":0},{"$f":"SUM(E109,E118)","v":0},0,0,0,0,0,0,0,0]
[{"$f":"cluster_activity_1","v":"សកម្មភាពរងទី ១. ការចូលរៀនមានគុណភាពប្រកប​ដោយ​សមធម៌ និងបរិយាប័ន្ន និងលើកកម្ពស់ឱកាសក្នុងការសិក្សា​ពេញមួយជីវិតសម្រាប់ទាំងអស់គ្នា"},{"$f":"ROUND(SUM(B110:B117),1)","v":0},{"$f":"ROUND(SUM(C110:C117),1)","v":0},0,0,0,0,0,0,0,0,0,0,null,{"$f":"A108","v":"៣.២.០១.១៖ ការអភិវឌ្ឍអប់រំកាយ និងកីឡាសិស្ស និស្សិត មហាជន និងកីឡាកម្រិតខ្ពស់"}]
[{"$f":"ព័ត៌មានអង្គភាព!M16","v":"១. កិច្ចដំណើរការអង្គភាព"},{"$f":"ROUND(SUM(C110:D110),1)","v":0},{"$f":"'ចំណាយ-ថវិការដ្ឋ'!C110","v":0},{"$f":"'ចំណាយ-ថវិការដ្ឋ'!D110","v":0},{"$f":"ROUND(SUM(F110:G110),1)","v":0},{"$f":"'ចំណាយ-ថវិការដ្ឋ'!F110","v":0},{"$f":"'ចំណាយ-ថវិការដ្ឋ'!G110","v":0},{"$f":"ROUND(SUM(I110:J110),1)","v":0},{"$f":"'ចំណាយ-ថវិការដ្ឋ'!I110","v":0},{"$f":"'ចំណាយ-ថវិការដ្ឋ'!J110","v":0},{"$f":"ROUND(SUM(L110:M110),1)","v":0},{"$f":"'ចំណាយ-ថវិការដ្ឋ'!L110","v":0},{"$f":"'ចំណាយ-ថវិការដ្ឋ'!M110","v":0},null,{"$f":"O109","v":"៣.២.០១.១៖ ការអភិវឌ្ឍអប់រំកាយ និងកីឡាសិស្ស និស្សិត មហាជន និងកីឡាកម្រិតខ្ពស់"}]
[{"$f":"ព័ត៌មានអង្គភាព!M17","v":"២. ថវិកាលទ្ធកម្ម"},0,{"$f":"'ចំណាយ-ថវិការដ្ឋ'!C111","v":0},{"$f":"'ចំណាយ-ថវិការដ្ឋ'!D111","v":0},0,{"$f":"'ចំណាយ-ថវិការដ្ឋ'!F111","v":0},{"$f":"'ចំណាយ-ថវិការដ្ឋ'!G111","v":0},0,{"$f":"'ចំណាយ-ថវិការដ្ឋ'!I111","v":0},{"$f":"'ចំណាយ-ថវិការដ្ឋ'!J111","v":0},0,{"$f":"'ចំណាយ-ថវិការដ្ឋ'!L111","v":0},{"$f":"'ចំណាយ-ថវិការដ្ឋ'!M111","v":0},null,{"$f":"O110","v":"៣.២.០១.១៖ ការអភិវឌ្ឍអប់រំកាយ និងកីឡាសិស្ស និស្សិត មហាជន និងកីឡាកម្រិតខ្ពស់"}]
[{"$f":"ព័ត៌មានអង្គភាព!M18","v":"៣. ពិនិត្យតាមដាន និងវាយតម្លៃ"},0,{"$f":"'ចំណាយ-ថវិការដ្ឋ'!C112","v":0},{"$f":"'ចំណាយ-ថវិការដ្ឋ'!D112","v":0},0,{"$f":"'ចំណាយ-ថវិការដ្ឋ'!F112","v":0},{"$f":"'ចំណាយ-ថវិការដ្ឋ'!G112","v":0},0,{"$f":"'ចំណាយ-ថវិការដ្ឋ'!I112","v":0},{"$f":"'ចំណាយ-ថវិការដ្ឋ'!J112","v":0},0,{"$f":"'ចំណាយ-ថវិការដ្ឋ'!L112","v":0},{"$f":"'ចំណាយ-ថវិការដ្ឋ'!M112","v":0},null,"៣.២.០១.១៖ ការអភិវឌ្ឍអប់រំកាយ និងកីឡាសិស្ស និស្សិត មហាជន និងកីឡាកម្រិតខ្ពស់"]
[{"$f":"ព័ត៌មានអង្គភាព!M19","v":"៤. អភិវឌ្ឍកម្មវិធីអប់រំកាយក្នុងម៉ោងសិក្សា កីឡាក្រៅម៉ោងសិក្សា និងសមាគមកីឡា"},0,{"$f":"'ចំណាយ-ថវិការដ្ឋ'!C113","v":0},{"$f":"'ចំណាយ-ថវិការដ្ឋ'!D113","v":0},0,{"$f":"'ចំណាយ-ថវិការដ្ឋ'!F113","v":0},{"$f":"'ចំណាយ-ថវិការដ្ឋ'!G113","v":0},0,{"$f":"'ចំណាយ-ថវិការដ្ឋ'!I113","v":0},{"$f":"'ចំណាយ-ថវិការដ្ឋ'!J113","v":0},0,{"$f":"'ចំណាយ-ថវិការដ្ឋ'!L113","v":0},{"$f":"'ចំណាយ-ថវិការដ្ឋ'!M113","v":0},null,"៣.២.០១.១៖ ការអភិវឌ្ឍអប់រំកាយ និងកីឡាសិស្ស និស្សិត មហាជន និងកីឡាកម្រិតខ្ពស់"]
[{"$f":"ព័ត៌មានអង្គភាព!M20","v":"៥. ប្រកួតកីឡាសិស្ស និស្សិតថ្នាក់រាជធានី-ខេត្ត"},0,{"$f":"'ចំណាយ-ថវិការដ្ឋ'!C114","v":0},{"$f":"'ចំណាយ-ថវិការដ្ឋ'!D114","v":0},0,{"$f":"'ចំណាយ-ថវិការដ្ឋ'!F114","v":0},{"$f":"'ចំណាយ-ថវិការដ្ឋ'!G114","v":0},0,{"$f":"'ចំណាយ-ថវិការដ្ឋ'!I114","v":0},{"$f":"'ចំណាយ-ថវិការដ្ឋ'!J114","v":0},0,{"$f":"'ចំណាយ-ថវិការដ្ឋ'!L114","v":0},{"$f":"'ចំណាយ-ថវិការដ្ឋ'!M114","v":0},null,"៣.២.០១.១៖ ការអភិវឌ្ឍអប់រំកាយ និងកីឡាសិស្ស និស្សិត មហាជន និងកីឡាកម្រិតខ្ពស់"]
[{"$f":"ព័ត៌មានអង្គភាព!M21","v":"៦. រៀបចំ និងចូលរួមប្រកួតកីឡាជាលក្ខណៈជាតិ និងអន្ដរជាតិ"},0,{"$f":"'ចំណាយ-ថវិការដ្ឋ'!C115","v":0},{"$f":"'ចំណាយ-ថវិការដ្ឋ'!D115","v":0},0,{"$f":"'ចំណាយ-ថវិការដ្ឋ'!F115","v":0},{"$f":"'ចំណាយ-ថវិការដ្ឋ'!G115","v":0},0,{"$f":"'ចំណាយ-ថវិការដ្ឋ'!I115","v":0},{"$f":"'ចំណាយ-ថវិការដ្ឋ'!J115","v":0},0,{"$f":"'ចំណាយ-ថវិការដ្ឋ'!L115","v":0},{"$f":"'ចំណាយ-ថវិការដ្ឋ'!M115","v":0},null,"៣.២.០១.១៖ ការអភិវឌ្ឍអប់រំកាយ និងកីឡាសិស្ស និស្សិត មហាជន និងកីឡាកម្រិតខ្ពស់"]
[{"$f":"ព័ត៌មានអង្គភាព!M22","v":"៧. ប្រកួតកីឡាមហាជនថ្នាក់រាជធានី-ខេត្ត"},0,{"$f":"'ចំណាយ-ថវិការដ្ឋ'!C116","v":0},{"$f":"'ចំណាយ-ថវិការដ្ឋ'!D116","v":0},0,{"$f":"'ចំណាយ-ថវិការដ្ឋ'!F116","v":0},{"$f":"'ចំណាយ-ថវិការដ្ឋ'!G116","v":0},0,{"$f":"'ចំណាយ-ថវិការដ្ឋ'!I116","v":0},{"$f":"'ចំណាយ-ថវិការដ្ឋ'!J116","v":0},0,{"$f":"'ចំណាយ-ថវិការដ្ឋ'!L116","v":0},{"$f":"'ចំណាយ-ថវិការដ្ឋ'!M116","v":0}]
[{"$f":"ព័ត៌មានអង្គភាព!M23","v":"៨. អភិវឌ្ឍហេដ្ឋារចនាសម្ព័ន្ធកីឡា និងឧបករណ៍សម្ភារកីឡា"},0,{"$f":"'ចំណាយ-ថវិការដ្ឋ'!C117","v":0},{"$f":"'ចំណាយ-ថវិការដ្ឋ'!D117","v":0},0,{"$f":"'ចំណាយ-ថវិការដ្ឋ'!F117","v":0},{"$f":"'ចំណាយ-ថវិការដ្ឋ'!G117","v":0},0,{"$f":"'ចំណាយ-ថវិការដ្ឋ'!I117","v":0},{"$f":"'ចំណាយ-ថវិការដ្ឋ'!J117","v":0},0,{"$f":"'ចំណាយ-ថវិការដ្ឋ'!L117","v":0},{"$f":"'ចំណាយ-ថវិការដ្ឋ'!M117","v":0},null,{"$f":"O115","v":"៣.២.០១.១៖ ការអភិវឌ្ឍអប់រំកាយ និងកីឡាសិស្ស និស្សិត មហាជន និងកីឡាកម្រិតខ្ពស់"}]
[{"$f":"cluster_activity_2","v":"សកម្មភាពរងទី ២. ការលើកកម្ពស់ភាពជាអ្នកដឹកនាំ និងគ្រប់គ្រង របស់មន្រ្តីអប់រំគ្រប់លំដាប់ថ្នាក់"},{"$f":"ROUND(SUM(B119:B119),1)","v":0},0,0,0,0,0,0,0,0,0,0,0,null,{"$f":"O117","v":"៣.២.០១.១៖ ការអភិវឌ្ឍអប់រំកាយ និងកីឡាសិស្ស និស្សិត មហាជន និងកីឡាកម្រិតខ្ពស់"}]
[{"$f":"ព័ត៌មានអង្គភាព!M24","v":"១. អភិវឌ្ឍធនធានមនុស្សលើវិស័យកីឡា"},{"$f":"ROUND(SUM(C119:D119),1)","v":0},{"$f":"'ចំណាយ-ថវិការដ្ឋ'!C119","v":0},{"$f":"'ចំណាយ-ថវិការដ្ឋ'!D119","v":0},{"$f":"ROUND(SUM(F119:G119),1)","v":0},{"$f":"'ចំណាយ-ថវិការដ្ឋ'!F119","v":0},{"$f":"'ចំណាយ-ថវិការដ្ឋ'!G119","v":0},{"$f":"ROUND(SUM(I119:J119),1)","v":0},{"$f":"'ចំណាយ-ថវិការដ្ឋ'!I119","v":0},{"$f":"'ចំណាយ-ថវិការដ្ឋ'!J119","v":0},{"$f":"ROUND(SUM(L119:M119),1)","v":0},{"$f":"'ចំណាយ-ថវិការដ្ឋ'!L119","v":0},{"$f":"'ចំណាយ-ថវិការដ្ឋ'!M119","v":0},null,{"$f":"O118","v":"៣.២.០១.១៖ ការអភិវឌ្ឍអប់រំកាយ និងកីឡាសិស្ស និស្សិត មហាជន និងកីឡាកម្រិតខ្ពស់"}]
[{"$f":"ព័ត៌មានអង្គភាព!C19","v":"កម្មវិធីទី៤៖ ការអភិវឌ្ឍជំនាញបច្ចេកទេស និងជំនាញទន់សម្រាប់យុវជន"},{"$f":"B121","v":0},{"$f":"C121","v":0},0,0,0,0,0,0,0,0,0,0]
[{"$f":"ព័ត៌មានអង្គភាព!C20","v":"អនុកម្មវិធីទី ៤.៤៖ សេវាគាំទ្រអភិវឌ្ឍជំនាញបច្ចេកទេស និងជំនាញទន់សម្រាប់យុវជនរបស់\nមន្ទីរជំនាញរាជធានី ខេត្ត"},{"$f":"B122","v":0},0,0,0,0,0,0,0,0,0,0,0]
[{"$f":"ព័ត៌មានអង្គភាព!C21","v":"ចង្កោមសកម្មភាពទី ០១៖ខេត្តបន្ទាយមានជ័យ"},{"$f":"SUM(B123,B133,B141)","v":0},{"$f":"SUM(C123,C133,C141)","v":0},0,0,0,0,0,0,0,0,0,0]
[{"$f":"ព័ត៌មានអង្គភាព!C22","v":"៤.៤.០១.១៖ ការពង្រឹងសមត្ថភាពយុវជន"},{"$f":"SUM(B124,B132)","v":0},{"$f":"SUM(C124,C132)","v":0},0,0,0,0,0,0,0,0,0,0]
[{"$f":"cluster_activity_1","v":"សកម្មភាពរងទី ១. ការចូលរៀនមានគុណភាពប្រកប​ដោយ​សមធម៌ និងបរិយាប័ន្ន និងលើកកម្ពស់ឱកាសក្នុងការសិក្សា​ពេញមួយជីវិតសម្រាប់ទាំងអស់គ្នា"},{"$f":"ROUND(SUM(B125:B131),1)","v":0},{"$f":"ROUND(SUM(C125:C131),1)","v":0},0,0,0,0,0,0,0,0,0,0,null,{"$f":"A123","v":"៤.៤.០១.១៖ ការពង្រឹងសមត្ថភាពយុវជន"}]
[{"$f":"ព័ត៌មានអង្គភាព!O16","v":"១. កិច្ចដំណើរការអង្គភាព"},{"$f":"ROUND(SUM(C125:D125),1)","v":0},{"$f":"'ចំណាយ-ថវិការដ្ឋ'!C125","v":0},{"$f":"'ចំណាយ-ថវិការដ្ឋ'!D125","v":0},{"$f":"ROUND(SUM(F125:G125),1)","v":0},{"$f":"'ចំណាយ-ថវិការដ្ឋ'!F125","v":0},{"$f":"'ចំណាយ-ថវិការដ្ឋ'!G125","v":0},{"$f":"ROUND(SUM(I125:J125),1)","v":0},{"$f":"'ចំណាយ-ថវិការដ្ឋ'!I125","v":0},{"$f":"'ចំណាយ-ថវិការដ្ឋ'!J125","v":0},{"$f":"ROUND(SUM(L125:M125),1)","v":0},{"$f":"'ចំណាយ-ថវិការដ្ឋ'!L125","v":0},{"$f":"'ចំណាយ-ថវិការដ្ឋ'!M125","v":0},null,{"$f":"O124","v":"៤.៤.០១.១៖ ការពង្រឹងសមត្ថភាពយុវជន"}]
[{"$f":"ព័ត៌មានអង្គភាព!O17","v":"២. ថវិកាលទ្ធកម្ម"},0,{"$f":"'ចំណាយ-ថវិការដ្ឋ'!C126","v":0},{"$f":"'ចំណាយ-ថវិការដ្ឋ'!D126","v":0},0,{"$f":"'ចំណាយ-ថវិការដ្ឋ'!F126","v":0},{"$f":"'ចំណាយ-ថវិការដ្ឋ'!G126","v":0},0,{"$f":"'ចំណាយ-ថវិការដ្ឋ'!I126","v":0},{"$f":"'ចំណាយ-ថវិការដ្ឋ'!J126","v":0},0,{"$f":"'ចំណាយ-ថវិការដ្ឋ'!L126","v":0},{"$f":"'ចំណាយ-ថវិការដ្ឋ'!M126","v":0},null,{"$f":"O125","v":"៤.៤.០១.១៖ ការពង្រឹងសមត្ថភាពយុវជន"}]
[{"$f":"ព័ត៌មានអង្គភាព!O18","v":"៣. ពិនិត្យតាមដាន និងវាយតម្លៃ"},0,{"$f":"'ចំណាយ-ថវិការដ្ឋ'!C127","v":0},{"$f":"'ចំណាយ-ថវិការដ្ឋ'!D127","v":0},0,{"$f":"'ចំណាយ-ថវិការដ្ឋ'!F127","v":0},{"$f":"'ចំណាយ-ថវិការដ្ឋ'!G127","v":0},0,{"$f":"'ចំណាយ-ថវិការដ្ឋ'!I127","v":0},{"$f":"'ចំណាយ-ថវិការដ្ឋ'!J127","v":0},0,{"$f":"'ចំណាយ-ថវិការដ្ឋ'!L127","v":0},{"$f":"'ចំណាយ-ថវិការដ្ឋ'!M127","v":0},null,"៤.៤.០១.១៖ ការពង្រឹងសមត្ថភាពយុវជន"]
[{"$f":"ព័ត៌មានអង្គភាព!O19","v":"៤. ផ្លាស់ប្ដូរទំនាក់ទំនងយុវជនជាតិ និងអន្ដរជាតិ"},0,{"$f":"'ចំណាយ-ថវិការដ្ឋ'!C128","v":0},{"$f":"'ចំណាយ-ថវិការដ្ឋ'!D128","v":0},0,{"$f":"'ចំណាយ-ថវិការដ្ឋ'!F128","v":0},{"$f":"'ចំណាយ-ថវិការដ្ឋ'!G128","v":0},0,{"$f":"'ចំណាយ-ថវិការដ្ឋ'!I128","v":0},{"$f":"'ចំណាយ-ថវិការដ្ឋ'!J128","v":0},0,{"$f":"'ចំណាយ-ថវិការដ្ឋ'!L128","v":0},{"$f":"'ចំណាយ-ថវិការដ្ឋ'!M128","v":0},null,"៤.៤.០១.១៖ ការពង្រឹងសមត្ថភាពយុវជន"]
[{"$f":"ព័ត៌មានអង្គភាព!O20","v":"៥. អភិវឌ្ឍសមត្ថភាពលើសហគ្រិនភាពដល់យុវជន"},0,{"$f":"'ចំណាយ-ថវិការដ្ឋ'!C129","v":0},{"$f":"'ចំណាយ-ថវិការដ្ឋ'!D129","v":0},0,{"$f":"'ចំណាយ-ថវិការដ្ឋ'!F129","v":0},{"$f":"'ចំណាយ-ថវិការដ្ឋ'!G129","v":0},0,{"$f":"'ចំណាយ-ថវិការដ្ឋ'!I129","v":0},{"$f":"'ចំណាយ-ថវិការដ្ឋ'!J129","v":0},0,{"$f":"'ចំណាយ-ថវិការដ្ឋ'!L129","v":0},{"$f":"'ចំណាយ-ថវិការដ្ឋ'!M129","v":0},null,"៤.៤.០១.១៖ ការពង្រឹងសមត្ថភាពយុវជន"]
[{"$f":"ព័ត៌មានអង្គភាព!O21","v":"៦. យល់ដឹងអំពីជម្ងឺអេដស៍របស់យុវជនក្រៅសាលា"},0,{"$f":"'ចំណាយ-ថវិការដ្ឋ'!C130","v":0},{"$f":"'ចំណាយ-ថវិការដ្ឋ'!D130","v":0},0,{"$f":"'ចំណាយ-ថវិការដ្ឋ'!F130","v":0},{"$f":"'ចំណាយ-ថវិការដ្ឋ'!G130","v":0},0,{"$f":"'ចំណាយ-ថវិការដ្ឋ'!I130","v":0},{"$f":"'ចំណាយ-ថវិការដ្ឋ'!J130","v":0},0,{"$f":"'ចំណាយ-ថវិការដ្ឋ'!L130","v":0},{"$f":"'ចំណាយ-ថវិការដ្ឋ'!M130","v":0},null,"៤.៤.០១.១៖ ការពង្រឹងសមត្ថភាពយុវជន"]
[{"$f":"ព័ត៌មានអង្គភាព!O22","v":"៧. ពង្រឹងដំណើរការក្រុមប្រឹក្សាកុមារ និងយុវជន"},0,{"$f":"'ចំណាយ-ថវិការដ្ឋ'!C131","v":0},{"$f":"'ចំណាយ-ថវិការដ្ឋ'!D131","v":0},0,{"$f":"'ចំណាយ-ថវិការដ្ឋ'!F131","v":0},{"$f":"'ចំណាយ-ថវិការដ្ឋ'!G131","v":0},0,{"$f":"'ចំណាយ-ថវិការដ្ឋ'!I131","v":0},{"$f":"'ចំណាយ-ថវិការដ្ឋ'!J131","v":0},0,{"$f":"'ចំណាយ-ថវិការដ្ឋ'!L131","v":0},{"$f":"'ចំណាយ-ថវិការដ្ឋ'!M131","v":0},null,"៤.៤.០១.១៖ ការពង្រឹងសមត្ថភាពយុវជន"]
[{"$f":"cluster_activity_2","v":"សកម្មភាពរងទី ២. ការលើកកម្ពស់ភាពជាអ្នកដឹកនាំ និងគ្រប់គ្រង របស់មន្រ្តីអប់រំគ្រប់លំដាប់ថ្នាក់"},0,0,0,0,0,0,0,0,0,0,0,0,null,"៤.៤.០១.១៖ ការពង្រឹងសមត្ថភាពយុវជន"]
[{"$f":"ព័ត៌មានអង្គភាព!C23","v":"៤.៤.០១.២៖ ការអភិវឌ្ឍមជ្ឈមណ្ឌលយុវជន"},{"$f":"SUM(B134,B140)","v":0},{"$f":"SUM(C134,C140)","v":0},0,0,0,0,0,0,0,0,0,0]
[{"$f":"cluster_activity_1","v":"សកម្មភាពរងទី ១. ការចូលរៀនមានគុណភាពប្រកប​ដោយ​សមធម៌ និងបរិយាប័ន្ន និងលើកកម្ពស់ឱកាសក្នុងការសិក្សា​ពេញមួយជីវិតសម្រាប់ទាំងអស់គ្នា"},{"$f":"ROUND(SUM(B135:B139),1)","v":0},{"$f":"ROUND(SUM(C135:C139),1)","v":0},0,0,0,0,0,0,0,0,0,0,null,{"$f":"A133","v":"៤.៤.០១.២៖ ការអភិវឌ្ឍមជ្ឈមណ្ឌលយុវជន"}]
[{"$f":"ព័ត៌មានអង្គភាព!Q16","v":"១. កិច្ចដំណើរការអង្គភាព"},{"$f":"ROUND(SUM(C135:D135),1)","v":0},{"$f":"'ចំណាយ-ថវិការដ្ឋ'!C135","v":0},{"$f":"'ចំណាយ-ថវិការដ្ឋ'!D135","v":0},{"$f":"ROUND(SUM(F135:G135),1)","v":0},{"$f":"'ចំណាយ-ថវិការដ្ឋ'!F135","v":0},{"$f":"'ចំណាយ-ថវិការដ្ឋ'!G135","v":0},{"$f":"ROUND(SUM(I135:J135),1)","v":0},{"$f":"'ចំណាយ-ថវិការដ្ឋ'!I135","v":0},{"$f":"'ចំណាយ-ថវិការដ្ឋ'!J135","v":0},{"$f":"ROUND(SUM(L135:M135),1)","v":0},{"$f":"'ចំណាយ-ថវិការដ្ឋ'!L135","v":0},{"$f":"'ចំណាយ-ថវិការដ្ឋ'!M135","v":0},null,{"$f":"O134","v":"៤.៤.០១.២៖ ការអភិវឌ្ឍមជ្ឈមណ្ឌលយុវជន"}]
[{"$f":"ព័ត៌មានអង្គភាព!Q17","v":"២. ថវិកាលទ្ធកម្ម"},0,{"$f":"'ចំណាយ-ថវិការដ្ឋ'!C136","v":0},{"$f":"'ចំណាយ-ថវិការដ្ឋ'!D136","v":0},0,{"$f":"'ចំណាយ-ថវិការដ្ឋ'!F136","v":0},{"$f":"'ចំណាយ-ថវិការដ្ឋ'!G136","v":0},0,{"$f":"'ចំណាយ-ថវិការដ្ឋ'!I136","v":0},{"$f":"'ចំណាយ-ថវិការដ្ឋ'!J136","v":0},0,{"$f":"'ចំណាយ-ថវិការដ្ឋ'!L136","v":0},{"$f":"'ចំណាយ-ថវិការដ្ឋ'!M136","v":0},null,{"$f":"O135","v":"៤.៤.០១.២៖ ការអភិវឌ្ឍមជ្ឈមណ្ឌលយុវជន"}]
[{"$f":"ព័ត៌មានអង្គភាព!Q18","v":"៣. ពិនិត្យតាមដាន និងវាយតម្លៃ"},0,{"$f":"'ចំណាយ-ថវិការដ្ឋ'!C137","v":0},{"$f":"'ចំណាយ-ថវិការដ្ឋ'!D137","v":0},0,{"$f":"'ចំណាយ-ថវិការដ្ឋ'!F137","v":0},{"$f":"'ចំណាយ-ថវិការដ្ឋ'!G137","v":0},0,{"$f":"'ចំណាយ-ថវិការដ្ឋ'!I137","v":0},{"$f":"'ចំណាយ-ថវិការដ្ឋ'!J137","v":0},0,{"$f":"'ចំណាយ-ថវិការដ្ឋ'!L137","v":0},{"$f":"'ចំណាយ-ថវិការដ្ឋ'!M137","v":0},null,"៤.៤.០១.២៖ ការអភិវឌ្ឍមជ្ឈមណ្ឌលយុវជន"]
[{"$f":"ព័ត៌មានអង្គភាព!Q19","v":"៤. គាំទ្រអភិវឌ្ឍមជ្ឈមណ្ឌលយុវជន"},0,{"$f":"'ចំណាយ-ថវិការដ្ឋ'!C138","v":0},{"$f":"'ចំណាយ-ថវិការដ្ឋ'!D138","v":0},0,{"$f":"'ចំណាយ-ថវិការដ្ឋ'!F138","v":0},{"$f":"'ចំណាយ-ថវិការដ្ឋ'!G138","v":0},0,{"$f":"'ចំណាយ-ថវិការដ្ឋ'!I138","v":0},{"$f":"'ចំណាយ-ថវិការដ្ឋ'!J138","v":0},0,{"$f":"'ចំណាយ-ថវិការដ្ឋ'!L138","v":0},{"$f":"'ចំណាយ-ថវិការដ្ឋ'!M138","v":0},null,"៤.៤.០១.២៖ ការអភិវឌ្ឍមជ្ឈមណ្ឌលយុវជន"]
[{"$f":"ព័ត៌មានអង្គភាព!Q20","v":"៥. កសាងសមត្ថភាពជំនាញ វិជ្ជាជីវៈតាមមជ្ឈមណ្ឌលយុវជន"},0,{"$f":"'ចំណាយ-ថវិការដ្ឋ'!C139","v":0},{"$f":"'ចំណាយ-ថវិការដ្ឋ'!D139","v":0},0,{"$f":"'ចំណាយ-ថវិការដ្ឋ'!F139","v":0},{"$f":"'ចំណាយ-ថវិការដ្ឋ'!G139","v":0},0,{"$f":"'ចំណាយ-ថវិការដ្ឋ'!I139","v":0},{"$f":"'ចំណាយ-ថវិការដ្ឋ'!J139","v":0},0,{"$f":"'ចំណាយ-ថវិការដ្ឋ'!L139","v":0},{"$f":"'ចំណាយ-ថវិការដ្ឋ'!M139","v":0},null,"៤.៤.០១.២៖ ការអភិវឌ្ឍមជ្ឈមណ្ឌលយុវជន"]
[{"$f":"cluster_activity_2","v":"សកម្មភាពរងទី ២. ការលើកកម្ពស់ភាពជាអ្នកដឹកនាំ និងគ្រប់គ្រង របស់មន្រ្តីអប់រំគ្រប់លំដាប់ថ្នាក់"},0,0,0,0,0,0,0,0,0,0,0,0,null,"៤.៤.០១.២៖ ការអភិវឌ្ឍមជ្ឈមណ្ឌលយុវជន"]
[{"$f":"ព័ត៌មានអង្គភាព!C24","v":"៤.៤.០១.៣៖ ការអភិវឌ្ឍកាយរឹទ្ធិកម្ម"},{"$f":"SUM(B142,B147)","v":0},{"$f":"SUM(C142,C147)","v":0},0,0,0,0,0,0,0,0,0,0]
[{"$f":"cluster_activity_1","v":"សកម្មភាពរងទី ១. ការចូលរៀនមានគុណភាពប្រកប​ដោយ​សមធម៌ និងបរិយាប័ន្ន និងលើកកម្ពស់ឱកាសក្នុងការសិក្សា​ពេញមួយជីវិតសម្រាប់ទាំងអស់គ្នា"},{"$f":"ROUND(SUM(B143:B146),1)","v":0},{"$f":"ROUND(SUM(C143:C146),1)","v":0},0,0,0,0,0,0,0,0,0,0,null,{"$f":"A141","v":"៤.៤.០១.៣៖ ការអភិវឌ្ឍកាយរឹទ្ធិកម្ម"}]
[{"$f":"ព័ត៌មានអង្គភាព!S16","v":"១. កិច្ចដំណើរការអង្គភាព"},{"$f":"ROUND(SUM(C143:D143),1)","v":0},{"$f":"'ចំណាយ-ថវិការដ្ឋ'!C143","v":0},{"$f":"'ចំណាយ-ថវិការដ្ឋ'!D143","v":0},{"$f":"ROUND(SUM(F143:G143),1)","v":0},{"$f":"'ចំណាយ-ថវិការដ្ឋ'!F143","v":0},{"$f":"'ចំណាយ-ថវិការដ្ឋ'!G143","v":0},{"$f":"ROUND(SUM(I143:J143),1)","v":0},{"$f":"'ចំណាយ-ថវិការដ្ឋ'!I143","v":0},{"$f":"'ចំណាយ-ថវិការដ្ឋ'!J143","v":0},{"$f":"ROUND(SUM(L143:M143),1)","v":0},{"$f":"'ចំណាយ-ថវិការដ្ឋ'!L143","v":0},{"$f":"'ចំណាយ-ថវិការដ្ឋ'!M143","v":0},null,{"$f":"O142","v":"៤.៤.០១.៣៖ ការអភិវឌ្ឍកាយរឹទ្ធិកម្ម"}]
[{"$f":"ព័ត៌មានអង្គភាព!S17","v":"២. ថវិកាលទ្ធកម្ម"},0,{"$f":"'ចំណាយ-ថវិការដ្ឋ'!C144","v":0},{"$f":"'ចំណាយ-ថវិការដ្ឋ'!D144","v":0},0,{"$f":"'ចំណាយ-ថវិការដ្ឋ'!F144","v":0},{"$f":"'ចំណាយ-ថវិការដ្ឋ'!G144","v":0},0,{"$f":"'ចំណាយ-ថវិការដ្ឋ'!I144","v":0},{"$f":"'ចំណាយ-ថវិការដ្ឋ'!J144","v":0},0,{"$f":"'ចំណាយ-ថវិការដ្ឋ'!L144","v":0},{"$f":"'ចំណាយ-ថវិការដ្ឋ'!M144","v":0},null,{"$f":"O143","v":"៤.៤.០១.៣៖ ការអភិវឌ្ឍកាយរឹទ្ធិកម្ម"}]
[{"$f":"ព័ត៌មានអង្គភាព!S18","v":"៣. ពិនិត្យតាមដាន និងវាយតម្លៃ"},0,{"$f":"'ចំណាយ-ថវិការដ្ឋ'!C145","v":0},{"$f":"'ចំណាយ-ថវិការដ្ឋ'!D145","v":0},0,{"$f":"'ចំណាយ-ថវិការដ្ឋ'!F145","v":0},{"$f":"'ចំណាយ-ថវិការដ្ឋ'!G145","v":0},0,{"$f":"'ចំណាយ-ថវិការដ្ឋ'!I145","v":0},{"$f":"'ចំណាយ-ថវិការដ្ឋ'!J145","v":0},0,{"$f":"'ចំណាយ-ថវិការដ្ឋ'!L145","v":0},{"$f":"'ចំណាយ-ថវិការដ្ឋ'!M145","v":0},null,"៤.៤.០១.៣៖ ការអភិវឌ្ឍកាយរឹទ្ធិកម្ម"]
[{"$f":"ព័ត៌មានអង្គភាព!S19","v":"៤. ពង្រឹងប្រព័ន្ធល្បាតកាយរឹទ្ធិកម្ម បណ្ដុះបណ្ដាលធនធានមនុស្ស និងកិច្ចសហប្រតិបត្តិការអន្ដរជាតិ"},0,{"$f":"'ចំណាយ-ថវិការដ្ឋ'!C146","v":0},{"$f":"'ចំណាយ-ថវិការដ្ឋ'!D146","v":0},0,{"$f":"'ចំណាយ-ថវិការដ្ឋ'!F146","v":0},{"$f":"'ចំណាយ-ថវិការដ្ឋ'!G146","v":0},0,{"$f":"'ចំណាយ-ថវិការដ្ឋ'!I146","v":0},{"$f":"'ចំណាយ-ថវិការដ្ឋ'!J146","v":0},0,{"$f":"'ចំណាយ-ថវិការដ្ឋ'!L146","v":0},{"$f":"'ចំណាយ-ថវិការដ្ឋ'!M146","v":0},null,"៤.៤.០១.៣៖ ការអភិវឌ្ឍកាយរឹទ្ធិកម្ម"]
[{"$f":"cluster_activity_2","v":"សកម្មភាពរងទី ២. ការលើកកម្ពស់ភាពជាអ្នកដឹកនាំ និងគ្រប់គ្រង របស់មន្រ្តីអប់រំគ្រប់លំដាប់ថ្នាក់"},0,0,0,0,0,0,0,0,0,0,0,0,null,"៤.៤.០១.៣៖ ការអភិវឌ្ឍកាយរឹទ្ធិកម្ម"]
[{"$f":"ព័ត៌មានអង្គភាព!C25","v":"កម្មវិធីទី៥៖ ការគាំទ្រសេវាអប់រំ និងអភិបាលកិច្ចល្អ"},{"$f":"B149","v":0},{"$f":"C149","v":0},0,0,0,0,0,0,0,0,0,0]
[{"$f":"ព័ត៌មានអង្គភាព!C26","v":"អនុកម្មវិធីទី ៥.១៨ សេវាគាំទ្រសេវាអប់រំ និងអភិបាលកិច្ចល្អ របស់មន្ទីរជំនាញរាជធានី ខេត្ត"},{"$f":"B150","v":0},0,0,0,0,0,0,0,0,0,0,0]
[{"$f":"ព័ត៌មានអង្គភាព!C27","v":"ចង្កោមសកម្មភាពទី ០១៖ខេត្តបន្ទាយមានជ័យ"},{"$f":"SUM(B151,B159,B170,B178,B186,B194,B202,B211,B218,B226,B233,B241,B249,B257,B267,B275,B284)","v":0},{"$f":"SUM(C151,C159,C170,C178,C186,C194,C202,C211,C218,C226,C233,C241,C249,C257,C267,C275,C284)","v":0},0,0,0,0,0,0,0,0,0,0]
[{"$f":"ព័ត៌មានអង្គភាព!C28","v":"៥.១៨.០១.១៖ ការអភិវឌ្ឍនិងពង្រឹងប្រព័ន្ធផែនការអប់រំ"},{"$f":"SUM(B152,B153)","v":0},{"$f":"SUM(C152,C153)","v":0},0,0,0,0,0,0,0,0,0,0]
[{"$f":"cluster_activity_1","v":"សកម្មភាពរងទី ១. ការចូលរៀនមានគុណភាពប្រកប​ដោយ​សមធម៌ និងបរិយាប័ន្ន និងលើកកម្ពស់ឱកាសក្នុងការសិក្សា​ពេញមួយជីវិតសម្រាប់ទាំងអស់គ្នា"},0,0,0,0,0,0,0,0,0,0,0,0,null,{"$f":"A151","v":"៥.១៨.០១.១៖ ការអភិវឌ្ឍនិងពង្រឹងប្រព័ន្ធផែនការអប់រំ"}]
[{"$f":"cluster_activity_2","v":"សកម្មភាពរងទី ២. ការលើកកម្ពស់ភាពជាអ្នកដឹកនាំ និងគ្រប់គ្រង របស់មន្រ្តីអប់រំគ្រប់លំដាប់ថ្នាក់"},{"$f":"ROUND(SUM(B154:B158),1)","v":0},{"$f":"ROUND(SUM(C154:C158),1)","v":0},0,0,0,0,0,0,0,0,0,0,null,{"$f":"O152","v":"៥.១៨.០១.១៖ ការអភិវឌ្ឍនិងពង្រឹងប្រព័ន្ធផែនការអប់រំ"}]
[{"$f":"ព័ត៌មានអង្គភាព!M38","v":"១. កិច្ចដំណើរការអង្គភាព"},{"$f":"ROUND(SUM(C154:D154),1)","v":0},{"$f":"'ចំណាយ-ថវិការដ្ឋ'!C154","v":0},{"$f":"'ចំណាយ-ថវិការដ្ឋ'!D154","v":0},{"$f":"ROUND(SUM(F154:G154),1)","v":0},{"$f":"'ចំណាយ-ថវិការដ្ឋ'!F154","v":0},{"$f":"'ចំណាយ-ថវិការដ្ឋ'!G154","v":0},{"$f":"ROUND(SUM(I154:J154),1)","v":0},{"$f":"'ចំណាយ-ថវិការដ្ឋ'!I154","v":0},{"$f":"'ចំណាយ-ថវិការដ្ឋ'!J154","v":0},{"$f":"ROUND(SUM(L154:M154),1)","v":0},{"$f":"'ចំណាយ-ថវិការដ្ឋ'!L154","v":0},{"$f":"'ចំណាយ-ថវិការដ្ឋ'!M154","v":0},null,{"$f":"O153","v":"៥.១៨.០១.១៖ ការអភិវឌ្ឍនិងពង្រឹងប្រព័ន្ធផែនការអប់រំ"}]
[{"$f":"ព័ត៌មានអង្គភាព!M39","v":"២. ថវិកាលទ្ធកម្ម"},0,{"$f":"'ចំណាយ-ថវិការដ្ឋ'!C155","v":0},{"$f":"'ចំណាយ-ថវិការដ្ឋ'!D155","v":0},0,{"$f":"'ចំណាយ-ថវិការដ្ឋ'!F155","v":0},{"$f":"'ចំណាយ-ថវិការដ្ឋ'!G155","v":0},0,{"$f":"'ចំណាយ-ថវិការដ្ឋ'!I155","v":0},{"$f":"'ចំណាយ-ថវិការដ្ឋ'!J155","v":0},0,{"$f":"'ចំណាយ-ថវិការដ្ឋ'!L155","v":0},{"$f":"'ចំណាយ-ថវិការដ្ឋ'!M155","v":0},null,"៥.១៨.០១.១៖ ការអភិវឌ្ឍនិងពង្រឹងប្រព័ន្ធផែនការអប់រំ"]
[{"$f":"ព័ត៌មានអង្គភាព!M40","v":"៣. ពិនិត្យតាមដាន និងវាយតម្លៃ"},0,{"$f":"'ចំណាយ-ថវិការដ្ឋ'!C156","v":0},{"$f":"'ចំណាយ-ថវិការដ្ឋ'!D156","v":0},0,{"$f":"'ចំណាយ-ថវិការដ្ឋ'!F156","v":0},{"$f":"'ចំណាយ-ថវិការដ្ឋ'!G156","v":0},0,{"$f":"'ចំណាយ-ថវិការដ្ឋ'!I156","v":0},{"$f":"'ចំណាយ-ថវិការដ្ឋ'!J156","v":0},0,{"$f":"'ចំណាយ-ថវិការដ្ឋ'!L156","v":0},{"$f":"'ចំណាយ-ថវិការដ្ឋ'!M156","v":0},null,"៥.១៨.០១.១៖ ការអភិវឌ្ឍនិងពង្រឹងប្រព័ន្ធផែនការអប់រំ"]
[{"$f":"ព័ត៌មានអង្គភាព!M41","v":"៤. កសាងផែនការយុទ្ធសាស្រ្ដ និងផែនការប្រតិបត្តិ"},0,{"$f":"'ចំណាយ-ថវិការដ្ឋ'!C157","v":0},{"$f":"'ចំណាយ-ថវិការដ្ឋ'!D157","v":0},0,{"$f":"'ចំណាយ-ថវិការដ្ឋ'!F157","v":0},{"$f":"'ចំណាយ-ថវិការដ្ឋ'!G157","v":0},0,{"$f":"'ចំណាយ-ថវិការដ្ឋ'!I157","v":0},{"$f":"'ចំណាយ-ថវិការដ្ឋ'!J157","v":0},0,{"$f":"'ចំណាយ-ថវិការដ្ឋ'!L157","v":0},{"$f":"'ចំណាយ-ថវិការដ្ឋ'!M157","v":0},null,"៥.១៨.០១.១៖ ការអភិវឌ្ឍនិងពង្រឹងប្រព័ន្ធផែនការអប់រំ"]
[{"$f":"ព័ត៌មានអង្គភាព!M42","v":"៥. អភិវឌ្ឍប្រព័ន្ធកសាងផែនការអប់រំ"},0,{"$f":"'ចំណាយ-ថវិការដ្ឋ'!C158","v":0},{"$f":"'ចំណាយ-ថវិការដ្ឋ'!D158","v":0},0,{"$f":"'ចំណាយ-ថវិការដ្ឋ'!F158","v":0},{"$f":"'ចំណាយ-ថវិការដ្ឋ'!G158","v":0},0,{"$f":"'ចំណាយ-ថវិការដ្ឋ'!I158","v":0},{"$f":"'ចំណាយ-ថវិការដ្ឋ'!J158","v":0},0,{"$f":"'ចំណាយ-ថវិការដ្ឋ'!L158","v":0},{"$f":"'ចំណាយ-ថវិការដ្ឋ'!M158","v":0},null,"៥.១៨.០១.១៖ ការអភិវឌ្ឍនិងពង្រឹងប្រព័ន្ធផែនការអប់រំ"]
[{"$f":"ព័ត៌មានអង្គភាព!C29","v":"៥.១៨.០១.២៖ ការគ្រប់គ្រង និងពង្រឹងប្រសិទ្ធភាព​ធនធានមនុស្ស"},{"$f":"SUM(B160,B164)","v":0},{"$f":"SUM(C160,C164)","v":0},0,0,0,0,0,0,0,0,0,0]
[{"$f":"cluster_activity_1","v":"សកម្មភាពរងទី ១. ការចូលរៀនមានគុណភាពប្រកប​ដោយ​សមធម៌ និងបរិយាប័ន្ន និងលើកកម្ពស់ឱកាសក្នុងការសិក្សា​ពេញមួយជីវិតសម្រាប់ទាំងអស់គ្នា"},{"$f":"ROUND(SUM(B161:B163),1)","v":0},{"$f":"ROUND(SUM(C161:C163),1)","v":0},0,0,0,0,0,0,0,0,0,0,null,{"$f":"A159","v":"៥.១៨.០១.២៖ ការគ្រប់គ្រង និងពង្រឹងប្រសិទ្ធភាព​ធនធានមនុស្ស"}]
[{"$f":"ព័ត៌មានអង្គភាព!O38","v":"១. កម្មវិធីគាំទ្រការពង្រាយគ្រូ និងប្រាក់បៀវត្ស"},{"$f":"ROUND(SUM(C161:D161),1)","v":0},{"$f":"'ចំណាយ-ថវិការដ្ឋ'!C161","v":0},{"$f":"'ចំណាយ-ថវិការដ្ឋ'!D161","v":0},{"$f":"ROUND(SUM(F161:G161),1)","v":0},{"$f":"'ចំណាយ-ថវិការដ្ឋ'!F161","v":0},{"$f":"'ចំណាយ-ថវិការដ្ឋ'!G161","v":0},{"$f":"ROUND(SUM(I161:J161),1)","v":0},{"$f":"'ចំណាយ-ថវិការដ្ឋ'!I161","v":0},{"$f":"'ចំណាយ-ថវិការដ្ឋ'!J161","v":0},{"$f":"ROUND(SUM(L161:M161),1)","v":0},{"$f":"'ចំណាយ-ថវិការដ្ឋ'!L161","v":0},{"$f":"'ចំណាយ-ថវិការដ្ឋ'!M161","v":0},null,{"$f":"O160","v":"៥.១៨.០១.២៖ ការគ្រប់គ្រង និងពង្រឹងប្រសិទ្ធភាព​ធនធានមនុស្ស"}]
[{"$f":"ព័ត៌មានអង្គភាព!O39","v":"២. កម្មវិធីគាំទ្រការឧបត្ថម្ភជីវភាពគ្រូនៅតំបន់ជួបការលំបាក"},0,{"$f":"'ចំណាយ-ថវិការដ្ឋ'!C162","v":0},{"$f":"'ចំណាយ-ថវិការដ្ឋ'!D162","v":0},0,{"$f":"'ចំណាយ-ថវិការដ្ឋ'!F162","v":0},{"$f":"'ចំណាយ-ថវិការដ្ឋ'!G162","v":0},0,{"$f":"'ចំណាយ-ថវិការដ្ឋ'!I162","v":0},{"$f":"'ចំណាយ-ថវិការដ្ឋ'!J162","v":0},0,{"$f":"'ចំណាយ-ថវិការដ្ឋ'!L162","v":0},{"$f":"'ចំណាយ-ថវិការដ្ឋ'!M162","v":0},null,{"$f":"O161","v":"៥.១៨.០១.២៖ ការគ្រប់គ្រង និងពង្រឹងប្រសិទ្ធភាព​ធនធានមនុស្ស"}]
[{"$f":"ព័ត៌មានអង្គភាព!O40","v":"៣. ប្រលងជ្រើសរើសគ្រូបង្រៀន"},0,{"$f":"'ចំណាយ-ថវិការដ្ឋ'!C163","v":0},{"$f":"'ចំណាយ-ថវិការដ្ឋ'!D163","v":0},0,{"$f":"'ចំណាយ-ថវិការដ្ឋ'!F163","v":0},{"$f":"'ចំណាយ-ថវិការដ្ឋ'!G163","v":0},0,{"$f":"'ចំណាយ-ថវិការដ្ឋ'!I163","v":0},{"$f":"'ចំណាយ-ថវិការដ្ឋ'!J163","v":0},0,{"$f":"'ចំណាយ-ថវិការដ្ឋ'!L163","v":0},{"$f":"'ចំណាយ-ថវិការដ្ឋ'!M163","v":0},null,"៥.១៨.០១.២៖ ការគ្រប់គ្រង និងពង្រឹងប្រសិទ្ធភាព​ធនធានមនុស្ស"]
[{"$f":"cluster_activity_2","v":"សកម្មភាពរងទី ២. ការលើកកម្ពស់ភាពជាអ្នកដឹកនាំ និងគ្រប់គ្រង របស់មន្រ្តីអប់រំគ្រប់លំដាប់ថ្នាក់"},{"$f":"ROUND(SUM(B165:B169),1)","v":0},{"$f":"ROUND(SUM(C165:C169),1)","v":0},0,0,0,0,0,0,0,0,0,0,null,"៥.១៨.០១.២៖ ការគ្រប់គ្រង និងពង្រឹងប្រសិទ្ធភាព​ធនធានមនុស្ស"]
[{"$f":"ព័ត៌មានអង្គភាព!O41","v":"១. កិច្ចដំណើរការអង្គភាព"},{"$f":"ROUND(SUM(C165:D165),1)","v":0},{"$f":"'ចំណាយ-ថវិការដ្ឋ'!C165","v":0},{"$f":"'ចំណាយ-ថវិការដ្ឋ'!D165","v":0},{"$f":"ROUND(SUM(F165:G165),1)","v":0},{"$f":"'ចំណាយ-ថវិការដ្ឋ'!F165","v":0},{"$f":"'ចំណាយ-ថវិការដ្ឋ'!G165","v":0},{"$f":"ROUND(SUM(I165:J165),1)","v":0},{"$f":"'ចំណាយ-ថវិការដ្ឋ'!I165","v":0},{"$f":"'ចំណាយ-ថវិការដ្ឋ'!J165","v":0},{"$f":"ROUND(SUM(L165:M165),1)","v":0},{"$f":"'ចំណាយ-ថវិការដ្ឋ'!L165","v":0},{"$f":"'ចំណាយ-ថវិការដ្ឋ'!M165","v":0},null,"៥.១៨.០១.២៖ ការគ្រប់គ្រង និងពង្រឹងប្រសិទ្ធភាព​ធនធានមនុស្ស"]
[{"$f":"ព័ត៌មានអង្គភាព!O42","v":"២. ថវិកាលទ្ធកម្ម"},0,{"$f":"'ចំណាយ-ថវិការដ្ឋ'!C166","v":0},{"$f":"'ចំណាយ-ថវិការដ្ឋ'!D166","v":0},0,{"$f":"'ចំណាយ-ថវិការដ្ឋ'!F166","v":0},{"$f":"'ចំណាយ-ថវិការដ្ឋ'!G166","v":0},0,{"$f":"'ចំណាយ-ថវិការដ្ឋ'!I166","v":0},{"$f":"'ចំណាយ-ថវិការដ្ឋ'!J166","v":0},0,{"$f":"'ចំណាយ-ថវិការដ្ឋ'!L166","v":0},{"$f":"'ចំណាយ-ថវិការដ្ឋ'!M166","v":0},null,"៥.១៨.០១.២៖ ការគ្រប់គ្រង និងពង្រឹងប្រសិទ្ធភាព​ធនធានមនុស្ស"]
[{"$f":"ព័ត៌មានអង្គភាព!O43","v":"៣. ពិនិត្យតាមដាន និងវាយតម្លៃ"},0,{"$f":"'ចំណាយ-ថវិការដ្ឋ'!C167","v":0},{"$f":"'ចំណាយ-ថវិការដ្ឋ'!D167","v":0},0,{"$f":"'ចំណាយ-ថវិការដ្ឋ'!F167","v":0},{"$f":"'ចំណាយ-ថវិការដ្ឋ'!G167","v":0},0,{"$f":"'ចំណាយ-ថវិការដ្ឋ'!I167","v":0},{"$f":"'ចំណាយ-ថវិការដ្ឋ'!J167","v":0},0,{"$f":"'ចំណាយ-ថវិការដ្ឋ'!L167","v":0},{"$f":"'ចំណាយ-ថវិការដ្ឋ'!M167","v":0},null,"៥.១៨.០១.២៖ ការគ្រប់គ្រង និងពង្រឹងប្រសិទ្ធភាព​ធនធានមនុស្ស"]
[{"$f":"ព័ត៌មានអង្គភាព!O44","v":"៤. សមាហរណកម្មប្រព័ន្ធទិន្ន័យគ្រប់គ្រងអប់រំ"},0,{"$f":"'ចំណាយ-ថវិការដ្ឋ'!C168","v":0},{"$f":"'ចំណាយ-ថវិការដ្ឋ'!D168","v":0},0,{"$f":"'ចំណាយ-ថវិការដ្ឋ'!F168","v":0},{"$f":"'ចំណាយ-ថវិការដ្ឋ'!G168","v":0},0,{"$f":"'ចំណាយ-ថវិការដ្ឋ'!I168","v":0},{"$f":"'ចំណាយ-ថវិការដ្ឋ'!J168","v":0},0,{"$f":"'ចំណាយ-ថវិការដ្ឋ'!L168","v":0},{"$f":"'ចំណាយ-ថវិការដ្ឋ'!M168","v":0},null,"៥.១៨.០១.២៖ ការគ្រប់គ្រង និងពង្រឹងប្រសិទ្ធភាព​ធនធានមនុស្ស"]
[{"$f":"ព័ត៌មានអង្គភាព!O45","v":"៥. ពង្រឹងសមត្ថភាពធនធានមនុស្ស"},0,{"$f":"'ចំណាយ-ថវិការដ្ឋ'!C169","v":0},{"$f":"'ចំណាយ-ថវិការដ្ឋ'!D169","v":0},0,{"$f":"'ចំណាយ-ថវិការដ្ឋ'!F169","v":0},{"$f":"'ចំណាយ-ថវិការដ្ឋ'!G169","v":0},0,{"$f":"'ចំណាយ-ថវិការដ្ឋ'!I169","v":0},{"$f":"'ចំណាយ-ថវិការដ្ឋ'!J169","v":0},0,{"$f":"'ចំណាយ-ថវិការដ្ឋ'!L169","v":0},{"$f":"'ចំណាយ-ថវិការដ្ឋ'!M169","v":0},null,"៥.១៨.០១.២៖ ការគ្រប់គ្រង និងពង្រឹងប្រសិទ្ធភាព​ធនធានមនុស្ស"]
[{"$f":"ព័ត៌មានអង្គភាព!C30","v":"៥.១៨.០១.៣៖ ការអភិវឌ្ឍសមត្ថភាព ការងារគ្រប់គ្រង ផែនការហិរញ្ញវត្ថុ និងមូលដ្ឋានសម្ភារៈ"},{"$f":"SUM(B171,B173)","v":0},{"$f":"SUM(C171,C173)","v":0},0,0,0,0,0,0,0,0,0,0]
[{"$f":"cluster_activity_1","v":"សកម្មភាពរងទី ១. ការចូលរៀនមានគុណភាពប្រកប​ដោយ​សមធម៌ និងបរិយាប័ន្ន និងលើកកម្ពស់ឱកាសក្នុងការសិក្សា​ពេញមួយជីវិតសម្រាប់ទាំងអស់គ្នា"},{"$f":"ROUND(B172,1)","v":0},{"$f":"ROUND(C172,1)","v":0},0,0,0,0,0,0,0,0,0,0,null,{"$f":"A170","v":"៥.១៨.០១.៣៖ ការអភិវឌ្ឍសមត្ថភាព ការងារគ្រប់គ្រង ផែនការហិរញ្ញវត្ថុ និងមូលដ្ឋានសម្ភារៈ"}]
[{"$f":"ព័ត៌មានអង្គភាព!Q38","v":"១. ចំណាយលើអត្ថប្រយជន៍សង្គម"},{"$f":"ROUND(SUM(C172:D172),1)","v":0},{"$f":"'ចំណាយ-ថវិការដ្ឋ'!C172","v":0},{"$f":"'ចំណាយ-ថវិការដ្ឋ'!D172","v":0},{"$f":"ROUND(SUM(F172:G172),1)","v":0},{"$f":"'ចំណាយ-ថវិការដ្ឋ'!F172","v":0},{"$f":"'ចំណាយ-ថវិការដ្ឋ'!G172","v":0},{"$f":"ROUND(SUM(I172:J172),1)","v":0},{"$f":"'ចំណាយ-ថវិការដ្ឋ'!I172","v":0},{"$f":"'ចំណាយ-ថវិការដ្ឋ'!J172","v":0},{"$f":"ROUND(SUM(L172:M172),1)","v":0},{"$f":"'ចំណាយ-ថវិការដ្ឋ'!L172","v":0},{"$f":"'ចំណាយ-ថវិការដ្ឋ'!M172","v":0},null,{"$f":"O171","v":"៥.១៨.០១.៣៖ ការអភិវឌ្ឍសមត្ថភាព ការងារគ្រប់គ្រង ផែនការហិរញ្ញវត្ថុ និងមូលដ្ឋានសម្ភារៈ"}]
[{"$f":"cluster_activity_2","v":"សកម្មភាពរងទី ២. ការលើកកម្ពស់ភាពជាអ្នកដឹកនាំ និងគ្រប់គ្រង របស់មន្រ្តីអប់រំគ្រប់លំដាប់ថ្នាក់"},{"$f":"ROUND(SUM(B174:B177),1)","v":0},{"$f":"ROUND(SUM(C174:C177),1)","v":0},0,0,0,0,0,0,0,0,0,0,null,{"$f":"O172","v":"៥.១៨.០១.៣៖ ការអភិវឌ្ឍសមត្ថភាព ការងារគ្រប់គ្រង ផែនការហិរញ្ញវត្ថុ និងមូលដ្ឋានសម្ភារៈ"}]
[{"$f":"ព័ត៌មានអង្គភាព!Q39","v":"១. កិច្ចដំណើរការអង្គភាព"},{"$f":"ROUND(SUM(C174:D174),1)","v":0},{"$f":"'ចំណាយ-ថវិការដ្ឋ'!C174","v":0},{"$f":"'ចំណាយ-ថវិការដ្ឋ'!D174","v":0},{"$f":"ROUND(SUM(F174:G174),1)","v":0},{"$f":"'ចំណាយ-ថវិការដ្ឋ'!F174","v":0},{"$f":"'ចំណាយ-ថវិការដ្ឋ'!G174","v":0},{"$f":"ROUND(SUM(I174:J174),1)","v":0},{"$f":"'ចំណាយ-ថវិការដ្ឋ'!I174","v":0},{"$f":"'ចំណាយ-ថវិការដ្ឋ'!J174","v":0},{"$f":"ROUND(SUM(L174:M174),1)","v":0},{"$f":"'ចំណាយ-ថវិការដ្ឋ'!L174","v":0},{"$f":"'ចំណាយ-ថវិការដ្ឋ'!M174","v":0},null,"៥.១៨.០១.៣៖ ការអភិវឌ្ឍសមត្ថភាព ការងារគ្រប់គ្រង ផែនការហិរញ្ញវត្ថុ និងមូលដ្ឋានសម្ភារៈ"]
[{"$f":"ព័ត៌មានអង្គភាព!Q40","v":"២. ថវិកាលទ្ធកម្ម"},0,{"$f":"'ចំណាយ-ថវិការដ្ឋ'!C175","v":0},{"$f":"'ចំណាយ-ថវិការដ្ឋ'!D175","v":0},0,{"$f":"'ចំណាយ-ថវិការដ្ឋ'!F175","v":0},{"$f":"'ចំណាយ-ថវិការដ្ឋ'!G175","v":0},0,{"$f":"'ចំណាយ-ថវិការដ្ឋ'!I175","v":0},{"$f":"'ចំណាយ-ថវិការដ្ឋ'!J175","v":0},0,{"$f":"'ចំណាយ-ថវិការដ្ឋ'!L175","v":0},{"$f":"'ចំណាយ-ថវិការដ្ឋ'!M175","v":0},null,"៥.១៨.០១.៣៖ ការអភិវឌ្ឍសមត្ថភាព ការងារគ្រប់គ្រង ផែនការហិរញ្ញវត្ថុ និងមូលដ្ឋានសម្ភារៈ"]
[{"$f":"ព័ត៌មានអង្គភាព!Q41","v":"៣. ពិនិត្យតាមដាន និងវាយតម្លៃ"},0,{"$f":"'ចំណាយ-ថវិការដ្ឋ'!C176","v":0},{"$f":"'ចំណាយ-ថវិការដ្ឋ'!D176","v":0},0,{"$f":"'ចំណាយ-ថវិការដ្ឋ'!F176","v":0},{"$f":"'ចំណាយ-ថវិការដ្ឋ'!G176","v":0},0,{"$f":"'ចំណាយ-ថវិការដ្ឋ'!I176","v":0},{"$f":"'ចំណាយ-ថវិការដ្ឋ'!J176","v":0},0,{"$f":"'ចំណាយ-ថវិការដ្ឋ'!L176","v":0},{"$f":"'ចំណាយ-ថវិការដ្ឋ'!M176","v":0},null,"៥.១៨.០១.៣៖ ការអភិវឌ្ឍសមត្ថភាព ការងារគ្រប់គ្រង ផែនការហិរញ្ញវត្ថុ និងមូលដ្ឋានសម្ភារៈ"]
[{"$f":"ព័ត៌មានអង្គភាព!Q42","v":"៤. ពង្រឹងសមត្ថភាព និងយន្តការលើការគ្រប់គ្រងហិរញ្ញវត្ថុសាធារណៈ"},0,{"$f":"'ចំណាយ-ថវិការដ្ឋ'!C177","v":0},{"$f":"'ចំណាយ-ថវិការដ្ឋ'!D177","v":0},0,{"$f":"'ចំណាយ-ថវិការដ្ឋ'!F177","v":0},{"$f":"'ចំណាយ-ថវិការដ្ឋ'!G177","v":0},0,{"$f":"'ចំណាយ-ថវិការដ្ឋ'!I177","v":0},{"$f":"'ចំណាយ-ថវិការដ្ឋ'!J177","v":0},0,{"$f":"'ចំណាយ-ថវិការដ្ឋ'!L177","v":0},{"$f":"'ចំណាយ-ថវិការដ្ឋ'!M177","v":0},null,"៥.១៨.០១.៣៖ ការអភិវឌ្ឍសមត្ថភាព ការងារគ្រប់គ្រង ផែនការហិរញ្ញវត្ថុ និងមូលដ្ឋានសម្ភារៈ"]
[{"$f":"ព័ត៌មានអង្គភាព!C31","v":"៥.១៨.០១.៤៖ ពង្រឹងការងារសវនកម្មផ្ទៃក្នុង"},{"$f":"SUM(B179,B180)","v":0},{"$f":"SUM(C179,C180)","v":0},0,0,0,0,0,0,0,0,0,0]
[{"$f":"cluster_activity_1","v":"សកម្មភាពរងទី ១. ការចូលរៀនមានគុណភាពប្រកប​ដោយ​សមធម៌ និងបរិយាប័ន្ន និងលើកកម្ពស់ឱកាសក្នុងការសិក្សា​ពេញមួយជីវិតសម្រាប់ទាំងអស់គ្នា"},0,0,0,0,0,0,0,0,0,0,0,0,null,{"$f":"A178","v":"៥.១៨.០១.៤៖ ពង្រឹងការងារសវនកម្មផ្ទៃក្នុង"}]
[{"$f":"cluster_activity_2","v":"សកម្មភាពរងទី ២. ការលើកកម្ពស់ភាពជាអ្នកដឹកនាំ និងគ្រប់គ្រង របស់មន្រ្តីអប់រំគ្រប់លំដាប់ថ្នាក់"},{"$f":"ROUND(SUM(B181:B185),1)","v":0},{"$f":"ROUND(SUM(C181:C185),1)","v":0},0,0,0,0,0,0,0,0,0,0,null,{"$f":"O179","v":"៥.១៨.០១.៤៖ ពង្រឹងការងារសវនកម្មផ្ទៃក្នុង"}]
[{"$f":"ព័ត៌មានអង្គភាព!S38","v":"១. កិច្ចដំណើរការអង្គភាព"},{"$f":"ROUND(SUM(C181:D181),1)","v":0},{"$f":"'ចំណាយ-ថវិការដ្ឋ'!C181","v":0},{"$f":"'ចំណាយ-ថវិការដ្ឋ'!D181","v":0},{"$f":"ROUND(SUM(F181:G181),1)","v":0},{"$f":"'ចំណាយ-ថវិការដ្ឋ'!F181","v":0},{"$f":"'ចំណាយ-ថវិការដ្ឋ'!G181","v":0},{"$f":"ROUND(SUM(I181:J181),1)","v":0},{"$f":"'ចំណាយ-ថវិការដ្ឋ'!I181","v":0},{"$f":"'ចំណាយ-ថវិការដ្ឋ'!J181","v":0},{"$f":"ROUND(SUM(L181:M181),1)","v":0},{"$f":"'ចំណាយ-ថវិការដ្ឋ'!L181","v":0},{"$f":"'ចំណាយ-ថវិការដ្ឋ'!M181","v":0},null,{"$f":"O180","v":"៥.១៨.០១.៤៖ ពង្រឹងការងារសវនកម្មផ្ទៃក្នុង"}]
[{"$f":"ព័ត៌មានអង្គភាព!S39","v":"២. ថវិកាលទ្ធកម្ម"},0,{"$f":"'ចំណាយ-ថវិការដ្ឋ'!C182","v":0},{"$f":"'ចំណាយ-ថវិការដ្ឋ'!D182","v":0},0,{"$f":"'ចំណាយ-ថវិការដ្ឋ'!F182","v":0},{"$f":"'ចំណាយ-ថវិការដ្ឋ'!G182","v":0},0,{"$f":"'ចំណាយ-ថវិការដ្ឋ'!I182","v":0},{"$f":"'ចំណាយ-ថវិការដ្ឋ'!J182","v":0},0,{"$f":"'ចំណាយ-ថវិការដ្ឋ'!L182","v":0},{"$f":"'ចំណាយ-ថវិការដ្ឋ'!M182","v":0},null,"៥.១៨.០១.៤៖ ពង្រឹងការងារសវនកម្មផ្ទៃក្នុង"]
[{"$f":"ព័ត៌មានអង្គភាព!S40","v":"៣. ពិនិត្យតាមដាន និងវាយតម្លៃ"},0,{"$f":"'ចំណាយ-ថវិការដ្ឋ'!C183","v":0},{"$f":"'ចំណាយ-ថវិការដ្ឋ'!D183","v":0},0,{"$f":"'ចំណាយ-ថវិការដ្ឋ'!F183","v":0},{"$f":"'ចំណាយ-ថវិការដ្ឋ'!G183","v":0},0,{"$f":"'ចំណាយ-ថវិការដ្ឋ'!I183","v":0},{"$f":"'ចំណាយ-ថវិការដ្ឋ'!J183","v":0},0,{"$f":"'ចំណាយ-ថវិការដ្ឋ'!L183","v":0},{"$f":"'ចំណាយ-ថវិការដ្ឋ'!M183","v":0},null,"៥.១៨.០១.៤៖ ពង្រឹងការងារសវនកម្មផ្ទៃក្នុង"]
[{"$f":"ព័ត៌មានអង្គភាព!S41","v":"៤. ពង្រឹងការងារសវនកម្មផ្ទៃក្នុង"},0,{"$f":"'ចំណាយ-ថវិការដ្ឋ'!C184","v":0},{"$f":"'ចំណាយ-ថវិការដ្ឋ'!D184","v":0},0,{"$f":"'ចំណាយ-ថវិការដ្ឋ'!F184","v":0},{"$f":"'ចំណាយ-ថវិការដ្ឋ'!G184","v":0},0,{"$f":"'ចំណាយ-ថវិការដ្ឋ'!I184","v":0},{"$f":"'ចំណាយ-ថវិការដ្ឋ'!J184","v":0},0,{"$f":"'ចំណាយ-ថវិការដ្ឋ'!L184","v":0},{"$f":"'ចំណាយ-ថវិការដ្ឋ'!M184","v":0},null,"៥.១៨.០១.៤៖ ពង្រឹងការងារសវនកម្មផ្ទៃក្នុង"]
[{"$f":"ព័ត៌មានអង្គភាព!S42","v":"៥. ពង្រឹងសមត្ថភាពមន្ដ្រីសវនកម្មផ្ទៃក្នុង"},0,{"$f":"'ចំណាយ-ថវិការដ្ឋ'!C185","v":0},{"$f":"'ចំណាយ-ថវិការដ្ឋ'!D185","v":0},0,{"$f":"'ចំណាយ-ថវិការដ្ឋ'!F185","v":0},{"$f":"'ចំណាយ-ថវិការដ្ឋ'!G185","v":0},0,{"$f":"'ចំណាយ-ថវិការដ្ឋ'!I185","v":0},{"$f":"'ចំណាយ-ថវិការដ្ឋ'!J185","v":0},0,{"$f":"'ចំណាយ-ថវិការដ្ឋ'!L185","v":0},{"$f":"'ចំណាយ-ថវិការដ្ឋ'!M185","v":0},null,"៥.១៨.០១.៤៖ ពង្រឹងការងារសវនកម្មផ្ទៃក្នុង"]
[{"$f":"ព័ត៌មានអង្គភាព!C32","v":"៥.១៨.០១.៥៖ ការពិនិត្យតាមដាន វាយតម្លៃ និងអធិការកិច្ចប្រព័ន្ធធានាគុណភាពអប់រំ"},{"$f":"SUM(B187,B189)","v":0},{"$f":"SUM(C187,C189)","v":0},0,0,0,0,0,0,0,0,0,0]
[{"$f":"cluster_activity_1","v":"សកម្មភាពរងទី ១. ការចូលរៀនមានគុណភាពប្រកប​ដោយ​សមធម៌ និងបរិយាប័ន្ន និងលើកកម្ពស់ឱកាសក្នុងការសិក្សា​ពេញមួយជីវិតសម្រាប់ទាំងអស់គ្នា"},{"$f":"ROUND(B188,1)","v":0},{"$f":"ROUND(C188,1)","v":0},0,0,0,0,0,0,0,0,0,0,null,{"$f":"A186","v":"៥.១៨.០១.៥៖ ការពិនិត្យតាមដាន វាយតម្លៃ និងអធិការកិច្ចប្រព័ន្ធធានាគុណភាពអប់រំ"}]
[{"$f":"ព័ត៌មានអង្គភាព!U38","v":"១. អធិការកិច្ចគុណភាពអប់រំ និងវាយតម្លៃលទ្ធផលសិក្សា"},{"$f":"ROUND(SUM(C188:D188),1)","v":0},{"$f":"'ចំណាយ-ថវិការដ្ឋ'!C188","v":0},{"$f":"'ចំណាយ-ថវិការដ្ឋ'!D188","v":0},{"$f":"ROUND(SUM(F188:G188),1)","v":0},{"$f":"'ចំណាយ-ថវិការដ្ឋ'!F188","v":0},{"$f":"'ចំណាយ-ថវិការដ្ឋ'!G188","v":0},{"$f":"ROUND(SUM(I188:J188),1)","v":0},{"$f":"'ចំណាយ-ថវិការដ្ឋ'!I188","v":0},{"$f":"'ចំណាយ-ថវិការដ្ឋ'!J188","v":0},{"$f":"ROUND(SUM(L188:M188),1)","v":0},{"$f":"'ចំណាយ-ថវិការដ្ឋ'!L188","v":0},{"$f":"'ចំណាយ-ថវិការដ្ឋ'!M188","v":0},null,{"$f":"O187","v":"៥.១៨.០១.៥៖ ការពិនិត្យតាមដាន វាយតម្លៃ និងអធិការកិច្ចប្រព័ន្ធធានាគុណភាពអប់រំ"}]
[{"$f":"cluster_activity_2","v":"សកម្មភាពរងទី ២. ការលើកកម្ពស់ភាពជាអ្នកដឹកនាំ និងគ្រប់គ្រង របស់មន្រ្តីអប់រំគ្រប់លំដាប់ថ្នាក់"},{"$f":"ROUND(SUM(B190:B193),1)","v":0},{"$f":"ROUND(SUM(C190:C193),1)","v":0},0,0,0,0,0,0,0,0,0,0,null,{"$f":"O188","v":"៥.១៨.០១.៥៖ ការពិនិត្យតាមដាន វាយតម្លៃ និងអធិការកិច្ចប្រព័ន្ធធានាគុណភាពអប់រំ"}]
[{"$f":"ព័ត៌មានអង្គភាព!U39","v":"១. កិច្ចដំណើរការអង្គភាព"},{"$f":"ROUND(SUM(C190:D190),1)","v":0},{"$f":"'ចំណាយ-ថវិការដ្ឋ'!C190","v":0},{"$f":"'ចំណាយ-ថវិការដ្ឋ'!D190","v":0},{"$f":"ROUND(SUM(F190:G190),1)","v":0},{"$f":"'ចំណាយ-ថវិការដ្ឋ'!F190","v":0},{"$f":"'ចំណាយ-ថវិការដ្ឋ'!G190","v":0},{"$f":"ROUND(SUM(I190:J190),1)","v":0},{"$f":"'ចំណាយ-ថវិការដ្ឋ'!I190","v":0},{"$f":"'ចំណាយ-ថវិការដ្ឋ'!J190","v":0},{"$f":"ROUND(SUM(L190:M190),1)","v":0},{"$f":"'ចំណាយ-ថវិការដ្ឋ'!L190","v":0},{"$f":"'ចំណាយ-ថវិការដ្ឋ'!M190","v":0},null,"៥.១៨.០១.៥៖ ការពិនិត្យតាមដាន វាយតម្លៃ និងអធិការកិច្ចប្រព័ន្ធធានាគុណភាពអប់រំ"]
[{"$f":"ព័ត៌មានអង្គភាព!U40","v":"២. ថវិកាលទ្ធកម្ម"},0,{"$f":"'ចំណាយ-ថវិការដ្ឋ'!C191","v":0},{"$f":"'ចំណាយ-ថវិការដ្ឋ'!D191","v":0},0,{"$f":"'ចំណាយ-ថវិការដ្ឋ'!F191","v":0},{"$f":"'ចំណាយ-ថវិការដ្ឋ'!G191","v":0},0,{"$f":"'ចំណាយ-ថវិការដ្ឋ'!I191","v":0},{"$f":"'ចំណាយ-ថវិការដ្ឋ'!J191","v":0},0,{"$f":"'ចំណាយ-ថវិការដ្ឋ'!L191","v":0},{"$f":"'ចំណាយ-ថវិការដ្ឋ'!M191","v":0},null,"៥.១៨.០១.៥៖ ការពិនិត្យតាមដាន វាយតម្លៃ និងអធិការកិច្ចប្រព័ន្ធធានាគុណភាពអប់រំ"]
[{"$f":"ព័ត៌មានអង្គភាព!U41","v":"៣. ពិនិត្យតាមដាន និងវាយតម្លៃ"},0,{"$f":"'ចំណាយ-ថវិការដ្ឋ'!C192","v":0},{"$f":"'ចំណាយ-ថវិការដ្ឋ'!D192","v":0},0,{"$f":"'ចំណាយ-ថវិការដ្ឋ'!F192","v":0},{"$f":"'ចំណាយ-ថវិការដ្ឋ'!G192","v":0},0,{"$f":"'ចំណាយ-ថវិការដ្ឋ'!I192","v":0},{"$f":"'ចំណាយ-ថវិការដ្ឋ'!J192","v":0},0,{"$f":"'ចំណាយ-ថវិការដ្ឋ'!L192","v":0},{"$f":"'ចំណាយ-ថវិការដ្ឋ'!M192","v":0},null,"៥.១៨.០១.៥៖ ការពិនិត្យតាមដាន វាយតម្លៃ និងអធិការកិច្ចប្រព័ន្ធធានាគុណភាពអប់រំ"]
[{"$f":"ព័ត៌មានអង្គភាព!U42","v":"៤. ពង្រឹងសមត្ថភាពមន្ដ្រីជំនាញ"},0,{"$f":"'ចំណាយ-ថវិការដ្ឋ'!C193","v":0},{"$f":"'ចំណាយ-ថវិការដ្ឋ'!D193","v":0},0,{"$f":"'ចំណាយ-ថវិការដ្ឋ'!F193","v":0},{"$f":"'ចំណាយ-ថវិការដ្ឋ'!G193","v":0},0,{"$f":"'ចំណាយ-ថវិការដ្ឋ'!I193","v":0},{"$f":"'ចំណាយ-ថវិការដ្ឋ'!J193","v":0},0,{"$f":"'ចំណាយ-ថវិការដ្ឋ'!L193","v":0},{"$f":"'ចំណាយ-ថវិការដ្ឋ'!M193","v":0},null,"៥.១៨.០១.៥៖ ការពិនិត្យតាមដាន វាយតម្លៃ និងអធិការកិច្ចប្រព័ន្ធធានាគុណភាពអប់រំ"]
[{"$f":"ព័ត៌មានអង្គភាព!C33","v":"៥.១៨.០១.៦៖ អធិការកិច្ចរដ្ឋបាល និងហិរញ្ញវត្ថុ"},{"$f":"SUM(B195,B196)","v":0},{"$f":"SUM(C195,C196)","v":0},0,0,0,0,0,0,0,0,0,0]
[{"$f":"cluster_activity_1","v":"សកម្មភាពរងទី ១. ការចូលរៀនមានគុណភាពប្រកប​ដោយ​សមធម៌ និងបរិយាប័ន្ន និងលើកកម្ពស់ឱកាសក្នុងការសិក្សា​ពេញមួយជីវិតសម្រាប់ទាំងអស់គ្នា"},0,0,0,0,0,0,0,0,0,0,0,0,null,{"$f":"A194","v":"៥.១៨.០១.៦៖ អធិការកិច្ចរដ្ឋបាល និងហិរញ្ញវត្ថុ"}]
[{"$f":"cluster_activity_2","v":"សកម្មភាពរងទី ២. ការលើកកម្ពស់ភាពជាអ្នកដឹកនាំ និងគ្រប់គ្រង របស់មន្រ្តីអប់រំគ្រប់លំដាប់ថ្នាក់"},{"$f":"ROUND(SUM(B197:B201),1)","v":0},{"$f":"ROUND(SUM(C197:C201),1)","v":0},0,0,0,0,0,0,0,0,0,0,null,{"$f":"O195","v":"៥.១៨.០១.៦៖ អធិការកិច្ចរដ្ឋបាល និងហិរញ្ញវត្ថុ"}]
[{"$f":"ព័ត៌មានអង្គភាព!W38","v":"១. កិច្ចដំណើរការអង្គភាព"},{"$f":"ROUND(SUM(C197:D197),1)","v":0},{"$f":"'ចំណាយ-ថវិការដ្ឋ'!C197","v":0},{"$f":"'ចំណាយ-ថវិការដ្ឋ'!D197","v":0},{"$f":"ROUND(SUM(F197:G197),1)","v":0},{"$f":"'ចំណាយ-ថវិការដ្ឋ'!F197","v":0},{"$f":"'ចំណាយ-ថវិការដ្ឋ'!G197","v":0},{"$f":"ROUND(SUM(I197:J197),1)","v":0},{"$f":"'ចំណាយ-ថវិការដ្ឋ'!I197","v":0},{"$f":"'ចំណាយ-ថវិការដ្ឋ'!J197","v":0},{"$f":"ROUND(SUM(L197:M197),1)","v":0},{"$f":"'ចំណាយ-ថវិការដ្ឋ'!L197","v":0},{"$f":"'ចំណាយ-ថវិការដ្ឋ'!M197","v":0},null,{"$f":"O196","v":"៥.១៨.០១.៦៖ អធិការកិច្ចរដ្ឋបាល និងហិរញ្ញវត្ថុ"}]
[{"$f":"ព័ត៌មានអង្គភាព!W39","v":"២. ថវិកាលទ្ធកម្ម"},0,{"$f":"'ចំណាយ-ថវិការដ្ឋ'!C198","v":0},{"$f":"'ចំណាយ-ថវិការដ្ឋ'!D198","v":0},0,{"$f":"'ចំណាយ-ថវិការដ្ឋ'!F198","v":0},{"$f":"'ចំណាយ-ថវិការដ្ឋ'!G198","v":0},0,{"$f":"'ចំណាយ-ថវិការដ្ឋ'!I198","v":0},{"$f":"'ចំណាយ-ថវិការដ្ឋ'!J198","v":0},0,{"$f":"'ចំណាយ-ថវិការដ្ឋ'!L198","v":0},{"$f":"'ចំណាយ-ថវិការដ្ឋ'!M198","v":0},null,"៥.១៨.០១.៦៖ អធិការកិច្ចរដ្ឋបាល និងហិរញ្ញវត្ថុ"]
[{"$f":"ព័ត៌មានអង្គភាព!W40","v":"៣. ពិនិត្យតាមដាន និងវាយតម្លៃ"},0,{"$f":"'ចំណាយ-ថវិការដ្ឋ'!C199","v":0},{"$f":"'ចំណាយ-ថវិការដ្ឋ'!D199","v":0},0,{"$f":"'ចំណាយ-ថវិការដ្ឋ'!F199","v":0},{"$f":"'ចំណាយ-ថវិការដ្ឋ'!G199","v":0},0,{"$f":"'ចំណាយ-ថវិការដ្ឋ'!I199","v":0},{"$f":"'ចំណាយ-ថវិការដ្ឋ'!J199","v":0},0,{"$f":"'ចំណាយ-ថវិការដ្ឋ'!L199","v":0},{"$f":"'ចំណាយ-ថវិការដ្ឋ'!M199","v":0},null,"៥.១៨.០១.៦៖ អធិការកិច្ចរដ្ឋបាល និងហិរញ្ញវត្ថុ"]
[{"$f":"ព័ត៌មានអង្គភាព!W41","v":"៤. អធិការកិច្ចគ្រប់គ្រងរដ្ឋបាល និងហិរញ្ញវត្ថុ"},0,{"$f":"'ចំណាយ-ថវិការដ្ឋ'!C200","v":0},{"$f":"'ចំណាយ-ថវិការដ្ឋ'!D200","v":0},0,{"$f":"'ចំណាយ-ថវិការដ្ឋ'!F200","v":0},{"$f":"'ចំណាយ-ថវិការដ្ឋ'!G200","v":0},0,{"$f":"'ចំណាយ-ថវិការដ្ឋ'!I200","v":0},{"$f":"'ចំណាយ-ថវិការដ្ឋ'!J200","v":0},0,{"$f":"'ចំណាយ-ថវិការដ្ឋ'!L200","v":0},{"$f":"'ចំណាយ-ថវិការដ្ឋ'!M200","v":0},null,"៥.១៨.០១.៦៖ អធិការកិច្ចរដ្ឋបាល និងហិរញ្ញវត្ថុ"]
[{"$f":"ព័ត៌មានអង្គភាព!W42","v":"៥. ផ្សព្វផ្សាយ និងការពង្រឹងសមត្ថភាព"},0,{"$f":"'ចំណាយ-ថវិការដ្ឋ'!C201","v":0},{"$f":"'ចំណាយ-ថវិការដ្ឋ'!D201","v":0},0,{"$f":"'ចំណាយ-ថវិការដ្ឋ'!F201","v":0},{"$f":"'ចំណាយ-ថវិការដ្ឋ'!G201","v":0},0,{"$f":"'ចំណាយ-ថវិការដ្ឋ'!I201","v":0},{"$f":"'ចំណាយ-ថវិការដ្ឋ'!J201","v":0},0,{"$f":"'ចំណាយ-ថវិការដ្ឋ'!L201","v":0},{"$f":"'ចំណាយ-ថវិការដ្ឋ'!M201","v":0},null,"៥.១៨.០១.៦៖ អធិការកិច្ចរដ្ឋបាល និងហិរញ្ញវត្ថុ"]
[{"$f":"ព័ត៌មានអង្គភាព!C34","v":"៥.១៨.០១.៧៖ លើកកម្ពស់ការផ្សព្វផ្សាយព័ត៌មានអប់រំ និងកិច្ចសហប្រតិបត្តិការអាស៊ាន និងស៊ីមេអូ"},{"$f":"SUM(B203,B206)","v":0},{"$f":"SUM(C203,C206)","v":0},0,0,0,0,0,0,0,0,0,0]
[{"$f":"cluster_activity_1","v":"សកម្មភាពរងទី ១. ការចូលរៀនមានគុណភាពប្រកប​ដោយ​សមធម៌ និងបរិយាប័ន្ន និងលើកកម្ពស់ឱកាសក្នុងការសិក្សា​ពេញមួយជីវិតសម្រាប់ទាំងអស់គ្នា"},{"$f":"ROUND(SUM(B204:B205),1)","v":0},{"$f":"ROUND(SUM(C204:C205),1)","v":0},0,0,0,0,0,0,0,0,0,0,null,{"$f":"A202","v":"៥.១៨.០១.៧៖ លើកកម្ពស់ការផ្សព្វផ្សាយព័ត៌មានអប់រំ និងកិច្ចសហប្រតិបត្តិការអាស៊ាន និងស៊ីមេអូ"}]
[{"$f":"ព័ត៌មានអង្គភាព!Y38","v":"១. ផលិត និងផ្សព្វផ្សាយព័ត៌មានអប់រំ"},{"$f":"ROUND(SUM(C204:D204),1)","v":0},{"$f":"'ចំណាយ-ថវិការដ្ឋ'!C204","v":0},{"$f":"'ចំណាយ-ថវិការដ្ឋ'!D204","v":0},{"$f":"ROUND(SUM(F204:G204),1)","v":0},{"$f":"'ចំណាយ-ថវិការដ្ឋ'!F204","v":0},{"$f":"'ចំណាយ-ថវិការដ្ឋ'!G204","v":0},{"$f":"ROUND(SUM(I204:J204),1)","v":0},{"$f":"'ចំណាយ-ថវិការដ្ឋ'!I204","v":0},{"$f":"'ចំណាយ-ថវិការដ្ឋ'!J204","v":0},{"$f":"ROUND(SUM(L204:M204),1)","v":0},{"$f":"'ចំណាយ-ថវិការដ្ឋ'!L204","v":0},{"$f":"'ចំណាយ-ថវិការដ្ឋ'!M204","v":0},null,{"$f":"O203","v":"៥.១៨.០១.៧៖ លើកកម្ពស់ការផ្សព្វផ្សាយព័ត៌មានអប់រំ និងកិច្ចសហប្រតិបត្តិការអាស៊ាន និងស៊ីមេអូ"}]
[{"$f":"ព័ត៌មានអង្គភាព!Y39","v":"២. លើកកម្ពស់កិច្ចសហប្រតិបត្តិការអាស៊ាន និងស៊ីមេអូ"},0,{"$f":"'ចំណាយ-ថវិការដ្ឋ'!C205","v":0},{"$f":"'ចំណាយ-ថវិការដ្ឋ'!D205","v":0},0,{"$f":"'ចំណាយ-ថវិការដ្ឋ'!F205","v":0},{"$f":"'ចំណាយ-ថវិការដ្ឋ'!G205","v":0},0,{"$f":"'ចំណាយ-ថវិការដ្ឋ'!I205","v":0},{"$f":"'ចំណាយ-ថវិការដ្ឋ'!J205","v":0},0,{"$f":"'ចំណាយ-ថវិការដ្ឋ'!L205","v":0},{"$f":"'ចំណាយ-ថវិការដ្ឋ'!M205","v":0},null,{"$f":"O204","v":"៥.១៨.០១.៧៖ លើកកម្ពស់ការផ្សព្វផ្សាយព័ត៌មានអប់រំ និងកិច្ចសហប្រតិបត្តិការអាស៊ាន និងស៊ីមេអូ"}]
[{"$f":"cluster_activity_2","v":"សកម្មភាពរងទី ២. ការលើកកម្ពស់ភាពជាអ្នកដឹកនាំ និងគ្រប់គ្រង របស់មន្រ្តីអប់រំគ្រប់លំដាប់ថ្នាក់"},{"$f":"ROUND(SUM(B207:B210),1)","v":0},{"$f":"ROUND(SUM(C207:C210),1)","v":0},0,0,0,0,0,0,0,0,0,0,null,"៥.១៨.០១.៧៖ លើកកម្ពស់ការផ្សព្វផ្សាយព័ត៌មានអប់រំ និងកិច្ចសហប្រតិបត្តិការអាស៊ាន និងស៊ីមេអូ"]
[{"$f":"ព័ត៌មានអង្គភាព!Y40","v":"១. កិច្ចដំណើរការអង្គភាព"},{"$f":"ROUND(SUM(C207:D207),1)","v":0},{"$f":"'ចំណាយ-ថវិការដ្ឋ'!C207","v":0},{"$f":"'ចំណាយ-ថវិការដ្ឋ'!D207","v":0},{"$f":"ROUND(SUM(F207:G207),1)","v":0},{"$f":"'ចំណាយ-ថវិការដ្ឋ'!F207","v":0},{"$f":"'ចំណាយ-ថវិការដ្ឋ'!G207","v":0},{"$f":"ROUND(SUM(I207:J207),1)","v":0},{"$f":"'ចំណាយ-ថវិការដ្ឋ'!I207","v":0},{"$f":"'ចំណាយ-ថវិការដ្ឋ'!J207","v":0},{"$f":"ROUND(SUM(L207:M207),1)","v":0},{"$f":"'ចំណាយ-ថវិការដ្ឋ'!L207","v":0},{"$f":"'ចំណាយ-ថវិការដ្ឋ'!M207","v":0},null,"៥.១៨.០១.៧៖ លើកកម្ពស់ការផ្សព្វផ្សាយព័ត៌មានអប់រំ និងកិច្ចសហប្រតិបត្តិការអាស៊ាន និងស៊ីមេអូ"]
[{"$f":"ព័ត៌មានអង្គភាព!Y41","v":"២. ថវិកាលទ្ធកម្ម"},0,{"$f":"'ចំណាយ-ថវិការដ្ឋ'!C208","v":0},{"$f":"'ចំណាយ-ថវិការដ្ឋ'!D208","v":0},0,{"$f":"'ចំណាយ-ថវិការដ្ឋ'!F208","v":0},{"$f":"'ចំណាយ-ថវិការដ្ឋ'!G208","v":0},0,{"$f":"'ចំណាយ-ថវិការដ្ឋ'!I208","v":0},{"$f":"'ចំណាយ-ថវិការដ្ឋ'!J208","v":0},0,{"$f":"'ចំណាយ-ថវិការដ្ឋ'!L208","v":0},{"$f":"'ចំណាយ-ថវិការដ្ឋ'!M208","v":0},null,"៥.១៨.០១.៧៖ លើកកម្ពស់ការផ្សព្វផ្សាយព័ត៌មានអប់រំ និងកិច្ចសហប្រតិបត្តិការអាស៊ាន និងស៊ីមេអូ"]
[{"$f":"ព័ត៌មានអង្គភាព!Y42","v":"៣. ពិនិត្យតាមដាន និងវាយតម្លៃ"},0,{"$f":"'ចំណាយ-ថវិការដ្ឋ'!C209","v":0},{"$f":"'ចំណាយ-ថវិការដ្ឋ'!D209","v":0},0,{"$f":"'ចំណាយ-ថវិការដ្ឋ'!F209","v":0},{"$f":"'ចំណាយ-ថវិការដ្ឋ'!G209","v":0},0,{"$f":"'ចំណាយ-ថវិការដ្ឋ'!I209","v":0},{"$f":"'ចំណាយ-ថវិការដ្ឋ'!J209","v":0},0,{"$f":"'ចំណាយ-ថវិការដ្ឋ'!L209","v":0},{"$f":"'ចំណាយ-ថវិការដ្ឋ'!M209","v":0},null,"៥.១៨.០១.៧៖ លើកកម្ពស់ការផ្សព្វផ្សាយព័ត៌មានអប់រំ និងកិច្ចសហប្រតិបត្តិការអាស៊ាន និងស៊ីមេអូ"]
[{"$f":"ព័ត៌មានអង្គភាព!Y43","v":"៤. ពង្រឹងសមត្ថភាពមន្ត្រីជំនាញ"},0,{"$f":"'ចំណាយ-ថវិការដ្ឋ'!C210","v":0},{"$f":"'ចំណាយ-ថវិការដ្ឋ'!D210","v":0},0,{"$f":"'ចំណាយ-ថវិការដ្ឋ'!F210","v":0},{"$f":"'ចំណាយ-ថវិការដ្ឋ'!G210","v":0},0,{"$f":"'ចំណាយ-ថវិការដ្ឋ'!I210","v":0},{"$f":"'ចំណាយ-ថវិការដ្ឋ'!J210","v":0},0,{"$f":"'ចំណាយ-ថវិការដ្ឋ'!L210","v":0},{"$f":"'ចំណាយ-ថវិការដ្ឋ'!M210","v":0},null,"៥.១៨.០១.៧៖ លើកកម្ពស់ការផ្សព្វផ្សាយព័ត៌មានអប់រំ និងកិច្ចសហប្រតិបត្តិការអាស៊ាន និងស៊ីមេអូ"]
[{"$f":"ព័ត៌មានអង្គភាព!C35","v":"៥.១៨.០១.៨៖ ការពង្រឹងការងារនីតិកម្មសម្រាប់វិស័យអប់រំ"},{"$f":"SUM(B212,B213)","v":0},{"$f":"SUM(C212,C213)","v":0},0,0,0,0,0,0,0,0,0,0]
[{"$f":"cluster_activity_1","v":"សកម្មភាពរងទី ១. ការចូលរៀនមានគុណភាពប្រកប​ដោយ​សមធម៌ និងបរិយាប័ន្ន និងលើកកម្ពស់ឱកាសក្នុងការសិក្សា​ពេញមួយជីវិតសម្រាប់ទាំងអស់គ្នា"},0,0,0,0,0,0,0,0,0,0,0,0,null,{"$f":"A211","v":"៥.១៨.០១.៨៖ ការពង្រឹងការងារនីតិកម្មសម្រាប់វិស័យអប់រំ"}]
[{"$f":"cluster_activity_2","v":"សកម្មភាពរងទី ២. ការលើកកម្ពស់ភាពជាអ្នកដឹកនាំ និងគ្រប់គ្រង របស់មន្រ្តីអប់រំគ្រប់លំដាប់ថ្នាក់"},{"$f":"ROUND(SUM(B214:B217),1)","v":0},{"$f":"ROUND(SUM(C214:C217),1)","v":0},0,0,0,0,0,0,0,0,0,0,null,{"$f":"O212","v":"៥.១៨.០១.៨៖ ការពង្រឹងការងារនីតិកម្មសម្រាប់វិស័យអប់រំ"}]
[{"$f":"ព័ត៌មានអង្គភាព!AA38","v":"១. កិច្ចដំណើរការអង្គភាព"},{"$f":"ROUND(SUM(C214:D214),1)","v":0},{"$f":"'ចំណាយ-ថវិការដ្ឋ'!C214","v":0},{"$f":"'ចំណាយ-ថវិការដ្ឋ'!D214","v":0},{"$f":"ROUND(SUM(F214:G214),1)","v":0},{"$f":"'ចំណាយ-ថវិការដ្ឋ'!F214","v":0},{"$f":"'ចំណាយ-ថវិការដ្ឋ'!G214","v":0},{"$f":"ROUND(SUM(I214:J214),1)","v":0},{"$f":"'ចំណាយ-ថវិការដ្ឋ'!I214","v":0},{"$f":"'ចំណាយ-ថវិការដ្ឋ'!J214","v":0},{"$f":"ROUND(SUM(L214:M214),1)","v":0},{"$f":"'ចំណាយ-ថវិការដ្ឋ'!L214","v":0},{"$f":"'ចំណាយ-ថវិការដ្ឋ'!M214","v":0},null,{"$f":"O213","v":"៥.១៨.០១.៨៖ ការពង្រឹងការងារនីតិកម្មសម្រាប់វិស័យអប់រំ"}]
[{"$f":"ព័ត៌មានអង្គភាព!AA39","v":"២. ថវិកាលទ្ធកម្ម"},0,{"$f":"'ចំណាយ-ថវិការដ្ឋ'!C215","v":0},{"$f":"'ចំណាយ-ថវិការដ្ឋ'!D215","v":0},0,{"$f":"'ចំណាយ-ថវិការដ្ឋ'!F215","v":0},{"$f":"'ចំណាយ-ថវិការដ្ឋ'!G215","v":0},0,{"$f":"'ចំណាយ-ថវិការដ្ឋ'!I215","v":0},{"$f":"'ចំណាយ-ថវិការដ្ឋ'!J215","v":0},0,{"$f":"'ចំណាយ-ថវិការដ្ឋ'!L215","v":0},{"$f":"'ចំណាយ-ថវិការដ្ឋ'!M215","v":0},null,"៥.១៨.០១.៨៖ ការពង្រឹងការងារនីតិកម្មសម្រាប់វិស័យអប់រំ"]
[{"$f":"ព័ត៌មានអង្គភាព!AA40","v":"៣. ពង្រឹងការងារនីតិកម្មសម្រាប់វិស័យអប់រំ"},0,{"$f":"'ចំណាយ-ថវិការដ្ឋ'!C216","v":0},{"$f":"'ចំណាយ-ថវិការដ្ឋ'!D216","v":0},0,{"$f":"'ចំណាយ-ថវិការដ្ឋ'!F216","v":0},{"$f":"'ចំណាយ-ថវិការដ្ឋ'!G216","v":0},0,{"$f":"'ចំណាយ-ថវិការដ្ឋ'!I216","v":0},{"$f":"'ចំណាយ-ថវិការដ្ឋ'!J216","v":0},0,{"$f":"'ចំណាយ-ថវិការដ្ឋ'!L216","v":0},{"$f":"'ចំណាយ-ថវិការដ្ឋ'!M216","v":0},null,"៥.១៨.០១.៨៖ ការពង្រឹងការងារនីតិកម្មសម្រាប់វិស័យអប់រំ"]
[{"$f":"ព័ត៌មានអង្គភាព!AA41","v":"៤. អនុវត្តការងារកំណែទម្រង់វិមជ្ឈការ និងវិសហមជ្ឈការ"},0,{"$f":"'ចំណាយ-ថវិការដ្ឋ'!C217","v":0},{"$f":"'ចំណាយ-ថវិការដ្ឋ'!D217","v":0},0,{"$f":"'ចំណាយ-ថវិការដ្ឋ'!F217","v":0},{"$f":"'ចំណាយ-ថវិការដ្ឋ'!G217","v":0},0,{"$f":"'ចំណាយ-ថវិការដ្ឋ'!I217","v":0},{"$f":"'ចំណាយ-ថវិការដ្ឋ'!J217","v":0},0,{"$f":"'ចំណាយ-ថវិការដ្ឋ'!L217","v":0},{"$f":"'ចំណាយ-ថវិការដ្ឋ'!M217","v":0},null,"៥.១៨.០១.៨៖ ការពង្រឹងការងារនីតិកម្មសម្រាប់វិស័យអប់រំ"]
[{"$f":"ព័ត៌មានអង្គភាព!C36","v":"៥.១៨.០១.៩៖ ការពង្រឹងការគ្រប់គ្រងហេដ្ឋារចនាសម្ព័ន្ធអប់រំ"},{"$f":"SUM(B219,B221)","v":0},{"$f":"SUM(C219,C221)","v":0},0,0,0,0,0,0,0,0,0,0]
[{"$f":"cluster_activity_1","v":"សកម្មភាពរងទី ១. ការចូលរៀនមានគុណភាពប្រកប​ដោយ​សមធម៌ និងបរិយាប័ន្ន និងលើកកម្ពស់ឱកាសក្នុងការសិក្សា​ពេញមួយជីវិតសម្រាប់ទាំងអស់គ្នា"},{"$f":"ROUND(B220,1)","v":0},{"$f":"ROUND(C220,1)","v":0},0,0,0,0,0,0,0,0,0,0,null,{"$f":"A218","v":"៥.១៨.០១.៩៖ ការពង្រឹងការគ្រប់គ្រងហេដ្ឋារចនាសម្ព័ន្ធអប់រំ"}]
[{"$f":"ព័ត៌មានអង្គភាព!AC38","v":"១. ថែទាំ និងជួសជុល"},{"$f":"ROUND(SUM(C220:D220),1)","v":0},{"$f":"'ចំណាយ-ថវិការដ្ឋ'!C220","v":0},{"$f":"'ចំណាយ-ថវិការដ្ឋ'!D220","v":0},{"$f":"ROUND(SUM(F220:G220),1)","v":0},{"$f":"'ចំណាយ-ថវិការដ្ឋ'!F220","v":0},{"$f":"'ចំណាយ-ថវិការដ្ឋ'!G220","v":0},{"$f":"ROUND(SUM(I220:J220),1)","v":0},{"$f":"'ចំណាយ-ថវិការដ្ឋ'!I220","v":0},{"$f":"'ចំណាយ-ថវិការដ្ឋ'!J220","v":0},{"$f":"ROUND(SUM(L220:M220),1)","v":0},{"$f":"'ចំណាយ-ថវិការដ្ឋ'!L220","v":0},{"$f":"'ចំណាយ-ថវិការដ្ឋ'!M220","v":0},null,{"$f":"O219","v":"៥.១៨.០១.៩៖ ការពង្រឹងការគ្រប់គ្រងហេដ្ឋារចនាសម្ព័ន្ធអប់រំ"}]
[{"$f":"cluster_activity_2","v":"សកម្មភាពរងទី ២. ការលើកកម្ពស់ភាពជាអ្នកដឹកនាំ និងគ្រប់គ្រង របស់មន្រ្តីអប់រំគ្រប់លំដាប់ថ្នាក់"},{"$f":"ROUND(SUM(B222:B225),1)","v":0},{"$f":"ROUND(SUM(C222:C225),1)","v":0},0,0,0,0,0,0,0,0,0,0,null,{"$f":"O220","v":"៥.១៨.០១.៩៖ ការពង្រឹងការគ្រប់គ្រងហេដ្ឋារចនាសម្ព័ន្ធអប់រំ"}]
[{"$f":"ព័ត៌មានអង្គភាព!AC39","v":"១. កិច្ចដំណើរការអង្គភាព"},{"$f":"ROUND(SUM(C222:D222),1)","v":0},{"$f":"'ចំណាយ-ថវិការដ្ឋ'!C222","v":0},{"$f":"'ចំណាយ-ថវិការដ្ឋ'!D222","v":0},{"$f":"ROUND(SUM(F222:G222),1)","v":0},{"$f":"'ចំណាយ-ថវិការដ្ឋ'!F222","v":0},{"$f":"'ចំណាយ-ថវិការដ្ឋ'!G222","v":0},{"$f":"ROUND(SUM(I222:J222),1)","v":0},{"$f":"'ចំណាយ-ថវិការដ្ឋ'!I222","v":0},{"$f":"'ចំណាយ-ថវិការដ្ឋ'!J222","v":0},{"$f":"ROUND(SUM(L222:M222),1)","v":0},{"$f":"'ចំណាយ-ថវិការដ្ឋ'!L222","v":0},{"$f":"'ចំណាយ-ថវិការដ្ឋ'!M222","v":0},null,"៥.១៨.០១.៩៖ ការពង្រឹងការគ្រប់គ្រងហេដ្ឋារចនាសម្ព័ន្ធអប់រំ"]
[{"$f":"ព័ត៌មានអង្គភាព!AC40","v":"២. ថវិកាលទ្ធកម្ម"},0,{"$f":"'ចំណាយ-ថវិការដ្ឋ'!C223","v":0},{"$f":"'ចំណាយ-ថវិការដ្ឋ'!D223","v":0},0,{"$f":"'ចំណាយ-ថវិការដ្ឋ'!F223","v":0},{"$f":"'ចំណាយ-ថវិការដ្ឋ'!G223","v":0},0,{"$f":"'ចំណាយ-ថវិការដ្ឋ'!I223","v":0},{"$f":"'ចំណាយ-ថវិការដ្ឋ'!J223","v":0},0,{"$f":"'ចំណាយ-ថវិការដ្ឋ'!L223","v":0},{"$f":"'ចំណាយ-ថវិការដ្ឋ'!M223","v":0},null,"៥.១៨.០១.៩៖ ការពង្រឹងការគ្រប់គ្រងហេដ្ឋារចនាសម្ព័ន្ធអប់រំ"]
[{"$f":"ព័ត៌មានអង្គភាព!AC41","v":"៣. ពិនិត្យតាមដាន និងវាយតម្លៃ"},0,{"$f":"'ចំណាយ-ថវិការដ្ឋ'!C224","v":0},{"$f":"'ចំណាយ-ថវិការដ្ឋ'!D224","v":0},0,{"$f":"'ចំណាយ-ថវិការដ្ឋ'!F224","v":0},{"$f":"'ចំណាយ-ថវិការដ្ឋ'!G224","v":0},0,{"$f":"'ចំណាយ-ថវិការដ្ឋ'!I224","v":0},{"$f":"'ចំណាយ-ថវិការដ្ឋ'!J224","v":0},0,{"$f":"'ចំណាយ-ថវិការដ្ឋ'!L224","v":0},{"$f":"'ចំណាយ-ថវិការដ្ឋ'!M224","v":0},null,"៥.១៨.០១.៩៖ ការពង្រឹងការគ្រប់គ្រងហេដ្ឋារចនាសម្ព័ន្ធអប់រំ"]
[{"$f":"ព័ត៌មានអង្គភាព!AC42","v":"៤. ពង្រឹងសមត្ថភាព"},0,{"$f":"'ចំណាយ-ថវិការដ្ឋ'!C225","v":0},{"$f":"'ចំណាយ-ថវិការដ្ឋ'!D225","v":0},0,{"$f":"'ចំណាយ-ថវិការដ្ឋ'!F225","v":0},{"$f":"'ចំណាយ-ថវិការដ្ឋ'!G225","v":0},0,{"$f":"'ចំណាយ-ថវិការដ្ឋ'!I225","v":0},{"$f":"'ចំណាយ-ថវិការដ្ឋ'!J225","v":0},0,{"$f":"'ចំណាយ-ថវិការដ្ឋ'!L225","v":0},{"$f":"'ចំណាយ-ថវិការដ្ឋ'!M225","v":0},null,"៥.១៨.០១.៩៖ ការពង្រឹងការគ្រប់គ្រងហេដ្ឋារចនាសម្ព័ន្ធអប់រំ"]
[{"$f":"ព័ត៌មានអង្គភាព!C37","v":"៥.១៨.០១.១០៖ ការពង្រឹងការគ្រប់គ្រង ការផ្គត់ផ្គង់សម្ភារៈ និងទ្រព្យសម្បត្តិរដ្ឋ"},{"$f":"SUM(B227,B228)","v":0},{"$f":"SUM(C227,C228)","v":0},0,0,0,0,0,0,0,0,0,0]
[{"$f":"cluster_activity_1","v":"សកម្មភាពរងទី ១. ការចូលរៀនមានគុណភាពប្រកប​ដោយ​សមធម៌ និងបរិយាប័ន្ន និងលើកកម្ពស់ឱកាសក្នុងការសិក្សា​ពេញមួយជីវិតសម្រាប់ទាំងអស់គ្នា"},0,0,0,0,0,0,0,0,0,0,0,0,null,{"$f":"A226","v":"៥.១៨.០១.១០៖ ការពង្រឹងការគ្រប់គ្រង ការផ្គត់ផ្គង់សម្ភារៈ និងទ្រព្យសម្បត្តិរដ្ឋ"}]
[{"$f":"cluster_activity_2","v":"សកម្មភាពរងទី ២. ការលើកកម្ពស់ភាពជាអ្នកដឹកនាំ និងគ្រប់គ្រង របស់មន្រ្តីអប់រំគ្រប់លំដាប់ថ្នាក់"},{"$f":"ROUND(SUM(B229:B232),1)","v":0},{"$f":"ROUND(SUM(C229:C232),1)","v":0},0,0,0,0,0,0,0,0,0,0,null,{"$f":"O227","v":"៥.១៨.០១.១០៖ ការពង្រឹងការគ្រប់គ្រង ការផ្គត់ផ្គង់សម្ភារៈ និងទ្រព្យសម្បត្តិរដ្ឋ"}]
[{"$f":"ព័ត៌មានអង្គភាព!AE38","v":"១. កិច្ចដំណើរការអង្គភាព"},{"$f":"ROUND(SUM(C229:D229),1)","v":0},{"$f":"'ចំណាយ-ថវិការដ្ឋ'!C229","v":0},{"$f":"'ចំណាយ-ថវិការដ្ឋ'!D229","v":0},{"$f":"ROUND(SUM(F229:G229),1)","v":0},{"$f":"'ចំណាយ-ថវិការដ្ឋ'!F229","v":0},{"$f":"'ចំណាយ-ថវិការដ្ឋ'!G229","v":0},{"$f":"ROUND(SUM(I229:J229),1)","v":0},{"$f":"'ចំណាយ-ថវិការដ្ឋ'!I229","v":0},{"$f":"'ចំណាយ-ថវិការដ្ឋ'!J229","v":0},{"$f":"ROUND(SUM(L229:M229),1)","v":0},{"$f":"'ចំណាយ-ថវិការដ្ឋ'!L229","v":0},{"$f":"'ចំណាយ-ថវិការដ្ឋ'!M229","v":0},null,{"$f":"O228","v":"៥.១៨.០១.១០៖ ការពង្រឹងការគ្រប់គ្រង ការផ្គត់ផ្គង់សម្ភារៈ និងទ្រព្យសម្បត្តិរដ្ឋ"}]
[{"$f":"ព័ត៌មានអង្គភាព!AE39","v":"២. ថវិកាលទ្ធកម្ម"},0,{"$f":"'ចំណាយ-ថវិការដ្ឋ'!C230","v":0},{"$f":"'ចំណាយ-ថវិការដ្ឋ'!D230","v":0},0,{"$f":"'ចំណាយ-ថវិការដ្ឋ'!F230","v":0},{"$f":"'ចំណាយ-ថវិការដ្ឋ'!G230","v":0},0,{"$f":"'ចំណាយ-ថវិការដ្ឋ'!I230","v":0},{"$f":"'ចំណាយ-ថវិការដ្ឋ'!J230","v":0},0,{"$f":"'ចំណាយ-ថវិការដ្ឋ'!L230","v":0},{"$f":"'ចំណាយ-ថវិការដ្ឋ'!M230","v":0},null,"៥.១៨.០១.១០៖ ការពង្រឹងការគ្រប់គ្រង ការផ្គត់ផ្គង់សម្ភារៈ និងទ្រព្យសម្បត្តិរដ្ឋ"]
[{"$f":"ព័ត៌មានអង្គភាព!AE40","v":"៣. ពិនិត្យតាមដាន និងវាយតម្លៃ"},0,{"$f":"'ចំណាយ-ថវិការដ្ឋ'!C231","v":0},{"$f":"'ចំណាយ-ថវិការដ្ឋ'!D231","v":0},0,{"$f":"'ចំណាយ-ថវិការដ្ឋ'!F231","v":0},{"$f":"'ចំណាយ-ថវិការដ្ឋ'!G231","v":0},0,{"$f":"'ចំណាយ-ថវិការដ្ឋ'!I231","v":0},{"$f":"'ចំណាយ-ថវិការដ្ឋ'!J231","v":0},0,{"$f":"'ចំណាយ-ថវិការដ្ឋ'!L231","v":0},{"$f":"'ចំណាយ-ថវិការដ្ឋ'!M231","v":0},null,"៥.១៨.០១.១០៖ ការពង្រឹងការគ្រប់គ្រង ការផ្គត់ផ្គង់សម្ភារៈ និងទ្រព្យសម្បត្តិរដ្ឋ"]
[{"$f":"ព័ត៌មានអង្គភាព!AE41","v":"៤. គាំទ្រ គ្រប់គ្រង និងអភិវឌ្ឍសមត្ថភាពលើការងារសម្ភារទ្រព្យសម្បត្តិរដ្ឋ"},0,{"$f":"'ចំណាយ-ថវិការដ្ឋ'!C232","v":0},{"$f":"'ចំណាយ-ថវិការដ្ឋ'!D232","v":0},0,{"$f":"'ចំណាយ-ថវិការដ្ឋ'!F232","v":0},{"$f":"'ចំណាយ-ថវិការដ្ឋ'!G232","v":0},0,{"$f":"'ចំណាយ-ថវិការដ្ឋ'!I232","v":0},{"$f":"'ចំណាយ-ថវិការដ្ឋ'!J232","v":0},0,{"$f":"'ចំណាយ-ថវិការដ្ឋ'!L232","v":0},{"$f":"'ចំណាយ-ថវិការដ្ឋ'!M232","v":0},null,"៥.១៨.០១.១០៖ ការពង្រឹងការគ្រប់គ្រង ការផ្គត់ផ្គង់សម្ភារៈ និងទ្រព្យសម្បត្តិរដ្ឋ"]
[{"$f":"ព័ត៌មានអង្គភាព!C38","v":"៥.១៨.០១.១១៖ ការអភិវឌ្ឍ និងពង្រឹងប្រសិទ្ធភាពការគ្រប់គ្រង និងការធានាភាពស័ក្តិសិទ្ធនៃសេវារដ្ឋបាលអប់រំ"},{"$f":"SUM(B234,B236)","v":0},{"$f":"SUM(C234,C236)","v":0},0,0,0,0,0,0,0,0,0,0]
[{"$f":"cluster_activity_1","v":"សកម្មភាពរងទី ១. ការចូលរៀនមានគុណភាពប្រកប​ដោយ​សមធម៌ និងបរិយាប័ន្ន និងលើកកម្ពស់ឱកាសក្នុងការសិក្សា​ពេញមួយជីវិតសម្រាប់ទាំងអស់គ្នា"},{"$f":"ROUND(B235,1)","v":0},{"$f":"ROUND(C235,1)","v":0},0,0,0,0,0,0,0,0,0,0,null,{"$f":"A233","v":"៥.១៨.០១.១១៖ ការអភិវឌ្ឍ និងពង្រឹងប្រសិទ្ធភាពការគ្រប់គ្រង និងការធានាភាពស័ក្តិសិទ្ធនៃសេវារដ្ឋបាលអប់រំ"}]
[{"$f":"ព័ត៌មានអង្គភាព!AG38","v":"១. គាំទ្រសេវារៀបចំពិធីសម្រាប់វិស័យអ​ប់រំ"},{"$f":"ROUND(SUM(C235:D235),1)","v":0},{"$f":"'ចំណាយ-ថវិការដ្ឋ'!C235","v":0},{"$f":"'ចំណាយ-ថវិការដ្ឋ'!D235","v":0},{"$f":"ROUND(SUM(F235:G235),1)","v":0},{"$f":"'ចំណាយ-ថវិការដ្ឋ'!F235","v":0},{"$f":"'ចំណាយ-ថវិការដ្ឋ'!G235","v":0},{"$f":"ROUND(SUM(I235:J235),1)","v":0},{"$f":"'ចំណាយ-ថវិការដ្ឋ'!I235","v":0},{"$f":"'ចំណាយ-ថវិការដ្ឋ'!J235","v":0},{"$f":"ROUND(SUM(L235:M235),1)","v":0},{"$f":"'ចំណាយ-ថវិការដ្ឋ'!L235","v":0},{"$f":"'ចំណាយ-ថវិការដ្ឋ'!M235","v":0},null,{"$f":"O234","v":"៥.១៨.០១.១១៖ ការអភិវឌ្ឍ និងពង្រឹងប្រសិទ្ធភាពការគ្រប់គ្រង និងការធានាភាពស័ក្តិសិទ្ធនៃសេវារដ្ឋបាលអប់រំ"}]
[{"$f":"cluster_activity_2","v":"សកម្មភាពរងទី ២. ការលើកកម្ពស់ភាពជាអ្នកដឹកនាំ និងគ្រប់គ្រង របស់មន្រ្តីអប់រំគ្រប់លំដាប់ថ្នាក់"},{"$f":"ROUND(SUM(B237:B240),1)","v":0},{"$f":"ROUND(SUM(C237:C240),1)","v":0},0,0,0,0,0,0,0,0,0,0,null,{"$f":"O235","v":"៥.១៨.០១.១១៖ ការអភិវឌ្ឍ និងពង្រឹងប្រសិទ្ធភាពការគ្រប់គ្រង និងការធានាភាពស័ក្តិសិទ្ធនៃសេវារដ្ឋបាលអប់រំ"}]
[{"$f":"ព័ត៌មានអង្គភាព!AG39","v":"១. កិច្ចដំណើរការអង្គភាព"},{"$f":"ROUND(SUM(C237:D237),1)","v":0},{"$f":"'ចំណាយ-ថវិការដ្ឋ'!C237","v":0},{"$f":"'ចំណាយ-ថវិការដ្ឋ'!D237","v":0},{"$f":"ROUND(SUM(F237:G237),1)","v":0},{"$f":"'ចំណាយ-ថវិការដ្ឋ'!F237","v":0},{"$f":"'ចំណាយ-ថវិការដ្ឋ'!G237","v":0},{"$f":"ROUND(SUM(I237:J237),1)","v":0},{"$f":"'ចំណាយ-ថវិការដ្ឋ'!I237","v":0},{"$f":"'ចំណាយ-ថវិការដ្ឋ'!J237","v":0},{"$f":"ROUND(SUM(L237:M237),1)","v":0},{"$f":"'ចំណាយ-ថវិការដ្ឋ'!L237","v":0},{"$f":"'ចំណាយ-ថវិការដ្ឋ'!M237","v":0},null,"៥.១៨.០១.១១៖ ការអភិវឌ្ឍ និងពង្រឹងប្រសិទ្ធភាពការគ្រប់គ្រង និងការធានាភាពស័ក្តិសិទ្ធនៃសេវារដ្ឋបាលអប់រំ"]
[{"$f":"ព័ត៌មានអង្គភាព!AG40","v":"២. ថវិកាលទ្ធកម្ម"},0,{"$f":"'ចំណាយ-ថវិការដ្ឋ'!C238","v":0},{"$f":"'ចំណាយ-ថវិការដ្ឋ'!D238","v":0},0,{"$f":"'ចំណាយ-ថវិការដ្ឋ'!F238","v":0},{"$f":"'ចំណាយ-ថវិការដ្ឋ'!G238","v":0},0,{"$f":"'ចំណាយ-ថវិការដ្ឋ'!I238","v":0},{"$f":"'ចំណាយ-ថវិការដ្ឋ'!J238","v":0},0,{"$f":"'ចំណាយ-ថវិការដ្ឋ'!L238","v":0},{"$f":"'ចំណាយ-ថវិការដ្ឋ'!M238","v":0},null,"៥.១៨.០១.១១៖ ការអភិវឌ្ឍ និងពង្រឹងប្រសិទ្ធភាពការគ្រប់គ្រង និងការធានាភាពស័ក្តិសិទ្ធនៃសេវារដ្ឋបាលអប់រំ"]
[{"$f":"ព័ត៌មានអង្គភាព!AG41","v":"៣. ពិនិត្យតាមដាន និងវាយតម្លៃ"},0,{"$f":"'ចំណាយ-ថវិការដ្ឋ'!C239","v":0},{"$f":"'ចំណាយ-ថវិការដ្ឋ'!D239","v":0},0,{"$f":"'ចំណាយ-ថវិការដ្ឋ'!F239","v":0},{"$f":"'ចំណាយ-ថវិការដ្ឋ'!G239","v":0},0,{"$f":"'ចំណាយ-ថវិការដ្ឋ'!I239","v":0},{"$f":"'ចំណាយ-ថវិការដ្ឋ'!J239","v":0},0,{"$f":"'ចំណាយ-ថវិការដ្ឋ'!L239","v":0},{"$f":"'ចំណាយ-ថវិការដ្ឋ'!M239","v":0},null,"៥.១៨.០១.១១៖ ការអភិវឌ្ឍ និងពង្រឹងប្រសិទ្ធភាពការគ្រប់គ្រង និងការធានាភាពស័ក្តិសិទ្ធនៃសេវារដ្ឋបាលអប់រំ"]
[{"$f":"ព័ត៌មានអង្គភាព!AG42","v":"៤. ពង្រឹងសមត្ថភាពគ្រប់គ្រងរដ្ឋបាលអប់រំ"},0,{"$f":"'ចំណាយ-ថវិការដ្ឋ'!C240","v":0},{"$f":"'ចំណាយ-ថវិការដ្ឋ'!D240","v":0},0,{"$f":"'ចំណាយ-ថវិការដ្ឋ'!F240","v":0},{"$f":"'ចំណាយ-ថវិការដ្ឋ'!G240","v":0},0,{"$f":"'ចំណាយ-ថវិការដ្ឋ'!I240","v":0},{"$f":"'ចំណាយ-ថវិការដ្ឋ'!J240","v":0},0,{"$f":"'ចំណាយ-ថវិការដ្ឋ'!L240","v":0},{"$f":"'ចំណាយ-ថវិការដ្ឋ'!M240","v":0},null,"៥.១៨.០១.១១៖ ការអភិវឌ្ឍ និងពង្រឹងប្រសិទ្ធភាពការគ្រប់គ្រង និងការធានាភាពស័ក្តិសិទ្ធនៃសេវារដ្ឋបាលអប់រំ"]
[{"$f":"ព័ត៌មានអង្គភាព!C39","v":"៥.១៨.០១.១២៖ ការអភិវឌ្ឍកិច្ចសហប្រតិបត្តិការជាតិ អន្តរជាតិលើវិស័យអប់រំ"},{"$f":"SUM(B242,B244)","v":0},{"$f":"SUM(C242,C244)","v":0},0,0,0,0,0,0,0,0,0,0]
[{"$f":"cluster_activity_1","v":"សកម្មភាពរងទី ១. ការចូលរៀនមានគុណភាពប្រកប​ដោយ​សមធម៌ និងបរិយាប័ន្ន និងលើកកម្ពស់ឱកាសក្នុងការសិក្សា​ពេញមួយជីវិតសម្រាប់ទាំងអស់គ្នា"},{"$f":"ROUND(B243,1)","v":0},{"$f":"ROUND(C243,1)","v":0},0,0,0,0,0,0,0,0,0,0,null,{"$f":"A241","v":"៥.១៨.០១.១២៖ ការអភិវឌ្ឍកិច្ចសហប្រតិបត្តិការជាតិ អន្តរជាតិលើវិស័យអប់រំ"}]
[{"$f":"ព័ត៌មានអង្គភាព!AI38","v":"១. ប្រឡងអាហារូបករណ៍"},{"$f":"ROUND(SUM(C243:D243),1)","v":0},{"$f":"'ចំណាយ-ថវិការដ្ឋ'!C243","v":0},{"$f":"'ចំណាយ-ថវិការដ្ឋ'!D243","v":0},{"$f":"ROUND(SUM(F243:G243),1)","v":0},{"$f":"'ចំណាយ-ថវិការដ្ឋ'!F243","v":0},{"$f":"'ចំណាយ-ថវិការដ្ឋ'!G243","v":0},{"$f":"ROUND(SUM(I243:J243),1)","v":0},{"$f":"'ចំណាយ-ថវិការដ្ឋ'!I243","v":0},{"$f":"'ចំណាយ-ថវិការដ្ឋ'!J243","v":0},{"$f":"ROUND(SUM(L243:M243),1)","v":0},{"$f":"'ចំណាយ-ថវិការដ្ឋ'!L243","v":0},{"$f":"'ចំណាយ-ថវិការដ្ឋ'!M243","v":0},null,{"$f":"O242","v":"៥.១៨.០១.១២៖ ការអភិវឌ្ឍកិច្ចសហប្រតិបត្តិការជាតិ អន្តរជាតិលើវិស័យអប់រំ"}]
[{"$f":"cluster_activity_2","v":"សកម្មភាពរងទី ២. ការលើកកម្ពស់ភាពជាអ្នកដឹកនាំ និងគ្រប់គ្រង របស់មន្រ្តីអប់រំគ្រប់លំដាប់ថ្នាក់"},{"$f":"ROUND(SUM(B245:B248),1)","v":0},{"$f":"ROUND(SUM(C245:C248),1)","v":0},0,0,0,0,0,0,0,0,0,0,null,{"$f":"O243","v":"៥.១៨.០១.១២៖ ការអភិវឌ្ឍកិច្ចសហប្រតិបត្តិការជាតិ អន្តរជាតិលើវិស័យអប់រំ"}]
[{"$f":"ព័ត៌មានអង្គភាព!AI39","v":"១. កិច្ចដំណើរការអង្គភាព"},{"$f":"ROUND(SUM(C245:D245),1)","v":0},{"$f":"'ចំណាយ-ថវិការដ្ឋ'!C245","v":0},{"$f":"'ចំណាយ-ថវិការដ្ឋ'!D245","v":0},{"$f":"ROUND(SUM(F245:G245),1)","v":0},{"$f":"'ចំណាយ-ថវិការដ្ឋ'!F245","v":0},{"$f":"'ចំណាយ-ថវិការដ្ឋ'!G245","v":0},{"$f":"ROUND(SUM(I245:J245),1)","v":0},{"$f":"'ចំណាយ-ថវិការដ្ឋ'!I245","v":0},{"$f":"'ចំណាយ-ថវិការដ្ឋ'!J245","v":0},{"$f":"ROUND(SUM(L245:M245),1)","v":0},{"$f":"'ចំណាយ-ថវិការដ្ឋ'!L245","v":0},{"$f":"'ចំណាយ-ថវិការដ្ឋ'!M245","v":0},null,"៥.១៨.០១.១២៖ ការអភិវឌ្ឍកិច្ចសហប្រតិបត្តិការជាតិ អន្តរជាតិលើវិស័យអប់រំ"]
[{"$f":"ព័ត៌មានអង្គភាព!AI40","v":"២. ថវិកាលទ្ធកម្ម"},0,{"$f":"'ចំណាយ-ថវិការដ្ឋ'!C246","v":0},{"$f":"'ចំណាយ-ថវិការដ្ឋ'!D246","v":0},0,{"$f":"'ចំណាយ-ថវិការដ្ឋ'!F246","v":0},{"$f":"'ចំណាយ-ថវិការដ្ឋ'!G246","v":0},0,{"$f":"'ចំណាយ-ថវិការដ្ឋ'!I246","v":0},{"$f":"'ចំណាយ-ថវិការដ្ឋ'!J246","v":0},0,{"$f":"'ចំណាយ-ថវិការដ្ឋ'!L246","v":0},{"$f":"'ចំណាយ-ថវិការដ្ឋ'!M246","v":0},null,"៥.១៨.០១.១២៖ ការអភិវឌ្ឍកិច្ចសហប្រតិបត្តិការជាតិ អន្តរជាតិលើវិស័យអប់រំ"]
[{"$f":"ព័ត៌មានអង្គភាព!AI41","v":"៣. ពិនិត្យតាមដាន និងវាយតម្លៃ"},0,{"$f":"'ចំណាយ-ថវិការដ្ឋ'!C247","v":0},{"$f":"'ចំណាយ-ថវិការដ្ឋ'!D247","v":0},0,{"$f":"'ចំណាយ-ថវិការដ្ឋ'!F247","v":0},{"$f":"'ចំណាយ-ថវិការដ្ឋ'!G247","v":0},0,{"$f":"'ចំណាយ-ថវិការដ្ឋ'!I247","v":0},{"$f":"'ចំណាយ-ថវិការដ្ឋ'!J247","v":0},0,{"$f":"'ចំណាយ-ថវិការដ្ឋ'!L247","v":0},{"$f":"'ចំណាយ-ថវិការដ្ឋ'!M247","v":0},null,"៥.១៨.០១.១២៖ ការអភិវឌ្ឍកិច្ចសហប្រតិបត្តិការជាតិ អន្តរជាតិលើវិស័យអប់រំ"]
[{"$f":"ព័ត៌មានអង្គភាព!AI42","v":"៤. ពង្រឹងសមត្ថភាពក្នុងការគ្រប់គ្រងសិស្ស និងនិស្សិតអាហារូបករណ៍ និងសហប្រតិបត្តិការ"},0,{"$f":"'ចំណាយ-ថវិការដ្ឋ'!C248","v":0},{"$f":"'ចំណាយ-ថវិការដ្ឋ'!D248","v":0},0,{"$f":"'ចំណាយ-ថវិការដ្ឋ'!F248","v":0},{"$f":"'ចំណាយ-ថវិការដ្ឋ'!G248","v":0},0,{"$f":"'ចំណាយ-ថវិការដ្ឋ'!I248","v":0},{"$f":"'ចំណាយ-ថវិការដ្ឋ'!J248","v":0},0,{"$f":"'ចំណាយ-ថវិការដ្ឋ'!L248","v":0},{"$f":"'ចំណាយ-ថវិការដ្ឋ'!M248","v":0},null,"៥.១៨.០១.១២៖ ការអភិវឌ្ឍកិច្ចសហប្រតិបត្តិការជាតិ អន្តរជាតិលើវិស័យអប់រំ"]
[{"$f":"ព័ត៌មានអង្គភាព!C40","v":"៥.១៨.០១.១៣៖ ការអភិវឌ្ឍប្រព័ន្ធព័ត៌មានគ្រប់គ្រងអប់រំ"},{"$f":"SUM(B250,B251)","v":0},{"$f":"SUM(C250,C251)","v":0},0,0,0,0,0,0,0,0,0,0]
[{"$f":"cluster_activity_1","v":"សកម្មភាពរងទី ១. ការចូលរៀនមានគុណភាពប្រកប​ដោយ​សមធម៌ និងបរិយាប័ន្ន និងលើកកម្ពស់ឱកាសក្នុងការសិក្សា​ពេញមួយជីវិតសម្រាប់ទាំងអស់គ្នា"},0,0,0,0,0,0,0,0,0,0,0,0,null,{"$f":"A249","v":"៥.១៨.០១.១៣៖ ការអភិវឌ្ឍប្រព័ន្ធព័ត៌មានគ្រប់គ្រងអប់រំ"}]
[{"$f":"cluster_activity_2","v":"សកម្មភាពរងទី ២. ការលើកកម្ពស់ភាពជាអ្នកដឹកនាំ និងគ្រប់គ្រង របស់មន្រ្តីអប់រំគ្រប់លំដាប់ថ្នាក់"},{"$f":"ROUND(SUM(B252:B256),1)","v":0},{"$f":"ROUND(SUM(C252:C256),1)","v":0},0,0,0,0,0,0,0,0,0,0,null,{"$f":"O250","v":"៥.១៨.០១.១៣៖ ការអភិវឌ្ឍប្រព័ន្ធព័ត៌មានគ្រប់គ្រងអប់រំ"}]
[{"$f":"ព័ត៌មានអង្គភាព!AK38","v":"១. កិច្ចដំណើរការអង្គភាព"},{"$f":"ROUND(SUM(C252:D252),1)","v":0},{"$f":"'ចំណាយ-ថវិការដ្ឋ'!C252","v":0},{"$f":"'ចំណាយ-ថវិការដ្ឋ'!D252","v":0},{"$f":"ROUND(SUM(F252:G252),1)","v":0},{"$f":"'ចំណាយ-ថវិការដ្ឋ'!F252","v":0},{"$f":"'ចំណាយ-ថវិការដ្ឋ'!G252","v":0},{"$f":"ROUND(SUM(I252:J252),1)","v":0},{"$f":"'ចំណាយ-ថវិការដ្ឋ'!I252","v":0},{"$f":"'ចំណាយ-ថវិការដ្ឋ'!J252","v":0},{"$f":"ROUND(SUM(L252:M252),1)","v":0},{"$f":"'ចំណាយ-ថវិការដ្ឋ'!L252","v":0},{"$f":"'ចំណាយ-ថវិការដ្ឋ'!M252","v":0},null,{"$f":"O251","v":"៥.១៨.០១.១៣៖ ការអភិវឌ្ឍប្រព័ន្ធព័ត៌មានគ្រប់គ្រងអប់រំ"}]
[{"$f":"ព័ត៌មានអង្គភាព!AK39","v":"២. ថវិកាលទ្ធកម្ម"},0,{"$f":"'ចំណាយ-ថវិការដ្ឋ'!C253","v":0},{"$f":"'ចំណាយ-ថវិការដ្ឋ'!D253","v":0},0,{"$f":"'ចំណាយ-ថវិការដ្ឋ'!F253","v":0},{"$f":"'ចំណាយ-ថវិការដ្ឋ'!G253","v":0},0,{"$f":"'ចំណាយ-ថវិការដ្ឋ'!I253","v":0},{"$f":"'ចំណាយ-ថវិការដ្ឋ'!J253","v":0},0,{"$f":"'ចំណាយ-ថវិការដ្ឋ'!L253","v":0},{"$f":"'ចំណាយ-ថវិការដ្ឋ'!M253","v":0},null,"៥.១៨.០១.១៣៖ ការអភិវឌ្ឍប្រព័ន្ធព័ត៌មានគ្រប់គ្រងអប់រំ"]
[{"$f":"ព័ត៌មានអង្គភាព!AK40","v":"៣. ពិនិត្យតាមដាន និងវាយតម្លៃ"},0,{"$f":"'ចំណាយ-ថវិការដ្ឋ'!C254","v":0},{"$f":"'ចំណាយ-ថវិការដ្ឋ'!D254","v":0},0,{"$f":"'ចំណាយ-ថវិការដ្ឋ'!F254","v":0},{"$f":"'ចំណាយ-ថវិការដ្ឋ'!G254","v":0},0,{"$f":"'ចំណាយ-ថវិការដ្ឋ'!I254","v":0},{"$f":"'ចំណាយ-ថវិការដ្ឋ'!J254","v":0},0,{"$f":"'ចំណាយ-ថវិការដ្ឋ'!L254","v":0},{"$f":"'ចំណាយ-ថវិការដ្ឋ'!M254","v":0},null,"៥.១៨.០១.១៣៖ ការអភិវឌ្ឍប្រព័ន្ធព័ត៌មានគ្រប់គ្រងអប់រំ"]
[{"$f":"ព័ត៌មានអង្គភាព!AK41","v":"៤. គាំទ្រប្រព័ន្ធព័ត៌មានគ្រប់គ្រងអប់រំ"},0,{"$f":"'ចំណាយ-ថវិការដ្ឋ'!C255","v":0},{"$f":"'ចំណាយ-ថវិការដ្ឋ'!D255","v":0},0,{"$f":"'ចំណាយ-ថវិការដ្ឋ'!F255","v":0},{"$f":"'ចំណាយ-ថវិការដ្ឋ'!G255","v":0},0,{"$f":"'ចំណាយ-ថវិការដ្ឋ'!I255","v":0},{"$f":"'ចំណាយ-ថវិការដ្ឋ'!J255","v":0},0,{"$f":"'ចំណាយ-ថវិការដ្ឋ'!L255","v":0},{"$f":"'ចំណាយ-ថវិការដ្ឋ'!M255","v":0},null,"៥.១៨.០១.១៣៖ ការអភិវឌ្ឍប្រព័ន្ធព័ត៌មានគ្រប់គ្រងអប់រំ"]
[{"$f":"ព័ត៌មានអង្គភាព!AK42","v":"៥. ពង្រឹងសមត្ថភាពក្នុងការគ្រប់គ្រងប្រព័ន្ធព័ត៌មាន ស្ថិតិ និងសូចនាករអប់រំ"},0,{"$f":"'ចំណាយ-ថវិការដ្ឋ'!C256","v":0},{"$f":"'ចំណាយ-ថវិការដ្ឋ'!D256","v":0},0,{"$f":"'ចំណាយ-ថវិការដ្ឋ'!F256","v":0},{"$f":"'ចំណាយ-ថវិការដ្ឋ'!G256","v":0},0,{"$f":"'ចំណាយ-ថវិការដ្ឋ'!I256","v":0},{"$f":"'ចំណាយ-ថវិការដ្ឋ'!J256","v":0},0,{"$f":"'ចំណាយ-ថវិការដ្ឋ'!L256","v":0},{"$f":"'ចំណាយ-ថវិការដ្ឋ'!M256","v":0},null,"៥.១៨.០១.១៣៖ ការអភិវឌ្ឍប្រព័ន្ធព័ត៌មានគ្រប់គ្រងអប់រំ"]
[{"$f":"ព័ត៌មានអង្គភាព!C41","v":"៥.១៨.០១.១៤៖ ការស្រាវជ្រាវ និងអភិវឌ្ឍគោលនយោបាយអប់រំ"},{"$f":"SUM(B258,B261)","v":0},{"$f":"SUM(C258,C261)","v":0},0,0,0,0,0,0,0,0,0,0]
[{"$f":"cluster_activity_1","v":"សកម្មភាពរងទី ១. ការចូលរៀនមានគុណភាពប្រកប​ដោយ​សមធម៌ និងបរិយាប័ន្ន និងលើកកម្ពស់ឱកាសក្នុងការសិក្សា​ពេញមួយជីវិតសម្រាប់ទាំងអស់គ្នា"},{"$f":"ROUND(SUM(B259:B260),1)","v":0},{"$f":"ROUND(SUM(C259:C260),1)","v":0},0,0,0,0,0,0,0,0,0,0,null,{"$f":"A257","v":"៥.១៨.០១.១៤៖ ការស្រាវជ្រាវ និងអភិវឌ្ឍគោលនយោបាយអប់រំ"}]
[{"$f":"ព័ត៌មានអង្គភាព!AM38","v":"១. រៀបចំ និងសម្របសម្រួលគោលនយោបាយអប់រំ យុវជន និងកីឡា"},{"$f":"ROUND(SUM(C259:D259),1)","v":0},{"$f":"'ចំណាយ-ថវិការដ្ឋ'!C259","v":0},{"$f":"'ចំណាយ-ថវិការដ្ឋ'!D259","v":0},{"$f":"ROUND(SUM(F259:G259),1)","v":0},{"$f":"'ចំណាយ-ថវិការដ្ឋ'!F259","v":0},{"$f":"'ចំណាយ-ថវិការដ្ឋ'!G259","v":0},{"$f":"ROUND(SUM(I259:J259),1)","v":0},{"$f":"'ចំណាយ-ថវិការដ្ឋ'!I259","v":0},{"$f":"'ចំណាយ-ថវិការដ្ឋ'!J259","v":0},{"$f":"ROUND(SUM(L259:M259),1)","v":0},{"$f":"'ចំណាយ-ថវិការដ្ឋ'!L259","v":0},{"$f":"'ចំណាយ-ថវិការដ្ឋ'!M259","v":0},null,{"$f":"O258","v":"៥.១៨.០១.១៤៖ ការស្រាវជ្រាវ និងអភិវឌ្ឍគោលនយោបាយអប់រំ"}]
[{"$f":"ព័ត៌មានអង្គភាព!AM39","v":"២. សិក្សាស្រាវជ្រាវ និងតាមដាននិន្នាការក្នុងតំបន់ និងពិភពលោក "},0,{"$f":"'ចំណាយ-ថវិការដ្ឋ'!C260","v":0},{"$f":"'ចំណាយ-ថវិការដ្ឋ'!D260","v":0},0,{"$f":"'ចំណាយ-ថវិការដ្ឋ'!F260","v":0},{"$f":"'ចំណាយ-ថវិការដ្ឋ'!G260","v":0},0,{"$f":"'ចំណាយ-ថវិការដ្ឋ'!I260","v":0},{"$f":"'ចំណាយ-ថវិការដ្ឋ'!J260","v":0},0,{"$f":"'ចំណាយ-ថវិការដ្ឋ'!L260","v":0},{"$f":"'ចំណាយ-ថវិការដ្ឋ'!M260","v":0},null,{"$f":"O259","v":"៥.១៨.០១.១៤៖ ការស្រាវជ្រាវ និងអភិវឌ្ឍគោលនយោបាយអប់រំ"}]
[{"$f":"cluster_activity_2","v":"សកម្មភាពរងទី ២. ការលើកកម្ពស់ភាពជាអ្នកដឹកនាំ និងគ្រប់គ្រង របស់មន្រ្តីអប់រំគ្រប់លំដាប់ថ្នាក់"},{"$f":"ROUND(SUM(B262:B266),1)","v":0},{"$f":"ROUND(SUM(C262:C266),1)","v":0},0,0,0,0,0,0,0,0,0,0,null,"៥.១៨.០១.១៤៖ ការស្រាវជ្រាវ និងអភិវឌ្ឍគោលនយោបាយអប់រំ"]
[{"$f":"ព័ត៌មានអង្គភាព!AM40","v":"១. កិច្ចដំណើរការអង្គភាព"},{"$f":"ROUND(SUM(C262:D262),1)","v":0},{"$f":"'ចំណាយ-ថវិការដ្ឋ'!C262","v":0},{"$f":"'ចំណាយ-ថវិការដ្ឋ'!D262","v":0},{"$f":"ROUND(SUM(F262:G262),1)","v":0},{"$f":"'ចំណាយ-ថវិការដ្ឋ'!F262","v":0},{"$f":"'ចំណាយ-ថវិការដ្ឋ'!G262","v":0},{"$f":"ROUND(SUM(I262:J262),1)","v":0},{"$f":"'ចំណាយ-ថវិការដ្ឋ'!I262","v":0},{"$f":"'ចំណាយ-ថវិការដ្ឋ'!J262","v":0},{"$f":"ROUND(SUM(L262:M262),1)","v":0},{"$f":"'ចំណាយ-ថវិការដ្ឋ'!L262","v":0},{"$f":"'ចំណាយ-ថវិការដ្ឋ'!M262","v":0},null,"៥.១៨.០១.១៤៖ ការស្រាវជ្រាវ និងអភិវឌ្ឍគោលនយោបាយអប់រំ"]
[{"$f":"ព័ត៌មានអង្គភាព!AM41","v":"២. ថវិកាលទ្ធកម្ម"},0,{"$f":"'ចំណាយ-ថវិការដ្ឋ'!C263","v":0},{"$f":"'ចំណាយ-ថវិការដ្ឋ'!D263","v":0},0,{"$f":"'ចំណាយ-ថវិការដ្ឋ'!F263","v":0},{"$f":"'ចំណាយ-ថវិការដ្ឋ'!G263","v":0},0,{"$f":"'ចំណាយ-ថវិការដ្ឋ'!I263","v":0},{"$f":"'ចំណាយ-ថវិការដ្ឋ'!J263","v":0},0,{"$f":"'ចំណាយ-ថវិការដ្ឋ'!L263","v":0},{"$f":"'ចំណាយ-ថវិការដ្ឋ'!M263","v":0},null,"៥.១៨.០១.១៤៖ ការស្រាវជ្រាវ និងអភិវឌ្ឍគោលនយោបាយអប់រំ"]
[{"$f":"ព័ត៌មានអង្គភាព!AM42","v":"៣. ផ្សព្វផ្សាយលទ្ធផលស្រាវជ្រាវ និងគោលនយោបាយ"},0,{"$f":"'ចំណាយ-ថវិការដ្ឋ'!C264","v":0},{"$f":"'ចំណាយ-ថវិការដ្ឋ'!D264","v":0},0,{"$f":"'ចំណាយ-ថវិការដ្ឋ'!F264","v":0},{"$f":"'ចំណាយ-ថវិការដ្ឋ'!G264","v":0},0,{"$f":"'ចំណាយ-ថវិការដ្ឋ'!I264","v":0},{"$f":"'ចំណាយ-ថវិការដ្ឋ'!J264","v":0},0,{"$f":"'ចំណាយ-ថវិការដ្ឋ'!L264","v":0},{"$f":"'ចំណាយ-ថវិការដ្ឋ'!M264","v":0},null,"៥.១៨.០១.១៤៖ ការស្រាវជ្រាវ និងអភិវឌ្ឍគោលនយោបាយអប់រំ"]
[{"$f":"ព័ត៌មានអង្គភាព!AM43","v":"៤. អភិវឌ្ឍសមត្ថភាពលើការស្រាវជ្រាវ និងការអភិវឌ្ឍគោលនយោបាយ"},0,{"$f":"'ចំណាយ-ថវិការដ្ឋ'!C265","v":0},{"$f":"'ចំណាយ-ថវិការដ្ឋ'!D265","v":0},0,{"$f":"'ចំណាយ-ថវិការដ្ឋ'!F265","v":0},{"$f":"'ចំណាយ-ថវិការដ្ឋ'!G265","v":0},0,{"$f":"'ចំណាយ-ថវិការដ្ឋ'!I265","v":0},{"$f":"'ចំណាយ-ថវិការដ្ឋ'!J265","v":0},0,{"$f":"'ចំណាយ-ថវិការដ្ឋ'!L265","v":0},{"$f":"'ចំណាយ-ថវិការដ្ឋ'!M265","v":0},null,"៥.១៨.០១.១៤៖ ការស្រាវជ្រាវ និងអភិវឌ្ឍគោលនយោបាយអប់រំ"]
[{"$f":"ព័ត៌មានអង្គភាព!AM44","v":"៥. អាហារូបករណ៍សម្រាប់ថ្នាក់បណ្ឌិត សិក្សានៅប្រទេសបារាំង"},0,{"$f":"'ចំណាយ-ថវិការដ្ឋ'!C266","v":0},{"$f":"'ចំណាយ-ថវិការដ្ឋ'!D266","v":0},0,{"$f":"'ចំណាយ-ថវិការដ្ឋ'!F266","v":0},{"$f":"'ចំណាយ-ថវិការដ្ឋ'!G266","v":0},0,{"$f":"'ចំណាយ-ថវិការដ្ឋ'!I266","v":0},{"$f":"'ចំណាយ-ថវិការដ្ឋ'!J266","v":0},0,{"$f":"'ចំណាយ-ថវិការដ្ឋ'!L266","v":0},{"$f":"'ចំណាយ-ថវិការដ្ឋ'!M266","v":0},null,"៥.១៨.០១.១៤៖ ការស្រាវជ្រាវ និងអភិវឌ្ឍគោលនយោបាយអប់រំ"]
[{"$f":"ព័ត៌មានអង្គភាព!C42","v":"៥.១៨.០១.១៥៖ ការអភិវឌ្ឍនិងពង្រឹងប្រព័ន្ធពិនិត្យ តាមដាន និងវាយតម្លៃ"},{"$f":"SUM(B268,B269)","v":0},{"$f":"SUM(C268,C269)","v":0},0,0,0,0,0,0,0,0,0,0]
[{"$f":"cluster_activity_1","v":"សកម្មភាពរងទី ១. ការចូលរៀនមានគុណភាពប្រកប​ដោយ​សមធម៌ និងបរិយាប័ន្ន និងលើកកម្ពស់ឱកាសក្នុងការសិក្សា​ពេញមួយជីវិតសម្រាប់ទាំងអស់គ្នា"},0,0,0,0,0,0,0,0,0,0,0,0,null,{"$f":"A267","v":"៥.១៨.០១.១៥៖ ការអភិវឌ្ឍនិងពង្រឹងប្រព័ន្ធពិនិត្យ តាមដាន និងវាយតម្លៃ"}]
[{"$f":"cluster_activity_2","v":"សកម្មភាពរងទី ២. ការលើកកម្ពស់ភាពជាអ្នកដឹកនាំ និងគ្រប់គ្រង របស់មន្រ្តីអប់រំគ្រប់លំដាប់ថ្នាក់"},{"$f":"ROUND(SUM(B270:B274),1)","v":0},{"$f":"ROUND(SUM(C270:C274),1)","v":0},0,0,0,0,0,0,0,0,0,0,null,{"$f":"O268","v":"៥.១៨.០១.១៥៖ ការអភិវឌ្ឍនិងពង្រឹងប្រព័ន្ធពិនិត្យ តាមដាន និងវាយតម្លៃ"}]
[{"$f":"ព័ត៌មានអង្គភាព!AO38","v":"១. កិច្ចដំណើរការអង្គភាព"},{"$f":"ROUND(SUM(C270:D270),1)","v":0},{"$f":"'ចំណាយ-ថវិការដ្ឋ'!C270","v":0},{"$f":"'ចំណាយ-ថវិការដ្ឋ'!D270","v":0},{"$f":"ROUND(SUM(F270:G270),1)","v":0},{"$f":"'ចំណាយ-ថវិការដ្ឋ'!F270","v":0},{"$f":"'ចំណាយ-ថវិការដ្ឋ'!G270","v":0},{"$f":"ROUND(SUM(I270:J270),1)","v":0},{"$f":"'ចំណាយ-ថវិការដ្ឋ'!I270","v":0},{"$f":"'ចំណាយ-ថវិការដ្ឋ'!J270","v":0},{"$f":"ROUND(SUM(L270:M270),1)","v":0},{"$f":"'ចំណាយ-ថវិការដ្ឋ'!L270","v":0},{"$f":"'ចំណាយ-ថវិការដ្ឋ'!M270","v":0},null,{"$f":"O269","v":"៥.១៨.០១.១៥៖ ការអភិវឌ្ឍនិងពង្រឹងប្រព័ន្ធពិនិត្យ តាមដាន និងវាយតម្លៃ"}]
[{"$f":"ព័ត៌មានអង្គភាព!AO39","v":"២. ថវិកាលទ្ធកម្ម"},0,{"$f":"'ចំណាយ-ថវិការដ្ឋ'!C271","v":0},{"$f":"'ចំណាយ-ថវិការដ្ឋ'!D271","v":0},0,{"$f":"'ចំណាយ-ថវិការដ្ឋ'!F271","v":0},{"$f":"'ចំណាយ-ថវិការដ្ឋ'!G271","v":0},0,{"$f":"'ចំណាយ-ថវិការដ្ឋ'!I271","v":0},{"$f":"'ចំណាយ-ថវិការដ្ឋ'!J271","v":0},0,{"$f":"'ចំណាយ-ថវិការដ្ឋ'!L271","v":0},{"$f":"'ចំណាយ-ថវិការដ្ឋ'!M271","v":0},null,"៥.១៨.០១.១៥៖ ការអភិវឌ្ឍនិងពង្រឹងប្រព័ន្ធពិនិត្យ តាមដាន និងវាយតម្លៃ"]
[{"$f":"ព័ត៌មានអង្គភាព!AO40","v":"៣. ពិនិត្យតាមដាន និងវាយតម្លៃ"},0,{"$f":"'ចំណាយ-ថវិការដ្ឋ'!C272","v":0},{"$f":"'ចំណាយ-ថវិការដ្ឋ'!D272","v":0},0,{"$f":"'ចំណាយ-ថវិការដ្ឋ'!F272","v":0},{"$f":"'ចំណាយ-ថវិការដ្ឋ'!G272","v":0},0,{"$f":"'ចំណាយ-ថវិការដ្ឋ'!I272","v":0},{"$f":"'ចំណាយ-ថវិការដ្ឋ'!J272","v":0},0,{"$f":"'ចំណាយ-ថវិការដ្ឋ'!L272","v":0},{"$f":"'ចំណាយ-ថវិការដ្ឋ'!M272","v":0},null,"៥.១៨.០១.១៥៖ ការអភិវឌ្ឍនិងពង្រឹងប្រព័ន្ធពិនិត្យ តាមដាន និងវាយតម្លៃ"]
[{"$f":"ព័ត៌មានអង្គភាព!AO41","v":"៤. អភិវឌ្ឍយន្តការពិនិត្យតាមដាន និងវាយតម្លៃ"},0,{"$f":"'ចំណាយ-ថវិការដ្ឋ'!C273","v":0},{"$f":"'ចំណាយ-ថវិការដ្ឋ'!D273","v":0},0,{"$f":"'ចំណាយ-ថវិការដ្ឋ'!F273","v":0},{"$f":"'ចំណាយ-ថវិការដ្ឋ'!G273","v":0},0,{"$f":"'ចំណាយ-ថវិការដ្ឋ'!I273","v":0},{"$f":"'ចំណាយ-ថវិការដ្ឋ'!J273","v":0},0,{"$f":"'ចំណាយ-ថវិការដ្ឋ'!L273","v":0},{"$f":"'ចំណាយ-ថវិការដ្ឋ'!M273","v":0},null,"៥.១៨.០១.១៥៖ ការអភិវឌ្ឍនិងពង្រឹងប្រព័ន្ធពិនិត្យ តាមដាន និងវាយតម្លៃ"]
[{"$f":"ព័ត៌មានអង្គភាព!AO42","v":"៥. ពង្រឹងសមត្ថភាពមន្រ្តីជំនាញ"},0,{"$f":"'ចំណាយ-ថវិការដ្ឋ'!C274","v":0},{"$f":"'ចំណាយ-ថវិការដ្ឋ'!D274","v":0},0,{"$f":"'ចំណាយ-ថវិការដ្ឋ'!F274","v":0},{"$f":"'ចំណាយ-ថវិការដ្ឋ'!G274","v":0},0,{"$f":"'ចំណាយ-ថវិការដ្ឋ'!I274","v":0},{"$f":"'ចំណាយ-ថវិការដ្ឋ'!J274","v":0},0,{"$f":"'ចំណាយ-ថវិការដ្ឋ'!L274","v":0},{"$f":"'ចំណាយ-ថវិការដ្ឋ'!M274","v":0},null,"៥.១៨.០១.១៥៖ ការអភិវឌ្ឍនិងពង្រឹងប្រព័ន្ធពិនិត្យ តាមដាន និងវាយតម្លៃ"]
[{"$f":"ព័ត៌មានអង្គភាព!C43","v":"៥.១៨.០១.១៦៖ ការអភិវឌ្ឍ​បច្ចេកវិទ្យាព័ត៌មានសម្រាប់ការងារអប់រំ យុវជន និងកីឡា"},{"$f":"SUM(B276,B278)","v":0},{"$f":"SUM(C276,C278)","v":0},0,0,0,0,0,0,0,0,0,0]
[{"$f":"cluster_activity_1","v":"សកម្មភាពរងទី ១. ការចូលរៀនមានគុណភាពប្រកប​ដោយ​សមធម៌ និងបរិយាប័ន្ន និងលើកកម្ពស់ឱកាសក្នុងការសិក្សា​ពេញមួយជីវិតសម្រាប់ទាំងអស់គ្នា"},{"$f":"ROUND(B277,1)","v":0},{"$f":"ROUND(C277,1)","v":0},0,0,0,0,0,0,0,0,0,0,null,{"$f":"A275","v":"៥.១៨.០១.១៦៖ ការអភិវឌ្ឍ​បច្ចេកវិទ្យាព័ត៌មានសម្រាប់ការងារអប់រំ យុវជន និងកីឡា"}]
[{"$f":"ព័ត៌មានអង្គភាព!AQ38","v":"១. ការផ្តល់សេវាកម្ម និងការអប់រំមិនផ្លូវការ"},{"$f":"ROUND(SUM(C277:D277),1)","v":0},{"$f":"'ចំណាយ-ថវិការដ្ឋ'!C277","v":0},{"$f":"'ចំណាយ-ថវិការដ្ឋ'!D277","v":0},{"$f":"ROUND(SUM(F277:G277),1)","v":0},{"$f":"'ចំណាយ-ថវិការដ្ឋ'!F277","v":0},{"$f":"'ចំណាយ-ថវិការដ្ឋ'!G277","v":0},{"$f":"ROUND(SUM(I277:J277),1)","v":0},{"$f":"'ចំណាយ-ថវិការដ្ឋ'!I277","v":0},{"$f":"'ចំណាយ-ថវិការដ្ឋ'!J277","v":0},{"$f":"ROUND(SUM(L277:M277),1)","v":0},{"$f":"'ចំណាយ-ថវិការដ្ឋ'!L277","v":0},{"$f":"'ចំណាយ-ថវិការដ្ឋ'!M277","v":0},null,{"$f":"O276","v":"៥.១៨.០១.១៦៖ ការអភិវឌ្ឍ​បច្ចេកវិទ្យាព័ត៌មានសម្រាប់ការងារអប់រំ យុវជន និងកីឡា"}]
[{"$f":"cluster_activity_2","v":"សកម្មភាពរងទី ២. ការលើកកម្ពស់ភាពជាអ្នកដឹកនាំ និងគ្រប់គ្រង របស់មន្រ្តីអប់រំគ្រប់លំដាប់ថ្នាក់"},{"$f":"ROUND(SUM(B279:B283),1)","v":0},{"$f":"ROUND(SUM(C279:C283),1)","v":0},0,0,0,0,0,0,0,0,0,0,null,{"$f":"O277","v":"៥.១៨.០១.១៦៖ ការអភិវឌ្ឍ​បច្ចេកវិទ្យាព័ត៌មានសម្រាប់ការងារអប់រំ យុវជន និងកីឡា"}]
[{"$f":"ព័ត៌មានអង្គភាព!AQ39","v":"១. កិច្ចដំណើរការអង្គភាព"},{"$f":"ROUND(SUM(C279:D279),1)","v":0},{"$f":"'ចំណាយ-ថវិការដ្ឋ'!C279","v":0},{"$f":"'ចំណាយ-ថវិការដ្ឋ'!D279","v":0},{"$f":"ROUND(SUM(F279:G279),1)","v":0},{"$f":"'ចំណាយ-ថវិការដ្ឋ'!F279","v":0},{"$f":"'ចំណាយ-ថវិការដ្ឋ'!G279","v":0},{"$f":"ROUND(SUM(I279:J279),1)","v":0},{"$f":"'ចំណាយ-ថវិការដ្ឋ'!I279","v":0},{"$f":"'ចំណាយ-ថវិការដ្ឋ'!J279","v":0},{"$f":"ROUND(SUM(L279:M279),1)","v":0},{"$f":"'ចំណាយ-ថវិការដ្ឋ'!L279","v":0},{"$f":"'ចំណាយ-ថវិការដ្ឋ'!M279","v":0},null,"៥.១៨.០១.១៦៖ ការអភិវឌ្ឍ​បច្ចេកវិទ្យាព័ត៌មានសម្រាប់ការងារអប់រំ យុវជន និងកីឡា"]
[{"$f":"ព័ត៌មានអង្គភាព!AQ40","v":"២. ថវិកាលទ្ធកម្ម"},0,{"$f":"'ចំណាយ-ថវិការដ្ឋ'!C280","v":0},{"$f":"'ចំណាយ-ថវិការដ្ឋ'!D280","v":0},0,{"$f":"'ចំណាយ-ថវិការដ្ឋ'!F280","v":0},{"$f":"'ចំណាយ-ថវិការដ្ឋ'!G280","v":0},0,{"$f":"'ចំណាយ-ថវិការដ្ឋ'!I280","v":0},{"$f":"'ចំណាយ-ថវិការដ្ឋ'!J280","v":0},0,{"$f":"'ចំណាយ-ថវិការដ្ឋ'!L280","v":0},{"$f":"'ចំណាយ-ថវិការដ្ឋ'!M280","v":0},null,"៥.១៨.០១.១៦៖ ការអភិវឌ្ឍ​បច្ចេកវិទ្យាព័ត៌មានសម្រាប់ការងារអប់រំ យុវជន និងកីឡា"]
[{"$f":"ព័ត៌មានអង្គភាព!AQ41","v":"៣. ពិនិត្យតាមដាន និងវាយតម្លៃ"},0,{"$f":"'ចំណាយ-ថវិការដ្ឋ'!C281","v":0},{"$f":"'ចំណាយ-ថវិការដ្ឋ'!D281","v":0},0,{"$f":"'ចំណាយ-ថវិការដ្ឋ'!F281","v":0},{"$f":"'ចំណាយ-ថវិការដ្ឋ'!G281","v":0},0,{"$f":"'ចំណាយ-ថវិការដ្ឋ'!I281","v":0},{"$f":"'ចំណាយ-ថវិការដ្ឋ'!J281","v":0},0,{"$f":"'ចំណាយ-ថវិការដ្ឋ'!L281","v":0},{"$f":"'ចំណាយ-ថវិការដ្ឋ'!M281","v":0},null,"៥.១៨.០១.១៦៖ ការអភិវឌ្ឍ​បច្ចេកវិទ្យាព័ត៌មានសម្រាប់ការងារអប់រំ យុវជន និងកីឡា"]
[{"$f":"ព័ត៌មានអង្គភាព!AQ42","v":"៤. ពង្រឹងកិច្ចសហប្រតិបតិ្តការបច្ចេកវិទ្យាព័ត៌មាន"},0,{"$f":"'ចំណាយ-ថវិការដ្ឋ'!C282","v":0},{"$f":"'ចំណាយ-ថវិការដ្ឋ'!D282","v":0},0,{"$f":"'ចំណាយ-ថវិការដ្ឋ'!F282","v":0},{"$f":"'ចំណាយ-ថវិការដ្ឋ'!G282","v":0},0,{"$f":"'ចំណាយ-ថវិការដ្ឋ'!I282","v":0},{"$f":"'ចំណាយ-ថវិការដ្ឋ'!J282","v":0},0,{"$f":"'ចំណាយ-ថវិការដ្ឋ'!L282","v":0},{"$f":"'ចំណាយ-ថវិការដ្ឋ'!M282","v":0},null,"៥.១៨.០១.១៦៖ ការអភិវឌ្ឍ​បច្ចេកវិទ្យាព័ត៌មានសម្រាប់ការងារអប់រំ យុវជន និងកីឡា"]
[{"$f":"ព័ត៌មានអង្គភាព!AQ43","v":"៥. ពង្រឹងសមត្ថភាពមន្រ្តីជំនាញ"},0,{"$f":"'ចំណាយ-ថវិការដ្ឋ'!C283","v":0},{"$f":"'ចំណាយ-ថវិការដ្ឋ'!D283","v":0},0,{"$f":"'ចំណាយ-ថវិការដ្ឋ'!F283","v":0},{"$f":"'ចំណាយ-ថវិការដ្ឋ'!G283","v":0},0,{"$f":"'ចំណាយ-ថវិការដ្ឋ'!I283","v":0},{"$f":"'ចំណាយ-ថវិការដ្ឋ'!J283","v":0},0,{"$f":"'ចំណាយ-ថវិការដ្ឋ'!L283","v":0},{"$f":"'ចំណាយ-ថវិការដ្ឋ'!M283","v":0},null,"៥.១៨.០១.១៦៖ ការអភិវឌ្ឍ​បច្ចេកវិទ្យាព័ត៌មានសម្រាប់ការងារអប់រំ យុវជន និងកីឡា"]
[{"$f":"ព័ត៌មានអង្គភាព!C44","v":"៥.១៨.០១.១៧៖ ការពង្រឹងគុណភាព និងប្រសិទ្ធភាពការងារប្រឡងនៅមធ្យមសិក្សានិងអប់រំបច្ចេកទេស"},{"$f":"SUM(B285,B287)","v":0},{"$f":"SUM(C285,C287)","v":0},0,0,0,0,0,0,0,0,0,0]
[{"$f":"cluster_activity_1","v":"សកម្មភាពរងទី ១. ការចូលរៀនមានគុណភាពប្រកប​ដោយ​សមធម៌ និងបរិយាប័ន្ន និងលើកកម្ពស់ឱកាសក្នុងការសិក្សា​ពេញមួយជីវិតសម្រាប់ទាំងអស់គ្នា"},{"$f":"ROUND(B286,1)","v":0},{"$f":"ROUND(C286,1)","v":0},0,0,0,0,0,0,0,0,0,0,null,{"$f":"A284","v":"៥.១៨.០១.១៧៖ ការពង្រឹងគុណភាព និងប្រសិទ្ធភាពការងារប្រឡងនៅមធ្យមសិក្សានិងអប់រំបច្ចេកទេស"}]
[{"$f":"ព័ត៌មានអង្គភាព!AS38","v":"១. ការងារប្រឡង"},{"$f":"ROUND(SUM(C286:D286),1)","v":0},{"$f":"'ចំណាយ-ថវិការដ្ឋ'!C286","v":0},{"$f":"'ចំណាយ-ថវិការដ្ឋ'!D286","v":0},{"$f":"ROUND(SUM(F286:G286),1)","v":0},{"$f":"'ចំណាយ-ថវិការដ្ឋ'!F286","v":0},{"$f":"'ចំណាយ-ថវិការដ្ឋ'!G286","v":0},{"$f":"ROUND(SUM(I286:J286),1)","v":0},{"$f":"'ចំណាយ-ថវិការដ្ឋ'!I286","v":0},{"$f":"'ចំណាយ-ថវិការដ្ឋ'!J286","v":0},{"$f":"ROUND(SUM(L286:M286),1)","v":0},{"$f":"'ចំណាយ-ថវិការដ្ឋ'!L286","v":0},{"$f":"'ចំណាយ-ថវិការដ្ឋ'!M286","v":0},null,{"$f":"O285","v":"៥.១៨.០១.១៧៖ ការពង្រឹងគុណភាព និងប្រសិទ្ធភាពការងារប្រឡងនៅមធ្យមសិក្សានិងអប់រំបច្ចេកទេស"}]
[{"$f":"cluster_activity_2","v":"សកម្មភាពរងទី ២. ការលើកកម្ពស់ភាពជាអ្នកដឹកនាំ និងគ្រប់គ្រង របស់មន្រ្តីអប់រំគ្រប់លំដាប់ថ្នាក់"},{"$f":"ROUND(SUM(B288:B291),1)","v":0},{"$f":"ROUND(SUM(C288:C291),1)","v":0},0,0,0,0,0,0,0,0,0,0,null,{"$f":"O286","v":"៥.១៨.០១.១៧៖ ការពង្រឹងគុណភាព និងប្រសិទ្ធភាពការងារប្រឡងនៅមធ្យមសិក្សានិងអប់រំបច្ចេកទេស"}]
[{"$f":"ព័ត៌មានអង្គភាព!AS39","v":"១. កិច្ចដំណើរការអង្គភាព"},{"$f":"ROUND(SUM(C288:D288),1)","v":0},{"$f":"'ចំណាយ-ថវិការដ្ឋ'!C288","v":0},{"$f":"'ចំណាយ-ថវិការដ្ឋ'!D288","v":0},{"$f":"ROUND(SUM(F288:G288),1)","v":0},{"$f":"'ចំណាយ-ថវិការដ្ឋ'!F288","v":0},{"$f":"'ចំណាយ-ថវិការដ្ឋ'!G288","v":0},{"$f":"ROUND(SUM(I288:J288),1)","v":0},{"$f":"'ចំណាយ-ថវិការដ្ឋ'!I288","v":0},{"$f":"'ចំណាយ-ថវិការដ្ឋ'!J288","v":0},{"$f":"ROUND(SUM(L288:M288),1)","v":0},{"$f":"'ចំណាយ-ថវិការដ្ឋ'!L288","v":0},{"$f":"'ចំណាយ-ថវិការដ្ឋ'!M288","v":0},null,"៥.១៨.០១.១៧៖ ការពង្រឹងគុណភាព និងប្រសិទ្ធភាពការងារប្រឡងនៅមធ្យមសិក្សានិងអប់រំបច្ចេកទេស"]
[{"$f":"ព័ត៌មានអង្គភាព!AS40","v":"២. ថវិកាលទ្ធកម្ម"},0,{"$f":"'ចំណាយ-ថវិការដ្ឋ'!C289","v":0},{"$f":"'ចំណាយ-ថវិការដ្ឋ'!D289","v":0},0,{"$f":"'ចំណាយ-ថវិការដ្ឋ'!F289","v":0},{"$f":"'ចំណាយ-ថវិការដ្ឋ'!G289","v":0},0,{"$f":"'ចំណាយ-ថវិការដ្ឋ'!I289","v":0},{"$f":"'ចំណាយ-ថវិការដ្ឋ'!J289","v":0},0,{"$f":"'ចំណាយ-ថវិការដ្ឋ'!L289","v":0},{"$f":"'ចំណាយ-ថវិការដ្ឋ'!M289","v":0},null,"៥.១៨.០១.១៧៖ ការពង្រឹងគុណភាព និងប្រសិទ្ធភាពការងារប្រឡងនៅមធ្យមសិក្សានិងអប់រំបច្ចេកទេស"]
[{"$f":"ព័ត៌មានអង្គភាព!AS41","v":"៣. ពិនិត្យតាមដាន និងវាយតម្លៃ"},0,{"$f":"'ចំណាយ-ថវិការដ្ឋ'!C290","v":0},{"$f":"'ចំណាយ-ថវិការដ្ឋ'!D290","v":0},0,{"$f":"'ចំណាយ-ថវិការដ្ឋ'!F290","v":0},{"$f":"'ចំណាយ-ថវិការដ្ឋ'!G290","v":0},0,{"$f":"'ចំណាយ-ថវិការដ្ឋ'!I290","v":0},{"$f":"'ចំណាយ-ថវិការដ្ឋ'!J290","v":0},0,{"$f":"'ចំណាយ-ថវិការដ្ឋ'!L290","v":0},{"$f":"'ចំណាយ-ថវិការដ្ឋ'!M290","v":0},null,"៥.១៨.០១.១៧៖ ការពង្រឹងគុណភាព និងប្រសិទ្ធភាពការងារប្រឡងនៅមធ្យមសិក្សានិងអប់រំបច្ចេកទេស"]
[{"$f":"ព័ត៌មានអង្គភាព!AS42","v":"៤. ពង្រឹងសមត្ថភាពលើការងារប្រឡង"},0,{"$f":"'ចំណាយ-ថវិការដ្ឋ'!C291","v":0},{"$f":"'ចំណាយ-ថវិការដ្ឋ'!D291","v":0},0,{"$f":"'ចំណាយ-ថវិការដ្ឋ'!F291","v":0},{"$f":"'ចំណាយ-ថវិការដ្ឋ'!G291","v":0},0,{"$f":"'ចំណាយ-ថវិការដ្ឋ'!I291","v":0},{"$f":"'ចំណាយ-ថវិការដ្ឋ'!J291","v":0},0,{"$f":"'ចំណាយ-ថវិការដ្ឋ'!L291","v":0},{"$f":"'ចំណាយ-ថវិការដ្ឋ'!M291","v":0},null,"៥.១៨.០១.១៧៖ ការពង្រឹងគុណភាព និងប្រសិទ្ធភាពការងារប្រឡងនៅមធ្យមសិក្សានិងអប់រំបច្ចេកទេស"]

{"sheet":"Table 4 MEF","index":8,"n_rows":480,"n_cols":13,"rows_kept":480,"cut":false,"hidden":false,"merged":[[3,0,3,12],[5,0,6,0],[5,1,5,3],[5,4,5,6],[5,7,5,9],[5,10,5,12]]}
[]
["ក្រសួងអប់រំ​​​​​​​​​​​ យុវជន និងកីឡា"]
[{"$f":"CONCATENATE(\"មន្ទីរអប់រំ យុវជន និងកីឡា\",province)","v":"មន្ទីរអប់រំ យុវជន និងកីឡាខេត្តបន្ទាយមានជ័យ"}]
["តារាង ៤ ការកំណត់តម្រូវការចំណាយសម្រាប់កម្មវិធី និងអនុកម្មវិធី"]
[null,null,null,null,null,null,null,null,null,null,null,null,"ឯកតា៖ លានរៀល"]
["តម្រូវការឥណទាន\nតាមប្រភេទចំណាយ","ច្បាប់ហិរញ្ញវត្ថុ \nឆ្នាំ ២០១៨",null,null,"គ្រោងតម្រូវការឥណទាន\nសម្រាប់ឆ្នាំ ២០១៩",null,null,"គ្រោងតម្រូវការឥណទាន\nសម្រាប់ឆ្នាំ ២០២០",null,null,"គ្រោងតម្រូវការឥណទាន\nសម្រាប់ឆ្នាំ ២០២១"]
[null,"ថវិការដ្ឋ","ថវិកាដៃគូ \nអភិវឌ្ឍ","ផ្សេងៗ","ថវិការដ្ឋ","ថវិកាដៃគូ \nអភិវឌ្ឍ","ផ្សេងៗ","ថវិការដ្ឋ","ថវិកាដៃគូ \nអភិវឌ្ឍ","ផ្សេងៗ","ថវិការដ្ឋ","ថវិកាដៃគូ \nអភិវឌ្ឍ","ផ្សេងៗ"]
["សរុបរួម",{"$f":"SUM(B9,B12)","v":0},null,null,{"$f":"SUM(E9,E12)","v":0},null,null,0,null,null,0]
["□ សរុបចំណាយចរន្ដ",{"$f":"SUM(B10:B11)","v":0},null,null,{"$f":"SUM(E10:E11)","v":0},null,null,0,null,null,0]
["•  បន្ទុកបុគ្គលិក",{"$f":"SUM(B21,B153,B197,B263)","v":0},null,null,0,null,null,0,null,null,0]
["•  ក្រៅបន្ទុកបុគ្គលិក",{"$f":"SUM(B22,B154,B198,B264)","v":0},null,null,0,null,null,0,null,null,0]
["□ សរុបចំណាយមូលធន",{"$f":"SUM(B13,B16)","v":0},null,null,{"$f":"SUM(E13,E16)","v":0},null,null,0,null,null,0]
["•  គម្រោងវិនិយោគ",{"$f":"SUM(B14:B15)","v":0},null,null,{"$f":"SUM(E14:E15)","v":0},null,null,0,null,null,0]
["- មានហិរញ្ញប្បទាន",{"$f":"SUM(B25,B157,B201,B267)","v":0},null,null,0,null,null,0,null,null,0]
["- មិនទាន់មានហិរញ្ញប្បទាន",{"$f":"SUM(B26,B158,B202,B268)","v":0},null,null,0,null,null,0,null,null,0]
["•  ជំនួយបច្ចេកទេស",{"$f":"SUM(B17:B18)","v":0},null,null,{"$f":"SUM(E17:E18)","v":0},null,null,0,null,null,0]
["- មានហិរញ្ញប្បទាន",{"$f":"SUM(B28,B160,B204,B270)","v":0},null,null,0,null,null,0,null,null,0]
["- មិនទាន់មានហិរញ្ញប្បទាន",{"$f":"SUM(B29,B161,B205,B271)","v":0},null,null,0,null,null,0,null,null,0]
[{"$f":"ព័ត៌មានអង្គភាព!C3","v":"កម្មវិធីទី១៖ ការអភិវឌ្ឍការអប់រំក្នុងប្រព័ន្ធ ក្រៅប្រព័ន្ធ និងមិនផ្លូវការ"},{"$f":"SUM(B20,B23)","v":0},null,null,{"$f":"SUM(E20,E23)","v":0},null,null,0,null,null,0]
["□ សរុបចំណាយចរន្ដ",{"$f":"SUM(B21:B22)","v":0},null,null,{"$f":"SUM(E21:E22)","v":0},null,null,0,null,null,0]
["•  បន្ទុកបុគ្គលិក",{"$f":"B32","v":0},null,null,{"$f":"E32","v":0},null,null,{"$f":"H32","v":0},null,null,{"$f":"K32","v":0}]
["•  ក្រៅបន្ទុកបុគ្គលិក",{"$f":"B33","v":0},null,null,{"$f":"E33","v":0},null,null,{"$f":"H33","v":0},null,null,{"$f":"K33","v":0}]
["□ សរុបចំណាយមូលធន",{"$f":"SUM(B24,B27)","v":0},null,null,{"$f":"SUM(E24,E27)","v":0},null,null,0,null,null,0]
["•  គម្រោងវិនិយោគ",{"$f":"SUM(B25:B26)","v":0},null,null,{"$f":"SUM(E25:E26)","v":0},null,null,0,null,null,0]
["- មានហិរញ្ញប្បទាន",{"$f":"B36","v":0},null,null,{"$f":"E36","v":0},null,null,{"$f":"H36","v":0},null,null,{"$f":"K36","v":0}]
["- មិនទាន់មានហិរញ្ញប្បទាន",0,null,null,0,null,null,0,null,null,0]
["•  ជំនួយបច្ចេកទេស",{"$f":"SUM(B28:B29)","v":0},null,null,{"$f":"SUM(E28:E29)","v":0},null,null,0,null,null,0]
["- មានហិរញ្ញប្បទាន",{"$f":"B39","v":0},null,null,{"$f":"E39","v":0},null,null,{"$f":"H39","v":0},null,null,{"$f":"K39","v":0}]
["- មិនទាន់មានហិរញ្ញប្បទាន",0,null,null,0,null,null,0,null,null,0]
[{"$f":"ព័ត៌មានអង្គភាព!C4","v":"អនុកម្មវិធីទី ១.១០៖ សេវាគាំទ្រការអភិវឌ្ឍការអប់រំក្នុងប្រព័ន្ធ ក្រៅប្រព័ន្ធ និងមិនផ្លូវការរបស់មន្ទីរជំនាញ រាជធានី ខេត្ត"},{"$f":"SUM(B31,B34)","v":0},null,null,{"$f":"SUM(E31,E34)","v":0},null,null,{"$f":"SUM(H31,H34)","v":0},null,null,{"$f":"SUM(K31,K34)","v":0}]
["□ សរុបចំណាយចរន្ដ",{"$f":"SUM(B32:B33)","v":0},null,null,{"$f":"SUM(E32:E33)","v":0},null,null,{"$f":"SUM(H32:H33)","v":0},null,null,{"$f":"SUM(K32:K33)","v":0}]
["•  បន្ទុកបុគ្គលិក",{"$f":"B43","v":0},null,null,{"$f":"E43","v":0},null,null,{"$f":"H43","v":0},null,null,{"$f":"K43","v":0}]
["•  ក្រៅបន្ទុកបុគ្គលិក",{"$f":"B44","v":0},null,null,0,null,null,0,null,null,0]
["□ សរុបចំណាយមូលធន",{"$f":"SUM(B35,B38)","v":0},null,null,{"$f":"SUM(E35,E38)","v":0},null,null,{"$f":"SUM(H35,H38)","v":0},null,null,{"$f":"SUM(K35,K38)","v":0}]
["•  គម្រោងវិនិយោគ",{"$f":"SUM(B36:B37)","v":0},null,null,{"$f":"SUM(E36:E37)","v":0},null,null,{"$f":"SUM(H36:H37)","v":0},null,null,{"$f":"SUM(K36:K37)","v":0}]
["- មានហិរញ្ញប្បទាន",{"$f":"B47","v":0},null,null,{"$f":"E47","v":0},null,null,{"$f":"H47","v":0},null,null,{"$f":"K47","v":0}]
["- មិនទាន់មានហិរញ្ញប្បទាន",0,null,null,{"$f":"E48","v":0},null,null,{"$f":"H48","v":0},null,null,{"$f":"K48","v":0}]
["•  ជំនួយបច្ចេកទេស",{"$f":"SUM(B39:B40)","v":0},null,null,{"$f":"SUM(E39:E40)","v":0},null,null,{"$f":"SUM(H39:H40)","v":0},null,null,{"$f":"SUM(K39:K40)","v":0}]
["- មានហិរញ្ញប្បទាន",{"$f":"B50","v":0},null,null,{"$f":"E50","v":0},null,null,{"$f":"H50","v":0},null,null,{"$f":"K50","v":0}]
["- មិនទាន់មានហិរញ្ញប្បទាន",0,null,null,{"$f":"E51","v":0},null,null,{"$f":"H51","v":0},null,null,{"$f":"K51","v":0}]
[{"$f":"ព័ត៌មានអង្គភាព!C5","v":"ចង្កោមសកម្មភាពទី ០១៖ខេត្តបន្ទាយមានជ័យ"},{"$f":"SUM(B42,B45)","v":0},null,null,{"$f":"SUM(E42,E45)","v":0},null,null,{"$f":"SUM(H42,H45)","v":0},null,null,{"$f":"SUM(K42,K45)","v":0}]
["□ សរុបចំណាយចរន្ដ",{"$f":"SUM(B43:B44)","v":0},null,null,{"$f":"SUM(E43:E44)","v":0},null,null,{"$f":"SUM(H43:H44)","v":0},null,null,{"$f":"SUM(K43:K44)","v":0}]
["•  បន្ទុកបុគ្គលិក",{"$f":"SUM(B54,B65,B76,B87,B98,B109,B120,B131,B142)","v":0},null,null,{"$f":"SUM(E54,E65,E76,E87,E98,E109,E120,E131,E142)","v":0},null,null,{"$f":"SUM(H54,H65,H76,H87,H98,H109,H120,H131,H142)","v":0},null,null,{"$f":"SUM(K54,K65,K76,K87,K98,K109,K120,K131,K142)","v":0}]
["•  ក្រៅបន្ទុកបុគ្គលិក",{"$f":"SUM(B55,B66,B77,B88,B99,B110,B121,B132,B143)","v":0},null,null,0,null,null,0,null,null,0]
["□ សរុបចំណាយមូលធន",{"$f":"SUM(B46,B49)","v":0},null,null,{"$f":"SUM(E46,E49)","v":0},null,null,{"$f":"SUM(H46,H49)","v":0},null,null,{"$f":"SUM(K46,K49)","v":0}]
["•  គម្រោងវិនិយោគ",{"$f":"SUM(B47:B48)","v":0},null,null,{"$f":"SUM(E47:E48)","v":0},null,null,{"$f":"SUM(H47:H48)","v":0},null,null,{"$f":"SUM(K47:K48)","v":0}]
["- មានហិរញ្ញប្បទាន",{"$f":"SUM(B58,B69,B80,B91,B102,B113,B124,B135,B146)","v":0},null,null,{"$f":"SUM(E58,E69,E80,E91,E102,E113,E124,E135,E146)","v":0},null,null,{"$f":"SUM(H58,H69,H80,H91,H102,H113,H124,H135,H146)","v":0},null,null,{"$f":"SUM(K58,K69,K80,K91,K102,K113,K124,K135,K146)","v":0}]
["- មិនទាន់មានហិរញ្ញប្បទាន",0,null,null,{"$f":"SUM(E59,E70,E81,E92,E103,E114,E125,E136,E147)","v":0},null,null,{"$f":"SUM(H59,H70,H81,H92,H103,H114,H125,H136,H147)","v":0},null,null,{"$f":"SUM(K59,K70,K81,K92,K103,K114,K125,K136,K147)","v":0}]
["•  ជំនួយបច្ចេកទេស",{"$f":"SUM(B50:B51)","v":0},null,null,{"$f":"SUM(E50:E51)","v":0},null,null,{"$f":"SUM(H50:H51)","v":0},null,null,{"$f":"SUM(K50:K51)","v":0}]
["- មានហិរញ្ញប្បទាន",{"$f":"SUM(B61,B72,B83,B94,B105,B116,B127,B138,B149)","v":0},null,null,{"$f":"SUM(E61,E72,E83,E94,E105,E116,E127,E138,E149)","v":0},null,null,{"$f":"SUM(H61,H72,H83,H94,H105,H116,H127,H138,H149)","v":0},null,null,{"$f":"SUM(K61,K72,K83,K94,K105,K116,K127,K138,K149)","v":0}]
["- មិនទាន់មានហិរញ្ញប្បទាន",0,null,null,{"$f":"SUM(E62,E73,E84,E95,E106,E117,E128,E139,E150)","v":0},null,null,{"$f":"SUM(H62,H73,H84,H95,H106,H117,H128,H139,H150)","v":0},null,null,{"$f":"SUM(K62,K73,K84,K95,K106,K117,K128,K139,K150)","v":0}]
[{"$f":"ព័ត៌មានអង្គភាព!C6","v":"១.១០.០១.១៖ ការពង្រីកការអប់រំកុមារតូច"},{"$f":"SUM(B53,B56)","v":0},null,null,{"$f":"SUM(E53,E56)","v":0},null,null,0,null,null,0]
["□ សរុបចំណាយចរន្ដ",{"$f":"SUM(B54:B55)","v":0},null,null,{"$f":"SUM(E54:E55)","v":0},null,null,0,null,null,0]
["•  បន្ទុកបុគ្គលិក",{"$f":"INDEX(staff_exp2018,MATCH(A52,activities,0))","v":0},null,null,{"$f":"INDEX(staff_exp2019,MATCH(A52,activities,0))","v":0},null,null,{"$f":"INDEX(staff_exp2020,MATCH(A52,activities,0))","v":0},null,null,{"$f":"INDEX(staff_exp2021,MATCH(A52,activities,0))","v":0}]
["•  ក្រៅបន្ទុកបុគ្គលិក",{"$f":"INDEX(non_staffexp2018,MATCH(A52,activities,0))","v":0},null,null,{"$f":"INDEX(non_staffexp2019,MATCH(A52,activities,0))","v":0},null,null,{"$f":"INDEX(non_staffexp2020,MATCH(A52,activities,0))","v":0},null,null,{"$f":"INDEX(non_staffexp2021,MATCH(A52,activities,0))","v":0}]
["□ សរុបចំណាយមូលធន",{"$f":"SUM(B57,B60)","v":0},null,null,{"$f":"SUM(E57,E60)","v":0},null,null,0,null,null,0]
["•  គម្រោងវិនិយោគ",{"$f":"SUM(B58:B59)","v":0},null,null,{"$f":"SUM(E58:E59)","v":0},null,null,0,null,null,0]
["- មានហិរញ្ញប្បទាន"]
["- មិនទាន់មានហិរញ្ញប្បទាន"]
["•  ជំនួយបច្ចេកទេស",{"$f":"SUM(B61:B62)","v":0},null,null,{"$f":"SUM(E61:E62)","v":0},null,null,0,null,null,0]
["- មានហិរញ្ញប្បទាន"]
["- មិនទាន់មានហិរញ្ញប្បទាន"]
[{"$f":"ព័ត៌មានអង្គភាព!C7","v":"១.១០.០១.២៖ ការពង្រឹងគុណភាព និងប្រសិទ្ធភាពនៃការអប់រំនៅបឋមសិក្សា"},{"$f":"SUM(B64,B67)","v":0},null,null,{"$f":"SUM(E64,E67)","v":0},null,null,{"$f":"SUM(H64,H67)","v":0},null,null,{"$f":"SUM(K64,K67)","v":0}]
["□ សរុបចំណាយចរន្ដ",{"$f":"SUM(B65:B66)","v":0},null,null,{"$f":"SUM(E65:E66)","v":0},null,null,0,null,null,0]
["•  បន្ទុកបុគ្គលិក",{"$f":"INDEX(staff_exp2018,MATCH(A63,activities,0))","v":0},null,null,{"$f":"INDEX(staff_exp2019,MATCH(A63,activities,0))","v":0},null,null,{"$f":"INDEX(staff_exp2020,MATCH(A63,activities,0))","v":0},null,null,{"$f":"INDEX(staff_exp2021,MATCH(A63,activities,0))","v":0}]
["•  ក្រៅបន្ទុកបុគ្គលិក",{"$f":"INDEX(non_staffexp2018,MATCH(A63,activities,0))","v":0},null,null,{"$f":"INDEX(non_staffexp2019,MATCH(A63,activities,0))","v":0},null,null,{"$f":"INDEX(non_staffexp2020,MATCH(A63,activities,0))","v":0},null,null,{"$f":"INDEX(non_staffexp2021,MATCH(A63,activities,0))","v":0}]
["□ សរុបចំណាយមូលធន",{"$f":"SUM(B68,B71)","v":0},null,null,{"$f":"SUM(E68,E71)","v":0},null,null,0,null,null,0]
["•  គម្រោងវិនិយោគ",{"$f":"SUM(B69:B70)","v":0},null,null,{"$f":"SUM(E69:E70)","v":0},null,null,0,null,null,0]
["- មានហិរញ្ញប្បទាន"]
["- មិនទាន់មានហិរញ្ញប្បទាន"]
["•  ជំនួយបច្ចេកទេស",{"$f":"SUM(B72:B73)","v":0},null,null,{"$f":"SUM(E72:E73)","v":0},null,null,0,null,null,0]
["- មានហិរញ្ញប្បទាន"]
["- មិនទាន់មានហិរញ្ញប្បទាន"]
[{"$f":"ព័ត៌មានអង្គភាព!C8","v":"១.១០.០១.៣៖ ការចូលរៀនប្រកបដោយសមធម៌​ ការពង្រឹងគុណភាព និងប្រសិទ្ធភាពនៃការ​អប់រំនៅមធ្យមសិក្សា"},{"$f":"SUM(B75,B78)","v":0},null,null,{"$f":"SUM(E75,E78)","v":0},null,null,{"$f":"SUM(H75,H78)","v":0},null,null,{"$f":"SUM(K75,K78)","v":0}]
["□ សរុបចំណាយចរន្ដ",{"$f":"SUM(B76:B77)","v":0},null,null,{"$f":"SUM(E76:E77)","v":0},null,null,0,null,null,0]
["•  បន្ទុកបុគ្គលិក",{"$f":"INDEX(staff_exp2018,MATCH(A74,activities,0))","v":0},null,null,{"$f":"INDEX(staff_exp2019,MATCH(A74,activities,0))","v":0},null,null,{"$f":"INDEX(staff_exp2020,MATCH(A74,activities,0))","v":0},null,null,{"$f":"INDEX(staff_exp2021,MATCH(A74,activities,0))","v":0}]
["•  ក្រៅបន្ទុកបុគ្គលិក",{"$f":"INDEX(non_staffexp2018,MATCH(A74,activities,0))","v":0},null,null,{"$f":"INDEX(non_staffexp2019,MATCH(A74,activities,0))","v":0},null,null,{"$f":"INDEX(non_staffexp2020,MATCH(A74,activities,0))","v":0},null,null,{"$f":"INDEX(non_staffexp2021,MATCH(A74,activities,0))","v":0}]
["□ សរុបចំណាយមូលធន",{"$f":"SUM(B79,B82)","v":0},null,null,{"$f":"SUM(E79,E82)","v":0},null,null,0,null,null,0]
["•  គម្រោងវិនិយោគ",{"$f":"SUM(B80:B81)","v":0},null,null,{"$f":"SUM(E80:E81)","v":0},null,null,0,null,null,0]
["- មានហិរញ្ញប្បទាន"]
["- មិនទាន់មានហិរញ្ញប្បទាន"]
["•  ជំនួយបច្ចេកទេស",{"$f":"SUM(B83:B84)","v":0},null,null,{"$f":"SUM(E83:E84)","v":0},null,null,0,null,null,0]
["- មានហិរញ្ញប្បទាន"]
["- មិនទាន់មានហិរញ្ញប្បទាន"]
[{"$f":"ព័ត៌មានអង្គភាព!C9","v":"១.១០.០១.៤៖ ការពង្រីកការអប់រំក្រៅប្រព័ន្ធ"},{"$f":"SUM(B86,B89)","v":0},null,null,{"$f":"SUM(E86,E89)","v":0},null,null,{"$f":"SUM(H86,H89)","v":0},null,null,{"$f":"SUM(K86,K89)","v":0}]
["□ សរុបចំណាយចរន្ដ",{"$f":"SUM(B87:B88)","v":0},null,null,{"$f":"SUM(E87:E88)","v":0},null,null,0,null,null,0]
["•  បន្ទុកបុគ្គលិក",{"$f":"INDEX(staff_exp2018,MATCH(A85,activities,0))","v":0},null,null,{"$f":"INDEX(staff_exp2019,MATCH(A85,activities,0))","v":0},null,null,{"$f":"INDEX(staff_exp2020,MATCH(A85,activities,0))","v":0},null,null,{"$f":"INDEX(staff_exp2021,MATCH(A85,activities,0))","v":0}]
["•  ក្រៅបន្ទុកបុគ្គលិក",{"$f":"INDEX(non_staffexp2018,MATCH(A85,activities,0))","v":0},null,null,{"$f":"INDEX(non_staffexp2019,MATCH(A85,activities,0))","v":0},null,null,{"$f":"INDEX(non_staffexp2020,MATCH(A85,activities,0))","v":0},null,null,{"$f":"INDEX(non_staffexp2021,MATCH(A85,activities,0))","v":0}]
["□ សរុបចំណាយមូលធន",{"$f":"SUM(B90,B93)","v":0},null,null,{"$f":"SUM(E90,E93)","v":0},null,null,0,null,null,0]
["•  គម្រោងវិនិយោគ",{"$f":"SUM(B91:B92)","v":0},null,null,{"$f":"SUM(E91:E92)","v":0},null,null,0,null,null,0]
["- មានហិរញ្ញប្បទាន"]
["- មិនទាន់មានហិរញ្ញប្បទាន"]
["•  ជំនួយបច្ចេកទេស",{"$f":"SUM(B94:B95)","v":0},null,null,{"$f":"SUM(E94:E95)","v":0},null,null,0,null,null,0]
["- មានហិរញ្ញប្បទាន"]
["- មិនទាន់មានហិរញ្ញប្បទាន"]
[{"$f":"ព័ត៌មានអង្គភាព!C10","v":"១.១០.០១.៥៖ ការពង្រឹង​ និងការពង្រីកកម្មវិធីលើកកម្ពស់សុខភាពសិក្សា"},{"$f":"SUM(B97,B100)","v":0},null,null,{"$f":"SUM(E97,E100)","v":0},null,null,{"$f":"SUM(H97,H100)","v":0},null,null,{"$f":"SUM(K97,K100)","v":0}]
["□ សរុបចំណាយចរន្ដ",{"$f":"SUM(B98:B99)","v":0},null,null,{"$f":"SUM(E98:E99)","v":0},null,null,0,null,null,0]
["•  បន្ទុកបុគ្គលិក",{"$f":"INDEX(staff_exp2018,MATCH(A96,activities,0))","v":0},null,null,{"$f":"INDEX(staff_exp2019,MATCH(A96,activities,0))","v":0},null,null,{"$f":"INDEX(staff_exp2020,MATCH(A96,activities,0))","v":0},null,null,{"$f":"INDEX(staff_exp2021,MATCH(A96,activities,0))","v":0}]
["•  ក្រៅបន្ទុកបុគ្គលិក",{"$f":"INDEX(non_staffexp2018,MATCH(A96,activities,0))","v":0},null,null,{"$f":"INDEX(non_staffexp2019,MATCH(A96,activities,0))","v":0},null,null,{"$f":"INDEX(non_staffexp2020,MATCH(A96,activities,0))","v":0},null,null,{"$f":"INDEX(non_staffexp2021,MATCH(A96,activities,0))","v":0}]
["□ សរុបចំណាយមូលធន",{"$f":"SUM(B101,B104)","v":0},null,null,{"$f":"SUM(E101,E104)","v":0},null,null,0,null,null,0]
["•  គម្រោងវិនិយោគ",{"$f":"SUM(B102:B103)","v":0},null,null,{"$f":"SUM(E102:E103)","v":0},null,null,0,null,null,0]
["- មានហិរញ្ញប្បទាន"]
["- មិនទាន់មានហិរញ្ញប្បទាន"]
["•  ជំនួយបច្ចេកទេស",{"$f":"SUM(B105:B106)","v":0},null,null,{"$f":"SUM(E105:E106)","v":0},null,null,0,null,null,0]
["- មានហិរញ្ញប្បទាន"]
["- មិនទាន់មានហិរញ្ញប្បទាន"]
[{"$f":"ព័ត៌មានអង្គភាព!C11","v":"១.១០.០១.៦៖ លើកកម្ពស់គុណភាព និងប្រសិទ្ធភាពនៃការអនុវត្តកម្មវិធីអប់រំបច្ចេកទេស"},{"$f":"SUM(B108,B111)","v":0},null,null,{"$f":"SUM(E108,E111)","v":0},null,null,{"$f":"SUM(H108,H111)","v":0},null,null,{"$f":"SUM(K108,K111)","v":0}]
["□ សរុបចំណាយចរន្ដ",{"$f":"SUM(B109:B110)","v":0},null,null,{"$f":"SUM(E109:E110)","v":0},null,null,0,null,null,0]
["•  បន្ទុកបុគ្គលិក",{"$f":"INDEX(staff_exp2018,MATCH(A107,activities,0))","v":0},null,null,{"$f":"INDEX(staff_exp2019,MATCH(A107,activities,0))","v":0},null,null,{"$f":"INDEX(staff_exp2020,MATCH(A107,activities,0))","v":0},null,null,{"$f":"INDEX(staff_exp2021,MATCH(A107,activities,0))","v":0}]
["•  ក្រៅបន្ទុកបុគ្គលិក",{"$f":"INDEX(non_staffexp2018,MATCH(A107,activities,0))","v":0},null,null,{"$f":"INDEX(non_staffexp2019,MATCH(A107,activities,0))","v":0},null,null,{"$f":"INDEX(non_staffexp2020,MATCH(A107,activities,0))","v":0},null,null,{"$f":"INDEX(non_staffexp2021,MATCH(A107,activities,0))","v":0}]
["□ សរុបចំណាយមូលធន",{"$f":"SUM(B112,B115)","v":0},null,null,{"$f":"SUM(E112,E115)","v":0},null,null,0,null,null,0]
["•  គម្រោងវិនិយោគ",{"$f":"SUM(B113:B114)","v":0},null,null,{"$f":"SUM(E113:E114)","v":0},null,null,0,null,null,0]
["- មានហិរញ្ញប្បទាន"]
["- មិនទាន់មានហិរញ្ញប្បទាន"]
["•  ជំនួយបច្ចេកទេស",{"$f":"SUM(B116:B117)","v":0},null,null,{"$f":"SUM(E116:E117)","v":0},null,null,0,null,null,0]
["- មានហិរញ្ញប្បទាន"]
["- មិនទាន់មានហិរញ្ញប្បទាន"]
[{"$f":"ព័ត៌មានអង្គភាព!C12","v":"១.១០.០១.៧៖ ការអភិវឌ្ឍការងារបណ្តុះបណ្តុះ និងវិក្រឹតការគ្រូបង្រៀន"},{"$f":"SUM(B119,B122)","v":0},null,null,{"$f":"SUM(E119,E122)","v":0},null,null,{"$f":"SUM(H119,H122)","v":0},null,null,{"$f":"SUM(K119,K122)","v":0}]
["□ សរុបចំណាយចរន្ដ",{"$f":"SUM(B120:B121)","v":0},null,null,{"$f":"SUM(E120:E121)","v":0},null,null,0,null,null,0]
["•  បន្ទុកបុគ្គលិក",{"$f":"INDEX(staff_exp2018,MATCH(A118,activities,0))","v":0},null,null,{"$f":"INDEX(staff_exp2019,MATCH(A118,activities,0))","v":0},null,null,{"$f":"INDEX(staff_exp2020,MATCH(A118,activities,0))","v":0},null,null,{"$f":"INDEX(staff_exp2021,MATCH(A118,activities,0))","v":0}]
["•  ក្រៅបន្ទុកបុគ្គលិក",{"$f":"INDEX(non_staffexp2018,MATCH(A118,activities,0))","v":0},null,null,{"$f":"INDEX(non_staffexp2019,MATCH(A118,activities,0))","v":0},null,null,{"$f":"INDEX(non_staffexp2020,MATCH(A118,activities,0))","v":0},null,null,{"$f":"INDEX(non_staffexp2021,MATCH(A118,activities,0))","v":0}]
["□ សរុបចំណាយមូលធន",{"$f":"SUM(B123,B126)","v":0},null,null,{"$f":"SUM(E123,E126)","v":0},null,null,0,null,null,0]
["•  គម្រោងវិនិយោគ",{"$f":"SUM(B124:B125)","v":0},null,null,{"$f":"SUM(E124:E125)","v":0},null,null,0,null,null,0]
["- មានហិរញ្ញប្បទាន"]
["- មិនទាន់មានហិរញ្ញប្បទាន"]
["•  ជំនួយបច្ចេកទេស",{"$f":"SUM(B127:B128)","v":0},null,null,{"$f":"SUM(E127:E128)","v":0},null,null,0,null,null,0]
["- មានហិរញ្ញប្បទាន"]
["- មិនទាន់មានហិរញ្ញប្បទាន"]
[{"$f":"ព័ត៌មានអង្គភាព!C13","v":"១.១០.០១.៨៖ ការអភិវឌ្ឍកម្មវិធីសិក្សា សម្ភារៈសិក្សា និងបណ្ណាល័យ"},{"$f":"SUM(B130,B133)","v":0},null,null,{"$f":"SUM(E130,E133)","v":0},null,null,{"$f":"SUM(H130,H133)","v":0},null,null,{"$f":"SUM(K130,K133)","v":0}]
["□ សរុបចំណាយចរន្ដ",{"$f":"SUM(B131:B132)","v":0},null,null,{"$f":"SUM(E131:E132)","v":0},null,null,0,null,null,0]
["•  បន្ទុកបុគ្គលិក",{"$f":"INDEX(staff_exp2018,MATCH(A129,activities,0))","v":0},null,null,{"$f":"INDEX(staff_exp2019,MATCH(A129,activities,0))","v":0},null,null,{"$f":"INDEX(staff_exp2020,MATCH(A129,activities,0))","v":0},null,null,{"$f":"INDEX(staff_exp2021,MATCH(A129,activities,0))","v":0}]
["•  ក្រៅបន្ទុកបុគ្គលិក",{"$f":"INDEX(non_staffexp2018,MATCH(A129,activities,0))","v":0},null,null,{"$f":"INDEX(non_staffexp2019,MATCH(A129,activities,0))","v":0},null,null,{"$f":"INDEX(non_staffexp2020,MATCH(A129,activities,0))","v":0},null,null,{"$f":"INDEX(non_staffexp2021,MATCH(A129,activities,0))","v":0}]
["□ សរុបចំណាយមូលធន",{"$f":"SUM(B134,B137)","v":0},null,null,{"$f":"SUM(E134,E137)","v":0},null,null,0,null,null,0]
["•  គម្រោងវិនិយោគ",{"$f":"SUM(B135:B136)","v":0},null,null,{"$f":"SUM(E135:E136)","v":0},null,null,0,null,null,0]
["- មានហិរញ្ញប្បទាន"]
["- មិនទាន់មានហិរញ្ញប្បទាន"]
["•  ជំនួយបច្ចេកទេស",{"$f":"SUM(B138:B139)","v":0},null,null,{"$f":"SUM(E138:E139)","v":0},null,null,0,null,null,0]
["- មានហិរញ្ញប្បទាន"]
["- មិនទាន់មានហិរញ្ញប្បទាន"]
[{"$f":"ព័ត៌មានអង្គភាព!C14","v":"១.១០.០១.៩៖ ពង្រីកការអប់រំបរិយាបន្នគ្រប់ភូមិសិក្សា"},{"$f":"SUM(B141,B144)","v":0},null,null,{"$f":"SUM(E141,E144)","v":0},null,null,{"$f":"SUM(H141,H144)","v":0},null,null,{"$f":"SUM(K141,K144)","v":0}]
["□ សរុបចំណាយចរន្ដ",{"$f":"SUM(B142:B143)","v":0},null,null,{"$f":"SUM(E142:E143)","v":0},null,null,0,null,null,0]
["•  បន្ទុកបុគ្គលិក",{"$f":"INDEX(staff_exp2018,MATCH(A140,activities,0))","v":0},null,null,{"$f":"INDEX(staff_exp2019,MATCH(A140,activities,0))","v":0},null,null,{"$f":"INDEX(staff_exp2020,MATCH(A140,activities,0))","v":0},null,null,{"$f":"INDEX(staff_exp2021,MATCH(A140,activities,0))","v":0}]
["•  ក្រៅបន្ទុកបុគ្គលិក",{"$f":"INDEX(non_staffexp2018,MATCH(A140,activities,0))","v":0},null,null,{"$f":"INDEX(non_staffexp2019,MATCH(A140,activities,0))","v":0},null,null,{"$f":"INDEX(non_staffexp2020,MATCH(A140,activities,0))","v":0},null,null,{"$f":"INDEX(non_staffexp2021,MATCH(A140,activities,0))","v":0}]
["□ សរុបចំណាយមូលធន",{"$f":"SUM(B145,B148)","v":0},null,null,{"$f":"SUM(E145,E148)","v":0},null,null,0,null,null,0]
["•  គម្រោងវិនិយោគ",{"$f":"SUM(B146:B147)","v":0},null,null,{"$f":"SUM(E146:E147)","v":0},null,null,0,null,null,0]
["- មានហិរញ្ញប្បទាន"]
["- មិនទាន់មានហិរញ្ញប្បទាន"]
["•  ជំនួយបច្ចេកទេស",{"$f":"SUM(B149:B150)","v":0},null,null,{"$f":"SUM(E149:E150)","v":0},null,null,0,null,null,0]
["- មានហិរញ្ញប្បទាន"]
["- មិនទាន់មានហិរញ្ញប្បទាន"]
[{"$f":"ព័ត៌មានអង្គភាព!C15","v":"កម្មវិធីទី ៣៖ ការអភិវឌ្ឍវិស័យអប់រំកាយ និងកីឡា"},{"$f":"SUM(B152,B155)","v":0},null,null,{"$f":"SUM(E152,E155)","v":0},null,null,0,null,null,0]
["□ សរុបចំណាយចរន្ដ",{"$f":"SUM(B153:B154)","v":0},null,null,{"$f":"SUM(E153:E154)","v":0},null,null,{"$f":"SUM(H153:H154)","v":0},null,null,{"$f":"SUM(K153:K154)","v":0}]
["•  បន្ទុកបុគ្គលិក",{"$f":"B164","v":0},null,null,{"$f":"E164","v":0},null,null,{"$f":"H164","v":0},null,null,{"$f":"K164","v":0}]
["•  ក្រៅបន្ទុកបុគ្គលិក",{"$f":"B165","v":0},null,null,{"$f":"E165","v":0},null,null,{"$f":"H165","v":0},null,null,{"$f":"K165","v":0}]
["□ សរុបចំណាយមូលធន",{"$f":"SUM(B156,B159)","v":0},null,null,{"$f":"SUM(E156,E159)","v":0},null,null,{"$f":"SUM(H156,H159)","v":0},null,null,{"$f":"SUM(K156,K159)","v":0}]
["•  គម្រោងវិនិយោគ",{"$f":"SUM(B157:B158)","v":0},null,null,{"$f":"SUM(E157:E158)","v":0},null,null,{"$f":"SUM(H157:H158)","v":0},null,null,{"$f":"SUM(K157:K158)","v":0}]
["- មានហិរញ្ញប្បទាន",{"$f":"B168","v":0},null,null,{"$f":"E168","v":0},null,null,{"$f":"H168","v":0},null,null,{"$f":"K168","v":0}]
["- មិនទាន់មានហិរញ្ញប្បទាន",0,null,null,{"$f":"E169","v":0},null,null,{"$f":"H169","v":0},null,null,{"$f":"K169","v":0}]
["•  ជំនួយបច្ចេកទេស",{"$f":"SUM(B160:B161)","v":0},null,null,{"$f":"SUM(E160:E161)","v":0},null,null,{"$f":"SUM(H160:H161)","v":0},null,null,{"$f":"SUM(K160:K161)","v":0}]
["- មានហិរញ្ញប្បទាន",{"$f":"B171","v":0},null,null,{"$f":"E171","v":0},null,null,{"$f":"H171","v":0},null,null,{"$f":"K171","v":0}]
["- មិនទាន់មានហិរញ្ញប្បទាន",0,null,null,{"$f":"E172","v":0},null,null,{"$f":"H172","v":0},null,null,{"$f":"K172","v":0}]
[{"$f":"ព័ត៌មានអង្គភាព!C16","v":"អនុកម្មវិធីទី ៣.២ សេវាគាំទ្រការអភិវឌ្ឍវិស័យអប់រំកាយ និងកីឡារបស់មន្ទីរជំនាញរាជធានី ខេត្ត"},{"$f":"SUM(B163,B166)","v":0},null,null,{"$f":"SUM(E163,E166)","v":0},null,null,{"$f":"SUM(H163,H166)","v":0},null,null,{"$f":"SUM(K163,K166)","v":0}]
["□ សរុបចំណាយចរន្ដ",{"$f":"SUM(B164:B165)","v":0},null,null,{"$f":"SUM(E164:E165)","v":0},null,null,{"$f":"SUM(H164:H165)","v":0},null,null,{"$f":"SUM(K164:K165)","v":0}]
["•  បន្ទុកបុគ្គលិក",{"$f":"B175","v":0},null,null,{"$f":"E175","v":0},null,null,{"$f":"H175","v":0},null,null,{"$f":"K175","v":0}]
["•  ក្រៅបន្ទុកបុគ្គលិក",{"$f":"B176","v":0},null,null,{"$f":"E176","v":0},null,null,{"$f":"H176","v":0},null,null,{"$f":"K176","v":0}]
["□ សរុបចំណាយមូលធន",{"$f":"SUM(B167,B170)","v":0},null,null,{"$f":"SUM(E167,E170)","v":0},null,null,{"$f":"SUM(H167,H170)","v":0},null,null,{"$f":"SUM(K167,K170)","v":0}]
["•  គម្រោងវិនិយោគ",{"$f":"SUM(B168:B169)","v":0},null,null,{"$f":"SUM(E168:E169)","v":0},null,null,{"$f":"SUM(H168:H169)","v":0},null,null,{"$f":"SUM(K168:K169)","v":0}]
["- មានហិរញ្ញប្បទាន",{"$f":"B179","v":0},null,null,{"$f":"E179","v":0},null,null,{"$f":"H179","v":0},null,null,{"$f":"K179","v":0}]
["- មិនទាន់មានហិរញ្ញប្បទាន",0,null,null,{"$f":"E180","v":0},null,null,{"$f":"H180","v":0},null,null,{"$f":"K180","v":0}]
["•  ជំនួយបច្ចេកទេស",{"$f":"SUM(B171:B172)","v":0},null,null,{"$f":"SUM(E171:E172)","v":0},null,null,{"$f":"SUM(H171:H172)","v":0},null,null,{"$f":"SUM(K171:K172)","v":0}]
["- មានហិរញ្ញប្បទាន",{"$f":"B182","v":0},null,null,{"$f":"E182","v":0},null,null,{"$f":"H182","v":0},null,null,{"$f":"K182","v":0}]
["- មិនទាន់មានហិរញ្ញប្បទាន",0,null,null,{"$f":"E183","v":0},null,null,{"$f":"H183","v":0},null,null,{"$f":"K183","v":0}]
[{"$f":"ព័ត៌មានអង្គភាព!C5","v":"ចង្កោមសកម្មភាពទី ០១៖ខេត្តបន្ទាយមានជ័យ"},{"$f":"SUM(B174,B177)","v":0},null,null,{"$f":"SUM(E174,E177)","v":0},null,null,{"$f":"SUM(H174,H177)","v":0},null,null,{"$f":"SUM(K174,K177)","v":0}]
["□ សរុបចំណាយចរន្ដ",{"$f":"SUM(B175:B176)","v":0},null,null,{"$f":"SUM(E175:E176)","v":0},null,null,{"$f":"SUM(H175:H176)","v":0},null,null,{"$f":"SUM(K175:K176)","v":0}]
["•  បន្ទុកបុគ្គលិក",{"$f":"B186","v":0},null,null,{"$f":"E186","v":0},null,null,{"$f":"H186","v":0},null,null,{"$f":"K186","v":0}]
["•  ក្រៅបន្ទុកបុគ្គលិក",{"$f":"B187","v":0},null,null,0,null,null,0,null,null,0]
["□ សរុបចំណាយមូលធន",{"$f":"SUM(B178,B181)","v":0},null,null,{"$f":"SUM(E178,E181)","v":0},null,null,{"$f":"SUM(H178,H181)","v":0},null,null,{"$f":"SUM(K178,K181)","v":0}]
["•  គម្រោងវិនិយោគ",{"$f":"SUM(B179:B180)","v":0},null,null,{"$f":"SUM(E179:E180)","v":0},null,null,{"$f":"SUM(H179:H180)","v":0},null,null,{"$f":"SUM(K179:K180)","v":0}]
["- មានហិរញ្ញប្បទាន",{"$f":"B190","v":0},null,null,{"$f":"E190","v":0},null,null,{"$f":"H190","v":0},null,null,{"$f":"K190","v":0}]
["- មិនទាន់មានហិរញ្ញប្បទាន",0,null,null,{"$f":"E191","v":0},null,null,{"$f":"H191","v":0},null,null,{"$f":"K191","v":0}]
["•  ជំនួយបច្ចេកទេស",{"$f":"SUM(B182:B183)","v":0},null,null,{"$f":"SUM(E182:E183)","v":0},null,null,{"$f":"SUM(H182:H183)","v":0},null,null,{"$f":"SUM(K182:K183)","v":0}]
["- មានហិរញ្ញប្បទាន",{"$f":"B193","v":0},null,null,{"$f":"E193","v":0},null,null,{"$f":"H193","v":0},null,null,{"$f":"K193","v":0}]
["- មិនទាន់មានហិរញ្ញប្បទាន",0,null,null,{"$f":"E194","v":0},null,null,{"$f":"H194","v":0},null,null,{"$f":"K194","v":0}]
[{"$f":"ព័ត៌មានអង្គភាព!C18","v":"៣.២.០១.១៖ ការអភិវឌ្ឍអប់រំកាយ និងកីឡាសិស្ស និស្សិត មហាជន និងកីឡាកម្រិតខ្ពស់"},{"$f":"SUM(B185,B188)","v":0},null,null,{"$f":"SUM(E185,E188)","v":0},null,null,{"$f":"SUM(H185,H188)","v":0},null,null,{"$f":"SUM(K185,K188)","v":0}]
["□ សរុបចំណាយចរន្ដ",{"$f":"SUM(B186:B187)","v":0},null,null,{"$f":"SUM(E186:E187)","v":0},null,null,0,null,null,0]
["•  បន្ទុកបុគ្គលិក",{"$f":"INDEX(staff_exp2018,MATCH(A184,activities,0))","v":0},null,null,{"$f":"INDEX(staff_exp2019,MATCH(A184,activities,0))","v":0},null,null,{"$f":"INDEX(staff_exp2020,MATCH(A184,activities,0))","v":0},null,null,{"$f":"INDEX(staff_exp2021,MATCH(A184,activities,0))","v":0}]
["•  ក្រៅបន្ទុកបុគ្គលិក",{"$f":"INDEX(non_staffexp2018,MATCH(A184,activities,0))","v":0},null,null,{"$f":"INDEX(non_staffexp2019,MATCH(A184,activities,0))","v":0},null,null,{"$f":"INDEX(non_staffexp2020,MATCH(A184,activities,0))","v":0},null,null,{"$f":"INDEX(non_staffexp2021,MATCH(A184,activities,0))","v":0}]
["□ សរុបចំណាយមូលធន",{"$f":"SUM(B189,B192)","v":0},null,null,{"$f":"SUM(E189,E192)","v":0},null,null,0,null,null,0]
["•  គម្រោងវិនិយោគ",{"$f":"SUM(B190:B191)","v":0},null,null,{"$f":"SUM(E190:E191)","v":0},null,null,0,null,null,0]
["- មានហិរញ្ញប្បទាន"]
["- មិនទាន់មានហិរញ្ញប្បទាន"]
["•  ជំនួយបច្ចេកទេស",{"$f":"SUM(B193:B194)","v":0},null,null,{"$f":"SUM(E193:E194)","v":0},null,null,0,null,null,0]
["- មានហិរញ្ញប្បទាន"]
["- មិនទាន់មានហិរញ្ញប្បទាន"]
[{"$f":"ព័ត៌មានអង្គភាព!C19","v":"កម្មវិធីទី៤៖ ការអភិវឌ្ឍជំនាញបច្ចេកទេស និងជំនាញទន់សម្រាប់យុវជន"},{"$f":"SUM(B196,B199)","v":0},null,null,{"$f":"SUM(E196,E199)","v":0},null,null,0,null,null,0]
["□ សរុបចំណាយចរន្ដ",{"$f":"SUM(B197:B198)","v":0},null,null,{"$f":"SUM(E197:E198)","v":0},null,null,{"$f":"SUM(H197:H198)","v":0},null,null,{"$f":"SUM(K197:K198)","v":0}]
["•  បន្ទុកបុគ្គលិក",{"$f":"B208","v":0},null,null,{"$f":"E208","v":0},null,null,{"$f":"H208","v":0},null,null,{"$f":"K208","v":0}]
["•  ក្រៅបន្ទុកបុគ្គលិក",{"$f":"B209","v":0},null,null,{"$f":"E209","v":0},null,null,{"$f":"H209","v":0},null,null,{"$f":"K209","v":0}]
["□ សរុបចំណាយមូលធន",{"$f":"SUM(B200,B203)","v":0},null,null,{"$f":"SUM(E200,E203)","v":0},null,null,{"$f":"SUM(H200,H203)","v":0},null,null,{"$f":"SUM(K200,K203)","v":0}]
["•  គម្រោងវិនិយោគ",{"$f":"SUM(B201:B202)","v":0},null,null,{"$f":"SUM(E201:E202)","v":0},null,null,{"$f":"SUM(H201:H202)","v":0},null,null,{"$f":"SUM(K201:K202)","v":0}]
["- មានហិរញ្ញប្បទាន",{"$f":"B212","v":0},null,null,{"$f":"E212","v":0},null,null,{"$f":"H212","v":0},null,null,{"$f":"K212","v":0}]
["- មិនទាន់មានហិរញ្ញប្បទាន",0,null,null,{"$f":"E213","v":0},null,null,{"$f":"H213","v":0},null,null,{"$f":"K213","v":0}]
["•  ជំនួយបច្ចេកទេស",{"$f":"SUM(B204:B205)","v":0},null,null,{"$f":"SUM(E204:E205)","v":0},null,null,{"$f":"SUM(H204:H205)","v":0},null,null,{"$f":"SUM(K204:K205)","v":0}]
["- មានហិរញ្ញប្បទាន",{"$f":"B215","v":0},null,null,{"$f":"E215","v":0},null,null,{"$f":"H215","v":0},null,null,{"$f":"K215","v":0}]
["- មិនទាន់មានហិរញ្ញប្បទាន",0,null,null,{"$f":"E216","v":0},null,null,{"$f":"H216","v":0},null,null,{"$f":"K216","v":0}]
[{"$f":"ព័ត៌មានអង្គភាព!C20","v":"អនុកម្មវិធីទី ៤.៤៖ សេវាគាំទ្រអភិវឌ្ឍជំនាញបច្ចេកទេស និងជំនាញទន់សម្រាប់យុវជនរបស់\nមន្ទីរជំនាញរាជធានី ខេត្ត"},{"$f":"SUM(B207,B210)","v":0},null,null,{"$f":"SUM(E207,E210)","v":0},null,null,{"$f":"SUM(H207,H210)","v":0},null,null,{"$f":"SUM(K207,K210)","v":0}]
["□ សរុបចំណាយចរន្ដ",{"$f":"SUM(B208:B209)","v":0},null,null,{"$f":"SUM(E208:E209)","v":0},null,null,{"$f":"SUM(H208:H209)","v":0},null,null,{"$f":"SUM(K208:K209)","v":0}]
["•  បន្ទុកបុគ្គលិក",{"$f":"B219","v":0},null,null,{"$f":"E219","v":0},null,null,{"$f":"H219","v":0},null,null,{"$f":"K219","v":0}]
["•  ក្រៅបន្ទុកបុគ្គលិក",{"$f":"B220","v":0},null,null,{"$f":"E220","v":0},null,null,{"$f":"H220","v":0},null,null,{"$f":"K220","v":0}]
["□ សរុបចំណាយមូលធន",{"$f":"SUM(B211,B214)","v":0},null,null,{"$f":"SUM(E211,E214)","v":0},null,null,{"$f":"SUM(H211,H214)","v":0},null,null,{"$f":"SUM(K211,K214)","v":0}]
["•  គម្រោងវិនិយោគ",{"$f":"SUM(B212:B213)","v":0},null,null,{"$f":"SUM(E212:E213)","v":0},null,null,{"$f":"SUM(H212:H213)","v":0},null,null,{"$f":"SUM(K212:K213)","v":0}]
["- មានហិរញ្ញប្បទាន",{"$f":"B223","v":0},null,null,{"$f":"E223","v":0},null,null,{"$f":"H223","v":0},null,null,{"$f":"K223","v":0}]
["- មិនទាន់មានហិរញ្ញប្បទាន",0,null,null,{"$f":"E224","v":0},null,null,{"$f":"H224","v":0},null,null,{"$f":"K224","v":0}]
["•  ជំនួយបច្ចេកទេស",{"$f":"SUM(B215:B216)","v":0},null,null,{"$f":"SUM(E215:E216)","v":0},null,null,{"$f":"SUM(H215:H216)","v":0},null,null,{"$f":"SUM(K215:K216)","v":0}]
["- មានហិរញ្ញប្បទាន",{"$f":"B226","v":0},null,null,{"$f":"E226","v":0},null,null,{"$f":"H226","v":0},null,null,{"$f":"K226","v":0}]
["- មិនទាន់មានហិរញ្ញប្បទាន",0,null,null,{"$f":"E227","v":0},null,null,{"$f":"H227","v":0},null,null,{"$f":"K227","v":0}]
[{"$f":"ព័ត៌មានអង្គភាព!C21","v":"ចង្កោមសកម្មភាពទី ០១៖ខេត្តបន្ទាយមានជ័យ"},{"$f":"SUM(B218,B221)","v":0},null,null,{"$f":"SUM(E218,E221)","v":0},null,null,{"$f":"SUM(H218,H221)","v":0},null,null,{"$f":"SUM(K218,K221)","v":0}]
["□ សរុបចំណាយចរន្ដ",{"$f":"SUM(B219:B220)","v":0},null,null,{"$f":"SUM(E219:E220)","v":0},null,null,{"$f":"SUM(H219:H220)","v":0},null,null,{"$f":"SUM(K219:K220)","v":0}]
["•  បន្ទុកបុគ្គលិក",{"$f":"SUM(B230,B241,B252)","v":0},null,null,{"$f":"SUM(E230,E241,E252)","v":0},null,null,{"$f":"SUM(H230,H241,H252)","v":0},null,null,{"$f":"SUM(K230,K241,K252)","v":0}]
["•  ក្រៅបន្ទុកបុគ្គលិក",{"$f":"SUM(B231,B242,B253)","v":0},null,null,0,null,null,0,null,null,0]
["□ សរុបចំណាយមូលធន",{"$f":"SUM(B222,B225)","v":0},null,null,{"$f":"SUM(E222,E225)","v":0},null,null,{"$f":"SUM(H222,H225)","v":0},null,null,{"$f":"SUM(K222,K225)","v":0}]
["•  គម្រោងវិនិយោគ",{"$f":"SUM(B223:B224)","v":0},null,null,{"$f":"SUM(E223:E224)","v":0},null,null,{"$f":"SUM(H223:H224)","v":0},null,null,{"$f":"SUM(K223:K224)","v":0}]
["- មានហិរញ្ញប្បទាន",{"$f":"SUM(B234,B245,B256)","v":0},null,null,{"$f":"SUM(E234,E245,E256)","v":0},null,null,{"$f":"SUM(H234,H245,H256)","v":0},null,null,{"$f":"SUM(K234,K245,K256)","v":0}]
["- មិនទាន់មានហិរញ្ញប្បទាន",0,null,null,{"$f":"SUM(E235,E246,E257)","v":0},null,null,{"$f":"SUM(H235,H246,H257)","v":0},null,null,{"$f":"SUM(K235,K246,K257)","v":0}]
["•  ជំនួយបច្ចេកទេស",{"$f":"SUM(B226:B227)","v":0},null,null,{"$f":"SUM(E226:E227)","v":0},null,null,{"$f":"SUM(H226:H227)","v":0},null,null,{"$f":"SUM(K226:K227)","v":0}]
["- មានហិរញ្ញប្បទាន",{"$f":"SUM(B237,B248,B259)","v":0},null,null,{"$f":"SUM(E237,E248,E259)","v":0},null,null,{"$f":"SUM(H237,H248,H259)","v":0},null,null,{"$f":"SUM(K237,K248,K259)","v":0}]
["- មិនទាន់មានហិរញ្ញប្បទាន",0,null,null,{"$f":"SUM(E238,E249,E260)","v":0},null,null,{"$f":"SUM(H238,H249,H260)","v":0},null,null,{"$f":"SUM(K238,K249,K260)","v":0}]
[{"$f":"ព័ត៌មានអង្គភាព!C22","v":"៤.៤.០១.១៖ ការពង្រឹងសមត្ថភាពយុវជន"},{"$f":"SUM(B229,B232)","v":0},null,null,{"$f":"SUM(E229,E232)","v":0},null,null,{"$f":"SUM(H229,H232)","v":0},null,null,{"$f":"SUM(K229,K232)","v":0}]
["□ សរុបចំណាយចរន្ដ",{"$f":"SUM(B230:B231)","v":0},null,null,{"$f":"SUM(E230:E231)","v":0},null,null,0,null,null,0]
["•  បន្ទុកបុគ្គលិក",{"$f":"INDEX(staff_exp2018,MATCH(A228,activities,0))","v":0},null,null,{"$f":"INDEX(staff_exp2019,MATCH(A228,activities,0))","v":0},null,null,{"$f":"INDEX(staff_exp2020,MATCH(A228,activities,0))","v":0},null,null,{"$f":"INDEX(staff_exp2021,MATCH(A228,activities,0))","v":0}]
["•  ក្រៅបន្ទុកបុគ្គលិក",{"$f":"INDEX(non_staffexp2018,MATCH(A228,activities,0))","v":0},null,null,{"$f":"INDEX(non_staffexp2019,MATCH(A228,activities,0))","v":0},null,null,{"$f":"INDEX(non_staffexp2020,MATCH(A228,activities,0))","v":0},null,null,{"$f":"INDEX(non_staffexp2021,MATCH(A228,activities,0))","v":0}]
["□ សរុបចំណាយមូលធន",{"$f":"SUM(B233,B236)","v":0},null,null,{"$f":"SUM(E233,E236)","v":0},null,null,0,null,null,0]
["•  គម្រោងវិនិយោគ",{"$f":"SUM(B234:B235)","v":0},null,null,{"$f":"SUM(E234:E235)","v":0},null,null,0,null,null,0]
["- មានហិរញ្ញប្បទាន"]
["- មិនទាន់មានហិរញ្ញប្បទាន"]
["•  ជំនួយបច្ចេកទេស",{"$f":"SUM(B237:B238)","v":0},null,null,{"$f":"SUM(E237:E238)","v":0},null,null,0,null,null,0]
["- មានហិរញ្ញប្បទាន"]
["- មិនទាន់មានហិរញ្ញប្បទាន"]
[{"$f":"ព័ត៌មានអង្គភាព!C23","v":"៤.៤.០១.២៖ ការអភិវឌ្ឍមជ្ឈមណ្ឌលយុវជន"},{"$f":"SUM(B240,B243)","v":0},null,null,{"$f":"SUM(E240,E243)","v":0},null,null,{"$f":"SUM(H240,H243)","v":0},null,null,{"$f":"SUM(K240,K243)","v":0}]
["□ សរុបចំណាយចរន្ដ",{"$f":"SUM(B241:B242)","v":0},null,null,{"$f":"SUM(E241:E242)","v":0},null,null,0,null,null,0]
["•  បន្ទុកបុគ្គលិក",{"$f":"INDEX(staff_exp2018,MATCH(A239,activities,0))","v":0},null,null,{"$f":"INDEX(staff_exp2019,MATCH(A239,activities,0))","v":0},null,null,{"$f":"INDEX(staff_exp2020,MATCH(A239,activities,0))","v":0},null,null,{"$f":"INDEX(staff_exp2021,MATCH(A239,activities,0))","v":0}]
["•  ក្រៅបន្ទុកបុគ្គលិក",{"$f":"INDEX(non_staffexp2018,MATCH(A239,activities,0))","v":0},null,null,{"$f":"INDEX(non_staffexp2019,MATCH(A239,activities,0))","v":0},null,null,{"$f":"INDEX(non_staffexp2020,MATCH(A239,activities,0))","v":0},null,null,{"$f":"INDEX(non_staffexp2021,MATCH(A239,activities,0))","v":0}]
["□ សរុបចំណាយមូលធន",{"$f":"SUM(B244,B247)","v":0},null,null,{"$f":"SUM(E244,E247)","v":0},null,null,0,null,null,0]
["•  គម្រោងវិនិយោគ",{"$f":"SUM(B245:B246)","v":0},null,null,{"$f":"SUM(E245:E246)","v":0},null,null,0,null,null,0]
["- មានហិរញ្ញប្បទាន"]
["- មិនទាន់មានហិរញ្ញប្បទាន"]
["•  ជំនួយបច្ចេកទេស",{"$f":"SUM(B248:B249)","v":0},null,null,{"$f":"SUM(E248:E249)","v":0},null,null,0,null,null,0]
["- មានហិរញ្ញប្បទាន"]
["- មិនទាន់មានហិរញ្ញប្បទាន"]
[{"$f":"ព័ត៌មានអង្គភាព!C24","v":"៤.៤.០១.៣៖ ការអភិវឌ្ឍកាយរឹទ្ធិកម្ម"},{"$f":"SUM(B251,B254)","v":0},null,null,{"$f":"SUM(E251,E254)","v":0},null,null,{"$f":"SUM(H251,H254)","v":0},null,null,{"$f":"SUM(K251,K254)","v":0}]
["□ សរុបចំណាយចរន្ដ",{"$f":"SUM(B252:B253)","v":0},null,null,{"$f":"SUM(E252:E253)","v":0},null,null,0,null,null,0]
["•  បន្ទុកបុគ្គលិក",{"$f":"INDEX(staff_exp2018,MATCH(A250,activities,0))","v":0},null,null,{"$f":"INDEX(staff_exp2019,MATCH(A250,activities,0))","v":0},null,null,{"$f":"INDEX(staff_exp2020,MATCH(A250,activities,0))","v":0},null,null,{"$f":"INDEX(staff_exp2021,MATCH(A250,activities,0))","v":0}]
["•  ក្រៅបន្ទុកបុគ្គលិក",{"$f":"INDEX(non_staffexp2018,MATCH(A250,activities,0))","v":0},null,null,{"$f":"INDEX(non_staffexp2019,MATCH(A250,activities,0))","v":0},null,null,{"$f":"INDEX(non_staffexp2020,MATCH(A250,activities,0))","v":0},null,null,{"$f":"INDEX(non_staffexp2021,MATCH(A250,activities,0))","v":0}]
["□ សរុបចំណាយមូលធន",{"$f":"SUM(B255,B258)","v":0},null,null,{"$f":"SUM(E255,E258)","v":0},null,null,0,null,null,0]
["•  គម្រោងវិនិយោគ",{"$f":"SUM(B256:B257)","v":0},null,null,{"$f":"SUM(E256:E257)","v":0},null,null,0,null,null,0]
["- មានហិរញ្ញប្បទាន"]
["- មិនទាន់មានហិរញ្ញប្បទាន"]
["•  ជំនួយបច្ចេកទេស",{"$f":"SUM(B259:B260)","v":0},null,null,{"$f":"SUM(E259:E260)","v":0},null,null,0,null,null,0]
["- មានហិរញ្ញប្បទាន"]
["- មិនទាន់មានហិរញ្ញប្បទាន"]
[{"$f":"ព័ត៌មានអង្គភាព!C25","v":"កម្មវិធីទី៥៖ ការគាំទ្រសេវាអប់រំ និងអភិបាលកិច្ចល្អ"},{"$f":"SUM(B262,B265)","v":0},null,null,{"$f":"SUM(E262,E265)","v":0},null,null,0,null,null,0]
["□ សរុបចំណាយចរន្ដ",{"$f":"SUM(B263:B264)","v":0},null,null,{"$f":"SUM(E263:E264)","v":0},null,null,{"$f":"SUM(H263:H264)","v":0},null,null,{"$f":"SUM(K263:K264)","v":0}]
["•  បន្ទុកបុគ្គលិក",{"$f":"B274","v":0},null,null,{"$f":"E274","v":0},null,null,{"$f":"H274","v":0},null,null,{"$f":"K274","v":0}]
["•  ក្រៅបន្ទុកបុគ្គលិក",{"$f":"B275","v":0},null,null,{"$f":"E275","v":0},null,null,{"$f":"H275","v":0},null,null,{"$f":"K275","v":0}]
["□ សរុបចំណាយមូលធន",{"$f":"SUM(B266,B269)","v":0},null,null,{"$f":"SUM(E266,E269)","v":0},null,null,{"$f":"SUM(H266,H269)","v":0},null,null,{"$f":"SUM(K266,K269)","v":0}]
["•  គម្រោងវិនិយោគ",{"$f":"SUM(B267:B268)","v":0},null,null,{"$f":"SUM(E267:E268)","v":0},null,null,{"$f":"SUM(H267:H268)","v":0},null,null,{"$f":"SUM(K267:K268)","v":0}]
["- មានហិរញ្ញប្បទាន",{"$f":"B278","v":0},null,null,{"$f":"E278","v":0},null,null,{"$f":"H278","v":0},null,null,{"$f":"K278","v":0}]
["- មិនទាន់មានហិរញ្ញប្បទាន",0,null,null,{"$f":"E279","v":0},null,null,{"$f":"H279","v":0},null,null,{"$f":"K279","v":0}]
["•  ជំនួយបច្ចេកទេស",{"$f":"SUM(B270:B271)","v":0},null,null,{"$f":"SUM(E270:E271)","v":0},null,null,{"$f":"SUM(H270:H271)","v":0},null,null,{"$f":"SUM(K270:K271)","v":0}]
["- មានហិរញ្ញប្បទាន",{"$f":"B281","v":0},null,null,{"$f":"E281","v":0},null,null,{"$f":"H281","v":0},null,null,{"$f":"K281","v":0}]
["- មិនទាន់មានហិរញ្ញប្បទាន",0,null,null,{"$f":"E282","v":0},null,null,{"$f":"H282","v":0},null,null,{"$f":"K282","v":0}]
[{"$f":"ព័ត៌មានអង្គភាព!C26","v":"អនុកម្មវិធីទី ៥.១៨ សេវាគាំទ្រសេវាអប់រំ និងអភិបាលកិច្ចល្អ របស់មន្ទីរជំនាញរាជធានី ខេត្ត"},{"$f":"SUM(B273,B276)","v":0},null,null,{"$f":"SUM(E273,E276)","v":0},null,null,{"$f":"SUM(H273,H276)","v":0},null,null,{"$f":"SUM(K273,K276)","v":0}]
["□ សរុបចំណាយចរន្ដ",{"$f":"SUM(B274:B275)","v":0},null,null,{"$f":"SUM(E274:E275)","v":0},null,null,{"$f":"SUM(H274:H275)","v":0},null,null,{"$f":"SUM(K274:K275)","v":0}]
["•  បន្ទុកបុគ្គលិក",{"$f":"B285","v":0},null,null,{"$f":"E285","v":0},null,null,{"$f":"H285","v":0},null,null,{"$f":"K285","v":0}]
["•  ក្រៅបន្ទុកបុគ្គលិក",{"$f":"B286","v":0},null,null,{"$f":"E286","v":0},null,null,{"$f":"H286","v":0},null,null,{"$f":"K286","v":0}]
["□ សរុបចំណាយមូលធន",{"$f":"SUM(B277,B280)","v":0},null,null,{"$f":"SUM(E277,E280)","v":0},null,null,{"$f":"SUM(H277,H280)","v":0},null,null,{"$f":"SUM(K277,K280)","v":0}]
["•  គម្រោងវិនិយោគ",{"$f":"SUM(B278:B279)","v":0},null,null,{"$f":"SUM(E278:E279)","v":0},null,null,{"$f":"SUM(H278:H279)","v":0},null,null,{"$f":"SUM(K278:K279)","v":0}]
["- មានហិរញ្ញប្បទាន",{"$f":"B289","v":0},null,null,{"$f":"E289","v":0},null,null,{"$f":"H289","v":0},null,null,{"$f":"K289","v":0}]
["- មិនទាន់មានហិរញ្ញប្បទាន",0,null,null,{"$f":"E290","v":0},null,null,{"$f":"H290","v":0},null,null,{"$f":"K290","v":0}]
["•  ជំនួយបច្ចេកទេស",{"$f":"SUM(B281:B282)","v":0},null,null,{"$f":"SUM(E281:E282)","v":0},null,null,{"$f":"SUM(H281:H282)","v":0},null,null,{"$f":"SUM(K281:K282)","v":0}]
["- មានហិរញ្ញប្បទាន",{"$f":"B292","v":0},null,null,{"$f":"E292","v":0},null,null,{"$f":"H292","v":0},null,null,{"$f":"K292","v":0}]
["- មិនទាន់មានហិរញ្ញប្បទាន",0,null,null,{"$f":"E293","v":0},null,null,{"$f":"H293","v":0},null,null,{"$f":"K293","v":0}]
[{"$f":"ព័ត៌មានអង្គភាព!C27","v":"ចង្កោមសកម្មភាពទី ០១៖ខេត្តបន្ទាយមានជ័យ"},{"$f":"SUM(B284,B287)","v":0},null,null,{"$f":"SUM(E284,E287)","v":0},null,null,{"$f":"SUM(H284,H287)","v":0},null,null,{"$f":"SUM(K284,K287)","v":0}]
["□ សរុបចំណាយចរន្ដ",{"$f":"SUM(B285:B286)","v":0},null,null,{"$f":"SUM(E285:E286)","v":0},null,null,{"$f":"SUM(H285:H286)","v":0},null,null,{"$f":"SUM(K285:K286)","v":0}]
["•  បន្ទុកបុគ្គលិក",{"$f":"SUM(B296,B307,B318,B329,B340,B351,B362,B373,B384,B395,B406,B417,B428,B439,B450,B461,B472)","v":0},null,null,{"$f":"SUM(E296,E307,E318,E329,E340,E351,E362,E373,E384,E395,E406,E417,E428,E439,E450,E461,E472)","v":0},null,null,{"$f":"SUM(H296,H307,H318,H329,H340,H351,H362,H373,H384,H395,H406,H417,H428,H439,H450,H461,H472)","v":0},null,null,{"$f":"SUM(K296,K307,K318,K329,K340,K351,K362,K373,K384,K395,K406,K417,K428,K439,K450,K461,K472)","v":0}]
["•  ក្រៅបន្ទុកបុគ្គលិក",{"$f":"SUM(B297,B308,B319,B330,B341,B352,B363,B374,B385,B396,B407,B418,B429,B440,B451,B462,B473)","v":0},null,null,0,null,null,0,null,null,0]
["□ សរុបចំណាយមូលធន",{"$f":"SUM(B288,B291)","v":0},null,null,{"$f":"SUM(E288,E291)","v":0},null,null,{"$f":"SUM(H288,H291)","v":0},null,null,{"$f":"SUM(K288,K291)","v":0}]
["•  គម្រោងវិនិយោគ",{"$f":"SUM(B289:B290)","v":0},null,null,{"$f":"SUM(E289:E290)","v":0},null,null,{"$f":"SUM(H289:H290)","v":0},null,null,{"$f":"SUM(K289:K290)","v":0}]
["- មានហិរញ្ញប្បទាន",{"$f":"SUM(B300,B311,B322,B333,B344,B355,B366,B377,B388,B399,B410,B421,B432,B443,B454,B465,B476)","v":0},null,null,{"$f":"SUM(E300,E311,E322,E333,E344,E355,E366,E377,E388,E399,E410,E421,E432,E443,E454,E465,E476)","v":0},null,null,{"$f":"SUM(H300,H311,H322,H333,H344,H355,H366,H377,H388,H399,H410,H421,H432,H443,H454,H465,H476)","v":0},null,null,{"$f":"SUM(K300,K311,K322,K333,K344,K355,K366,K377,K388,K399,K410,K421,K432,K443,K454,K465,K476)","v":0}]
["- មិនទាន់មានហិរញ្ញប្បទាន",0,null,null,{"$f":"SUM(E301,E312,E323,E334,E345,E356,E367,E378,E389,E400,E411,E422,E433,E444,E455,E466,E477)","v":0},null,null,{"$f":"SUM(H301,H312,H323,H334,H345,H356,H367,H378,H389,H400,H411,H422,H433,H444,H455,H466,H477)","v":0},null,null,{"$f":"SUM(K301,K312,K323,K334,K345,K356,K367,K378,K389,K400,K411,K422,K433,K444,K455,K466,K477)","v":0}]
["•  ជំនួយបច្ចេកទេស",{"$f":"SUM(B292:B293)","v":0},null,null,{"$f":"SUM(E292:E293)","v":0},null,null,{"$f":"SUM(H292:H293)","v":0},null,null,{"$f":"SUM(K292:K293)","v":0}]
["- មានហិរញ្ញប្បទាន",{"$f":"SUM(B303,B314,B325,B336,B347,B358,B369,B380,B391,B402,B413,B424,B435,B446,B457,B468,B479)","v":0},null,null,{"$f":"SUM(E303,E314,E325,E336,E347,E358,E369,E380,E391,E402,E413,E424,E435,E446,E457,E468,E479)","v":0},null,null,{"$f":"SUM(H303,H314,H325,H336,H347,H358,H369,H380,H391,H402,H413,H424,H435,H446,H457,H468,H479)","v":0},null,null,{"$f":"SUM(K303,K314,K325,K336,K347,K358,K369,K380,K391,K402,K413,K424,K435,K446,K457,K468,K479)","v":0}]
["- មិនទាន់មានហិរញ្ញប្បទាន",0,null,null,{"$f":"SUM(E304,E315,E326,E337,E348,E359,E370,E381,E392,E403,E414,E425,E436,E447,E458,E469,E480)","v":0},null,null,{"$f":"SUM(H304,H315,H326,H337,H348,H359,H370,H381,H392,H403,H414,H425,H436,H447,H458,H469,H480)","v":0},null,null,{"$f":"SUM(K304,K315,K326,K337,K348,K359,K370,K381,K392,K403,K414,K425,K436,K447,K458,K469,K480)","v":0}]
[{"$f":"ព័ត៌មានអង្គភាព!C28","v":"៥.១៨.០១.១៖ ការអភិវឌ្ឍនិងពង្រឹងប្រព័ន្ធផែនការអប់រំ"},{"$f":"SUM(B295,B298)","v":0},null,null,{"$f":"SUM(E295,E298)","v":0},null,null,{"$f":"SUM(H295,H298)","v":0},null,null,{"$f":"SUM(K295,K298)","v":0}]
["□ សរុបចំណាយចរន្ដ",{"$f":"SUM(B296:B297)","v":0},null,null,{"$f":"SUM(E296:E297)","v":0},null,null,0,null,null,0]
["•  បន្ទុកបុគ្គលិក",{"$f":"INDEX(staff_exp2018,MATCH(A294,activities,0))","v":0},null,null,{"$f":"INDEX(staff_exp2019,MATCH(A294,activities,0))","v":0},null,null,{"$f":"INDEX(staff_exp2020,MATCH(A294,activities,0))","v":0},null,null,{"$f":"INDEX(staff_exp2021,MATCH(A294,activities,0))","v":0}]
["•  ក្រៅបន្ទុកបុគ្គលិក",{"$f":"INDEX(non_staffexp2018,MATCH(A294,activities,0))","v":0},null,null,{"$f":"INDEX(non_staffexp2019,MATCH(A294,activities,0))","v":0},null,null,{"$f":"INDEX(non_staffexp2020,MATCH(A294,activities,0))","v":0},null,null,{"$f":"INDEX(non_staffexp2021,MATCH(A294,activities,0))","v":0}]
["□ សរុបចំណាយមូលធន",{"$f":"SUM(B299,B302)","v":0},null,null,{"$f":"SUM(E299,E302)","v":0},null,null,0,null,null,0]
["•  គម្រោងវិនិយោគ",{"$f":"SUM(B300:B301)","v":0},null,null,{"$f":"SUM(E300:E301)","v":0},null,null,0,null,null,0]
["- មានហិរញ្ញប្បទាន"]
["- មិនទាន់មានហិរញ្ញប្បទាន"]
["•  ជំនួយបច្ចេកទេស",{"$f":"SUM(B303:B304)","v":0},null,null,{"$f":"SUM(E303:E304)","v":0},null,null,0,null,null,0]
["- មានហិរញ្ញប្បទាន"]
["- មិនទាន់មានហិរញ្ញប្បទាន"]
[{"$f":"ព័ត៌មានអង្គភាព!C29","v":"៥.១៨.០១.២៖ ការគ្រប់គ្រង និងពង្រឹងប្រសិទ្ធភាព​ធនធានមនុស្ស"},{"$f":"SUM(B306,B309)","v":0},null,null,{"$f":"SUM(E306,E309)","v":0},null,null,{"$f":"SUM(H306,H309)","v":0},null,null,{"$f":"SUM(K306,K309)","v":0}]
["□ សរុបចំណាយចរន្ដ",{"$f":"SUM(B307:B308)","v":0},null,null,{"$f":"SUM(E307:E308)","v":0},null,null,0,null,null,0]
["•  បន្ទុកបុគ្គលិក",{"$f":"INDEX(staff_exp2018,MATCH(A305,activities,0))","v":0},null,null,{"$f":"INDEX(staff_exp2019,MATCH(A305,activities,0))","v":0},null,null,{"$f":"INDEX(staff_exp2020,MATCH(A305,activities,0))","v":0},null,null,{"$f":"INDEX(staff_exp2021,MATCH(A305,activities,0))","v":0}]
["•  ក្រៅបន្ទុកបុគ្គលិក",{"$f":"INDEX(non_staffexp2018,MATCH(A305,activities,0))","v":0},null,null,{"$f":"INDEX(non_staffexp2019,MATCH(A305,activities,0))","v":0},null,null,{"$f":"INDEX(non_staffexp2020,MATCH(A305,activities,0))","v":0},null,null,{"$f":"INDEX(non_staffexp2021,MATCH(A305,activities,0))","v":0}]
["□ សរុបចំណាយមូលធន",{"$f":"SUM(B310,B313)","v":0},null,null,{"$f":"SUM(E310,E313)","v":0},null,null,0,null,null,0]
["•  គម្រោងវិនិយោគ",{"$f":"SUM(B311:B312)","v":0},null,null,{"$f":"SUM(E311:E312)","v":0},null,null,0,null,null,0]
["- មានហិរញ្ញប្បទាន"]
["- មិនទាន់មានហិរញ្ញប្បទាន"]
["•  ជំនួយបច្ចេកទេស",{"$f":"SUM(B314:B315)","v":0},null,null,{"$f":"SUM(E314:E315)","v":0},null,null,0,null,null,0]
["- មានហិរញ្ញប្បទាន"]
["- មិនទាន់មានហិរញ្ញប្បទាន"]
[{"$f":"ព័ត៌មានអង្គភាព!C30","v":"៥.១៨.០១.៣៖ ការអភិវឌ្ឍសមត្ថភាព ការងារគ្រប់គ្រង ផែនការហិរញ្ញវត្ថុ និងមូលដ្ឋានសម្ភារៈ"},{"$f":"SUM(B317,B320)","v":0},null,null,{"$f":"SUM(E317,E320)","v":0},null,null,{"$f":"SUM(H317,H320)","v":0},null,null,{"$f":"SUM(K317,K320)","v":0}]
["□ សរុបចំណាយចរន្ដ",{"$f":"SUM(B318:B319)","v":0},null,null,{"$f":"SUM(E318:E319)","v":0},null,null,0,null,null,0]
["•  បន្ទុកបុគ្គលិក",{"$f":"INDEX(staff_exp2018,MATCH(A316,activities,0))","v":0},null,null,{"$f":"INDEX(staff_exp2019,MATCH(A316,activities,0))","v":0},null,null,{"$f":"INDEX(staff_exp2020,MATCH(A316,activities,0))","v":0},null,null,{"$f":"INDEX(staff_exp2021,MATCH(A316,activities,0))","v":0}]
["•  ក្រៅបន្ទុកបុគ្គលិក",{"$f":"INDEX(non_staffexp2018,MATCH(A316,activities,0))","v":0},null,null,{"$f":"INDEX(non_staffexp2019,MATCH(A316,activities,0))","v":0},null,null,{"$f":"INDEX(non_staffexp2020,MATCH(A316,activities,0))","v":0},null,null,{"$f":"INDEX(non_staffexp2021,MATCH(A316,activities,0))","v":0}]
["□ សរុបចំណាយមូលធន",{"$f":"SUM(B321,B324)","v":0},null,null,{"$f":"SUM(E321,E324)","v":0},null,null,0,null,null,0]
["•  គម្រោងវិនិយោគ",{"$f":"SUM(B322:B323)","v":0},null,null,{"$f":"SUM(E322:E323)","v":0},null,null,0,null,null,0]
["- មានហិរញ្ញប្បទាន"]
["- មិនទាន់មានហិរញ្ញប្បទាន"]
["•  ជំនួយបច្ចេកទេស",{"$f":"SUM(B325:B326)","v":0},null,null,{"$f":"SUM(E325:E326)","v":0},null,null,0,null,null,0]
["- មានហិរញ្ញប្បទាន"]
["- មិនទាន់មានហិរញ្ញប្បទាន"]
[{"$f":"ព័ត៌មានអង្គភាព!C31","v":"៥.១៨.០១.៤៖ ពង្រឹងការងារសវនកម្មផ្ទៃក្នុង"},{"$f":"SUM(B328,B331)","v":0},null,null,{"$f":"SUM(E328,E331)","v":0},null,null,{"$f":"SUM(H328,H331)","v":0},null,null,{"$f":"SUM(K328,K331)","v":0}]
["□ សរុបចំណាយចរន្ដ",{"$f":"SUM(B329:B330)","v":0},null,null,{"$f":"SUM(E329:E330)","v":0},null,null,0,null,null,0]
["•  បន្ទុកបុគ្គលិក",{"$f":"INDEX(staff_exp2018,MATCH(A327,activities,0))","v":0},null,null,{"$f":"INDEX(staff_exp2019,MATCH(A327,activities,0))","v":0},null,null,{"$f":"INDEX(staff_exp2020,MATCH(A327,activities,0))","v":0},null,null,{"$f":"INDEX(staff_exp2021,MATCH(A327,activities,0))","v":0}]
["•  ក្រៅបន្ទុកបុគ្គលិក",{"$f":"INDEX(non_staffexp2018,MATCH(A327,activities,0))","v":0},null,null,{"$f":"INDEX(non_staffexp2019,MATCH(A327,activities,0))","v":0},null,null,{"$f":"INDEX(non_staffexp2020,MATCH(A327,activities,0))","v":0},null,null,{"$f":"INDEX(non_staffexp2021,MATCH(A327,activities,0))","v":0}]
["□ សរុបចំណាយមូលធន",{"$f":"SUM(B332,B335)","v":0},null,null,{"$f":"SUM(E332,E335)","v":0},null,null,0,null,null,0]
["•  គម្រោងវិនិយោគ",{"$f":"SUM(B333:B334)","v":0},null,null,{"$f":"SUM(E333:E334)","v":0},null,null,0,null,null,0]
["- មានហិរញ្ញប្បទាន"]
["- មិនទាន់មានហិរញ្ញប្បទាន"]
["•  ជំនួយបច្ចេកទេស",{"$f":"SUM(B336:B337)","v":0},null,null,{"$f":"SUM(E336:E337)","v":0},null,null,0,null,null,0]
["- មានហិរញ្ញប្បទាន"]
["- មិនទាន់មានហិរញ្ញប្បទាន"]
[{"$f":"ព័ត៌មានអង្គភាព!C32","v":"៥.១៨.០១.៥៖ ការពិនិត្យតាមដាន វាយតម្លៃ និងអធិការកិច្ចប្រព័ន្ធធានាគុណភាពអប់រំ"},{"$f":"SUM(B339,B342)","v":0},null,null,{"$f":"SUM(E339,E342)","v":0},null,null,{"$f":"SUM(H339,H342)","v":0},null,null,{"$f":"SUM(K339,K342)","v":0}]
["□ សរុបចំណាយចរន្ដ",{"$f":"SUM(B340:B341)","v":0},null,null,{"$f":"SUM(E340:E341)","v":0},null,null,0,null,null,0]
["•  បន្ទុកបុគ្គលិក",{"$f":"INDEX(staff_exp2018,MATCH(A338,activities,0))","v":0},null,null,{"$f":"INDEX(staff_exp2019,MATCH(A338,activities,0))","v":0},null,null,{"$f":"INDEX(staff_exp2020,MATCH(A338,activities,0))","v":0},null,null,{"$f":"INDEX(staff_exp2021,MATCH(A338,activities,0))","v":0}]
["•  ក្រៅបន្ទុកបុគ្គលិក",{"$f":"INDEX(non_staffexp2018,MATCH(A338,activities,0))","v":0},null,null,{"$f":"INDEX(non_staffexp2019,MATCH(A338,activities,0))","v":0},null,null,{"$f":"INDEX(non_staffexp2020,MATCH(A338,activities,0))","v":0},null,null,{"$f":"INDEX(non_staffexp2021,MATCH(A338,activities,0))","v":0}]
["□ សរុបចំណាយមូលធន",{"$f":"SUM(B343,B346)","v":0},null,null,{"$f":"SUM(E343,E346)","v":0},null,null,0,null,null,0]
["•  គម្រោងវិនិយោគ",{"$f":"SUM(B344:B345)","v":0},null,null,{"$f":"SUM(E344:E345)","v":0},null,null,0,null,null,0]
["- មានហិរញ្ញប្បទាន"]
["- មិនទាន់មានហិរញ្ញប្បទាន"]
["•  ជំនួយបច្ចេកទេស",{"$f":"SUM(B347:B348)","v":0},null,null,{"$f":"SUM(E347:E348)","v":0},null,null,0,null,null,0]
["- មានហិរញ្ញប្បទាន"]
["- មិនទាន់មានហិរញ្ញប្បទាន"]
[{"$f":"ព័ត៌មានអង្គភាព!C33","v":"៥.១៨.០១.៦៖ អធិការកិច្ចរដ្ឋបាល និងហិរញ្ញវត្ថុ"},{"$f":"SUM(B350,B353)","v":0},null,null,{"$f":"SUM(E350,E353)","v":0},null,null,{"$f":"SUM(H350,H353)","v":0},null,null,{"$f":"SUM(K350,K353)","v":0}]
["□ សរុបចំណាយចរន្ដ",{"$f":"SUM(B351:B352)","v":0},null,null,{"$f":"SUM(E351:E352)","v":0},null,null,0,null,null,0]
["•  បន្ទុកបុគ្គលិក",{"$f":"INDEX(staff_exp2018,MATCH(A349,activities,0))","v":0},null,null,{"$f":"INDEX(staff_exp2019,MATCH(A349,activities,0))","v":0},null,null,{"$f":"INDEX(staff_exp2020,MATCH(A349,activities,0))","v":0},null,null,{"$f":"INDEX(staff_exp2021,MATCH(A349,activities,0))","v":0}]
["•  ក្រៅបន្ទុកបុគ្គលិក",{"$f":"INDEX(non_staffexp2018,MATCH(A349,activities,0))","v":0},null,null,{"$f":"INDEX(non_staffexp2019,MATCH(A349,activities,0))","v":0},null,null,{"$f":"INDEX(non_staffexp2020,MATCH(A349,activities,0))","v":0},null,null,{"$f":"INDEX(non_staffexp2021,MATCH(A349,activities,0))","v":0}]
["□ សរុបចំណាយមូលធន",{"$f":"SUM(B354,B357)","v":0},null,null,{"$f":"SUM(E354,E357)","v":0},null,null,0,null,null,0]
["•  គម្រោងវិនិយោគ",{"$f":"SUM(B355:B356)","v":0},null,null,{"$f":"SUM(E355:E356)","v":0},null,null,0,null,null,0]
["- មានហិរញ្ញប្បទាន"]
["- មិនទាន់មានហិរញ្ញប្បទាន"]
["•  ជំនួយបច្ចេកទេស",{"$f":"SUM(B358:B359)","v":0},null,null,{"$f":"SUM(E358:E359)","v":0},null,null,0,null,null,0]
["- មានហិរញ្ញប្បទាន"]
["- មិនទាន់មានហិរញ្ញប្បទាន"]
[{"$f":"ព័ត៌មានអង្គភាព!C34","v":"៥.១៨.០១.៧៖ លើកកម្ពស់ការផ្សព្វផ្សាយព័ត៌មានអប់រំ និងកិច្ចសហប្រតិបត្តិការអាស៊ាន និងស៊ីមេអូ"},{"$f":"SUM(B361,B364)","v":0},null,null,{"$f":"SUM(E361,E364)","v":0},null,null,{"$f":"SUM(H361,H364)","v":0},null,null,{"$f":"SUM(K361,K364)","v":0}]
["□ សរុបចំណាយចរន្ដ",{"$f":"SUM(B362:B363)","v":0},null,null,{"$f":"SUM(E362:E363)","v":0},null,null,0,null,null,0]
["•  បន្ទុកបុគ្គលិក",{"$f":"INDEX(staff_exp2018,MATCH(A360,activities,0))","v":0},null,null,{"$f":"INDEX(staff_exp2019,MATCH(A360,activities,0))","v":0},null,null,{"$f":"INDEX(staff_exp2020,MATCH(A360,activities,0))","v":0},null,null,{"$f":"INDEX(staff_exp2021,MATCH(A360,activities,0))","v":0}]
["•  ក្រៅបន្ទុកបុគ្គលិក",{"$f":"INDEX(non_staffexp2018,MATCH(A360,activities,0))","v":0},null,null,{"$f":"INDEX(non_staffexp2019,MATCH(A360,activities,0))","v":0},null,null,{"$f":"INDEX(non_staffexp2020,MATCH(A360,activities,0))","v":0},null,null,{"$f":"INDEX(non_staffexp2021,MATCH(A360,activities,0))","v":0}]
["□ សរុបចំណាយមូលធន",{"$f":"SUM(B365,B368)","v":0},null,null,{"$f":"SUM(E365,E368)","v":0},null,null,0,null,null,0]
["•  គម្រោងវិនិយោគ",{"$f":"SUM(B366:B367)","v":0},null,null,{"$f":"SUM(E366:E367)","v":0},null,null,0,null,null,0]
["- មានហិរញ្ញប្បទាន"]
["- មិនទាន់មានហិរញ្ញប្បទាន"]
["•  ជំនួយបច្ចេកទេស",{"$f":"SUM(B369:B370)","v":0},null,null,{"$f":"SUM(E369:E370)","v":0},null,null,0,null,null,0]
["- មានហិរញ្ញប្បទាន"]
["- មិនទាន់មានហិរញ្ញប្បទាន"]
[{"$f":"ព័ត៌មានអង្គភាព!C35","v":"៥.១៨.០១.៨៖ ការពង្រឹងការងារនីតិកម្មសម្រាប់វិស័យអប់រំ"},{"$f":"SUM(B372,B375)","v":0},null,null,{"$f":"SUM(E372,E375)","v":0},null,null,{"$f":"SUM(H372,H375)","v":0},null,null,{"$f":"SUM(K372,K375)","v":0}]
["□ សរុបចំណាយចរន្ដ",{"$f":"SUM(B373:B374)","v":0},null,null,{"$f":"SUM(E373:E374)","v":0},null,null,0,null,null,0]
["•  បន្ទុកបុគ្គលិក",{"$f":"INDEX(staff_exp2018,MATCH(A371,activities,0))","v":0},null,null,{"$f":"INDEX(staff_exp2019,MATCH(A371,activities,0))","v":0},null,null,{"$f":"INDEX(staff_exp2020,MATCH(A371,activities,0))","v":0},null,null,{"$f":"INDEX(staff_exp2021,MATCH(A371,activities,0))","v":0}]
["•  ក្រៅបន្ទុកបុគ្គលិក",{"$f":"INDEX(non_staffexp2018,MATCH(A371,activities,0))","v":0},null,null,{"$f":"INDEX(non_staffexp2019,MATCH(A371,activities,0))","v":0},null,null,{"$f":"INDEX(non_staffexp2020,MATCH(A371,activities,0))","v":0},null,null,{"$f":"INDEX(non_staffexp2021,MATCH(A371,activities,0))","v":0}]
["□ សរុបចំណាយមូលធន",{"$f":"SUM(B376,B379)","v":0},null,null,{"$f":"SUM(E376,E379)","v":0},null,null,0,null,null,0]
["•  គម្រោងវិនិយោគ",{"$f":"SUM(B377:B378)","v":0},null,null,{"$f":"SUM(E377:E378)","v":0},null,null,0,null,null,0]
["- មានហិរញ្ញប្បទាន"]
["- មិនទាន់មានហិរញ្ញប្បទាន"]
["•  ជំនួយបច្ចេកទេស",{"$f":"SUM(B380:B381)","v":0},null,null,{"$f":"SUM(E380:E381)","v":0},null,null,0,null,null,0]
["- មានហិរញ្ញប្បទាន"]
["- មិនទាន់មានហិរញ្ញប្បទាន"]
[{"$f":"ព័ត៌មានអង្គភាព!C36","v":"៥.១៨.០១.៩៖ ការពង្រឹងការគ្រប់គ្រងហេដ្ឋារចនាសម្ព័ន្ធអប់រំ"},{"$f":"SUM(B383,B386)","v":0},null,null,{"$f":"SUM(E383,E386)","v":0},null,null,{"$f":"SUM(H383,H386)","v":0},null,null,{"$f":"SUM(K383,K386)","v":0}]
["□ សរុបចំណាយចរន្ដ",{"$f":"SUM(B384:B385)","v":0},null,null,{"$f":"SUM(E384:E385)","v":0},null,null,0,null,null,0]
["•  បន្ទុកបុគ្គលិក",{"$f":"INDEX(staff_exp2018,MATCH(A382,activities,0))","v":0},null,null,{"$f":"INDEX(staff_exp2019,MATCH(A382,activities,0))","v":0},null,null,{"$f":"INDEX(staff_exp2020,MATCH(A382,activities,0))","v":0},null,null,{"$f":"INDEX(staff_exp2021,MATCH(A382,activities,0))","v":0}]
["•  ក្រៅបន្ទុកបុគ្គលិក",{"$f":"INDEX(non_staffexp2018,MATCH(A382,activities,0))","v":0},null,null,{"$f":"INDEX(non_staffexp2019,MATCH(A382,activities,0))","v":0},null,null,{"$f":"INDEX(non_staffexp2020,MATCH(A382,activities,0))","v":0},null,null,{"$f":"INDEX(non_staffexp2021,MATCH(A382,activities,0))","v":0}]
["□ សរុបចំណាយមូលធន",{"$f":"SUM(B387,B390)","v":0},null,null,{"$f":"SUM(E387,E390)","v":0},null,null,0,null,null,0]
["•  គម្រោងវិនិយោគ",{"$f":"SUM(B388:B389)","v":0},null,null,{"$f":"SUM(E388:E389)","v":0},null,null,0,null,null,0]
["- មានហិរញ្ញប្បទាន"]
["- មិនទាន់មានហិរញ្ញប្បទាន"]
["•  ជំនួយបច្ចេកទេស",{"$f":"SUM(B391:B392)","v":0},null,null,{"$f":"SUM(E391:E392)","v":0},null,null,0,null,null,0]
["- មានហិរញ្ញប្បទាន"]
["- មិនទាន់មានហិរញ្ញប្បទាន"]
[{"$f":"ព័ត៌មានអង្គភាព!C37","v":"៥.១៨.០១.១០៖ ការពង្រឹងការគ្រប់គ្រង ការផ្គត់ផ្គង់សម្ភារៈ និងទ្រព្យសម្បត្តិរដ្ឋ"},{"$f":"SUM(B394,B397)","v":0},null,null,{"$f":"SUM(E394,E397)","v":0},null,null,{"$f":"SUM(H394,H397)","v":0},null,null,{"$f":"SUM(K394,K397)","v":0}]
["□ សរុបចំណាយចរន្ដ",{"$f":"SUM(B395:B396)","v":0},null,null,{"$f":"SUM(E395:E396)","v":0},null,null,0,null,null,0]
["•  បន្ទុកបុគ្គលិក",{"$f":"INDEX(staff_exp2018,MATCH(A393,activities,0))","v":0},null,null,{"$f":"INDEX(staff_exp2019,MATCH(A393,activities,0))","v":0},null,null,{"$f":"INDEX(staff_exp2020,MATCH(A393,activities,0))","v":0},null,null,{"$f":"INDEX(staff_exp2021,MATCH(A393,activities,0))","v":0}]
["•  ក្រៅបន្ទុកបុគ្គលិក",{"$f":"INDEX(non_staffexp2018,MATCH(A393,activities,0))","v":0},null,null,{"$f":"INDEX(non_staffexp2019,MATCH(A393,activities,0))","v":0},null,null,{"$f":"INDEX(non_staffexp2020,MATCH(A393,activities,0))","v":0},null,null,{"$f":"INDEX(non_staffexp2021,MATCH(A393,activities,0))","v":0}]
["□ សរុបចំណាយមូលធន",{"$f":"SUM(B398,B401)","v":0},null,null,{"$f":"SUM(E398,E401)","v":0},null,null,0,null,null,0]
["•  គម្រោងវិនិយោគ",{"$f":"SUM(B399:B400)","v":0},null,null,{"$f":"SUM(E399:E400)","v":0},null,null,0,null,null,0]
["- មានហិរញ្ញប្បទាន"]
["- មិនទាន់មានហិរញ្ញប្បទាន"]
["•  ជំនួយបច្ចេកទេស",{"$f":"SUM(B402:B403)","v":0},null,null,{"$f":"SUM(E402:E403)","v":0},null,null,0,null,null,0]
["- មានហិរញ្ញប្បទាន"]
["- មិនទាន់មានហិរញ្ញប្បទាន"]
[{"$f":"ព័ត៌មានអង្គភាព!C38","v":"៥.១៨.០១.១១៖ ការអភិវឌ្ឍ និងពង្រឹងប្រសិទ្ធភាពការគ្រប់គ្រង និងការធានាភាពស័ក្តិសិទ្ធនៃសេវារដ្ឋបាលអប់រំ"},{"$f":"SUM(B405,B408)","v":0},null,null,{"$f":"SUM(E405,E408)","v":0},null,null,{"$f":"SUM(H405,H408)","v":0},null,null,{"$f":"SUM(K405,K408)","v":0}]
["□ សរុបចំណាយចរន្ដ",{"$f":"SUM(B406:B407)","v":0},null,null,{"$f":"SUM(E406:E407)","v":0},null,null,0,null,null,0]
["•  បន្ទុកបុគ្គលិក",{"$f":"INDEX(staff_exp2018,MATCH(A404,activities,0))","v":0},null,null,{"$f":"INDEX(staff_exp2019,MATCH(A404,activities,0))","v":0},null,null,{"$f":"INDEX(staff_exp2020,MATCH(A404,activities,0))","v":0},null,null,{"$f":"INDEX(staff_exp2021,MATCH(A404,activities,0))","v":0}]
["•  ក្រៅបន្ទុកបុគ្គលិក",{"$f":"INDEX(non_staffexp2018,MATCH(A404,activities,0))","v":0},null,null,{"$f":"INDEX(non_staffexp2019,MATCH(A404,activities,0))","v":0},null,null,{"$f":"INDEX(non_staffexp2020,MATCH(A404,activities,0))","v":0},null,null,{"$f":"INDEX(non_staffexp2021,MATCH(A404,activities,0))","v":0}]
["□ សរុបចំណាយមូលធន",{"$f":"SUM(B409,B412)","v":0},null,null,{"$f":"SUM(E409,E412)","v":0},null,null,0,null,null,0]
["•  គម្រោងវិនិយោគ",{"$f":"SUM(B410:B411)","v":0},null,null,{"$f":"SUM(E410:E411)","v":0},null,null,0,null,null,0]
["- មានហិរញ្ញប្បទាន"]
["- មិនទាន់មានហិរញ្ញប្បទាន"]
["•  ជំនួយបច្ចេកទេស",{"$f":"SUM(B413:B414)","v":0},null,null,{"$f":"SUM(E413:E414)","v":0},null,null,0,null,null,0]
["- មានហិរញ្ញប្បទាន"]
["- មិនទាន់មានហិរញ្ញប្បទាន"]
[{"$f":"ព័ត៌មានអង្គភាព!C39","v":"៥.១៨.០១.១២៖ ការអភិវឌ្ឍកិច្ចសហប្រតិបត្តិការជាតិ អន្តរជាតិលើវិស័យអប់រំ"},{"$f":"SUM(B416,B419)","v":0},null,null,{"$f":"SUM(E416,E419)","v":0},null,null,{"$f":"SUM(H416,H419)","v":0},null,null,{"$f":"SUM(K416,K419)","v":0}]
["□ សរុបចំណាយចរន្ដ",{"$f":"SUM(B417:B418)","v":0},null,null,{"$f":"SUM(E417:E418)","v":0},null,null,0,null,null,0]
["•  បន្ទុកបុគ្គលិក",{"$f":"INDEX(staff_exp2018,MATCH(A415,activities,0))","v":0},null,null,{"$f":"INDEX(staff_exp2019,MATCH(A415,activities,0))","v":0},null,null,{"$f":"INDEX(staff_exp2020,MATCH(A415,activities,0))","v":0},null,null,{"$f":"INDEX(staff_exp2021,MATCH(A415,activities,0))","v":0}]
["•  ក្រៅបន្ទុកបុគ្គលិក",{"$f":"INDEX(non_staffexp2018,MATCH(A415,activities,0))","v":0},null,null,{"$f":"INDEX(non_staffexp2019,MATCH(A415,activities,0))","v":0},null,null,{"$f":"INDEX(non_staffexp2020,MATCH(A415,activities,0))","v":0},null,null,{"$f":"INDEX(non_staffexp2021,MATCH(A415,activities,0))","v":0}]
["□ សរុបចំណាយមូលធន",{"$f":"SUM(B420,B423)","v":0},null,null,{"$f":"SUM(E420,E423)","v":0},null,null,0,null,null,0]
["•  គម្រោងវិនិយោគ",{"$f":"SUM(B421:B422)","v":0},null,null,{"$f":"SUM(E421:E422)","v":0},null,null,0,null,null,0]
["- មានហិរញ្ញប្បទាន"]
["- មិនទាន់មានហិរញ្ញប្បទាន"]
["•  ជំនួយបច្ចេកទេស",{"$f":"SUM(B424:B425)","v":0},null,null,{"$f":"SUM(E424:E425)","v":0},null,null,0,null,null,0]
["- មានហិរញ្ញប្បទាន"]
["- មិនទាន់មានហិរញ្ញប្បទាន"]
[{"$f":"ព័ត៌មានអង្គភាព!C40","v":"៥.១៨.០១.១៣៖ ការអភិវឌ្ឍប្រព័ន្ធព័ត៌មានគ្រប់គ្រងអប់រំ"},{"$f":"SUM(B427,B430)","v":0},null,null,{"$f":"SUM(E427,E430)","v":0},null,null,{"$f":"SUM(H427,H430)","v":0},null,null,{"$f":"SUM(K427,K430)","v":0}]
["□ សរុបចំណាយចរន្ដ",{"$f":"SUM(B428:B429)","v":0},null,null,{"$f":"SUM(E428:E429)","v":0},null,null,0,null,null,0]
["•  បន្ទុកបុគ្គលិក",{"$f":"INDEX(staff_exp2018,MATCH(A426,activities,0))","v":0},null,null,{"$f":"INDEX(staff_exp2019,MATCH(A426,activities,0))","v":0},null,null,{"$f":"INDEX(staff_exp2020,MATCH(A426,activities,0))","v":0},null,null,{"$f":"INDEX(staff_exp2021,MATCH(A426,activities,0))","v":0}]
["•  ក្រៅបន្ទុកបុគ្គលិក",{"$f":"INDEX(non_staffexp2018,MATCH(A426,activities,0))","v":0},null,null,{"$f":"INDEX(non_staffexp2019,MATCH(A426,activities,0))","v":0},null,null,{"$f":"INDEX(non_staffexp2020,MATCH(A426,activities,0))","v":0},null,null,{"$f":"INDEX(non_staffexp2021,MATCH(A426,activities,0))","v":0}]
["□ សរុបចំណាយមូលធន",{"$f":"SUM(B431,B434)","v":0},null,null,{"$f":"SUM(E431,E434)","v":0},null,null,0,null,null,0]
["•  គម្រោងវិនិយោគ",{"$f":"SUM(B432:B433)","v":0},null,null,{"$f":"SUM(E432:E433)","v":0},null,null,0,null,null,0]
["- មានហិរញ្ញប្បទាន"]
["- មិនទាន់មានហិរញ្ញប្បទាន"]
["•  ជំនួយបច្ចេកទេស",{"$f":"SUM(B435:B436)","v":0},null,null,{"$f":"SUM(E435:E436)","v":0},null,null,0,null,null,0]
["- មានហិរញ្ញប្បទាន"]
["- មិនទាន់មានហិរញ្ញប្បទាន"]
[{"$f":"ព័ត៌មានអង្គភាព!C41","v":"៥.១៨.០១.១៤៖ ការស្រាវជ្រាវ និងអភិវឌ្ឍគោលនយោបាយអប់រំ"},{"$f":"SUM(B438,B441)","v":0},null,null,{"$f":"SUM(E438,E441)","v":0},null,null,{"$f":"SUM(H438,H441)","v":0},null,null,{"$f":"SUM(K438,K441)","v":0}]
["□ សរុបចំណាយចរន្ដ",{"$f":"SUM(B439:B440)","v":0},null,null,{"$f":"SUM(E439:E440)","v":0},null,null,0,null,null,0]
["•  បន្ទុកបុគ្គលិក",{"$f":"INDEX(staff_exp2018,MATCH(A437,activities,0))","v":0},null,null,{"$f":"INDEX(staff_exp2019,MATCH(A437,activities,0))","v":0},null,null,{"$f":"INDEX(staff_exp2020,MATCH(A437,activities,0))","v":0},null,null,{"$f":"INDEX(staff_exp2021,MATCH(A437,activities,0))","v":0}]
["•  ក្រៅបន្ទុកបុគ្គលិក",{"$f":"INDEX(non_staffexp2018,MATCH(A437,activities,0))","v":0},null,null,{"$f":"INDEX(non_staffexp2019,MATCH(A437,activities,0))","v":0},null,null,{"$f":"INDEX(non_staffexp2020,MATCH(A437,activities,0))","v":0},null,null,{"$f":"INDEX(non_staffexp2021,MATCH(A437,activities,0))","v":0}]
["□ សរុបចំណាយមូលធន",{"$f":"SUM(B442,B445)","v":0},null,null,{"$f":"SUM(E442,E445)","v":0},null,null,0,null,null,0]
["•  គម្រោងវិនិយោគ",{"$f":"SUM(B443:B444)","v":0},null,null,{"$f":"SUM(E443:E444)","v":0},null,null,0,null,null,0]
["- មានហិរញ្ញប្បទាន"]
["- មិនទាន់មានហិរញ្ញប្បទាន"]
["•  ជំនួយបច្ចេកទេស",{"$f":"SUM(B446:B447)","v":0},null,null,{"$f":"SUM(E446:E447)","v":0},null,null,0,null,null,0]
["- មានហិរញ្ញប្បទាន"]
["- មិនទាន់មានហិរញ្ញប្បទាន"]
[{"$f":"ព័ត៌មានអង្គភាព!C42","v":"៥.១៨.០១.១៥៖ ការអភិវឌ្ឍនិងពង្រឹងប្រព័ន្ធពិនិត្យ តាមដាន និងវាយតម្លៃ"},{"$f":"SUM(B449,B452)","v":0},null,null,{"$f":"SUM(E449,E452)","v":0},null,null,{"$f":"SUM(H449,H452)","v":0},null,null,{"$f":"SUM(K449,K452)","v":0}]
["□ សរុបចំណាយចរន្ដ",{"$f":"SUM(B450:B451)","v":0},null,null,{"$f":"SUM(E450:E451)","v":0},null,null,0,null,null,0]
["•  បន្ទុកបុគ្គលិក",{"$f":"INDEX(staff_exp2018,MATCH(A448,activities,0))","v":0},null,null,{"$f":"INDEX(staff_exp2019,MATCH(A448,activities,0))","v":0},null,null,{"$f":"INDEX(staff_exp2020,MATCH(A448,activities,0))","v":0},null,null,{"$f":"INDEX(staff_exp2021,MATCH(A448,activities,0))","v":0}]
["•  ក្រៅបន្ទុកបុគ្គលិក",{"$f":"INDEX(non_staffexp2018,MATCH(A448,activities,0))","v":0},null,null,{"$f":"INDEX(non_staffexp2019,MATCH(A448,activities,0))","v":0},null,null,{"$f":"INDEX(non_staffexp2020,MATCH(A448,activities,0))","v":0},null,null,{"$f":"INDEX(non_staffexp2021,MATCH(A448,activities,0))","v":0}]
["□ សរុបចំណាយមូលធន",{"$f":"SUM(B453,B456)","v":0},null,null,{"$f":"SUM(E453,E456)","v":0},null,null,0,null,null,0]
["•  គម្រោងវិនិយោគ",{"$f":"SUM(B454:B455)","v":0},null,null,{"$f":"SUM(E454:E455)","v":0},null,null,0,null,null,0]
["- មានហិរញ្ញប្បទាន"]
["- មិនទាន់មានហិរញ្ញប្បទាន"]
["•  ជំនួយបច្ចេកទេស",{"$f":"SUM(B457:B458)","v":0},null,null,{"$f":"SUM(E457:E458)","v":0},null,null,0,null,null,0]
["- មានហិរញ្ញប្បទាន"]
["- មិនទាន់មានហិរញ្ញប្បទាន"]
[{"$f":"ព័ត៌មានអង្គភាព!C43","v":"៥.១៨.០១.១៦៖ ការអភិវឌ្ឍ​បច្ចេកវិទ្យាព័ត៌មានសម្រាប់ការងារអប់រំ យុវជន និងកីឡា"},{"$f":"SUM(B460,B463)","v":0},null,null,{"$f":"SUM(E460,E463)","v":0},null,null,{"$f":"SUM(H460,H463)","v":0},null,null,{"$f":"SUM(K460,K463)","v":0}]
["□ សរុបចំណាយចរន្ដ",{"$f":"SUM(B461:B462)","v":0},null,null,{"$f":"SUM(E461:E462)","v":0},null,null,0,null,null,0]
["•  បន្ទុកបុគ្គលិក",{"$f":"INDEX(staff_exp2018,MATCH(A459,activities,0))","v":0},null,null,{"$f":"INDEX(staff_exp2019,MATCH(A459,activities,0))","v":0},null,null,{"$f":"INDEX(staff_exp2020,MATCH(A459,activities,0))","v":0},null,null,{"$f":"INDEX(staff_exp2021,MATCH(A459,activities,0))","v":0}]
["•  ក្រៅបន្ទុកបុគ្គលិក",{"$f":"INDEX(non_staffexp2018,MATCH(A459,activities,0))","v":0},null,null,{"$f":"INDEX(non_staffexp2019,MATCH(A459,activities,0))","v":0},null,null,{"$f":"INDEX(non_staffexp2020,MATCH(A459,activities,0))","v":0},null,null,{"$f":"INDEX(non_staffexp2021,MATCH(A459,activities,0))","v":0}]
["□ សរុបចំណាយមូលធន",{"$f":"SUM(B464,B467)","v":0},null,null,{"$f":"SUM(E464,E467)","v":0},null,null,0,null,null,0]
["•  គម្រោងវិនិយោគ",{"$f":"SUM(B465:B466)","v":0},null,null,{"$f":"SUM(E465:E466)","v":0},null,null,0,null,null,0]
["- មានហិរញ្ញប្បទាន"]
["- មិនទាន់មានហិរញ្ញប្បទាន"]
["•  ជំនួយបច្ចេកទេស",{"$f":"SUM(B468:B469)","v":0},null,null,{"$f":"SUM(E468:E469)","v":0},null,null,0,null,null,0]
["- មានហិរញ្ញប្បទាន"]
["- មិនទាន់មានហិរញ្ញប្បទាន"]
[{"$f":"ព័ត៌មានអង្គភាព!C44","v":"៥.១៨.០១.១៧៖ ការពង្រឹងគុណភាព និងប្រសិទ្ធភាពការងារប្រឡងនៅមធ្យមសិក្សានិងអប់រំបច្ចេកទេស"},{"$f":"SUM(B471,B474)","v":0},null,null,{"$f":"SUM(E471,E474)","v":0},null,null,{"$f":"SUM(H471,H474)","v":0},null,null,{"$f":"SUM(K471,K474)","v":0}]
["□ សរុបចំណាយចរន្ដ",{"$f":"SUM(B472:B473)","v":0},null,null,{"$f":"SUM(E472:E473)","v":0},null,null,{"$f":"SUM(H472:H473)","v":0},null,null,{"$f":"SUM(K472:K473)","v":0}]
["•  បន្ទុកបុគ្គលិក",{"$f":"INDEX(staff_exp2018,MATCH(A470,activities,0))","v":0},null,null,{"$f":"INDEX(staff_exp2019,MATCH(A470,activities,0))","v":0},null,null,{"$f":"INDEX(staff_exp2020,MATCH(A470,activities,0))","v":0},null,null,{"$f":"INDEX(staff_exp2021,MATCH(A470,activities,0))","v":0}]
["•  ក្រៅបន្ទុកបុគ្គលិក",{"$f":"INDEX(non_staffexp2018,MATCH(A470,activities,0))","v":0},null,null,{"$f":"INDEX(non_staffexp2019,MATCH(A470,activities,0))","v":0},null,null,{"$f":"INDEX(non_staffexp2020,MATCH(A470,activities,0))","v":0},null,null,{"$f":"INDEX(non_staffexp2021,MATCH(A470,activities,0))","v":0}]
["□ សរុបចំណាយមូលធន",{"$f":"SUM(B475,B478)","v":0},null,null,{"$f":"SUM(E475,E478)","v":0},null,null,{"$f":"SUM(H475,H478)","v":0},null,null,{"$f":"SUM(K475,K478)","v":0}]
["•  គម្រោងវិនិយោគ",{"$f":"SUM(B476:B477)","v":0},null,null,{"$f":"SUM(E476:E477)","v":0},null,null,{"$f":"SUM(H476:H477)","v":0},null,null,{"$f":"SUM(K476:K477)","v":0}]
["- មានហិរញ្ញប្បទាន"]
["- មិនទាន់មានហិរញ្ញប្បទាន"]
["•  ជំនួយបច្ចេកទេស",{"$f":"SUM(B479:B480)","v":0},null,null,{"$f":"SUM(E479:E480)","v":0},null,null,{"$f":"SUM(H479:H480)","v":0},null,null,{"$f":"SUM(K479:K480)","v":0}]
["- មានហិរញ្ញប្បទាន"]
["- មិនទាន់មានហិរញ្ញប្បទាន"]