{"text_format":"1","workbook":"xlsx","n_sheets":9,"sheets":["Updated_8","ព័ត៌មានអង្គភាព","ចំណាយ-ថវិការដ្ឋ","ចំណាយ-ថវិកាដៃគូ","Table 4.0","Table 4.1","Table 4.2","Table 4.3","Table 4 (MEF)"],"not_rendered":{"charts":0,"images":2,"macros":1,"external_links":1,"defined_names":358,"comments":0,"pivot_tables":0},"unopened":[],"bounds":{"document_bytes":16777216,"sheet_cells":100000,"rows_first":2000,"rows_last":500,"rows_between":2000,"halvings":0,"cell_chars":16384,"cell_head_chars":4096},"cells_cut":0,"cells_raw":0,"read":"whole","date_system":"1900"}

{"sheet":"Updated_8","index":0,"n_rows":265,"n_cols":27,"rows_kept":265,"cut":false,"hidden":true,"merged":[[8,21,8,22],[8,23,8,24],[8,25,8,26],[8,11,8,12],[8,13,8,14],[8,15,8,16],[8,17,8,18],[8,19,8,20],[237,0,241,0],[242,0,248,0],[249,0,253,0],[254,0,259,0],[260,0,264,0],[232,0,236,0],[175,0,179,0],[180,0,187,0],[188,0,192,0],[193,0,197,0],[198,0,202,0],[203,0,207,0],[208,0,213,0],[214,0,217,0],[218,0,222,0],[223,0,226,0],[227,0,231,0],[148,0,156,0],[157,0,157,2],[158,0,164,0],[165,0,169,0],[170,0,173,0],[3,0,3,2],[7,0,7,2],[8,0,14,0],[15,0,22,0],[174,0,174,2],[39,0,45,0],[46,0,50,0],[51,0,58,0],[59,0,64,0],[65,0,70,0],[147,0,147,2],[91,0,95,0],[96,0,100,0],[101,0,105,0],[112,0,116,0],[117,0,121,0],[137,0,141,0],[142,0,146,0],[8,9,8,10],[34,0,38,0],[71,0,71,2],[80,0,84,0],[85,0,90,0],[72,0,79,0],[106,0,111,0],[23,0,33,0],[122,0,126,0],[127,0,131,0],[132,0,136,0]]}
[]
["ក្រសួងអប់រំ យុវជន និងកីឡា"]
["នាយកដ្ឋានហិរញ្ញវត្ថុ"]
["សកម្មភាពរបស់អនុកម្មវិធី​ នៅរដ្ឋបាលកណ្តាល​ សម្រាប់ការអនុវត្ត​ឆ្នាំ២០១៩\t\t\t"]
["ច.ស.ក ទី ១. ការចូលរៀនមានគុណភាពប្រកប​ដោយ​សមធម៌ និងបរិយាប័ន្ន និងលើកកម្ពស់ឱកាសក្នុងការសិក្សា​ពេញមួយជីវិតសម្រាប់ទាំងអស់គ្នា"]
["ច.ស.ក ទី ២. ការលើកកម្ពស់ភាពជាអ្នកដឹកនាំ និងគ្រប់គ្រង របស់មន្រ្តីអប់រំគ្រប់លំដាប់ថ្នាក់"]
["បរិយាយ","ចង្កោមសកម្មភាព","សកម្មភាព"]
["កម្មវិធីទី១៖ ការអភិវឌ្ឍការអប់រំក្នុងប្រព័ន្ធ ក្រៅប្រព័ន្ធ និងមិនផ្លូវការ",null,null,{"$f":"A8","v":"កម្មវិធីទី១៖ ការអភិវឌ្ឍការអប់រំក្នុងប្រព័ន្ធ ក្រៅប្រព័ន្ធ និងមិនផ្លូវការ"},"program1","programDpt1",{"$f":"D8","v":"កម្មវិធីទី១៖ ការអភិវឌ្ឍការអប់រំក្នុងប្រព័ន្ធ ក្រៅប្រព័ន្ធ និងមិនផ្លូវការ"}]
[".១៖ ការពង្រីកការអប់រំកុមារតូច",1,"១. កិច្ចដំណើរការអង្គភាព",{"$f":"A72","v":"កម្មវិធីទី២៖ ការអភិវឌ្ឍឧត្តមសិក្សា និងការស្រាវជ្រាវ"},"program2","programDpt2",{"$f":"CONCATENATE(\"១.\",RIGHT(A9,LEN(A9)-1))","v":"១.១៖ ការពង្រីកការអប់រំកុមារតូច"},"sub11","នាយកដ្ឋានអប់រំកុមារតូច",{"$f":"G9","v":"១.១៖ ការពង្រីកការអប់រំកុមារតូច"},null,{"$f":"G10","v":"១.២៖ ការពង្រឹងគុណភាព និងប្រសិទ្ធភាពនៃការអប់រំនៅបឋមសិក្សា"},null,{"$f":"G11","v":"១.៣៖ ការចូលរៀនប្រកបដោយសមធម៌​ ការពង្រឹងគុណភាព និងប្រសិទ្ធភាពនៃការ​អប់រំនៅមធ្យមសិក្សា"},null,{"$f":"G12","v":"១.៤៖ ការពង្រីកការអប់រំក្រៅប្រព័ន្ធ"},null,{"$f":"G13","v":"១.៥៖ ការពង្រឹង​ និងការពង្រីកកម្មវិធីលើកកម្ពស់សុខភាពសិក្សា"},null,{"$f":"G14","v":"១.៦៖ លើកកម្ពស់គុណភាព និងប្រសិទ្ធភាពនៃការអនុវត្តកម្មវិធីអប់រំបច្ចេកទេស"},null,{"$f":"G15","v":"១.៧៖ ការអភិវឌ្ឍការងារបណ្តុះបណ្តុះ និងវិក្រឹតការគ្រូបង្រៀន"},null,{"$f":"G16","v":"១.៨៖ ការអភិវឌ្ឍកម្មវិធីសិក្សា សម្ភារៈសិក្សា និងបណ្ណាល័យ"},null,{"$f":"G17","v":"១.៩៖ ពង្រីកការអប់រំបរិយាបន្នគ្រប់ភូមិសិក្សា"}]
[null,1,"២. ថវិកាលទ្ធកម្ម",{"$f":"A148","v":"កម្មវិធីទី៣៖ ការអភិវឌ្ឍវិស័យអប់រំកាយ និងកីឡា"},"program3","programDpt3",{"$f":"CONCATENATE(\"១.\",RIGHT(A16,LEN(A16)-1))","v":"១.២៖ ការពង្រឹងគុណភាព និងប្រសិទ្ធភាពនៃការអប់រំនៅបឋមសិក្សា"},"sub12","នាយកដ្ឋានបឋមសិក្សា","ចសក1","ចសក២","ចសក1","ចសក២","ចសក1","ចសក២","ចសក1","ចសក២","ចសក1","ចសក២","ចសក1","ចសក២","ចសក1","ចសក២","ចសក1","ចសក២","ចសក1","ចសក២"]
[null,1,"៣. ពិនិត្យតាមដាន និងវាយតម្លៃ",{"$f":"A158","v":"កម្មវិធីទី៤៖ ការអភិវឌ្ឍជំនាញបច្ចេកទេស ជំនាញទន់និងសហគ្រិនភាពសម្រាប់យុវជន"},"program4","programDpt4",{"$f":"CONCATENATE(\"១.\",RIGHT(A24,LEN(A24)-1))","v":"១.៣៖ ការចូលរៀនប្រកបដោយសមធម៌​ ការពង្រឹងគុណភាព និងប្រសិទ្ធភាពនៃការ​អប់រំនៅមធ្យមសិក្សា"},"sub13","នាយកដ្ឋានមធ្យមសិក្សាចំណេះទូទៅ",{"$f":"C9","v":"១. កិច្ចដំណើរការអង្គភាព"},{"$f":"C15","v":"១. អភិវឌ្ឍសមត្ថភាពមន្ដ្រីអប់រំកុមារតូច"},{"$f":"C16","v":"១. កិច្ចដំណើរការអង្គភាព"},{"$f":"C23","v":"១. ពង្រឹងសមត្ថភាព និងការលើកទឹកចិត្ត"},{"$f":"C24","v":"១. កិច្ចដំណើរការអង្គភាព"},{"$f":"C34","v":"១. ពង្រឹងសមត្ថភាព និងការលើកទឹកចិត្ត"},{"$f":"C35","v":"១. កិច្ចដំណើរការអង្គភាព"},{"$f":"C39","v":"១. អភិវឌ្ឍសមត្ថភាពមន្ត្រីអប់រំក្រៅប្រព័ន្ធ"},{"$f":"C40","v":"១. កិច្ចដំណើរការអង្គភាព"},{"$f":"C46","v":"១. អភិវឌ្ឍ និងពង្រឹងសមត្ថភាពកម្មវិធីអប់រំសុខភាព"},{"$f":"C47","v":"១. កិច្ចដំណើរការអង្គភាព"},null,{"$f":"C52","v":"១. កិច្ចដំណើរការអង្គភាព"},null,{"$f":"C60","v":"១. កិច្ចដំណើរការអង្គភាព"},{"$f":"C65","v":"១. ពង្រឹងសមត្ថភាពមន្ដ្រីជំនាញ និងផ្សព្វផ្សាយ"},{"$f":"C66","v":"១. កិច្ចដំណើរការអង្គភាព"},{"$f":"C71","v":"១.ពង្រឹងការអភិវឌ្ឍសមត្ថភាព និងថវិកាលើកទឹកចិត្ត"}]
[null,1,"៤. អភិវឌ្ឍការអប់រំកុមារតូចឲ្យមានស្ដង់ដា",{"$f":"A175","v":"កម្មវិធីទី៥៖ ការគាំទ្រសេវាអប់រំ និងអភិបាលកិច្ចល្អ"},"program5","programDpt5",{"$f":"CONCATENATE(\"១.\",RIGHT(A35,LEN(A35)-1))","v":"១.៤៖ ការពង្រីកការអប់រំក្រៅប្រព័ន្ធ"},"sub14","នាយកដ្ឋានអប់រំក្រៅប្រព័ន្ធ",{"$f":"C10","v":"២. ថវិកាលទ្ធកម្ម"},null,{"$f":"C17","v":"២. ថវិកាលទ្ធកម្ម"},null,{"$f":"C25","v":"២. ថវិកាលទ្ធកម្ម"},null,{"$f":"C36","v":"២. ថវិកាលទ្ធកម្ម"},null,{"$f":"C41","v":"២. ថវិកាលទ្ធកម្ម"},null,{"$f":"C48","v":"២. ថវិកាលទ្ធកម្ម"},null,{"$f":"C53","v":"២. ថវិកាលទ្ធកម្ម"},null,{"$f":"C61","v":"២. ថវិកាលទ្ធកម្ម"},null,{"$f":"C67","v":"២. ថវិកាលទ្ធកម្ម"}]
[null,1,"៥. ថវិកាដំណើរការសាលារៀន",null,null,null,{"$f":"CONCATENATE(\"១.\",RIGHT(A40,LEN(A40)-1))","v":"១.៥៖ ការពង្រឹង​ និងការពង្រីកកម្មវិធីលើកកម្ពស់សុខភាពសិក្សា"},"sub15","នាយកដ្ឋានសុខភាពសិក្សា","៣. ពិនិត្យតាមដាន និងវាយតម្លៃ",null,"៣. ពិនិត្យតាមដាន និងវាយតម្លៃ",null,"៣. ពិនិត្យតាមដាន និងវាយតម្លៃ",null,"៣. ពិនិត្យតាមដាន និងវាយតម្លៃ",null,"៣. ពិនិត្យតាមដាន និងវាយតម្លៃ",null,"៣. ពិនិត្យតាមដាន និងវាយតម្លៃ",null,{"$f":"C54","v":"៣. ពិនិត្យតាមដាន និងវាយតម្លៃ"},null,"៣. រៀប​ចំ​ទិវាជាតិ​អំណាន និង​ពិធី​បុណ្យផ្សេងៗ",null,"៣. ពិនិត្យតាមដាន និងវាយតម្លៃ"]
[null,1,"៦. គ្រប់គ្រងមត្តេយ្យសិក្សាសហគមន៍",null,null,null,{"$f":"CONCATENATE(\"១.\",RIGHT(A47,LEN(A47)-1))","v":"១.៦៖ លើកកម្ពស់គុណភាព និងប្រសិទ្ធភាពនៃការអនុវត្តកម្មវិធីអប់រំបច្ចេកទេស"},"sub16","នាយកដ្ឋានតម្រង់ទិសវិជ្ជាជីវៈ","៤. អភិវឌ្ឍការអប់រំកុមារតូចឲ្យមានស្ដង់ដា",null,"៤. ថវិកាដំណើរការសាលារៀន",null,"៤. លើកកម្ពស់មុខវិជ្ជា STEM",null,"៤. ថវិកាដំណើរការនៃការអប់រំក្រៅប្រព័ន្ធ",null,"៤. កម្មវិធីអាហាររូបត្ថម្ភ",null,"៤. ថវិកាដំណើការ និងការលើកកម្ពស់ការអប់រំបច្ចេកទេស",null,"៤. អភិវឌ្ឍវិទ្យាស្ថានគរុកោសល្យ ២ (បាត់ដំបង និងភ្នំពេញ)",null,"៤. ពិនិត្យតាមដាន និងវាយតម្លៃ",null,"៤. អភិវឌ្ឍការងារអប់រំពិសេស និងពហុភាសា"]
[null,2,"១. អភិវឌ្ឍសមត្ថភាពមន្ដ្រីអប់រំកុមារតូច",null,null,null,{"$f":"CONCATENATE(\"១.\",RIGHT(A52,LEN(A52)-1))","v":"១.៧៖ ការអភិវឌ្ឍការងារបណ្តុះបណ្តុះ និងវិក្រឹតការគ្រូបង្រៀន"},"sub17","នាយកដ្ឋានបណ្ដុះបណ្ដាល និងវិក្រឹតការ","៥. ថវិកាដំណើរការសាលារៀន",null,"៥. សាលារៀនជំនាន់ថ្មី",null,{"$f":"C28","v":"៥. ថ្នាក់ពីរភាសា បារាំង-ខ្មែរ"},null,null,null,"៥. កម្មវិធីទឹកស្អាត និងអនាម័យ",null,"៥. ពង្រឹង និងពង្រីកកម្មវិធីតម្រង់ទិសវិជ្ជាជីវៈអប់រំ បំណិនជីវិត និងប្រឹក្សាអាជីព",null,"៥. អភិវឌ្ឍសាលាមធ្យមសិក្សាគរុកោសល្យមត្តេយ្យមជ្ឈិម",null,"៥. អភិវឌ្ឍកម្មវិធីសិក្សា វិធីសាស្រ្តបង្រៀន ឯកសារ​  និងសម្ភារៈសិក្សា",null,"៥. អភិវឌ្ឍហេដ្ឋារចនាសម្ពន្ធ័សាលារៀនអប់រំបរិយាបន្ន"]
[".២៖ ការពង្រឹងគុណភាព និងប្រសិទ្ធភាពនៃការអប់រំនៅបឋមសិក្សា",1,"១. កិច្ចដំណើរការអង្គភាព",null,null,null,{"$f":"CONCATENATE(\"១.\",RIGHT(A60,LEN(A60)-1))","v":"១.៨៖ ការអភិវឌ្ឍកម្មវិធីសិក្សា សម្ភារៈសិក្សា និងបណ្ណាល័យ"},"sub18","នាយកដ្ឋានអភិវឌ្ឍកម្មវិធីសិក្សា",{"$f":"C14","v":"៦. គ្រប់គ្រងមត្តេយ្យសិក្សាសហគមន៍"},null,"៦. ថវិកាអាហារូបករណ៍",null,"៦. ថវិកាដំណើរការអគារធនធាន",null,null,null,"៦. ផ្តល់សេវាថែទាំសុខភាពចាំបាច់​ ",null,null,null,"៦. ប្រឡងជ្រើសរើស និងបញ្ចប់វគ្គបណ្ដុះបណ្ដាលគ្រូបង្រៀន"]
[null,1,"២. ថវិកាលទ្ធកម្ម",null,null,null,{"$f":"CONCATENATE(\"១.\",RIGHT(A66,LEN(A66)-1))","v":"១.៩៖ ពង្រីកការអប់រំបរិយាបន្នគ្រប់ភូមិសិក្សា"},"sub19","នាយកដ្ឋានអប់រំពិសេស",null,null,"៧. ថវិកាពង្រឹងគុណភាពបង្រៀន",null,{"$f":"C30","v":"៧. សាលារៀនជំនាន់ថ្មី"},null,null,null,null,null,null,null,{"$f":"C58","v":"៧. ថវិកាដំណើរការសាលាគរុកោសល្យ និងមណ្ឌលធនធាន"}]
[null,1,"៣. ពិនិត្យតាមដាន និងវាយតម្លៃ",null,null,null,null,null,null,null,null,null,null,{"$f":"C31","v":"៨. ថវិកាអាហារូបករណ៍"},null,null,null,null,null,null,null,{"$f":"C59","v":"៨. អភិវឌ្ឍសមត្ថភាពនាយក និងគ្រូបង្រៀន"}]
[null,1,"៤. ថវិកាដំណើរការសាលារៀន",null,null,null,null,null,null,null,null,null,null,{"$f":"C32","v":"៩. ថវិកាដំណើរការសាលារៀន"}]
[null,1,"៥. សាលារៀនជំនាន់ថ្មី",{"$f":"D9","v":"កម្មវិធីទី២៖ ការអភិវឌ្ឍឧត្តមសិក្សា និងការស្រាវជ្រាវ"},{"$f":"D10","v":"កម្មវិធីទី៣៖ ការអភិវឌ្ឍវិស័យអប់រំកាយ និងកីឡា"},{"$f":"D11","v":"កម្មវិធីទី៤៖ ការអភិវឌ្ឍជំនាញបច្ចេកទេស ជំនាញទន់និងសហគ្រិនភាពសម្រាប់យុវជន"},{"$f":"D12","v":"កម្មវិធីទី៥៖ ការគាំទ្រសេវាអប់រំ និងអភិបាលកិច្ចល្អ"},null,null,null,null,null,null,{"$f":"C33","v":"១០. ពង្រឹងសមត្ថភាពលើការងារគ្រប់គ្រង និងការបង្រៀននិងរៀន"}]
[null,1,"៦. ថវិកាអាហារូបករណ៍",{"$f":"A73","v":"២.១ ការលើកកម្ពស់គុណភាពនិងភាពឆ្លើយតបនៃការអប់រំឧត្តមសិក្សា"}]
[null,1,"៧. ថវិកាពង្រឹងគុណភាពបង្រៀន"]
[null,2,"១. ពង្រឹងសមត្ថភាព និងការលើកទឹកចិត្ត"]
[".៣៖ ការចូលរៀនប្រកបដោយសមធម៌​ ការពង្រឹងគុណភាព និងប្រសិទ្ធភាពនៃការ​អប់រំនៅមធ្យមសិក្សា",1,"១. កិច្ចដំណើរការអង្គភាព"]
[null,1,"២. ថវិកាលទ្ធកម្ម"]
[null,1,"៣. ពិនិត្យតាមដាន និងវាយតម្លៃ"]
[null,1,"៤. លើកកម្ពស់មុខវិជ្ជា STEM"]
[null,1,"៥. ថ្នាក់ពីរភាសា បារាំង-ខ្មែរ"]
[null,1,"៦. ថវិកាដំណើរការអគារធនធាន"]
[null,1,"៧. សាលារៀនជំនាន់ថ្មី"]
[null,1,"៨. ថវិកាអាហារូបករណ៍"]
[null,1,"៩. ថវិកាដំណើរការសាលារៀន"]
[null,1,"១០. ពង្រឹងសមត្ថភាពលើការងារគ្រប់គ្រង និងការបង្រៀននិងរៀន"]
[null,2,"១. ពង្រឹងសមត្ថភាព និងការលើកទឹកចិត្ត"]
[".៤៖ ការពង្រីកការអប់រំក្រៅប្រព័ន្ធ",1,"១. កិច្ចដំណើរការអង្គភាព"]
[null,1,"២. ថវិកាលទ្ធកម្ម"]
[null,1,"៣. ពិនិត្យតាមដាន និងវាយតម្លៃ"]
[null,1,"៤. ថវិកាដំណើរការនៃការអប់រំក្រៅប្រព័ន្ធ"]
[null,2,"១. អភិវឌ្ឍសមត្ថភាពមន្ត្រីអប់រំក្រៅប្រព័ន្ធ"]
[".៥៖ ការពង្រឹង​ និងការពង្រីកកម្មវិធីលើកកម្ពស់សុខភាពសិក្សា",1,"១. កិច្ចដំណើរការអង្គភាព"]
[null,1,"២. ថវិកាលទ្ធកម្ម"]
[null,1,"៣. ពិនិត្យតាមដាន និងវាយតម្លៃ"]
[null,1,"៤. កម្មវិធីអាហាររូបត្ថម្ភ"]
[null,1,"៥. កម្មវិធីទឹកស្អាត និងអនាម័យ"]
[null,1,"៦. ផ្តល់សេវាថែទាំសុខភាពចាំបាច់​ "]
[null,2,"១. អភិវឌ្ឍ និងពង្រឹងសមត្ថភាពកម្មវិធីអប់រំសុខភាព"]
[".៦៖ លើកកម្ពស់គុណភាព និងប្រសិទ្ធភាពនៃការអនុវត្តកម្មវិធីអប់រំបច្ចេកទេស",1,"១. កិច្ចដំណើរការអង្គភាព"]
[null,1,"២. ថវិកាលទ្ធកម្ម"]
[null,1,"៣. ពិនិត្យតាមដាន និងវាយតម្លៃ"]
[null,1,"៤. ថវិកាដំណើការ និងការលើកកម្ពស់ការអប់រំបច្ចេកទេស"]
[null,1,"៥. ពង្រឹង និងពង្រីកកម្មវិធីតម្រង់ទិសវិជ្ជាជីវៈអប់រំ បំណិនជីវិត និងប្រឹក្សាអាជីព"]
[".៧៖ ការអភិវឌ្ឍការងារបណ្តុះបណ្តុះ និងវិក្រឹតការគ្រូបង្រៀន",1,"១. កិច្ចដំណើរការអង្គភាព"]
[null,1,"២. ថវិកាលទ្ធកម្ម"]
[null,1,"៣. ពិនិត្យតាមដាន និងវាយតម្លៃ"]
[null,1,"៤. អភិវឌ្ឍវិទ្យាស្ថានគរុកោសល្យ ២ (បាត់ដំបង និងភ្នំពេញ)"]
[null,1,"៥. អភិវឌ្ឍសាលាមធ្យមសិក្សាគរុកោសល្យមត្តេយ្យមជ្ឈិម"]
[null,1,"៦. ប្រឡងជ្រើសរើស និងបញ្ចប់វគ្គបណ្ដុះបណ្ដាលគ្រូបង្រៀន"]
[null,1,"៧. ថវិកាដំណើរការសាលាគរុកោសល្យ និងមណ្ឌលធនធាន"]
[null,1,"៨. អភិវឌ្ឍសមត្ថភាពនាយក និងគ្រូបង្រៀន"]
[".៨៖ ការអភិវឌ្ឍកម្មវិធីសិក្សា សម្ភារៈសិក្សា និងបណ្ណាល័យ",1,"១. កិច្ចដំណើរការអង្គភាព"]
[null,1,"២. ថវិកាលទ្ធកម្ម"]
[null,1,"៣. រៀប​ចំ​ទិវាជាតិ​អំណាន និង​ពិធី​បុណ្យផ្សេងៗ"]
[null,1,"៤. ពិនិត្យតាមដាន និងវាយតម្លៃ"]
[null,1,"៥. អភិវឌ្ឍកម្មវិធីសិក្សា វិធីសាស្រ្តបង្រៀន ឯកសារ​  និងសម្ភារៈសិក្សា"]
[null,2,"១. ពង្រឹងសមត្ថភាពមន្ដ្រីជំនាញ និងផ្សព្វផ្សាយ"]
[".៩៖ ពង្រីកការអប់រំបរិយាបន្នគ្រប់ភូមិសិក្សា",1,"១. កិច្ចដំណើរការអង្គភាព"]
[null,1,"២. ថវិកាលទ្ធកម្ម"]
[null,1,"៣. ពិនិត្យតាមដាន និងវាយតម្លៃ"]
[null,1,"៤. អភិវឌ្ឍការងារអប់រំពិសេស និងពហុភាសា"]
[null,1,"៥. អភិវឌ្ឍហេដ្ឋារចនាសម្ពន្ធ័សាលារៀនអប់រំបរិយាបន្ន"]
[null,2,"១.ពង្រឹងការអភិវឌ្ឍសមត្ថភាព និងថវិកាលើកទឹកចិត្ត"]
["កម្មវិធីទី២៖ ការអភិវឌ្ឍឧត្តមសិក្សា និងការស្រាវជ្រាវ",null,null,null,"២.១ ការលើកកម្ពស់គុណភាពនិងភាពឆ្លើយតបនៃការអប់រំឧត្តមសិក្សា","នាយកដ្ឋានឧត្តមសិក្សា"]
["២.១ ការលើកកម្ពស់គុណភាពនិងភាពឆ្លើយតបនៃការអប់រំឧត្តមសិក្សា",1,"១. កិច្ចដំណើរការអង្គភាព",null,"២.២ ការអភិវឌ្ឍការស្រាវជ្រាវនៅឧត្តមសិក្សា","នាយកដ្ឋានស្រាវជ្រាវវិទ្យាសាស្រ្ត"]
[null,1,"២. ថវិកាលទ្ធកម្ម​",null,"២.៣.ការពង្រឹងគុណភាព និងភាពឆ្លើយតបនៃការបណ្តុះបណ្តាលកម្រិតឧត្តម និងក្រោយឧត្តមប្រកបដោយប្រសិទ្ធភាព","សាកលវិទ្យាល័យភូមិន្ទ ភ្នំពេញ"]
[null,1,"៣. កែលម្អគុណភាព និងការលើកកម្ពស់ការអប់រំ STEAM នៅឧត្តមសិក្សា",null,"២.៤. ការពង្រឹងគុណភាព និងប្រសិទ្ធភាពនៃការអប់រំ បណ្តុះបណ្តាល និងស្រាវជ្រាវ","សាកលវិទ្យាល័យ ហេង សំរិន ត្បូងឃ្មុំ"]
[null,1,"៤. ពិនិត្យតាមដាន ការជ្រើសរើសនិស្សិតចូលរៀន ការបញ្ចប់ការសិក្សានិងស្ថានភាពបណ្តុះបណ្តាល",null,"២.៥. ការពង្រឹងគុណភាពនៃការបណ្ដុះបណ្ដាល និងស្រាវជ្រាវ","សាកលវិទ្យាល័យជាស៊ីមកំចាយមារ"]
[null,1,"៥. គ្រប់គ្រងអាហារូបករណ៍និងការចូលរៀននៅឧត្តមសិក្សា",null,"២.៦. ការអភិវឌ្ឍការបណ្តុះបណ្តាល និងស្រាវជ្រាវ","វិទ្យាស្ថានបច្ចេកវិទ្យាកម្ពុជា"]
[null,2,"១. អភិវឌ្ឍគោលនយោបាយនិងបទដ្ឋានសម្រាប់ការអប់រំឧត្តមសិក្សា",null,"២.៧ ការពង្រឹងគុណភាព និងប្រសិទ្ធភាពនៃការបណ្តុះបណ្តាលគ្រូ និងស្រាវជ្រាវ","វិទ្យាស្ថានជាតិអប់រំ"]
[null,2,"២. អភិវឌ្ឍប្រព័ន្ធព័ត៌មានគ្រប់គ្រងឧត្តមសិក្សា",null,"២.៨ ការលើកកម្ពស់គុណភាពនៃការបណ្តុះបណ្តាល​ និងការស្រាវជ្រាវ","សាកលវិទ្យាល័យស្វាយរៀង"]
[null,2,"៣. ពង្រឹង និងពង្រីកទំនាក់ទំនងកិច្ចសហប្រតិបត្តិការជាតិ និងអន្តរជាតិ",null,"២.៩.ការពង្រឹកគុណភាព និងប្រសិទ្ធភាពនៃការបណ្តុះបណ្តាល និងស្រាវជ្រាវ","សាកលវិទ្យាល័យមានជ័យ"]
["២.២ ការអភិវឌ្ឍការស្រាវជ្រាវនៅឧត្តមសិក្សា",1,"១. កិច្ចដំណើរការអង្គភាព",null,"២.១០.ការពង្រឹងគុណភាព ប្រសិទ្ធភាពអប់រំ និងស្រាវជ្រាវ","សាកលវិទ្យាល័យបាត់ដំបង"]
[null,1,"២. ថវិកាលទ្ធកម្ម",null,"២.១៣ ការទទួលស្គាល់គុណភាពអប់រំឧត្ដមសិក្សា","គណៈកម្មាធិការទទួលស្គាល់គុណភាពអប់រំនៃកម្ពុជា"]
[null,1,"៣. លើកកម្ពស់ការស្រាវជ្រាវនៅឧត្តមសិក្សា",null,"២.១៤ ការពង្រឹងគុណភាព ប្រសិទ្ធភាពអប់រំ និងស្រាវជ្រាវលើផ្នែកបច្ចេកទេស  វិជ្ជាជីវៈ និងសេវាសហគមន៍","វិទ្យាស្ថានបច្ចេកវិទ្យាកំពង់ឈើទាល "]
[null,1,"៤. ពិនិត្យតាមដាន ការជ្រើសរើសនិស្សិតចូលរៀន ការបញ្ចប់ការសិក្សានិងស្ថានភាពបណ្តុះបណ្តាលថ្នាក់​ក្រោយ​បរិញ្ញាបត្រ",null,"២.១៥.ការពង្រឹងគុណភាព និងប្រសិទ្ធភាពនៃការបណ្តុះបណ្តាល និងស្រាវជ្រាវ","សាកលវិទ្យាល័យក្រចេះ"]
[null,2,"១. អភិវឌ្ឍគោលនយោបាយ និងបទដ្ឋានសម្រាប់ការស្រាវជ្រាវនៅឧត្តមសិក្សា",null,"២.១៦. ការពង្រឹងគុណភាព ប្រសិទ្ធភាពអប់រំ និងស្រាវជ្រាវលើផ្នែកបច្ចេកទេសនិងវិជ្ជាជីវៈ","វិទ្យាស្ថានបច្ចេកវិទ្យាកំពង់ស្ពឺ"]
["២.៣.ការពង្រឹងគុណភាព និងភាពឆ្លើយតបនៃការបណ្តុះបណ្តាលកម្រិតឧត្តម និងក្រោយឧត្តមប្រកបដោយប្រសិទ្ធភាព",1,"១. កិច្ចដំណើរការអង្គភាព"]
[null,1,"២. ថវិកាលទ្ធកម្ម"]
[null,1,"៣. លើកកម្ពស់ការអប់រំ និងការស្រាវជ្រាវ STEAM"]
[null,1,"៤. ពង្រីកមុខជំនាញសង្គមសាស្ត្រ-មនុស្សសាស្ត្រថ្នាក់ក្រោយបរិញ្ញាបត្រ"]
[null,2,"១. ពង្រឹងសមត្ថភាព និងគុណភាពអប់រំ"]
[null,2,"២. ពង្រឹង និងពង្រីកទំនាក់ទំនងកិច្ចសហប្រតិបត្តិការជាតិ និងអន្តរជាតិ"]
["២.៤. ការពង្រឹងគុណភាព និងប្រសិទ្ធភាពនៃការអប់រំ បណ្តុះបណ្តាល និងស្រាវជ្រាវ",1,"១. កិច្ចដំណើរការអង្គភាព"]
[null,1,"២. ថវិកាលទ្ធកម្ម"]
[null,1,"៣. អភិវឌ្ឍកម្មវិធីសិក្សា និងការលើកកម្ពស់ការស្រាវជ្រាវ STEAM"]
[null,2,"១. អភិវឌ្ឍសមត្ថភាព និងគុណភាពអប់រំ"]
[null,2,"២. ពង្រឹង និងពង្រីកទំនាក់ទំនងកិច្ចសហប្រតិបត្តិការជាតិ និងអន្តរជាតិ"]
["២.៥. ការពង្រឹងគុណភាពនៃការបណ្ដុះបណ្ដាល និងស្រាវជ្រាវ",1,"១. កិច្ចដំណើរការអង្គភាព"]
[null,1,"២. ថវិកាលទ្ធកម្ម"]
[null,1,"៣. អភិវឌ្ឍកម្មវិធីសិក្សា និងការលើកកម្ពស់ការស្រាវជ្រាវ STEAM"]
[null,2,"១. ពង្រឹងសមត្ថភាព និងគុណភាពអប់រំ"]
[null,2,"២. ពង្រឹង និងពង្រីកទំនាក់ទំនងកិច្ចសហប្រតិបត្តិការជាតិ និងអន្តរជាតិ"]
["២.៦. ការអភិវឌ្ឍការបណ្តុះបណ្តាល និងស្រាវជ្រាវ",1,"១. កិច្ចដំណើរការអង្គភាព"]
[null,1,"២. ថវិកាលទ្ធកម្ម"]
[null,1,"៣. អភិវឌ្ឍកម្មវិធីសិក្សា និងការលើកកម្ពស់ការស្រាវជ្រាវ STEM"]
[null,2,"១. ពង្រឹងសមត្ថភាព និងគុណភាពអប់រំ"]
[null,2,"២. ពង្រឹង និងពង្រីកទំនាក់ទំនងកិច្ចសហប្រតិបត្តិការជាតិ និងអន្តរជាតិ"]
["២.៧ ការពង្រឹងគុណភាព និងប្រសិទ្ធភាពនៃការបណ្តុះបណ្តាលគ្រូ និងស្រាវជ្រាវ",1,"១. កិច្ចដំណើរការអង្គភាព"]
[null,1,"២. ថវិកាលទ្ធកម្ម"]
[null,1,"៣. លើកកម្ពស់ការស្រាវជ្រាវ​"]
[null,1,"៤. លើកកម្ពស់ការបណ្ដុះបណ្ដាល"]
[null,2,"១. អភិវឌ្ឍសមត្ថភាពបុគ្គលិកអប់រំ"]
[null,2,"២. ពង្រឹង និងពង្រីកទំនាក់ទំនងកិច្ចសហប្រតិបត្តិការជាតិ និងអន្តរជាតិ"]
["២.៨ ការលើកកម្ពស់គុណភាពនៃការបណ្តុះបណ្តាល​ និងការស្រាវជ្រាវ",1,"១. កិច្ចដំណើរការអង្គភាព"]
[null,1,"២. ថវិកាលទ្ធកម្ម"]
[null,1,"៣. អភិវឌ្ឍកម្មវិធីសិក្សា និងការលើកកម្ពស់ការស្រាវជ្រាវ STEAM"]
[null,2,"១. ពង្រឹងសមត្ថភាព និងគុណភាពអប់រំ"]
[null,2,"២. ពង្រឹង និងពង្រីកទំនាក់ទំនងកិច្ចសហប្រតិបត្តិការជាតិ និងអន្តរជាតិ"]
["២.៩.ការពង្រឹកគុណភាព និងប្រសិទ្ធភាពនៃការបណ្តុះបណ្តាល និងស្រាវជ្រាវ",1,"១. កិច្ចដំណើរការអង្គភាព"]
[null,1,"២. ថវិកាលទ្ធកម្ម"]
[null,1,"៣. អភិវឌ្ឍកម្មវិធីសិក្សា និងការលើកកម្ពស់ការស្រាវជ្រាវ STEAM"]
[null,2,"១. ពង្រឹងសមត្ថភាព និងគុណភាពអប់រំ"]
[null,2,"២. ពង្រឹង និងពង្រីកទំនាក់ទំនងកិច្ចសហប្រតិបត្តិការជាតិ និងអន្តរជាតិ"]
["២.១០.ការពង្រឹងគុណភាព ប្រសិទ្ធភាពអប់រំ និងស្រាវជ្រាវ",1,"១. កិច្ចដំណើរការអង្គភាព"]
[null,1,"២. ថវិកាលទ្ធកម្ម"]
[null,1,"៣. អភិវឌ្ឍកម្មវិធីសិក្សា និងការលើកកម្ពស់ការស្រាវជ្រាវ STEAM"]
[null,2,"១. ពង្រឹងសមត្ថភាព និងគុណភាពអប់រំ"]
[null,2,"២. ពង្រឹង និងពង្រីកទំនាក់ទំនងកិច្ចសហប្រតិបត្តិការជាតិ និងអន្តរជាតិ"]
["២.១៣ ការទទួលស្គាល់គុណភាពអប់រំឧត្ដមសិក្សា",1,"១. កិច្ចដំណើរការអង្គភាព"]
[null,1,"២. ថវិកាលទ្ធកម្ម"]
[null,2,"១. អភិវឌ្ឍសមត្ថភាព និងការលើកកម្ពស់ការទទួលស្គាល់គុណភាពអប់រំឧត្តមសិក្សា"]
[null,2,"២. សមាហរណកម្មការទទួលស្គាល់គុណភាពអប់រំជាមួយទីភ្នាក់ងារអន្តរជាតិ"]
[null,2,"៣. វាយតម្លៃគុណភាពអប់រំឧត្តមសិក្សា"]
["២.១៤ ការពង្រឹងគុណភាព ប្រសិទ្ធភាពអប់រំ និងស្រាវជ្រាវលើផ្នែកបច្ចេកទេស  វិជ្ជាជីវៈ និងសេវាសហគមន៍",1,"១. កិច្ចដំណើរការអង្គភាព"]
[null,1,"២. ថវិកាលទ្ធកម្ម"]
[null,1,"៣. លើកកម្ពស់ការបណ្ដុះបណ្ដាល​ STEM និងការផ្ដល់សេវាសហគមន៍"]
[null,2,"១. ពង្រឹងសមត្ថភាព និងគុណភាពអប់រំ"]
[null,2,"២. ពង្រឹង និងពង្រីកទំនាក់ទំនងកិច្ចសហប្រតិបត្តិការជាតិ និងអន្តរជាតិ"]
["២.១៥.ការពង្រឹងគុណភាព និងប្រសិទ្ធភាពនៃការបណ្តុះបណ្តាល និងស្រាវជ្រាវ",1,"១. កិច្ចដំណើរការអង្គភាព"]
[null,1,"២. ថវិកាលទ្ធកម្ម"]
[null,1,"៣. អភិវឌ្ឍកម្មវិធីសិក្សា និងការលើកកម្ពស់ការស្រាវជ្រាវ STEAM"]
[null,2,"១. អភិវឌ្ឍសមត្ថភាព និងគុណភាពអប់រំ"]
[null,2,"២. ពង្រឹង និងពង្រីកទំនាក់ទំនងកិច្ចសហប្រតិបត្តិការជាតិ និងអន្តរជាតិ"]
["២.១៦. ការពង្រឹងគុណភាព ប្រសិទ្ធភាពអប់រំ និងស្រាវជ្រាវលើផ្នែកបច្ចេកទេសនិងវិជ្ជាជីវៈ",1,"១. កិច្ចដំណើរការអង្គភាព"]
[null,1,"២. ថវិកាលទ្ធកម្ម"]
[null,1,"៣. លើកកម្ពស់ការបណ្ដុះបណ្ដាល​ STEM និងការផ្ដល់សេវាសហគមន៍"]
[null,2,"១. ពង្រឹងសមត្ថភាព និងគុណភាពអប់រំ"]
[null,2,"២. ពង្រឹង និងពង្រីកទំនាក់ទំនងកិច្ចសហប្រតិបត្តិការជាតិ និងអន្តរជាតិ"]
["កម្មវិធីទី៣៖ ការអភិវឌ្ឍវិស័យអប់រំកាយ និងកីឡា"]
[".១៖ ការអភិវឌ្ឍអប់រំកាយ និងកីឡាសិស្ស និស្សិត មហាជន និងកីឡាកម្រិតខ្ពស់",1,"១. កិច្ចដំណើរការអង្គភាព",{"$f":"CONCATENATE(\"៣.\",RIGHT(A149,LEN(A149)-1))","v":"៣.១៖ ការអភិវឌ្ឍអប់រំកាយ និងកីឡាសិស្ស និស្សិត មហាជន និងកីឡាកម្រិតខ្ពស់"},"អគ្គនាយកដ្ឋានកីឡា"]
[null,1,"២. ថវិកាលទ្ធកម្ម","នាយកដ្ឋានអប់រំកាយ និងកីឡា"]
[null,1,"៣. ពិនិត្យតាមដាន និងវាយតម្លៃ","នាយកដ្ឋានអប់រំកាយ និងកីឡាសិស្ស និស្សិត"]
[null,1,"៤. អភិវឌ្ឍកម្មវិធីអប់រំកាយក្នុងម៉ោងសិក្សា កីឡាក្រៅម៉ោងសិក្សា និងសមាគមកីឡា","វិទ្យាស្ថានជាតិអប់រំកាយ និងកីឡា"]
[null,1,"៥. ប្រកួតកីឡាសិស្ស និស្សិតថ្នាក់រាជធានី-ខេត្ត","មជ្ឈមណ្ឌលជាតិ ហ្វឹកហ្វឺនកីឡា"]
[null,1,"៦. រៀបចំ និងចូលរួមប្រកួតកីឡាជាលក្ខណៈជាតិ និងអន្ដរជាតិ"]
[null,1,"៧. ប្រកួតកីឡាមហាជនថ្នាក់រាជធានី-ខេត្ត"]
[null,1,"៨. អភិវឌ្ឍហេដ្ឋារចនាសម្ព័ន្ធកីឡា និងឧបករណ៍សម្ភារកីឡា"]
[null,2,"១. អភិវឌ្ឍធនធានមនុស្សលើវិស័យកីឡា"]
["កម្មវិធីទី៤៖ ការអភិវឌ្ឍជំនាញបច្ចេកទេស ជំនាញទន់និងសហគ្រិនភាពសម្រាប់យុវជន"]
[".១៖ ការពង្រឹងសមត្ថភាពយុវជន",1,"១. កិច្ចដំណើរការអង្គភាព",null,{"$f":"CONCATENATE(\"៤.\",RIGHT(A159,LEN(A159)-1))","v":"៤.១៖ ការពង្រឹងសមត្ថភាពយុវជន"},"នាយកដ្ឋានយុវជន"]
[null,1,"២. ថវិកាលទ្ធកម្ម",null,{"$f":"CONCATENATE(\"៤.\",RIGHT(A166,LEN(A166)-1))","v":"៤.២៖ ការអភិវឌ្ឍមជ្ឈមណ្ឌលយុវជន"},"នាយកដ្ឋានគ្រប់គ្រងមជ្ឈមណ្ឌលយុវជន"]
[null,1,"៣. ពិនិត្យតាមដាន និងវាយតម្លៃ",null,{"$f":"CONCATENATE(\"៤.\",RIGHT(A171,LEN(A176)-1))","v":"៤..៣៖ ការអភិវឌ្ឍកាយរឹទ្ធិកម្ម"},"នាយកដ្ឋានសហប្រតិបត្តិការកាយរឹទ្ធិ"]
[null,1,"៤. ផ្លាស់ប្ដូរទំនាក់ទំនងយុវជនជាតិ និងអន្ដរជាតិ"]
[null,1,"៥. អភិវឌ្ឍសមត្ថភាពលើសហគ្រិនភាពដល់យុវជន"]
[null,1,"៦. យល់ដឹងអំពីជម្ងឺអេដស៍របស់យុវជនក្រៅសាលា"]
[null,1,"៧. ពង្រឹងដំណើរការក្រុមប្រឹក្សាកុមារ និងយុវជន"]
[".២៖ ការអភិវឌ្ឍមជ្ឈមណ្ឌលយុវជន",1,"១. កិច្ចដំណើរការអង្គភាព"]
[null,1,"២. ថវិកាលទ្ធកម្ម"]
[null,1,"៣. ពិនិត្យតាមដាន និងវាយតម្លៃ"]
[null,1,"៤. គាំទ្រអភិវឌ្ឍមជ្ឈមណ្ឌលយុវជន"]
[null,1,"៥. កសាងសមត្ថភាពជំនាញ វិជ្ជាជីវៈតាមមជ្ឈមណ្ឌលយុវជន"]
[".៣៖ ការអភិវឌ្ឍកាយរឹទ្ធិកម្ម",1,"១. កិច្ចដំណើរការអង្គភាព"]
[null,1,"២. ថវិកាលទ្ធកម្ម"]
[null,1,"៣. ពិនិត្យតាមដាន និងវាយតម្លៃ"]
[null,1,"៤. ពង្រឹងប្រព័ន្ធល្បាតកាយរឹទ្ធិកម្ម បណ្ដុះបណ្ដាលធនធានមនុស្ស និងកិច្ចសហប្រតិបត្តិការអន្ដរជាតិ"]
["កម្មវិធីទី៥៖ ការគាំទ្រសេវាអប់រំ និងអភិបាលកិច្ចល្អ"]
[".១៖ ការអភិវឌ្ឍនិងពង្រឹងប្រព័ន្ធផែនការអប់រំ",2,"១. កិច្ចដំណើរការអង្គភាព",null,{"$f":"CONCATENATE(\"៥.\",RIGHT(A176,LEN(A176)-1))","v":"៥.១៖ ការអភិវឌ្ឍនិងពង្រឹងប្រព័ន្ធផែនការអប់រំ"},"នាយកដ្ឋានផែនការ"]
[null,2,"២. ថវិកាលទ្ធកម្ម",null,{"$f":"CONCATENATE(\"៥.\",RIGHT(A181,LEN(A181)-1))","v":"៥.២៖ ការគ្រប់គ្រង និងពង្រឹងប្រសិទ្ធភាព​ធនធានមនុស្ស"},"នាយកដ្ឋានបុគ្គលិក"]
[null,2,"៣. ពិនិត្យតាមដាន និងវាយតម្លៃ",null,{"$f":"CONCATENATE(\"៥.\",RIGHT(A189,LEN(A189)-1))","v":"៥.៣៖ ការអភិវឌ្ឍសមត្ថភាព ការងារគ្រប់គ្រង ផែនការហិរញ្ញវត្ថុ និងមូលដ្ឋានសម្ភារៈ"},"នាយកដ្ឋានហិរញ្ញវត្ថុ "]
[null,2,"៤. កសាងផែនការយុទ្ធសាស្រ្ដ និងផែនការប្រតិបត្តិ",null,{"$f":"CONCATENATE(\"៥.\",RIGHT(A194,LEN(A194)-1))","v":"៥.៤៖ ពង្រឹងការងារសវនកម្មផ្ទៃក្នុង"},"នាយកដ្ឋានសវនកម្មផ្ទៃក្នុង"]
[null,2,"៥. អភិវឌ្ឍប្រព័ន្ធកសាងផែនការអប់រំ",null,{"$f":"CONCATENATE(\"៥.\",RIGHT(A199,LEN(A199)-1))","v":"៥.៥៖ ការពិនិត្យតាមដាន វាយតម្លៃ និងអធិការកិច្ចប្រព័ន្ធធានាគុណភាពអប់រំ"},"នាយកដ្ឋានធានាគុណភាពអប់រំ"]
[".២៖ ការគ្រប់គ្រង និងពង្រឹងប្រសិទ្ធភាព​ធនធានមនុស្ស",1,"១. កម្មវិធីគាំទ្រការពង្រាយគ្រូ និងប្រាក់បៀវត្ស",null,{"$f":"CONCATENATE(\"៥.\",RIGHT(A204,LEN(A204)-1))","v":"៥.៦៖ អធិការកិច្ចរដ្ឋបាល និងហិរញ្ញវត្ថុ"},"អធិការដ្ឋានរដ្ឋបាលនិងហិរញ្ញវត្ថុ"]
[null,1,"២. កម្មវិធីគាំទ្រការឧបត្ថម្ភជីវភាពគ្រូនៅតំបន់ជួបការលំបាក",null,{"$f":"CONCATENATE(\"៥.\",RIGHT(A209,LEN(A209)-1))","v":"៥.៧៖ លើកកម្ពស់ការផ្សព្វផ្សាយព័ត៌មានអប់រំ និងកិច្ចសហប្រតិបត្តិការអាស៊ាន និងស៊ីមេអូ"},"នាយកដ្ឋានព័ត៌មាន និងកិច្ចការអាស៊ាន និង SEAMEO TED"]
[null,1,"៣. ប្រលងជ្រើសរើសគ្រូបង្រៀន",null,{"$f":"CONCATENATE(\"៥.\",RIGHT(A215,LEN(A215)-1))","v":"៥.៨៖ ការពង្រឹងការងារនីតិកម្មសម្រាប់វិស័យអប់រំ"},"នាយកដ្ឋាននីតិកម្ម"]
[null,2,"១. កិច្ចដំណើរការអង្គភាព",null,{"$f":"CONCATENATE(\"៥.\",RIGHT(A219,LEN(A219)-1))","v":"៥.៩៖ ការពង្រឹងការគ្រប់គ្រងហេដ្ឋារចនាសម្ព័ន្ធអប់រំ"},"នាយកដ្ឋានសំណង់"]
[null,2,"២. ថវិកាលទ្ធកម្ម",null,{"$f":"CONCATENATE(\"៥.\",RIGHT(A224,LEN(A224)-1))","v":"៥.១០៖ ការពង្រឹងការគ្រប់គ្រង ការផ្គត់ផ្គង់សម្ភារៈ និងទ្រព្យសម្បត្តិរដ្ឋ"},"នាយកដ្ឋានសម្ភារៈ និងទ្រព្យសម្បត្តិរដ្ឋ"]
[null,2,"៣. ពិនិត្យតាមដាន និងវាយតម្លៃ",null,{"$f":"CONCATENATE(\"៥.\",RIGHT(A228,LEN(A228)-1))","v":"៥.១១៖ ការអភិវឌ្ឍ និងពង្រឹងប្រសិទ្ធភាពការគ្រប់គ្រង និងការធានាភាពស័ក្តិសិទ្ធនៃសេវារដ្ឋបាលអប់រំ"},"នាយកដ្ឋានរដ្ឋបាល"]
[null,2,"៤. សមាហរណកម្មប្រព័ន្ធទិន្ន័យគ្រប់គ្រងអប់រំ",null,{"$f":"CONCATENATE(\"៥.\",RIGHT(A233,LEN(A233)-1))","v":"៥.១២៖ ការអភិវឌ្ឍកិច្ចសហប្រតិបត្តិការជាតិ អន្តរជាតិលើវិស័យអប់រំ"},"នាយកដ្ឋានទំនាក់ទំនងវប្បធម៌ និងអាហារូបករណ៏"]
[null,2,"៥. ពង្រឹងសមត្ថភាពធនធានមនុស្ស",null,{"$f":"CONCATENATE(\"៥.\",RIGHT(A238,LEN(A238)-1))","v":"៥.១៣៖ ការអភិវឌ្ឍប្រព័ន្ធព័ត៌មានគ្រប់គ្រងអប់រំ"},"នាយកដ្ឋានប្រព័ន្ធព័ត៌មាន​គ្រប់គ្រងអប់រំ"]
[".៣៖ ការអភិវឌ្ឍសមត្ថភាព ការងារគ្រប់គ្រង ផែនការហិរញ្ញវត្ថុ និងមូលដ្ឋានសម្ភារៈ",1,"១. ចំណាយលើអត្ថប្រយជន៍សង្គម",null,{"$f":"CONCATENATE(\"៥.\",RIGHT(A243,LEN(A243)-1))","v":"៥.១៤៖ ការស្រាវជ្រាវ និងអភិវឌ្ឍគោលនយោបាយអប់រំ"},"នាយកដ្ឋានគោលនយោបាយ"]
[null,2,"១. កិច្ចដំណើរការអង្គភាព",null,{"$f":"CONCATENATE(\"៥.\",RIGHT(A250,LEN(A250)-1))","v":"៥.១៥៖ ការអភិវឌ្ឍនិងពង្រឹងប្រព័ន្ធពិនិត្យ តាមដាន និងវាយតម្លៃ"},"នាយកដ្ឋានពិនិត្យតាមដាន និង វាយតម្លៃ"]
[null,2,"២. ថវិកាលទ្ធកម្ម",null,{"$f":"CONCATENATE(\"៥.\",RIGHT(A255,LEN(A255)-1))","v":"៥.១៦៖ ការអភិវឌ្ឍ​បច្ចេកវិទ្យាព័ត៌មានសម្រាប់ការងារអប់រំ យុវជន និងកីឡា"},"នាយកដ្ឋានបច្ចេកវិទ្យាពត៌មាន"]
[null,2,"៣. ពិនិត្យតាមដាន និងវាយតម្លៃ",null,{"$f":"CONCATENATE(\"៥.\",RIGHT(A261,LEN(A261)-1))","v":"៥.១៧៖ ការពង្រឹងគុណភាព និងប្រសិទ្ធភាពការងារប្រឡងនៅមធ្យមសិក្សានិងអប់រំបច្ចេកទេស"},"នាយកដ្ឋានប្រឡង"]
[null,2,"៤. ពង្រឹងសមត្ថភាព និងយន្តការលើការគ្រប់គ្រងហិរញ្ញវត្ថុសាធារណៈ"]
[".៤៖ ពង្រឹងការងារសវនកម្មផ្ទៃក្នុង",2,"១. កិច្ចដំណើរការអង្គភាព"]
[null,2,"២. ថវិកាលទ្ធកម្ម"]
[null,2,"៣. ពិនិត្យតាមដាន និងវាយតម្លៃ"]
[null,2,"៤. ពង្រឹងការងារសវនកម្មផ្ទៃក្នុង"]
[null,2,"៥. ពង្រឹងសមត្ថភាពមន្ដ្រីសវនកម្មផ្ទៃក្នុង"]
[".៥៖ ការពិនិត្យតាមដាន វាយតម្លៃ និងអធិការកិច្ចប្រព័ន្ធធានាគុណភាពអប់រំ",1,"១. អធិការកិច្ចគុណភាពអប់រំ និងវាយតម្លៃលទ្ធផលសិក្សា"]
[null,2,"១. កិច្ចដំណើរការអង្គភាព"]
[null,2,"២. ថវិកាលទ្ធកម្ម"]
[null,2,"៣. ពិនិត្យតាមដាន និងវាយតម្លៃ"]
[null,2,"៤. ពង្រឹងសមត្ថភាពមន្ដ្រីជំនាញ"]
[".៦៖ អធិការកិច្ចរដ្ឋបាល និងហិរញ្ញវត្ថុ",2,"១. កិច្ចដំណើរការអង្គភាព"]
[null,2,"២. ថវិកាលទ្ធកម្ម"]
[null,2,"៣. ពិនិត្យតាមដាន និងវាយតម្លៃ"]
[null,2,"៤. អធិការកិច្ចគ្រប់គ្រងរដ្ឋបាល និងហិរញ្ញវត្ថុ"]
[null,2,"៥. ផ្សព្វផ្សាយ និងការពង្រឹងសមត្ថភាព"]
[".៧៖ លើកកម្ពស់ការផ្សព្វផ្សាយព័ត៌មានអប់រំ និងកិច្ចសហប្រតិបត្តិការអាស៊ាន និងស៊ីមេអូ",1,"១. ផលិត និងផ្សព្វផ្សាយព័ត៌មានអប់រំ"]
[null,1,"២. លើកកម្ពស់កិច្ចសហប្រតិបត្តិការអាស៊ាន និងស៊ីមេអូ"]
[null,2,"១. កិច្ចដំណើរការអង្គភាព"]
[null,2,"២. ថវិកាលទ្ធកម្ម"]
[null,2,"៣. ពិនិត្យតាមដាន និងវាយតម្លៃ"]
[null,2,"៤. ពង្រឹងសមត្ថភាពមន្ត្រីជំនាញ"]
[".៨៖ ការពង្រឹងការងារនីតិកម្មសម្រាប់វិស័យអប់រំ",2,"១. កិច្ចដំណើរការអង្គភាព"]
[null,2,"២. ថវិកាលទ្ធកម្ម"]
[null,2,"៣. ពង្រឹងការងារនីតិកម្មសម្រាប់វិស័យអប់រំ"]
[null,2,"៤. អនុវត្តការងារកំណែទម្រង់វិមជ្ឈការ និងវិសហមជ្ឈការ"]
[".៩៖ ការពង្រឹងការគ្រប់គ្រងហេដ្ឋារចនាសម្ព័ន្ធអប់រំ",1,"១. ថែទាំ និងជួសជុល"]
[null,2,"១. កិច្ចដំណើរការអង្គភាព"]
[null,2,"២. ថវិកាលទ្ធកម្ម"]
[null,2,"៣. ពិនិត្យតាមដាន និងវាយតម្លៃ"]
[null,2,"៤. ពង្រឹងសមត្ថភាព"]
[".១០៖ ការពង្រឹងការគ្រប់គ្រង ការផ្គត់ផ្គង់សម្ភារៈ និងទ្រព្យសម្បត្តិរដ្ឋ",2,"១. កិច្ចដំណើរការអង្គភាព"]
[null,2,"២. ថវិកាលទ្ធកម្ម"]
[null,2,"៣. ពិនិត្យតាមដាន និងវាយតម្លៃ"]
[null,2,"៤. គាំទ្រ គ្រប់គ្រង និងអភិវឌ្ឍសមត្ថភាពលើការងារសម្ភារទ្រព្យសម្បត្តិរដ្ឋ"]
[".១១៖ ការអភិវឌ្ឍ និងពង្រឹងប្រសិទ្ធភាពការគ្រប់គ្រង និងការធានាភាពស័ក្តិសិទ្ធនៃសេវារដ្ឋបាលអប់រំ",1,"១. គាំទ្រសេវារៀបចំពិធីសម្រាប់វិស័យអ​ប់រំ"]
[null,2,"១. កិច្ចដំណើរការអង្គភាព"]
[null,2,"២. ថវិកាលទ្ធកម្ម"]
[null,2,"៣. ពិនិត្យតាមដាន និងវាយតម្លៃ"]
[null,2,"៤. ពង្រឹងសមត្ថភាពគ្រប់គ្រងរដ្ឋបាលអប់រំ"]
[".១២៖ ការអភិវឌ្ឍកិច្ចសហប្រតិបត្តិការជាតិ អន្តរជាតិលើវិស័យអប់រំ",1,"១. ប្រឡងអាហារូបករណ៍"]
[null,2,"១. កិច្ចដំណើរការអង្គភាព"]
[null,2,"២. ថវិកាលទ្ធកម្ម"]
[null,2,"៣. ពិនិត្យតាមដាន និងវាយតម្លៃ"]
[null,2,"៤. ពង្រឹងសមត្ថភាពក្នុងការគ្រប់គ្រងសិស្ស និងនិស្សិតអាហារូបករណ៍ និងសហប្រតិបត្តិការ"]
[".១៣៖ ការអភិវឌ្ឍប្រព័ន្ធព័ត៌មានគ្រប់គ្រងអប់រំ",2,"១. កិច្ចដំណើរការអង្គភាព"]
[null,2,"២. ថវិកាលទ្ធកម្ម"]
[null,2,"៣. ពិនិត្យតាមដាន និងវាយតម្លៃ"]
[null,2,"៤. គាំទ្រប្រព័ន្ធព័ត៌មានគ្រប់គ្រងអប់រំ"]
[null,2,"៥. ពង្រឹងសមត្ថភាពក្នុងការគ្រប់គ្រងប្រព័ន្ធព័ត៌មាន ស្ថិតិ និងសូចនាករអប់រំ"]
[".១៤៖ ការស្រាវជ្រាវ និងអភិវឌ្ឍគោលនយោបាយអប់រំ",1,"១. រៀបចំ និងសម្របសម្រួលគោលនយោបាយអប់រំ យុវជន និងកីឡា"]
[null,1,"២. សិក្សាស្រាវជ្រាវ និងតាមដាននិន្នាការក្នុងតំបន់ និងពិភពលោក "]
[null,2,"១. កិច្ចដំណើរការអង្គភាព"]
[null,2,"២. ថវិកាលទ្ធកម្ម"]
[null,2,"៣. ផ្សព្វផ្សាយលទ្ធផលស្រាវជ្រាវ និងគោលនយោបាយ"]
[null,2,"៤. អភិវឌ្ឍសមត្ថភាពលើការស្រាវជ្រាវ និងការអភិវឌ្ឍគោលនយោបាយ"]
[null,2,"៥. អាហារូបករណ៍សម្រាប់ថ្នាក់បណ្ឌិត សិក្សានៅប្រទេសបារាំង"]
[".១៥៖ ការអភិវឌ្ឍនិងពង្រឹងប្រព័ន្ធពិនិត្យ តាមដាន និងវាយតម្លៃ",2,"១. កិច្ចដំណើរការអង្គភាព"]
[null,2,"២. ថវិកាលទ្ធកម្ម"]
[null,2,"៣. ពិនិត្យតាមដាន និងវាយតម្លៃ"]
[null,2,"៤. អភិវឌ្ឍយន្តការពិនិត្យតាមដាន និងវាយតម្លៃ"]
[null,2,"៥. ពង្រឹងសមត្ថភាពមន្រ្តីជំនាញ"]
[".១៦៖ ការអភិវឌ្ឍ​បច្ចេកវិទ្យាព័ត៌មានសម្រាប់ការងារអប់រំ យុវជន និងកីឡា",1,"១. ការផ្តល់សេវាកម្ម និងការអប់រំមិនផ្លូវការ"]
[null,2,"១. កិច្ចដំណើរការអង្គភាព"]
[null,2,"២. ថវិកាលទ្ធកម្ម"]
[null,2,"៣. ពិនិត្យតាមដាន និងវាយតម្លៃ"]
[null,2,"៤. ពង្រឹងកិច្ចសហប្រតិបតិ្តការបច្ចេកវិទ្យាព័ត៌មាន"]
[null,2,"៥. ពង្រឹងសមត្ថភាពមន្រ្តីជំនាញ"]
[".១៧៖ ការពង្រឹងគុណភាព និងប្រសិទ្ធភាពការងារប្រឡងនៅមធ្យមសិក្សានិងអប់រំបច្ចេកទេស",1,"១. ការងារប្រឡង"]
[null,2,"១. កិច្ចដំណើរការអង្គភាព"]
[null,2,"២. ថវិកាលទ្ធកម្ម"]
[null,2,"៣. ពិនិត្យតាមដាន និងវាយតម្លៃ"]
[null,2,"៤. ពង្រឹងសមត្ថភាពលើការងារប្រឡង"]

{"sheet":"ព័ត៌មានអង្គភាព","index":1,"n_rows":21,"n_cols":5,"rows_kept":21,"cut":false,"hidden":false,"merged":[[0,1,0,2]]}
[null,"សូមជ្រើសរើសព៍ត៌មានអង្គភាព"]
[null,"កម្មវិធី","កម្មវិធីទី៣៖ ការអភិវឌ្ឍវិស័យអប់រំកាយ និងកីឡា",{"$f":"RIGHT(INDEX(subprogramNameDefine,MATCH(C2,program,0)),1)","v":"3"}]
[null,"អនុកម្មវិធី","៣.១៖ ការអភិវឌ្ឍអប់រំកាយ និងកីឡាសិស្ស និស្សិត មហាជន និងកីឡាកម្រិតខ្ពស់",{"$f":"MATCH(C3,INDIRECT( INDEX(programNameDefine,MATCH(C2,program,0))), 0)","v":1}]
[null,"ឈ្មោះអង្គភាព",{"$f":"IFERROR(INDEX(INDIRECT(INDEX(subprogramNameDefine,MATCH(C2,program,0))),MATCH(C3,INDIRECT(INDEX(programNameDefine,MATCH(C2,program,0))),0)),\"\")","v":"អគ្គនាយកដ្ឋានកីឡា"}]
[null,"ចង្កោមសកម្មភាពទី ១",{"$f":"cluster_activity_1","v":"ច.ស.ក ទី ១. ការចូលរៀនមានគុណភាពប្រកប​ដោយ​សមធម៌ និងបរិយាប័ន្ន និងលើកកម្ពស់ឱកាសក្នុងការសិក្សា​ពេញមួយជីវិតសម្រាប់ទាំងអស់គ្នា"}]
[null,"ឈ្មោះសកម្មភាពរងទី ១",{"$f":"IFERROR(INDIRECT(D6),\"\")","v":"១. កិច្ចដំណើរការអង្គភាព"},{"$f":"CONCATENATE(\"cluster_activity_\", $D$2, \"_\",$D$3,\"_1_\",E6)","v":"cluster_activity_3_1_1_1"},1]
[null,"ឈ្មោះសកម្មភាពរងទី ២",{"$f":"IFERROR(INDIRECT(D7),\"\")","v":"២. ថវិកាលទ្ធកម្ម"},{"$f":"CONCATENATE(\"cluster_activity_\", $D$2, \"_\",$D$3,\"_1_\",E7)","v":"cluster_activity_3_1_1_2"},2]
[null,"ឈ្មោះសកម្មភាពរងទី ៣","៣. ពិនិត្យតាមដាន និងវាយតម្លៃ","cluster_activity_3_1_1_3",3]
[null,"ឈ្មោះសកម្មភាពរងទី ៤","៤. អភិវឌ្ឍកម្មវិធីអប់រំកាយក្នុងម៉ោងសិក្សា កីឡាក្រៅម៉ោងសិក្សា និងសមាគមកីឡា","cluster_activity_3_1_1_4",4]
[null,"ឈ្មោះសកម្មភាពរងទី ៥","៥. ប្រកួតកីឡាសិស្ស និស្សិតថ្នាក់រាជធានី-ខេត្ត","cluster_activity_3_1_1_5",5]
[null,"ឈ្មោះសកម្មភាពរងទី ៦","៦. រៀបចំ និងចូលរួមប្រកួតកីឡាជាលក្ខណៈជាតិ និងអន្ដរជាតិ","cluster_activity_3_1_1_6",6]
[null,"ឈ្មោះសកម្មភាពរងទី ៧","៧. ប្រកួតកីឡាមហាជនថ្នាក់រាជធានី-ខេត្ត","cluster_activity_3_1_1_7",7]
[null,"ឈ្មោះសកម្មភាពរងទី ៨","៨. អភិវឌ្ឍហេដ្ឋារចនាសម្ព័ន្ធកីឡា និងឧបករណ៍សម្ភារកីឡា","cluster_activity_3_1_1_8",8]
[null,"ឈ្មោះសកម្មភាពរងទី ៩","","cluster_activity_3_1_1_9",9]
[null,"ឈ្មោះសកម្មភាពរងទី ១០","","cluster_activity_3_1_1_10",10]
[null,"ចង្កោមសកម្មភាពទី ២",{"$f":"cluster_activity_2","v":"ច.ស.ក ទី ២. ការលើកកម្ពស់ភាពជាអ្នកដឹកនាំ និងគ្រប់គ្រង របស់មន្រ្តីអប់រំគ្រប់លំដាប់ថ្នាក់"}]
[null,"ឈ្មោះសកម្មភាពរងទី ១","១. អភិវឌ្ឍធនធានមនុស្សលើវិស័យកីឡា",{"$f":"CONCATENATE(\"cluster_activity_\", $D$2, \"_\",$D$3,\"_2_\",E17)","v":"cluster_activity_3_1_2_1"},1]
[null,"ឈ្មោះសកម្មភាពរងទី ២","",{"$f":"CONCATENATE(\"cluster_activity_\", $D$2, \"_\",$D$3,\"_2_\",E18)","v":"cluster_activity_3_1_2_2"},2]
[null,"ឈ្មោះសកម្មភាពរងទី ៣","","cluster_activity_3_1_2_3",3]
[null,"ឈ្មោះសកម្មភាពរងទី ៤","","cluster_activity_3_1_2_4",4]
[null,"ឈ្មោះសកម្មភាពរងទី ៥","","cluster_activity_3_1_2_5",5]

{"sheet":"ចំណាយ-ថវិការដ្ឋ","index":2,"n_rows":28,"n_cols":41,"rows_kept":28,"cut":false,"hidden":false,"merged":[[5,31,5,40],[6,31,6,33],[6,34,6,40],[7,31,8,31],[7,32,8,32],[7,33,8,33],[7,34,8,34],[7,35,7,37],[7,38,7,40],[5,21,5,30],[6,24,6,30],[7,21,8,21],[7,22,8,22],[7,23,8,23],[7,24,8,24],[7,25,7,27],[6,21,6,23],[7,28,7,30],[5,11,5,20],[6,11,6,13],[6,14,6,20],[7,11,8,11],[7,12,8,12],[7,13,8,13],[7,14,8,14],[7,15,7,17],[7,18,7,20],[3,0,3,10],[5,0,8,0],[6,1,6,3],[6,4,6,10],[5,1,5,10],[7,4,8,4],[7,1,8,1],[7,2,8,2],[7,3,8,3],[7,5,7,7],[7,8,7,10]]}
[]
["ក្រសួងអប់រំ​​​​​​​​​​​ យុវជន និងកីឡា"]
[{"$f":"ព័ត៌មានអង្គភាព!C4","v":"អគ្គនាយកដ្ឋានកីឡា"}]
["ការកំណត់តម្រូវការចំណាយសម្រាប់កម្មវិធី និងអនុកម្មវិធី (ថវិការដ្ឋ)"]
[null,null,null,null,null,null,null,null,null,null,"ឯកតា៖ លានរៀល",null,null,null,null,null,null,null,null,null,"ឯកតា៖ លានរៀល",null,null,null,null,null,null,null,null,null,"ឯកតា៖ លានរៀល",null,null,null,null,null,null,null,null,null,"ឯកតា៖ លានរៀល"]
["តម្រូវការឥណទាន\nតាមប្រភេទចំណាយ","ច្បាប់ហិរញ្ញវត្ថុ ឆ្នាំ ២០១៨",null,null,null,null,null,null,null,null,null,"គ្រោងតម្រូវការឥណទាន សម្រាប់ឆ្នាំ ២០១៩",null,null,null,null,null,null,null,null,null,"គ្រោងតម្រូវការឥណទាន សម្រាប់ឆ្នាំ ២០២០",null,null,null,null,null,null,null,null,null,"គ្រោងតម្រូវការឥណទាន សម្រាប់ឆ្នាំ ២០២១"]
[null,"ចំណាយចរន្ដ",null,null,"ចំណាយមូលធន",null,null,null,null,null,null,"ចំណាយចរន្ដ",null,null,"ចំណាយមូលធន",null,null,null,null,null,null,"ចំណាយចរន្ដ",null,null,"ចំណាយមូលធន",null,null,null,null,null,null,"ចំណាយចរន្ដ",null,null,"ចំណាយមូលធន"]
[null,"សរុប","បន្ទុកបុគ្គលិក","ក្រៅបន្ទុកបុគ្គលិក","សរុបគម្រោងវិនិយោគ","គម្រោងវិនិយោគ",null,null,"ជំនួយបច្ចេកទេស",null,null,"សរុប","បន្ទុកបុគ្គលិក","ក្រៅបន្ទុកបុគ្គលិក","សរុបគម្រោងវិនិយោគ","គម្រោងវិនិយោគ",null,null,"ជំនួយបច្ចេកទេស",null,null,"សរុប","បន្ទុកបុគ្គលិក","ក្រៅបន្ទុកបុគ្គលិក","សរុបគម្រោងវិនិយោគ","គម្រោងវិនិយោគ",null,null,"ជំនួយបច្ចេកទេស",null,null,"សរុប","បន្ទុកបុគ្គលិក","ក្រៅបន្ទុកបុគ្គលិក","សរុបគម្រោងវិនិយោគ","គម្រោងវិនិយោគ",null,null,"ជំនួយបច្ចេកទេស"]
[null,null,null,null,null,"សរុប","មានហិរញ្ញប្បទាន","មិនទាន់មានហិរញ្ញប្បទាន","សរុប","មានហិរញ្ញប្ប​ទាន","មិនទាន់មានហិរញ្ញប្បទាន",null,null,null,null,"សរុប","មានហិរញ្ញប្បទាន","មិនទាន់មានហិរញ្ញប្បទាន","សរុប","មានហិរញ្ញប្ប​ទាន","មិនទាន់មានហិរញ្ញប្បទាន",null,null,null,null,"សរុប","មានហិរញ្ញប្បទាន","មិនទាន់មានហិរញ្ញប្បទាន","សរុប","មានហិរញ្ញប្ប​ទាន","មិនទាន់មានហិរញ្ញប្បទាន",null,null,null,null,"សរុប","មានហិរញ្ញប្បទាន","មិនទាន់មានហិរញ្ញប្បទាន","សរុប","មានហិរញ្ញប្ប​ទាន","មិនទាន់មានហិរញ្ញប្បទាន"]
[{"$f":"ព័ត៌មានអង្គភាព!C2","v":"កម្មវិធីទី៣៖ ការអភិវឌ្ឍវិស័យអប់រំកាយ និងកីឡា"},{"$f":"B11","v":0},{"$f":"C11","v":0},0,0,0,0,0,0,0,0,0,0,0,0,0,0,0,0,0,0,0,0,0,0,0,0,0,0,0,0,0,0,0,0,0,0,0,0,0,0]
[{"$f":"CONCATENATE(\"អនុកម្មវិធីទី \",ព័ត៌មានអង្គភាព!C3)","v":"អនុកម្មវិធីទី ៣.១៖ ការអភិវឌ្ឍអប់រំកាយ និងកីឡាសិស្ស និស្សិត មហាជន និងកីឡាកម្រិតខ្ពស់"},{"$f":"SUM(B12,B23)","v":0},{"$f":"SUM(C12,C23)","v":0},0,0,0,0,0,0,0,0,0,0,0,0,0,0,0,0,0,0,0,0,0,0,0,0,0,0,0,0,0,0,0,0,0,0,0,0,0,0]
[{"$f":"ព័ត៌មានអង្គភាព!C5","v":"ច.ស.ក ទី ១. ការចូលរៀនមានគុណភាពប្រកប​ដោយ​សមធម៌ និងបរិយាប័ន្ន និងលើកកម្ពស់ឱកាសក្នុងការសិក្សា​ពេញមួយជីវិតសម្រាប់ទាំងអស់គ្នា"},{"$f":"SUM(B13:B22)","v":0},{"$f":"ROUND(SUM(C13:C22),1)","v":0},{"$f":"ROUND(SUM(D13:D22),1)","v":0},{"$f":"SUM(E13:E22)","v":0},{"$f":"SUM(F13:F22)","v":0},0,0,{"$f":"SUM(I13:I22)","v":0},0,0,{"$f":"SUM(L13:L22)","v":0},0,0,{"$f":"SUM(O13:O22)","v":0},0,0,0,{"$f":"SUM(S13:S22)","v":0},0,0,{"$f":"SUM(V13:V22)","v":0},0,0,{"$f":"SUM(Y13:Y22)","v":0},0,0,0,{"$f":"SUM(AC13:AC22)","v":0},0,0,{"$f":"SUM(AF13:AF22)","v":0},0,0,{"$f":"SUM(AI13:AI22)","v":0},0,0,0,{"$f":"SUM(AM13:AM22)","v":0},0,0]
[{"$f":"ព័ត៌មានអង្គភាព!C6","v":"១. កិច្ចដំណើរការអង្គភាព"},{"$f":"ROUND(SUM(C13:D13),1)","v":0},null,null,{"$f":"SUM(F13,I13)","v":0},{"$f":"ROUND(SUM(G13:H13),1)","v":0},null,null,{"$f":"ROUND(SUM(J13:K13),1)","v":0},null,null,{"$f":"ROUND(SUM(M13:N13),1)","v":0},null,null,{"$f":"SUM(P13,S13)","v":0},{"$f":"ROUND(SUM(Q13:R13),1)","v":0},null,null,{"$f":"ROUND(SUM(T13:U13),1)","v":0},null,null,{"$f":"ROUND(SUM(W13:X13),1)","v":0},null,null,{"$f":"SUM(Z13,AC13)","v":0},{"$f":"ROUND(SUM(AA13:AB13),1)","v":0},null,null,{"$f":"ROUND(SUM(AD13:AE13),1)","v":0},null,null,{"$f":"ROUND(SUM(AG13:AH13),1)","v":0},null,null,{"$f":"SUM(AJ13,AM13)","v":0},{"$f":"ROUND(SUM(AK13:AL13),1)","v":0},null,null,{"$f":"ROUND(SUM(AN13:AO13),1)","v":0}]
[{"$f":"ព័ត៌មានអង្គភាព!C7","v":"២. ថវិកាលទ្ធកម្ម"},{"$f":"ROUND(SUM(C14:D14),1)","v":0},null,null,{"$f":"SUM(F14,I14)","v":0},{"$f":"ROUND(SUM(G14:H14),1)","v":0},null,null,{"$f":"ROUND(SUM(J14:K14),1)","v":0},null,null,{"$f":"ROUND(SUM(M14:N14),1)","v":0},null,null,0,{"$f":"ROUND(SUM(Q14:R14),1)","v":0},null,null,{"$f":"ROUND(SUM(T14:U14),1)","v":0},null,null,{"$f":"ROUND(SUM(W14:X14),1)","v":0},null,null,0,{"$f":"ROUND(SUM(AA14:AB14),1)","v":0},null,null,{"$f":"ROUND(SUM(AD14:AE14),1)","v":0},null,null,{"$f":"ROUND(SUM(AG14:AH14),1)","v":0},null,null,0,{"$f":"ROUND(SUM(AK14:AL14),1)","v":0},null,null,{"$f":"ROUND(SUM(AN14:AO14),1)","v":0}]
[{"$f":"ព័ត៌មានអង្គភាព!C8","v":"៣. ពិនិត្យតាមដាន និងវាយតម្លៃ"},0,null,null,0,0,null,null,0,null,null,0,null,null,0,0,null,null,0,null,null,0,null,null,0,0,null,null,0,null,null,0,null,null,0,0,null,null,0]
[{"$f":"ព័ត៌មានអង្គភាព!C9","v":"៤. អភិវឌ្ឍកម្មវិធីអប់រំកាយក្នុងម៉ោងសិក្សា កីឡាក្រៅម៉ោងសិក្សា និងសមាគមកីឡា"},0,null,null,0,0,null,null,0,null,null,0,null,null,0,0,null,null,0,null,null,0,null,null,0,0,null,null,0,null,null,0,null,null,0,0,null,null,0]
[{"$f":"ព័ត៌មានអង្គភាព!C10","v":"៥. ប្រកួតកីឡាសិស្ស និស្សិតថ្នាក់រាជធានី-ខេត្ត"},0,null,null,0,0,null,null,0,null,null,0,null,null,0,0,null,null,0,null,null,0,null,null,0,0,null,null,0,null,null,0,null,null,0,0,null,null,0]
[{"$f":"ព័ត៌មានអង្គភាព!C11","v":"៦. រៀបចំ និងចូលរួមប្រកួតកីឡាជាលក្ខណៈជាតិ និងអន្ដរជាតិ"},0,null,null,0,0,null,null,0,null,null,0,null,null,0,0,null,null,0,null,null,0,null,null,0,0,null,null,0,null,null,0,null,null,0,0,null,null,0]
[{"$f":"ព័ត៌មានអង្គភាព!C12","v":"៧. ប្រកួតកីឡាមហាជនថ្នាក់រាជធានី-ខេត្ត"},0,null,null,0,0,null,null,0,null,null,0,null,null,0,0,null,null,0,null,null,0,null,null,0,0,null,null,0,null,null,0,null,null,0,0,null,null,0]
[{"$f":"ព័ត៌មានអង្គភាព!C13","v":"៨. អភិវឌ្ឍហេដ្ឋារចនាសម្ព័ន្ធកីឡា និងឧបករណ៍សម្ភារកីឡា"},0,null,null,0,0,null,null,0,null,null,0,null,null,0,0,null,null,0,null,null,0,null,null,0,0,null,null,0,null,null,0,null,null,0,0,null,null,0]
[{"$f":"ព័ត៌មានអង្គភាព!C14","v":""},0,null,null,0,0,null,null,0,null,null,0,null,null,0,0,null,null,0,null,null,0,null,null,0,0,null,null,0,null,null,0,null,null,0,0,null,null,0]
[{"$f":"ព័ត៌មានអង្គភាព!C15","v":""},0,null,null,0,0,null,null,0,null,null,0,null,null,0,0,null,null,0,null,null,0,null,null,0,0,null,null,0,null,null,0,null,null,0,0,null,null,0]
[{"$f":"ព័ត៌មានអង្គភាព!C16","v":"ច.ស.ក ទី ២. ការលើកកម្ពស់ភាពជាអ្នកដឹកនាំ និងគ្រប់គ្រង របស់មន្រ្តីអប់រំគ្រប់លំដាប់ថ្នាក់"},{"$f":"SUM(B24:B28)","v":0},{"$f":"ROUND(SUM(C24:C28),1)","v":0},{"$f":"ROUND(SUM(D24:D28),1)","v":0},{"$f":"SUM(E24:E28)","v":0},0,{"$f":"ROUND(SUM(G24:G28),1)","v":0},0,{"$f":"SUM(I24:I28)","v":0},{"$f":"ROUND(SUM(J24:J28),1)","v":0},0,{"$f":"SUM(L24:L28)","v":0},{"$f":"ROUND(SUM(M24:M28),1)","v":0},0,0,0,{"$f":"ROUND(SUM(Q24:Q28),1)","v":0},0,{"$f":"SUM(S24:S28)","v":0},{"$f":"ROUND(SUM(T24:T28),1)","v":0},0,{"$f":"SUM(V24:V28)","v":0},{"$f":"ROUND(SUM(W24:W28),1)","v":0},0,0,0,{"$f":"ROUND(SUM(AA24:AA28),1)","v":0},0,{"$f":"SUM(AC24:AC28)","v":0},{"$f":"ROUND(SUM(AD24:AD28),1)","v":0},0,{"$f":"SUM(AF24:AF28)","v":0},{"$f":"ROUND(SUM(AG24:AG28),1)","v":0},0,0,0,{"$f":"ROUND(SUM(AK24:AK28),1)","v":0},0,{"$f":"SUM(AM24:AM28)","v":0},{"$f":"ROUND(SUM(AN24:AN28),1)","v":0},0]
[{"$f":"ព័ត៌មានអង្គភាព!C17","v":"១. អភិវឌ្ឍធនធានមនុស្សលើវិស័យកីឡា"},{"$f":"ROUND(SUM(C24:D24),1)","v":0},null,null,{"$f":"SUM(F24,I24)","v":0},{"$f":"ROUND(SUM(G24:H24),1)","v":0},null,null,{"$f":"ROUND(SUM(J24:K24),1)","v":0},null,null,{"$f":"ROUND(SUM(M24:N24),1)","v":0},null,null,{"$f":"SUM(P24,S24)","v":0},{"$f":"ROUND(SUM(Q24:R24),1)","v":0},null,null,{"$f":"ROUND(SUM(T24:U24),1)","v":0},null,null,{"$f":"ROUND(SUM(W24:X24),1)","v":0},null,null,{"$f":"SUM(Z24,AC24)","v":0},{"$f":"ROUND(SUM(AA24:AB24),1)","v":0},null,null,{"$f":"ROUND(SUM(AD24:AE24),1)","v":0},null,null,{"$f":"ROUND(SUM(AG24:AH24),1)","v":0},null,null,{"$f":"SUM(AJ24,AM24)","v":0},{"$f":"ROUND(SUM(AK24:AL24),1)","v":0},null,null,{"$f":"ROUND(SUM(AN24:AO24),1)","v":0}]
[{"$f":"ព័ត៌មានអង្គភាព!C18","v":""},0,null,null,0,0,null,null,0,null,null,0,null,null,0,0,null,null,0,null,null,0,null,null,0,0,null,null,0,null,null,0,null,null,0,0,null,null,0]
[{"$f":"ព័ត៌មានអង្គភាព!C19","v":""},0,null,null,0,0,null,null,0,null,null,0,null,null,0,0,null,null,0,null,null,0,null,null,0,0,null,null,0,null,null,0,null,null,0,0,null,null,0]
[{"$f":"ព័ត៌មានអង្គភាព!C20","v":""},0,null,null,0,0,null,null,0,null,null,0,null,null,0,0,null,null,0,null,null,0,null,null,0,0,null,null,0,null,null,0,null,null,0,0,null,null,0]
[{"$f":"ព័ត៌មានអង្គភាព!C21","v":""},0,null,null,0,0,null,null,0,null,null,0,null,null,0,0,null,null,0,null,null,0,null,null,0,0,null,null,0,null,null,0,null,null,0,0,null,null,0]

{"sheet":"ចំណាយ-ថវិកាដៃគូ","index":3,"n_rows":28,"n_cols":29,"rows_kept":28,"cut":false,"hidden":false,"merged":[[7,26,7,28],[7,15,8,15],[7,16,7,18],[7,19,7,21],[7,22,8,22],[7,23,7,25],[7,5,7,7],[3,0,3,7],[5,0,8,0],[5,1,5,7],[5,8,5,14],[7,1,8,1],[7,2,7,4],[7,12,7,14],[7,8,8,8],[7,9,7,11],[5,15,5,21],[5,22,5,28],[6,1,6,7],[6,8,6,14],[6,15,6,21],[6,22,6,28]]}
[]
["ក្រសួងអប់រំ​​​​​​​​​​​ យុវជន និងកីឡា"]
[{"$f":"ព័ត៌មានអង្គភាព!C4","v":"អគ្គនាយកដ្ឋានកីឡា"}]
["ការកំណត់តម្រូវការចំណាយសម្រាប់កម្មវិធី និងអនុកម្មវិធី (ថវិកាដៃគូ)"]
[null,null,null,null,null,null,null,null,null,null,null,null,null,null,null,null,null,null,null,null,null,null,null,null,null,null,null,null,"ឯកតា៖ លានរៀល"]
["តម្រូវការឥណទាន\nតាមប្រភេទចំណាយ"]
[null,"ចំណាយមូលធន",null,null,null,null,null,null,"ចំណាយមូលធន",null,null,null,null,null,null,"ចំណាយមូលធន",null,null,null,null,null,null,"ចំណាយមូលធន"]
[null,"សរុបគម្រោងវិនិយោគ","គម្រោងវិនិយោគ",null,null,"ជំនួយបច្ចេកទេស",null,null,"សរុបគម្រោងវិនិយោគ","គម្រោងវិនិយោគ",null,null,"ជំនួយបច្ចេកទេស",null,null,"សរុបគម្រោងវិនិយោគ","គម្រោងវិនិយោគ",null,null,"ជំនួយបច្ចេកទេស",null,null,"សរុបគម្រោងវិនិយោគ","គម្រោងវិនិយោគ",null,null,"ជំនួយបច្ចេកទេស"]
[null,null,"សរុប","មានហិរញ្ញប្បទាន","មិនទាន់មានហិរញ្ញប្បទាន","សរុប","មានហិរញ្ញប្ប​ទាន","មិនទាន់មានហិរញ្ញប្បទាន",null,"សរុប","មានហិរញ្ញប្បទាន","មិនទាន់មានហិរញ្ញប្បទាន","សរុប","មានហិរញ្ញប្ប​ទាន","មិនទាន់មានហិរញ្ញប្បទាន",null,"សរុប","មានហិរញ្ញប្បទាន","មិនទាន់មានហិរញ្ញប្បទាន","សរុប","មានហិរញ្ញប្ប​ទាន","មិនទាន់មានហិរញ្ញប្បទាន",null,"សរុប","មានហិរញ្ញប្បទាន","មិនទាន់មានហិរញ្ញប្បទាន","សរុប","មានហិរញ្ញប្ប​ទាន","មិនទាន់មានហិរញ្ញប្បទាន"]
[{"$f":"CONCATENATE(\"កម្មវិធីទី \",ព័ត៌មានអង្គភាព!C2)","v":"កម្មវិធីទី កម្មវិធីទី៣៖ ការអភិវឌ្ឍវិស័យអប់រំកាយ និងកីឡា"},{"$f":"B11","v":0},{"$f":"C11","v":0},0,0,0,0,0,{"$f":"I11","v":0},0,0,0,0,0,0,{"$f":"P11","v":0},0,0,0,0,0,0,{"$f":"W11","v":0},0,0,0,0,0,0]
[{"$f":"CONCATENATE(\"អនុកម្មវិធីទី \",ព័ត៌មានអង្គភាព!C3)","v":"អនុកម្មវិធីទី ៣.១៖ ការអភិវឌ្ឍអប់រំកាយ និងកីឡាសិស្ស និស្សិត មហាជន និងកីឡាកម្រិតខ្ពស់"},{"$f":"SUM(B12,B23)","v":0},{"$f":"SUM(C12,C23)","v":0},0,0,0,0,0,{"$f":"SUM(I12,I23)","v":0},{"$f":"SUM(J12,J23)","v":0},0,0,0,0,0,{"$f":"SUM(P12,P23)","v":0},{"$f":"SUM(Q12,Q23)","v":0},0,0,0,0,0,{"$f":"SUM(W12,W23)","v":0},{"$f":"SUM(X12,X23)","v":0},0,0,0,0,0]
[{"$f":"ព័ត៌មានអង្គភាព!C5","v":"ច.ស.ក ទី ១. ការចូលរៀនមានគុណភាពប្រកប​ដោយ​សមធម៌ និងបរិយាប័ន្ន និងលើកកម្ពស់ឱកាសក្នុងការសិក្សា​ពេញមួយជីវិតសម្រាប់ទាំងអស់គ្នា"},{"$f":"SUM(B13:B22)","v":0},{"$f":"SUM(C13:C22)","v":0},{"$f":"ROUND(SUM(D13:D22),1)","v":0},{"$f":"SUM(E13:E22)","v":0},{"$f":"SUM(F13:F22)","v":0},0,0,{"$f":"SUM(I13:I22)","v":0},0,{"$f":"ROUND(SUM(K13:K22),1)","v":0},{"$f":"SUM(L13:L22)","v":0},0,0,0,{"$f":"SUM(P13:P22)","v":0},0,0,{"$f":"SUM(S13:S22)","v":0},0,0,0,{"$f":"SUM(W13:W22)","v":0},0,0,{"$f":"SUM(Z13:Z22)","v":0},0,0,0]
[{"$f":"ព័ត៌មានអង្គភាព!C6","v":"១. កិច្ចដំណើរការអង្គភាព"},{"$f":"SUM(C13,F13)","v":0},{"$f":"ROUND(SUM(D13:E13),1)","v":0},null,null,{"$f":"ROUND(SUM(G13:H13),1)","v":0},null,null,{"$f":"SUM(J13,M13)","v":0},{"$f":"ROUND(SUM(K13:L13),1)","v":0},null,null,{"$f":"ROUND(SUM(N13:O13),1)","v":0},null,null,{"$f":"SUM(Q13,T13)","v":0},{"$f":"ROUND(SUM(R13:S13),1)","v":0},null,null,{"$f":"ROUND(SUM(U13:V13),1)","v":0},null,null,{"$f":"SUM(X13,AA13)","v":0},{"$f":"ROUND(SUM(Y13:Z13),1)","v":0},null,null,{"$f":"ROUND(SUM(AB13:AC13),1)","v":0}]
[{"$f":"ព័ត៌មានអង្គភាព!C7","v":"២. ថវិកាលទ្ធកម្ម"},{"$f":"SUM(C14,F14)","v":0},0,null,null,{"$f":"ROUND(SUM(G14:H14),1)","v":0},null,null,{"$f":"SUM(J14,M14)","v":0},0,null,null,{"$f":"ROUND(SUM(N14:O14),1)","v":0},null,null,{"$f":"SUM(Q14,T14)","v":0},0,null,null,{"$f":"ROUND(SUM(U14:V14),1)","v":0},null,null,{"$f":"SUM(X14,AA14)","v":0},0,null,null,{"$f":"ROUND(SUM(AB14:AC14),1)","v":0}]
[{"$f":"ព័ត៌មានអង្គភាព!C8","v":"៣. ពិនិត្យតាមដាន និងវាយតម្លៃ"},0,0,null,null,0,null,null,0,0,null,null,0,null,null,0,0,null,null,0,null,null,0,0,null,null,0]
[{"$f":"ព័ត៌មានអង្គភាព!C9","v":"៤. អភិវឌ្ឍកម្មវិធីអប់រំកាយក្នុងម៉ោងសិក្សា កីឡាក្រៅម៉ោងសិក្សា និងសមាគមកីឡា"},0,0,null,null,0,null,null,0,0,null,null,0,null,null,0,0,null,null,0,null,null,0,0,null,null,0]
[{"$f":"ព័ត៌មានអង្គភាព!C10","v":"៥. ប្រកួតកីឡាសិស្ស និស្សិតថ្នាក់រាជធានី-ខេត្ត"},0,0,null,null,0,null,null,0,0,null,null,0,null,null,0,0,null,null,0,null,null,0,0,null,null,0]
[{"$f":"ព័ត៌មានអង្គភាព!C11","v":"៦. រៀបចំ និងចូលរួមប្រកួតកីឡាជាលក្ខណៈជាតិ និងអន្ដរជាតិ"},0,0,null,null,0,null,null,0,0,null,null,0,null,null,0,0,null,null,0,null,null,0,0,null,null,0]
[{"$f":"ព័ត៌មានអង្គភាព!C12","v":"៧. ប្រកួតកីឡាមហាជនថ្នាក់រាជធានី-ខេត្ត"},0,0,null,null,0,null,null,0,0,null,null,0,null,null,0,0,null,null,0,null,null,0,0,null,null,0]
[{"$f":"ព័ត៌មានអង្គភាព!C13","v":"៨. អភិវឌ្ឍហេដ្ឋារចនាសម្ព័ន្ធកីឡា និងឧបករណ៍សម្ភារកីឡា"},0,0,null,null,0,null,null,0,0,null,null,0,null,null,0,0,null,null,0,null,null,0,0,null,null,0]
[{"$f":"ព័ត៌មានអង្គភាព!C14","v":""},0,0,null,null,0,null,null,0,0,null,null,0,null,null,0,0,null,null,0,null,null,0,0,null,null,0]
[{"$f":"ព័ត៌មានអង្គភាព!C15","v":""},0,0,null,null,0,null,null,0,0,null,null,0,null,null,0,0,null,null,0,null,null,0,0,null,null,0]
[{"$f":"ព័ត៌មានអង្គភាព!C16","v":"ច.ស.ក ទី ២. ការលើកកម្ពស់ភាពជាអ្នកដឹកនាំ និងគ្រប់គ្រង របស់មន្រ្តីអប់រំគ្រប់លំដាប់ថ្នាក់"},{"$f":"SUM(B24:B28)","v":0},{"$f":"SUM(C24:C28)","v":0},{"$f":"ROUND(SUM(D24:D28),1)","v":0},{"$f":"SUM(E24:E28)","v":0},{"$f":"SUM(F24:F28)","v":0},{"$f":"ROUND(SUM(G24:G28),1)","v":0},0,{"$f":"SUM(I24:I28)","v":0},0,{"$f":"ROUND(SUM(K24:K28),1)","v":0},{"$f":"SUM(L24:L28)","v":0},0,{"$f":"ROUND(SUM(N24:N28),1)","v":0},0,{"$f":"SUM(P24:P28)","v":0},0,{"$f":"ROUND(SUM(R24:R28),1)","v":0},0,0,0,0,{"$f":"SUM(W24:W28)","v":0},0,{"$f":"ROUND(SUM(Y24:Y28),1)","v":0},0,0,0,0]
[{"$f":"ព័ត៌មានអង្គភាព!C17","v":"១. អភិវឌ្ឍធនធានមនុស្សលើវិស័យកីឡា"},{"$f":"SUM(C24,F24)","v":0},{"$f":"ROUND(SUM(D24:E24),1)","v":0},null,null,{"$f":"ROUND(SUM(G24:H24),1)","v":0},null,null,{"$f":"SUM(J24,M24)","v":0},{"$f":"ROUND(SUM(K24:L24),1)","v":0},null,null,{"$f":"ROUND(SUM(N24:O24),1)","v":0},null,null,{"$f":"SUM(Q24,T24)","v":0},{"$f":"ROUND(SUM(R24:S24),1)","v":0},null,null,{"$f":"ROUND(SUM(U24:V24),1)","v":0},null,null,{"$f":"SUM(X24,AA24)","v":0},{"$f":"ROUND(SUM(Y24:Z24),1)","v":0},null,null,{"$f":"ROUND(SUM(AB24:AC24),1)","v":0}]
[{"$f":"ព័ត៌មានអង្គភាព!C18","v":""},0,0,null,null,0,null,null,0,0,null,null,0,null,null,0,0,null,null,0,null,null,0,0,null,null,0]
[{"$f":"ព័ត៌មានអង្គភាព!C19","v":""},0,0,null,null,0,null,null,0,0,null,null,0,null,null,0,0,null,null,0,null,null,0,0,null,null,0]
[{"$f":"ព័ត៌មានអង្គភាព!C20","v":""},0,0,null,null,0,null,null,0,0,null,null,0,null,null,0,0,null,null,0,null,null,0,0,null,null,0]
[{"$f":"ព័ត៌មានអង្គភាព!C21","v":""},0,0,null,null,0,null,null,0,0,null,null,0,null,null,0,0,null,null,0,null,null,0,0,null,null,0]

{"sheet":"Table 4.0","index":4,"n_rows":11,"n_cols":13,"rows_kept":11,"cut":false,"hidden":false,"merged":[[3,0,3,12],[5,0,6,0],[5,1,5,3],[5,4,5,6],[5,7,5,9],[5,10,5,12]]}
[]
["ក្រសួងអប់រំ​​​​​​​​​​​ យុវជន និងកីឡា"]
[{"$f":"ព័ត៌មានអង្គភាព!C4","v":"អគ្គនាយកដ្ឋានកីឡា"}]
["តារាងសរុបការកំណត់តម្រូវការចំណាយសម្រាប់កម្មវិធី និងអនុកម្មវិធី"]
[null,null,null,null,null,null,null,null,null,null,null,null,"ឯកតា៖ លានរៀល"]
["តម្រូវការឥណទាន\nតាមប្រភេទចំណាយ","ច្បាប់ហិរញ្ញវត្ថុ \nឆ្នាំ ២០១៨",null,null,"គ្រោងតម្រូវការឥណទាន\nសម្រាប់ឆ្នាំ ២០១៩",null,null,"គ្រោងតម្រូវការឥណទាន\nសម្រាប់ឆ្នាំ ២០២០",null,null,"គ្រោងតម្រូវការឥណទាន\nសម្រាប់ឆ្នាំ ២០២១"]
[null,"ថវិការដ្ឋ","ថវិកាដៃគូ \nអភិវឌ្ឍ","ផ្សេងៗ","ថវិការដ្ឋ","ថវិកាដៃគូ \nអភិវឌ្ឍ","ផ្សេងៗ","ថវិការដ្ឋ","ថវិកាដៃគូ \nអភិវឌ្ឍ","ផ្សេងៗ","ថវិការដ្ឋ","ថវិកាដៃគូ \nអភិវឌ្ឍ","ផ្សេងៗ"]
[{"$f":"'ចំណាយ-ថវិការដ្ឋ'!A10","v":"កម្មវិធីទី៣៖ ការអភិវឌ្ឍវិស័យអប់រំកាយ និងកីឡា"},{"$f":"B9","v":0},{"$f":"C9","v":0},null,0,0,null,0,0,null,0,0]
[{"$f":"'ចំណាយ-ថវិការដ្ឋ'!A11","v":"អនុកម្មវិធីទី ៣.១៖ ការអភិវឌ្ឍអប់រំកាយ និងកីឡាសិស្ស និស្សិត មហាជន និងកីឡាកម្រិតខ្ពស់"},{"$f":"SUM(B10,B11)","v":0},{"$f":"SUM(C10,C11)","v":0},null,{"$f":"SUM(E10,E11)","v":0},{"$f":"SUM(F10,F11)","v":0},null,{"$f":"SUM(H10,H11)","v":0},{"$f":"SUM(I10,I11)","v":0},null,{"$f":"SUM(K10,K11)","v":0},{"$f":"SUM(L10,L11)","v":0}]
[{"$f":"'ចំណាយ-ថវិការដ្ឋ'!A12","v":"ច.ស.ក ទី ១. ការចូលរៀនមានគុណភាពប្រកប​ដោយ​សមធម៌ និងបរិយាប័ន្ន និងលើកកម្ពស់ឱកាសក្នុងការសិក្សា​ពេញមួយជីវិតសម្រាប់ទាំងអស់គ្នា"},{"$f":"'Table 4.1'!B10","v":0},{"$f":"'Table 4.1'!C10","v":0},null,{"$f":"'Table 4.1'!E10","v":0},{"$f":"'Table 4.1'!F10","v":0},null,{"$f":"'Table 4.1'!H10","v":0},{"$f":"'Table 4.1'!I10","v":0},null,{"$f":"'Table 4.1'!K10","v":0},{"$f":"'Table 4.1'!L10","v":0}]
[{"$f":"'ចំណាយ-ថវិការដ្ឋ'!A23","v":"ច.ស.ក ទី ២. ការលើកកម្ពស់ភាពជាអ្នកដឹកនាំ និងគ្រប់គ្រង របស់មន្រ្តីអប់រំគ្រប់លំដាប់ថ្នាក់"},{"$f":"'Table 4.1'!B21","v":0},{"$f":"'Table 4.1'!C21","v":0},null,{"$f":"'Table 4.1'!E21","v":0},{"$f":"'Table 4.1'!F21","v":0},null,{"$f":"'Table 4.1'!H21","v":0},{"$f":"'Table 4.1'!I21","v":0},null,{"$f":"'Table 4.1'!K21","v":0},{"$f":"'Table 4.1'!L21","v":0}]

{"sheet":"Table 4.1","index":5,"n_rows":26,"n_cols":13,"rows_kept":26,"cut":false,"hidden":false,"merged":[[3,0,3,12],[5,0,6,0],[5,1,5,3],[5,4,5,6],[5,7,5,9],[5,10,5,12]]}
[]
["ក្រសួងអប់រំ​​​​​​​​​​​ យុវជន និងកីឡា"]
[{"$f":"ព័ត៌មានអង្គភាព!C4","v":"អគ្គនាយកដ្ឋានកីឡា"}]
["តារាងសរុបការកំណត់តម្រូវការចំណាយសម្រាប់កម្មវិធី និងអនុកម្មវិធី"]
["តារាង ៤.១",null,null,null,null,null,null,null,null,null,null,null,"ឯកតា៖ លានរៀល"]
["តម្រូវការឥណទាន\nតាមប្រភេទចំណាយ","ច្បាប់ហិរញ្ញវត្ថុ \nឆ្នាំ ២០១៨",null,null,"គ្រោងតម្រូវការឥណទាន\nសម្រាប់ឆ្នាំ ២០១៩",null,null,"គ្រោងតម្រូវការឥណទាន\nសម្រាប់ឆ្នាំ ២០២០",null,null,"គ្រោងតម្រូវការឥណទាន\nសម្រាប់ឆ្នាំ ២០២១"]
[null,"ថវិការដ្ឋ","ថវិកាដៃគូ \nអភិវឌ្ឍ","ផ្សេងៗ","ថវិការដ្ឋ","ថវិកាដៃគូ \nអភិវឌ្ឍ","ផ្សេងៗ","ថវិការដ្ឋ","ថវិកាដៃគូ \nអភិវឌ្ឍ","ផ្សេងៗ","ថវិការដ្ឋ","ថវិកាដៃគូ \nអភិវឌ្ឍ","ផ្សេងៗ"]
[{"$f":"'ចំណាយ-ថវិការដ្ឋ'!A10","v":"កម្មវិធីទី៣៖ ការអភិវឌ្ឍវិស័យអប់រំកាយ និងកីឡា"},{"$f":"B9","v":0},{"$f":"C9","v":0},null,0,0,null,0,0,null,0,0]
[{"$f":"'ចំណាយ-ថវិការដ្ឋ'!A11","v":"អនុកម្មវិធីទី ៣.១៖ ការអភិវឌ្ឍអប់រំកាយ និងកីឡាសិស្ស និស្សិត មហាជន និងកីឡាកម្រិតខ្ពស់"},{"$f":"SUM(B10,B21)","v":0},{"$f":"SUM(C10,C21)","v":0},null,0,0,null,0,0,null,0,0]
[{"$f":"'ចំណាយ-ថវិការដ្ឋ'!A12","v":"ច.ស.ក ទី ១. ការចូលរៀនមានគុណភាពប្រកប​ដោយ​សមធម៌ និងបរិយាប័ន្ន និងលើកកម្ពស់ឱកាសក្នុងការសិក្សា​ពេញមួយជីវិតសម្រាប់ទាំងអស់គ្នា"},{"$f":"SUM(B11:B20)","v":0},{"$f":"SUM(C11:C20)","v":0},null,0,0,null,0,0,null,0,0]
[{"$f":"'ចំណាយ-ថវិការដ្ឋ'!A13","v":"១. កិច្ចដំណើរការអង្គភាព"},{"$f":"SUM('ចំណាយ-ថវិការដ្ឋ'!B13,'ចំណាយ-ថវិការដ្ឋ'!E13)","v":0},{"$f":"SUM('ចំណាយ-ថវិកាដៃគូ'!B13)","v":0},null,{"$f":"SUM('ចំណាយ-ថវិការដ្ឋ'!L13,'ចំណាយ-ថវិការដ្ឋ'!O13)","v":0},{"$f":"SUM('ចំណាយ-ថវិកាដៃគូ'!I13)","v":0},null,{"$f":"SUM('ចំណាយ-ថវិការដ្ឋ'!V13,'ចំណាយ-ថវិការដ្ឋ'!Y13)","v":0},{"$f":"SUM('ចំណាយ-ថវិកាដៃគូ'!P13)","v":0},null,{"$f":"SUM('ចំណាយ-ថវិការដ្ឋ'!AF13,'ចំណាយ-ថវិការដ្ឋ'!AI13)","v":0},{"$f":"SUM('ចំណាយ-ថវិកាដៃគូ'!W13)","v":0}]
[{"$f":"'ចំណាយ-ថវិការដ្ឋ'!A14","v":"២. ថវិកាលទ្ធកម្ម"},{"$f":"SUM('ចំណាយ-ថវិការដ្ឋ'!B14,'ចំណាយ-ថវិការដ្ឋ'!E14)","v":0},{"$f":"SUM('ចំណាយ-ថវិកាដៃគូ'!B14)","v":0},null,{"$f":"SUM('ចំណាយ-ថវិការដ្ឋ'!L14,'ចំណាយ-ថវិការដ្ឋ'!O14)","v":0},{"$f":"SUM('ចំណាយ-ថវិកាដៃគូ'!I14)","v":0},null,{"$f":"SUM('ចំណាយ-ថវិការដ្ឋ'!V14,'ចំណាយ-ថវិការដ្ឋ'!Y14)","v":0},{"$f":"SUM('ចំណាយ-ថវិកាដៃគូ'!P14)","v":0},null,{"$f":"SUM('ចំណាយ-ថវិការដ្ឋ'!AF14,'ចំណាយ-ថវិការដ្ឋ'!AI14)","v":0},{"$f":"SUM('ចំណាយ-ថវិកាដៃគូ'!W14)","v":0}]
[{"$f":"'ចំណាយ-ថវិការដ្ឋ'!A15","v":"៣. ពិនិត្យតាមដាន និងវាយតម្លៃ"},{"$f":"SUM('ចំណាយ-ថវិការដ្ឋ'!B15,'ចំណាយ-ថវិការដ្ឋ'!E15)","v":0},{"$f":"SUM('ចំណាយ-ថវិកាដៃគូ'!B15)","v":0},null,{"$f":"SUM('ចំណាយ-ថវិការដ្ឋ'!L15,'ចំណាយ-ថវិការដ្ឋ'!O15)","v":0},{"$f":"SUM('ចំណាយ-ថវិកាដៃគូ'!I15)","v":0},null,{"$f":"SUM('ចំណាយ-ថវិការដ្ឋ'!V15,'ចំណាយ-ថវិការដ្ឋ'!Y15)","v":0},{"$f":"SUM('ចំណាយ-ថវិកាដៃគូ'!P15)","v":0},null,{"$f":"SUM('ចំណាយ-ថវិការដ្ឋ'!AF15,'ចំណាយ-ថវិការដ្ឋ'!AI15)","v":0},{"$f":"SUM('ចំណាយ-ថវិកាដៃគូ'!W15)","v":0}]
[{"$f":"'ចំណាយ-ថវិការដ្ឋ'!A16","v":"៤. អភិវឌ្ឍកម្មវិធីអប់រំកាយក្នុងម៉ោងសិក្សា កីឡាក្រៅម៉ោងសិក្សា និងសមាគមកីឡា"},{"$f":"SUM('ចំណាយ-ថវិការដ្ឋ'!B16,'ចំណាយ-ថវិការដ្ឋ'!E16)","v":0},{"$f":"SUM('ចំណាយ-ថវិកាដៃគូ'!B16)","v":0},null,{"$f":"SUM('ចំណាយ-ថវិការដ្ឋ'!L16,'ចំណាយ-ថវិការដ្ឋ'!O16)","v":0},{"$f":"SUM('ចំណាយ-ថវិកាដៃគូ'!I16)","v":0},null,{"$f":"SUM('ចំណាយ-ថវិការដ្ឋ'!V16,'ចំណាយ-ថវិការដ្ឋ'!Y16)","v":0},{"$f":"SUM('ចំណាយ-ថវិកាដៃគូ'!P16)","v":0},null,{"$f":"SUM('ចំណាយ-ថវិការដ្ឋ'!AF16,'ចំណាយ-ថវិការដ្ឋ'!AI16)","v":0},{"$f":"SUM('ចំណាយ-ថវិកាដៃគូ'!W16)","v":0}]
[{"$f":"'ចំណាយ-ថវិការដ្ឋ'!A17","v":"៥. ប្រកួតកីឡាសិស្ស និស្សិតថ្នាក់រាជធានី-ខេត្ត"},{"$f":"SUM('ចំណាយ-ថវិការដ្ឋ'!B17,'ចំណាយ-ថវិការដ្ឋ'!E17)","v":0},{"$f":"SUM('ចំណាយ-ថវិកាដៃគូ'!B17)","v":0},null,{"$f":"SUM('ចំណាយ-ថវិការដ្ឋ'!L17,'ចំណាយ-ថវិការដ្ឋ'!O17)","v":0},{"$f":"SUM('ចំណាយ-ថវិកាដៃគូ'!I17)","v":0},null,{"$f":"SUM('ចំណាយ-ថវិការដ្ឋ'!V17,'ចំណាយ-ថវិការដ្ឋ'!Y17)","v":0},{"$f":"SUM('ចំណាយ-ថវិកាដៃគូ'!P17)","v":0},null,{"$f":"SUM('ចំណាយ-ថវិការដ្ឋ'!AF17,'ចំណាយ-ថវិការដ្ឋ'!AI17)","v":0},{"$f":"SUM('ចំណាយ-ថវិកាដៃគូ'!W17)","v":0}]
[{"$f":"'ចំណាយ-ថវិការដ្ឋ'!A18","v":"៦. រៀបចំ និងចូលរួមប្រកួតកីឡាជាលក្ខណៈជាតិ និងអន្ដរជាតិ"},{"$f":"SUM('ចំណាយ-ថវិការដ្ឋ'!B18,'ចំណាយ-ថវិការដ្ឋ'!E18)","v":0},{"$f":"SUM('ចំណាយ-ថវិកាដៃគូ'!B18)","v":0},null,{"$f":"SUM('ចំណាយ-ថវិការដ្ឋ'!L18,'ចំណាយ-ថវិការដ្ឋ'!O18)","v":0},{"$f":"SUM('ចំណាយ-ថវិកាដៃគូ'!I18)","v":0},null,{"$f":"SUM('ចំណាយ-ថវិការដ្ឋ'!V18,'ចំណាយ-ថវិការដ្ឋ'!Y18)","v":0},{"$f":"SUM('ចំណាយ-ថវិកាដៃគូ'!P18)","v":0},null,{"$f":"SUM('ចំណាយ-ថវិការដ្ឋ'!AF18,'ចំណាយ-ថវិការដ្ឋ'!AI18)","v":0},{"$f":"SUM('ចំណាយ-ថវិកាដៃគូ'!W18)","v":0}]
[{"$f":"'ចំណាយ-ថវិការដ្ឋ'!A19","v":"៧. ប្រកួតកីឡាមហាជនថ្នាក់រាជធានី-ខេត្ត"},{"$f":"SUM('ចំណាយ-ថវិការដ្ឋ'!B19,'ចំណាយ-ថវិការដ្ឋ'!E19)","v":0},{"$f":"SUM('ចំណាយ-ថវិកាដៃគូ'!B19)","v":0},null,{"$f":"SUM('ចំណាយ-ថវិការដ្ឋ'!L19,'ចំណាយ-ថវិការដ្ឋ'!O19)","v":0},{"$f":"SUM('ចំណាយ-ថវិកាដៃគូ'!I19)","v":0},null,{"$f":"SUM('ចំណាយ-ថវិការដ្ឋ'!V19,'ចំណាយ-ថវិការដ្ឋ'!Y19)","v":0},{"$f":"SUM('ចំណាយ-ថវិកាដៃគូ'!P19)","v":0},null,{"$f":"SUM('ចំណាយ-ថវិការដ្ឋ'!AF19,'ចំណាយ-ថវិការដ្ឋ'!AI19)","v":0},{"$f":"SUM('ចំណាយ-ថវិកាដៃគូ'!W19)","v":0}]
[{"$f":"'ចំណាយ-ថវិការដ្ឋ'!A20","v":"៨. អភិវឌ្ឍហេដ្ឋារចនាសម្ព័ន្ធកីឡា និងឧបករណ៍សម្ភារកីឡា"},{"$f":"SUM('ចំណាយ-ថវិការដ្ឋ'!B20,'ចំណាយ-ថវិការដ្ឋ'!E20)","v":0},{"$f":"SUM('ចំណាយ-ថវិកាដៃគូ'!B20)","v":0},null,{"$f":"SUM('ចំណាយ-ថវិការដ្ឋ'!L20,'ចំណាយ-ថវិការដ្ឋ'!O20)","v":0},{"$f":"SUM('ចំណាយ-ថវិកាដៃគូ'!I20)","v":0},null,{"$f":"SUM('ចំណាយ-ថវិការដ្ឋ'!V20,'ចំណាយ-ថវិការដ្ឋ'!Y20)","v":0},{"$f":"SUM('ចំណាយ-ថវិកាដៃគូ'!P20)","v":0},null,{"$f":"SUM('ចំណាយ-ថវិការដ្ឋ'!AF20,'ចំណាយ-ថវិការដ្ឋ'!AI20)","v":0},{"$f":"SUM('ចំណាយ-ថវិកាដៃគូ'!W20)","v":0}]
[{"$f":"'ចំណាយ-ថវិការដ្ឋ'!A21","v":""},{"$f":"SUM('ចំណាយ-ថវិការដ្ឋ'!B21,'ចំណាយ-ថវិការដ្ឋ'!E21)","v":0},{"$f":"SUM('ចំណាយ-ថវិកាដៃគូ'!B21)","v":0},null,{"$f":"SUM('ចំណាយ-ថវិការដ្ឋ'!L21,'ចំណាយ-ថវិការដ្ឋ'!O21)","v":0},{"$f":"SUM('ចំណាយ-ថវិកាដៃគូ'!I21)","v":0},null,{"$f":"SUM('ចំណាយ-ថវិការដ្ឋ'!V21,'ចំណាយ-ថវិការដ្ឋ'!Y21)","v":0},{"$f":"SUM('ចំណាយ-ថវិកាដៃគូ'!P21)","v":0},null,{"$f":"SUM('ចំណាយ-ថវិការដ្ឋ'!AF21,'ចំណាយ-ថវិការដ្ឋ'!AI21)","v":0},{"$f":"SUM('ចំណាយ-ថវិកាដៃគូ'!W21)","v":0}]
[{"$f":"'ចំណាយ-ថវិការដ្ឋ'!A22","v":""},{"$f":"SUM('ចំណាយ-ថវិការដ្ឋ'!B22,'ចំណាយ-ថវិការដ្ឋ'!E22)","v":0},{"$f":"SUM('ចំណាយ-ថវិកាដៃគូ'!B22)","v":0},null,{"$f":"SUM('ចំណាយ-ថវិការដ្ឋ'!L22,'ចំណាយ-ថវិការដ្ឋ'!O22)","v":0},{"$f":"SUM('ចំណាយ-ថវិកាដៃគូ'!I22)","v":0},null,{"$f":"SUM('ចំណាយ-ថវិការដ្ឋ'!V22,'ចំណាយ-ថវិការដ្ឋ'!Y22)","v":0},{"$f":"SUM('ចំណាយ-ថវិកាដៃគូ'!P22)","v":0},null,{"$f":"SUM('ចំណាយ-ថវិការដ្ឋ'!AF22,'ចំណាយ-ថវិការដ្ឋ'!AI22)","v":0},{"$f":"SUM('ចំណាយ-ថវិកាដៃគូ'!W22)","v":0}]
[{"$f":"'ចំណាយ-ថវិការដ្ឋ'!A23","v":"ច.ស.ក ទី ២. ការលើកកម្ពស់ភាពជាអ្នកដឹកនាំ និងគ្រប់គ្រង របស់មន្រ្តីអប់រំគ្រប់លំដាប់ថ្នាក់"},{"$f":"SUM(B22:B26)","v":0},{"$f":"SUM(C22:C26)","v":0},null,{"$f":"SUM(E22:E26)","v":0},{"$f":"SUM(F22:F26)","v":0},null,{"$f":"SUM(H22:H26)","v":0},{"$f":"SUM(I22:I26)","v":0},null,{"$f":"SUM(K22:K26)","v":0},{"$f":"SUM(L22:L26)","v":0}]
[{"$f":"'ចំណាយ-ថវិការដ្ឋ'!A24","v":"១. អភិវឌ្ឍធនធានមនុស្សលើវិស័យកីឡា"},{"$f":"SUM('ចំណាយ-ថវិការដ្ឋ'!B24,'ចំណាយ-ថវិការដ្ឋ'!E24)","v":0},{"$f":"SUM('ចំណាយ-ថវិកាដៃគូ'!B24)","v":0},null,{"$f":"SUM('ចំណាយ-ថវិការដ្ឋ'!L24,'ចំណាយ-ថវិការដ្ឋ'!O24)","v":0},{"$f":"SUM('ចំណាយ-ថវិកាដៃគូ'!I24)","v":0},null,{"$f":"SUM('ចំណាយ-ថវិការដ្ឋ'!V24,'ចំណាយ-ថវិការដ្ឋ'!Y24)","v":0},{"$f":"SUM('ចំណាយ-ថវិកាដៃគូ'!P24)","v":0},null,{"$f":"SUM('ចំណាយ-ថវិការដ្ឋ'!AF24,'ចំណាយ-ថវិការដ្ឋ'!AI24)","v":0},{"$f":"SUM('ចំណាយ-ថវិកាដៃគូ'!W24)","v":0}]
[{"$f":"'ចំណាយ-ថវិការដ្ឋ'!A25","v":""},{"$f":"SUM('ចំណាយ-ថវិការដ្ឋ'!B25,'ចំណាយ-ថវិការដ្ឋ'!E25)","v":0},{"$f":"SUM('ចំណាយ-ថវិកាដៃគូ'!B25)","v":0},null,{"$f":"SUM('ចំណាយ-ថវិការដ្ឋ'!L25,'ចំណាយ-ថវិការដ្ឋ'!O25)","v":0},{"$f":"SUM('ចំណាយ-ថវិកាដៃគូ'!I25)","v":0},null,{"$f":"SUM('ចំណាយ-ថវិការដ្ឋ'!V25,'ចំណាយ-ថវិការដ្ឋ'!Y25)","v":0},{"$f":"SUM('ចំណាយ-ថវិកាដៃគូ'!P25)","v":0},null,{"$f":"SUM('ចំណាយ-ថវិការដ្ឋ'!AF25,'ចំណាយ-ថវិការដ្ឋ'!AI25)","v":0},{"$f":"SUM('ចំណាយ-ថវិកាដៃគូ'!W25)","v":0}]
[{"$f":"'ចំណាយ-ថវិការដ្ឋ'!A26","v":""},{"$f":"SUM('ចំណាយ-ថវិការដ្ឋ'!B26,'ចំណាយ-ថវិការដ្ឋ'!E26)","v":0},{"$f":"SUM('ចំណាយ-ថវិកាដៃគូ'!B26)","v":0},null,{"$f":"SUM('ចំណាយ-ថវិការដ្ឋ'!L26,'ចំណាយ-ថវិការដ្ឋ'!O26)","v":0},{"$f":"SUM('ចំណាយ-ថវិកាដៃគូ'!I26)","v":0},null,{"$f":"SUM('ចំណាយ-ថវិការដ្ឋ'!V26,'ចំណាយ-ថវិការដ្ឋ'!Y26)","v":0},{"$f":"SUM('ចំណាយ-ថវិកាដៃគូ'!P26)","v":0},null,{"$f":"SUM('ចំណាយ-ថវិការដ្ឋ'!AF26,'ចំណាយ-ថវិការដ្ឋ'!AI26)","v":0},{"$f":"SUM('ចំណាយ-ថវិកាដៃគូ'!W26)","v":0}]
[{"$f":"'ចំណាយ-ថវិការដ្ឋ'!A27","v":""},{"$f":"SUM('ចំណាយ-ថវិការដ្ឋ'!B27,'ចំណាយ-ថវិការដ្ឋ'!E27)","v":0},{"$f":"SUM('ចំណាយ-ថវិកាដៃគូ'!B27)","v":0},null,{"$f":"SUM('ចំណាយ-ថវិការដ្ឋ'!L27,'ចំណាយ-ថវិការដ្ឋ'!O27)","v":0},{"$f":"SUM('ចំណាយ-ថវិកាដៃគូ'!I27)","v":0},null,{"$f":"SUM('ចំណាយ-ថវិការដ្ឋ'!V27,'ចំណាយ-ថវិការដ្ឋ'!Y27)","v":0},{"$f":"SUM('ចំណាយ-ថវិកាដៃគូ'!P27)","v":0},null,{"$f":"SUM('ចំណាយ-ថវិការដ្ឋ'!AF27,'ចំណាយ-ថវិការដ្ឋ'!AI27)","v":0},{"$f":"SUM('ចំណាយ-ថវិកាដៃគូ'!W27)","v":0}]
[{"$f":"'ចំណាយ-ថវិការដ្ឋ'!A28","v":""},{"$f":"SUM('ចំណាយ-ថវិការដ្ឋ'!B28,'ចំណាយ-ថវិការដ្ឋ'!E28)","v":0},{"$f":"SUM('ចំណាយ-ថវិកាដៃគូ'!B28)","v":0},null,{"$f":"SUM('ចំណាយ-ថវិការដ្ឋ'!L28,'ចំណាយ-ថវិការដ្ឋ'!O28)","v":0},{"$f":"SUM('ចំណាយ-ថវិកាដៃគូ'!I28)","v":0},null,{"$f":"SUM('ចំណាយ-ថវិការដ្ឋ'!V28,'ចំណាយ-ថវិការដ្ឋ'!Y28)","v":0},{"$f":"SUM('ចំណាយ-ថវិកាដៃគូ'!P28)","v":0},null,{"$f":"SUM('ចំណាយ-ថវិការដ្ឋ'!AF28,'ចំណាយ-ថវិការដ្ឋ'!AI28)","v":0},{"$f":"SUM('ចំណាយ-ថវិកាដៃគូ'!W28)","v":0}]

{"sheet":"Table 4.2","index":6,"n_rows":208,"n_cols":13,"rows_kept":208,"cut":false,"hidden":false,"merged":[[3,0,3,12],[5,0,6,0],[5,1,5,3],[5,4,5,6],[5,7,5,9],[5,10,5,12]]}
[]
["ក្រសួងអប់រំ​​​​​​​​​​​ យុវជន និងកីឡា"]
[{"$f":"ព័ត៌មានអង្គភាព!C4","v":"អគ្គនាយកដ្ឋានកីឡា"}]
["តារាង ៤ ៖ ការកំណត់តម្រូវការចំណាយសម្រាប់កម្មវិធី និងអនុកម្មវិធី"]
["តារាង ៤.២",null,null,null,null,null,null,null,null,null,null,null,"ឯកតា៖ លានរៀល"]
["តម្រូវការឥណទាន\nតាមប្រភេទចំណាយ","ច្បាប់ហិរញ្ញវត្ថុ \nឆ្នាំ ២០១៨",null,null,"គ្រោងតម្រូវការឥណទាន\nសម្រាប់ឆ្នាំ ២០១៩",null,null,"គ្រោងតម្រូវការឥណទាន\nសម្រាប់ឆ្នាំ ២០២០",null,null,"គ្រោងតម្រូវការឥណទាន\nសម្រាប់ឆ្នាំ ២០២១"]
[null,"ថវិការដ្ឋ","ថវិកាដៃគូ \nអភិវឌ្ឍ","ផ្សេងៗ","ថវិការដ្ឋ","ថវិកាដៃគូ \nអភិវឌ្ឍ","ផ្សេងៗ","ថវិការដ្ឋ","ថវិកាដៃគូ \nអភិវឌ្ឍ","ផ្សេងៗ","ថវិការដ្ឋ","ថវិកាដៃគូ \nអភិវឌ្ឍ","ផ្សេងៗ"]
["សរុបរួម",{"$f":"B9","v":0},{"$f":"C9","v":0},null,0,0,null,0,0,null,0,0]
[{"$f":"ព័ត៌មានអង្គភាព!C3","v":"៣.១៖ ការអភិវឌ្ឍអប់រំកាយ និងកីឡាសិស្ស និស្សិត មហាជន និងកីឡាកម្រិតខ្ពស់"},{"$f":"SUM(B10,B13)","v":0},{"$f":"SUM(C10,C13)","v":0},null,0,0,null,0,0,null,0,0]
["□ សរុបចំណាយចរន្ដ",{"$f":"SUM(B11:B12)","v":0},{"$f":"SUM(C11:C12)","v":0},null,0,0,null,0,0,null,0,0]
["•  បន្ទុកបុគ្គលិក",{"$f":"SUM(B22,B143)","v":0},{"$f":"SUM(C22,C143)","v":0},null,0,0,null,0,0,null,0,0]
["•  ក្រៅបន្ទុកបុគ្គលិក",{"$f":"SUM(B23,B144)","v":0},0,null,0,0,null,0,0,null,0,0]
["□ សរុបចំណាយមូលធន",{"$f":"SUM(B14,B17)","v":0},{"$f":"SUM(C14,C17)","v":0},null,0,0,null,0,0,null,0,0]
["•  គម្រោងវិនិយោគ",{"$f":"SUM(B15:B16)","v":0},{"$f":"SUM(C15:C16)","v":0},null,0,0,null,0,0,null,0,0]
["- មានហិរញ្ញប្បទាន",{"$f":"SUM(B26,B147)","v":0},0,null,0,0,null,0,0,null,0,0]
["- មិនទាន់មានហិរញ្ញប្បទាន",{"$f":"SUM(B27,B148)","v":0},0,null,0,0,null,0,0,null,0,0]
["•  ជំនួយបច្ចេកទេស",{"$f":"SUM(B18:B19)","v":0},{"$f":"SUM(C18:C19)","v":0},null,0,0,null,0,0,null,0,0]
["- មានហិរញ្ញប្បទាន",{"$f":"SUM(B29,B150)","v":0},0,null,0,0,null,0,0,null,0,0]
["- មិនទាន់មានហិរញ្ញប្បទាន",{"$f":"SUM(B30,B151)","v":0},0,null,0,0,null,0,0,null,0,0]
[{"$f":"ព័ត៌មានអង្គភាព!C5","v":"ច.ស.ក ទី ១. ការចូលរៀនមានគុណភាពប្រកប​ដោយ​សមធម៌ និងបរិយាប័ន្ន និងលើកកម្ពស់ឱកាសក្នុងការសិក្សា​ពេញមួយជីវិតសម្រាប់ទាំងអស់គ្នា"},{"$f":"SUM(B31,B42,B53,B64,B75,B86,B97,B108,B119,B130)","v":0},0,null,0,0,null,0,0,null,0,0]
["□ សរុបចំណាយចរន្ដ",{"$f":"SUM(B22:B23)","v":0},{"$f":"SUM(C22:C23)","v":0},null,0,0,null,0,0,null,0,0]
["•  បន្ទុកបុគ្គលិក",{"$f":"SUM(B33,B44,B55,B66,B77,B88,B99,B110,B121,B132)","v":0},{"$f":"SUM(C33,C44,C55,C66,C77,C88,C99,C110,C121,C132)","v":0},null,0,0,null,0,0,null,0,0]
["•  ក្រៅបន្ទុកបុគ្គលិក",{"$f":"SUM(B34,B45,B56,B67,B78,B89,B100,B111,B122,B133)","v":0},0,null,0,0,null,0,0,null,0,0]
["□ សរុបចំណាយមូលធន",{"$f":"SUM(B25,B28)","v":0},{"$f":"SUM(C25,C28)","v":0},null,0,0,null,0,0,null,0,0]
["•  គម្រោងវិនិយោគ",{"$f":"SUM(B26:B27)","v":0},{"$f":"SUM(C26:C27)","v":0},null,0,0,null,0,0,null,0,0]
["- មានហិរញ្ញប្បទាន",{"$f":"SUM(B37,B48,B59,B70,B81,B92,B103,B114,B125,B136)","v":0},0,null,0,0,null,0,0,null,0,0]
["- មិនទាន់មានហិរញ្ញប្បទាន",{"$f":"SUM(B38,B49,B60,B71,B82,B93,B104,B115,B126,B137)","v":0},0,null,0,0,null,0,0,null,0,0]
["•  ជំនួយបច្ចេកទេស",{"$f":"SUM(B29:B30)","v":0},{"$f":"SUM(C29:C30)","v":0},null,0,0,null,0,0,null,0,0]
["- មានហិរញ្ញប្បទាន",{"$f":"SUM(B40,B51,B62,B73,B84,B95,B106,B117,B128,B139)","v":0},0,null,0,0,null,0,0,null,0,0]
["- មិនទាន់មានហិរញ្ញប្បទាន",{"$f":"SUM(B41,B52,B63,B74,B85,B96,B107,B118,B129,B140)","v":0},0,null,0,0,null,0,0,null,0,0]
[{"$f":"IF(ព័ត៌មានអង្គភាព!C6=\"\",\"\",ព័ត៌មានអង្គភាព!C6)","v":"១. កិច្ចដំណើរការអង្គភាព"},{"$f":"SUM(B32,B35)","v":0},{"$f":"SUM(C32,C35)","v":0},null,0,0,null,0,0,null,0,0]
[{"$f":"IF(A31<>\"\",'Table 4 (MEF)'!$A$9,\"\")","v":"□ សរុបចំណាយចរន្ដ"},{"$f":"SUM(B33:B34)","v":0},{"$f":"SUM(C33:C34)","v":0},null,0,0,null,0,0,null,0,0]
[{"$f":"IF(A32<>\"\",'Table 4 (MEF)'!$A$10,\"\")","v":"•  បន្ទុកបុគ្គលិក"},{"$f":"'ចំណាយ-ថវិការដ្ឋ'!C13","v":0},null,null,{"$f":"'ចំណាយ-ថវិការដ្ឋ'!M13","v":0},null,null,{"$f":"'ចំណាយ-ថវិការដ្ឋ'!W13","v":0},null,null,{"$f":"'ចំណាយ-ថវិការដ្ឋ'!AG13","v":0}]
[{"$f":"IF(A33<>\"\",'Table 4 (MEF)'!$A$11,\"\")","v":"•  ក្រៅបន្ទុកបុគ្គលិក"},{"$f":"'ចំណាយ-ថវិការដ្ឋ'!D13","v":0},null,null,{"$f":"'ចំណាយ-ថវិការដ្ឋ'!N13","v":0},null,null,{"$f":"'ចំណាយ-ថវិការដ្ឋ'!X13","v":0},null,null,{"$f":"'ចំណាយ-ថវិការដ្ឋ'!AH13","v":0}]
[{"$f":"IF(A34<>\"\",'Table 4 (MEF)'!$A$12,\"\")","v":"□ សរុបចំណាយមូលធន"},{"$f":"SUM(B36,B39)","v":0},{"$f":"SUM(C36,C39)","v":0},null,0,0,null,0,0,null,0,0]
[{"$f":"IF(A35<>\"\",'Table 4 (MEF)'!$A$13,\"\")","v":"•  គម្រោងវិនិយោគ"},{"$f":"SUM(B37:B38)","v":0},{"$f":"SUM(C37:C38)","v":0},null,0,0,null,0,0,null,0,0]
[{"$f":"IF(A36<>\"\",'Table 4 (MEF)'!$A$14,\"\")","v":"- មានហិរញ្ញប្បទាន"},{"$f":"'ចំណាយ-ថវិការដ្ឋ'!G13","v":0},{"$f":"'ចំណាយ-ថវិកាដៃគូ'!D13","v":0},null,{"$f":"'ចំណាយ-ថវិការដ្ឋ'!Q13","v":0},{"$f":"'ចំណាយ-ថវិកាដៃគូ'!K13","v":0},null,{"$f":"'ចំណាយ-ថវិការដ្ឋ'!AA13","v":0},{"$f":"'ចំណាយ-ថវិកាដៃគូ'!R13","v":0},null,{"$f":"'ចំណាយ-ថវិការដ្ឋ'!AK13","v":0},{"$f":"'ចំណាយ-ថវិកាដៃគូ'!Y13","v":0}]
[{"$f":"IF(A37<>\"\",'Table 4 (MEF)'!$A$15,\"\")","v":"- មិនទាន់មានហិរញ្ញប្បទាន"},{"$f":"'ចំណាយ-ថវិការដ្ឋ'!H13","v":0},{"$f":"'ចំណាយ-ថវិកាដៃគូ'!E13","v":0},null,{"$f":"'ចំណាយ-ថវិការដ្ឋ'!R13","v":0},{"$f":"'ចំណាយ-ថវិកាដៃគូ'!L13","v":0},null,{"$f":"'ចំណាយ-ថវិការដ្ឋ'!AB13","v":0},{"$f":"'ចំណាយ-ថវិកាដៃគូ'!S13","v":0},null,{"$f":"'ចំណាយ-ថវិការដ្ឋ'!AL13","v":0},{"$f":"'ចំណាយ-ថវិកាដៃគូ'!Z13","v":0}]
[{"$f":"IF(A38<>\"\",'Table 4 (MEF)'!$A$16,\"\")","v":"•  ជំនួយបច្ចេកទេស"},{"$f":"SUM(B40:B41)","v":0},{"$f":"SUM(C40:C41)","v":0},null,0,0,null,0,0,null,0,0]
[{"$f":"IF(A39<>\"\",'Table 4 (MEF)'!$A$17,\"\")","v":"- មានហិរញ្ញប្បទាន"},{"$f":"'ចំណាយ-ថវិការដ្ឋ'!J13","v":0},{"$f":"'ចំណាយ-ថវិកាដៃគូ'!G13","v":0},null,{"$f":"'ចំណាយ-ថវិការដ្ឋ'!T13","v":0},{"$f":"'ចំណាយ-ថវិកាដៃគូ'!N13","v":0},null,{"$f":"'ចំណាយ-ថវិការដ្ឋ'!AD13","v":0},{"$f":"'ចំណាយ-ថវិកាដៃគូ'!U13","v":0},null,{"$f":"'ចំណាយ-ថវិការដ្ឋ'!AN13","v":0},{"$f":"'ចំណាយ-ថវិកាដៃគូ'!AB13","v":0}]
[{"$f":"IF(A40<>\"\",'Table 4 (MEF)'!$A$18,\"\")","v":"- មិនទាន់មានហិរញ្ញប្បទាន"},{"$f":"'ចំណាយ-ថវិការដ្ឋ'!K13","v":0},{"$f":"'ចំណាយ-ថវិកាដៃគូ'!H13","v":0},null,{"$f":"'ចំណាយ-ថវិការដ្ឋ'!U13","v":0},{"$f":"'ចំណាយ-ថវិកាដៃគូ'!O13","v":0},null,{"$f":"'ចំណាយ-ថវិការដ្ឋ'!AE13","v":0},{"$f":"'ចំណាយ-ថវិកាដៃគូ'!V13","v":0},null,{"$f":"'ចំណាយ-ថវិការដ្ឋ'!AO13","v":0},{"$f":"'ចំណាយ-ថវិកាដៃគូ'!AC13","v":0}]
[{"$f":"IF(ព័ត៌មានអង្គភាព!C7=\"\",\"\",ព័ត៌មានអង្គភាព!C7)","v":"២. ថវិកាលទ្ធកម្ម"},{"$f":"SUM(B43,B46)","v":0},{"$f":"SUM(C43,C46)","v":0},null,{"$f":"SUM(E43,E46)","v":0},{"$f":"SUM(F43,F46)","v":0},null,{"$f":"SUM(H43,H46)","v":0},{"$f":"SUM(I43,I46)","v":0},null,{"$f":"SUM(K43,K46)","v":0},{"$f":"SUM(L43,L46)","v":0}]
[{"$f":"IF(A42<>\"\",'Table 4 (MEF)'!$A$9,\"\")","v":"□ សរុបចំណាយចរន្ដ"},{"$f":"SUM(B44:B45)","v":0},{"$f":"SUM(C44:C45)","v":0},null,0,0,null,0,0,null,0,0]
[{"$f":"IF(A43<>\"\",'Table 4 (MEF)'!$A$10,\"\")","v":"•  បន្ទុកបុគ្គលិក"},{"$f":"'ចំណាយ-ថវិការដ្ឋ'!C14","v":0},null,null,{"$f":"'ចំណាយ-ថវិការដ្ឋ'!M14","v":0},null,null,{"$f":"'ចំណាយ-ថវិការដ្ឋ'!W14","v":0},null,null,{"$f":"'ចំណាយ-ថវិការដ្ឋ'!AG14","v":0}]
[{"$f":"IF(A44<>\"\",'Table 4 (MEF)'!$A$11,\"\")","v":"•  ក្រៅបន្ទុកបុគ្គលិក"},{"$f":"'ចំណាយ-ថវិការដ្ឋ'!D14","v":0},null,null,{"$f":"'ចំណាយ-ថវិការដ្ឋ'!N14","v":0},null,null,{"$f":"'ចំណាយ-ថវិការដ្ឋ'!X14","v":0},null,null,{"$f":"'ចំណាយ-ថវិការដ្ឋ'!AH14","v":0}]
[{"$f":"IF(A45<>\"\",'Table 4 (MEF)'!$A$12,\"\")","v":"□ សរុបចំណាយមូលធន"},{"$f":"SUM(B47,B50)","v":0},{"$f":"SUM(C47,C50)","v":0},null,0,0,null,0,0,null,0,0]
[{"$f":"IF(A46<>\"\",'Table 4 (MEF)'!$A$13,\"\")","v":"•  គម្រោងវិនិយោគ"},{"$f":"SUM(B48:B49)","v":0},{"$f":"SUM(C48:C49)","v":0},null,0,0,null,0,0,null,0,0]
[{"$f":"IF(A47<>\"\",'Table 4 (MEF)'!$A$14,\"\")","v":"- មានហិរញ្ញប្បទាន"},{"$f":"'ចំណាយ-ថវិការដ្ឋ'!G14","v":0},{"$f":"'ចំណាយ-ថវិកាដៃគូ'!D14","v":0},null,{"$f":"'ចំណាយ-ថវិការដ្ឋ'!Q14","v":0},{"$f":"'ចំណាយ-ថវិកាដៃគូ'!K14","v":0},null,{"$f":"'ចំណាយ-ថវិការដ្ឋ'!AA14","v":0},{"$f":"'ចំណាយ-ថវិកាដៃគូ'!R14","v":0},null,{"$f":"'ចំណាយ-ថវិការដ្ឋ'!AK14","v":0},{"$f":"'ចំណាយ-ថវិកាដៃគូ'!Y14","v":0}]
[{"$f":"IF(A48<>\"\",'Table 4 (MEF)'!$A$15,\"\")","v":"- មិនទាន់មានហិរញ្ញប្បទាន"},{"$f":"'ចំណាយ-ថវិការដ្ឋ'!H14","v":0},{"$f":"'ចំណាយ-ថវិកាដៃគូ'!E14","v":0},null,{"$f":"'ចំណាយ-ថវិការដ្ឋ'!R14","v":0},{"$f":"'ចំណាយ-ថវិកាដៃគូ'!L14","v":0},null,{"$f":"'ចំណាយ-ថវិការដ្ឋ'!AB14","v":0},{"$f":"'ចំណាយ-ថវិកាដៃគូ'!S14","v":0},null,{"$f":"'ចំណាយ-ថវិការដ្ឋ'!AL14","v":0},{"$f":"'ចំណាយ-ថវិកាដៃគូ'!Z14","v":0}]
[{"$f":"IF(A49<>\"\",'Table 4 (MEF)'!$A$16,\"\")","v":"•  ជំនួយបច្ចេកទេស"},{"$f":"SUM(B51:B52)","v":0},{"$f":"SUM(C51:C52)","v":0},null,0,0,null,0,0,null,0,0]
[{"$f":"IF(A50<>\"\",'Table 4 (MEF)'!$A$17,\"\")","v":"- មានហិរញ្ញប្បទាន"},{"$f":"'ចំណាយ-ថវិការដ្ឋ'!J14","v":0},{"$f":"'ចំណាយ-ថវិកាដៃគូ'!G14","v":0},null,{"$f":"'ចំណាយ-ថវិការដ្ឋ'!T14","v":0},{"$f":"'ចំណាយ-ថវិកាដៃគូ'!N14","v":0},null,{"$f":"'ចំណាយ-ថវិការដ្ឋ'!AD14","v":0},{"$f":"'ចំណាយ-ថវិកាដៃគូ'!U14","v":0},null,{"$f":"'ចំណាយ-ថវិការដ្ឋ'!AN14","v":0},{"$f":"'ចំណាយ-ថវិកាដៃគូ'!AB14","v":0}]
[{"$f":"IF(A51<>\"\",'Table 4 (MEF)'!$A$18,\"\")","v":"- មិនទាន់មានហិរញ្ញប្បទាន"},{"$f":"'ចំណាយ-ថវិការដ្ឋ'!K14","v":0},{"$f":"'ចំណាយ-ថវិកាដៃគូ'!H14","v":0},null,{"$f":"'ចំណាយ-ថវិការដ្ឋ'!U14","v":0},{"$f":"'ចំណាយ-ថវិកាដៃគូ'!O14","v":0},null,{"$f":"'ចំណាយ-ថវិការដ្ឋ'!AE14","v":0},{"$f":"'ចំណាយ-ថវិកាដៃគូ'!V14","v":0},null,{"$f":"'ចំណាយ-ថវិការដ្ឋ'!AO14","v":0},{"$f":"'ចំណាយ-ថវិកាដៃគូ'!AC14","v":0}]
[{"$f":"IF(ព័ត៌មានអង្គភាព!C8=\"\",\"\",ព័ត៌មានអង្គភាព!C8)","v":"៣. ពិនិត្យតាមដាន និងវាយតម្លៃ"},{"$f":"SUM(B54,B57)","v":0},{"$f":"SUM(C54,C57)","v":0},null,{"$f":"SUM(E54,E57)","v":0},{"$f":"SUM(F54,F57)","v":0},null,{"$f":"SUM(H54,H57)","v":0},{"$f":"SUM(I54,I57)","v":0},null,{"$f":"SUM(K54,K57)","v":0},{"$f":"SUM(L54,L57)","v":0}]
[{"$f":"IF(A53<>\"\",'Table 4 (MEF)'!$A$9,\"\")","v":"□ សរុបចំណាយចរន្ដ"},{"$f":"SUM(B55:B56)","v":0},{"$f":"SUM(C55:C56)","v":0},null,0,0,null,0,0,null,0,0]
[{"$f":"IF(A54<>\"\",'Table 4 (MEF)'!$A$10,\"\")","v":"•  បន្ទុកបុគ្គលិក"},{"$f":"'ចំណាយ-ថវិការដ្ឋ'!C15","v":0},null,null,{"$f":"'ចំណាយ-ថវិការដ្ឋ'!M15","v":0},null,null,{"$f":"'ចំណាយ-ថវិការដ្ឋ'!W15","v":0},null,null,{"$f":"'ចំណាយ-ថវិការដ្ឋ'!AG15","v":0}]
[{"$f":"IF(A55<>\"\",'Table 4 (MEF)'!$A$11,\"\")","v":"•  ក្រៅបន្ទុកបុគ្គលិក"},{"$f":"'ចំណាយ-ថវិការដ្ឋ'!D15","v":0},null,null,{"$f":"'ចំណាយ-ថវិការដ្ឋ'!N15","v":0},null,null,{"$f":"'ចំណាយ-ថវិការដ្ឋ'!X15","v":0},null,null,{"$f":"'ចំណាយ-ថវិការដ្ឋ'!AH15","v":0}]
[{"$f":"IF(A56<>\"\",'Table 4 (MEF)'!$A$12,\"\")","v":"□ សរុបចំណាយមូលធន"},{"$f":"SUM(B58,B61)","v":0},{"$f":"SUM(C58,C61)","v":0},null,0,0,null,0,0,null,0,0]
[{"$f":"IF(A57<>\"\",'Table 4 (MEF)'!$A$13,\"\")","v":"•  គម្រោងវិនិយោគ"},{"$f":"SUM(B59:B60)","v":0},{"$f":"SUM(C59:C60)","v":0},null,0,0,null,0,0,null,0,0]
[{"$f":"IF(A58<>\"\",'Table 4 (MEF)'!$A$14,\"\")","v":"- មានហិរញ្ញប្បទាន"},{"$f":"'ចំណាយ-ថវិការដ្ឋ'!G15","v":0},{"$f":"'ចំណាយ-ថវិកាដៃគូ'!D15","v":0},null,{"$f":"'ចំណាយ-ថវិការដ្ឋ'!Q15","v":0},{"$f":"'ចំណាយ-ថវិកាដៃគូ'!K15","v":0},null,{"$f":"'ចំណាយ-ថវិការដ្ឋ'!AA15","v":0},{"$f":"'ចំណាយ-ថវិកាដៃគូ'!R15","v":0},null,{"$f":"'ចំណាយ-ថវិការដ្ឋ'!AK15","v":0},{"$f":"'ចំណាយ-ថវិកាដៃគូ'!Y15","v":0}]
[{"$f":"IF(A59<>\"\",'Table 4 (MEF)'!$A$15,\"\")","v":"- មិនទាន់មានហិរញ្ញប្បទាន"},{"$f":"'ចំណាយ-ថវិការដ្ឋ'!H15","v":0},{"$f":"'ចំណាយ-ថវិកាដៃគូ'!E15","v":0},null,{"$f":"'ចំណាយ-ថវិការដ្ឋ'!R15","v":0},{"$f":"'ចំណាយ-ថវិកាដៃគូ'!L15","v":0},null,{"$f":"'ចំណាយ-ថវិការដ្ឋ'!AB15","v":0},{"$f":"'ចំណាយ-ថវិកាដៃគូ'!S15","v":0},null,{"$f":"'ចំណាយ-ថវិការដ្ឋ'!AL15","v":0},{"$f":"'ចំណាយ-ថវិកាដៃគូ'!Z15","v":0}]
[{"$f":"IF(A60<>\"\",'Table 4 (MEF)'!$A$16,\"\")","v":"•  ជំនួយបច្ចេកទេស"},{"$f":"SUM(B62:B63)","v":0},{"$f":"SUM(C62:C63)","v":0},null,0,0,null,0,0,null,0,0]
[{"$f":"IF(A61<>\"\",'Table 4 (MEF)'!$A$17,\"\")","v":"- មានហិរញ្ញប្បទាន"},{"$f":"'ចំណាយ-ថវិការដ្ឋ'!J15","v":0},{"$f":"'ចំណាយ-ថវិកាដៃគូ'!G15","v":0},null,{"$f":"'ចំណាយ-ថវិការដ្ឋ'!T15","v":0},{"$f":"'ចំណាយ-ថវិកាដៃគូ'!N15","v":0},null,{"$f":"'ចំណាយ-ថវិការដ្ឋ'!AD15","v":0},{"$f":"'ចំណាយ-ថវិកាដៃគូ'!U15","v":0},null,{"$f":"'ចំណាយ-ថវិការដ្ឋ'!AN15","v":0},{"$f":"'ចំណាយ-ថវិកាដៃគូ'!AB15","v":0}]
[{"$f":"IF(A62<>\"\",'Table 4 (MEF)'!$A$18,\"\")","v":"- មិនទាន់មានហិរញ្ញប្បទាន"},{"$f":"'ចំណាយ-ថវិការដ្ឋ'!K15","v":0},{"$f":"'ចំណាយ-ថវិកាដៃគូ'!H15","v":0},null,{"$f":"'ចំណាយ-ថវិការដ្ឋ'!U15","v":0},{"$f":"'ចំណាយ-ថវិកាដៃគូ'!O15","v":0},null,{"$f":"'ចំណាយ-ថវិការដ្ឋ'!AE15","v":0},{"$f":"'ចំណាយ-ថវិកាដៃគូ'!V15","v":0},null,{"$f":"'ចំណាយ-ថវិការដ្ឋ'!AO15","v":0},{"$f":"'ចំណាយ-ថវិកាដៃគូ'!AC15","v":0}]
[{"$f":"IF(ព័ត៌មានអង្គភាព!C9=\"\",\"\",ព័ត៌មានអង្គភាព!C9)","v":"៤. អភិវឌ្ឍកម្មវិធីអប់រំកាយក្នុងម៉ោងសិក្សា កីឡាក្រៅម៉ោងសិក្សា និងសមាគមកីឡា"},{"$f":"SUM(B65,B68)","v":0},{"$f":"SUM(C65,C68)","v":0},null,{"$f":"SUM(E65,E68)","v":0},{"$f":"SUM(F65,F68)","v":0},null,{"$f":"SUM(H65,H68)","v":0},{"$f":"SUM(I65,I68)","v":0},null,{"$f":"SUM(K65,K68)","v":0},{"$f":"SUM(L65,L68)","v":0}]
[{"$f":"IF(A64<>\"\",'Table 4 (MEF)'!$A$9,\"\")","v":"□ សរុបចំណាយចរន្ដ"},{"$f":"SUM(B66:B67)","v":0},{"$f":"SUM(C66:C67)","v":0},null,0,0,null,0,0,null,0,0]
[{"$f":"IF(A65<>\"\",'Table 4 (MEF)'!$A$10,\"\")","v":"•  បន្ទុកបុគ្គលិក"},{"$f":"'ចំណាយ-ថវិការដ្ឋ'!C16","v":0},null,null,{"$f":"'ចំណាយ-ថវិការដ្ឋ'!M16","v":0},null,null,{"$f":"'ចំណាយ-ថវិការដ្ឋ'!W16","v":0},null,null,{"$f":"'ចំណាយ-ថវិការដ្ឋ'!AG16","v":0}]
[{"$f":"IF(A66<>\"\",'Table 4 (MEF)'!$A$11,\"\")","v":"•  ក្រៅបន្ទុកបុគ្គលិក"},{"$f":"'ចំណាយ-ថវិការដ្ឋ'!D16","v":0},null,null,{"$f":"'ចំណាយ-ថវិការដ្ឋ'!N16","v":0},null,null,{"$f":"'ចំណាយ-ថវិការដ្ឋ'!X16","v":0},null,null,{"$f":"'ចំណាយ-ថវិការដ្ឋ'!AH16","v":0}]
[{"$f":"IF(A67<>\"\",'Table 4 (MEF)'!$A$12,\"\")","v":"□ សរុបចំណាយមូលធន"},{"$f":"SUM(B69,B72)","v":0},{"$f":"SUM(C69,C72)","v":0},null,0,0,null,0,0,null,0,0]
[{"$f":"IF(A68<>\"\",'Table 4 (MEF)'!$A$13,\"\")","v":"•  គម្រោងវិនិយោគ"},{"$f":"SUM(B70:B71)","v":0},{"$f":"SUM(C70:C71)","v":0},null,0,0,null,0,0,null,0,0]
[{"$f":"IF(A69<>\"\",'Table 4 (MEF)'!$A$14,\"\")","v":"- មានហិរញ្ញប្បទាន"},{"$f":"'ចំណាយ-ថវិការដ្ឋ'!G16","v":0},{"$f":"'ចំណាយ-ថវិកាដៃគូ'!D16","v":0},null,{"$f":"'ចំណាយ-ថវិការដ្ឋ'!Q16","v":0},{"$f":"'ចំណាយ-ថវិកាដៃគូ'!K16","v":0},null,{"$f":"'ចំណាយ-ថវិការដ្ឋ'!AA16","v":0},{"$f":"'ចំណាយ-ថវិកាដៃគូ'!R16","v":0},null,{"$f":"'ចំណាយ-ថវិការដ្ឋ'!AK16","v":0},{"$f":"'ចំណាយ-ថវិកាដៃគូ'!Y16","v":0}]
[{"$f":"IF(A70<>\"\",'Table 4 (MEF)'!$A$15,\"\")","v":"- មិនទាន់មានហិរញ្ញប្បទាន"},{"$f":"'ចំណាយ-ថវិការដ្ឋ'!H16","v":0},{"$f":"'ចំណាយ-ថវិកាដៃគូ'!E16","v":0},null,{"$f":"'ចំណាយ-ថវិការដ្ឋ'!R16","v":0},{"$f":"'ចំណាយ-ថវិកាដៃគូ'!L16","v":0},null,{"$f":"'ចំណាយ-ថវិការដ្ឋ'!AB16","v":0},{"$f":"'ចំណាយ-ថវិកាដៃគូ'!S16","v":0},null,{"$f":"'ចំណាយ-ថវិការដ្ឋ'!AL16","v":0},{"$f":"'ចំណាយ-ថវិកាដៃគូ'!Z16","v":0}]
[{"$f":"IF(A71<>\"\",'Table 4 (MEF)'!$A$16,\"\")","v":"•  ជំនួយបច្ចេកទេស"},{"$f":"SUM(B73:B74)","v":0},{"$f":"SUM(C73:C74)","v":0},null,0,0,null,0,0,null,0,0]
[{"$f":"IF(A72<>\"\",'Table 4 (MEF)'!$A$17,\"\")","v":"- មានហិរញ្ញប្បទាន"},{"$f":"'ចំណាយ-ថវិការដ្ឋ'!J16","v":0},{"$f":"'ចំណាយ-ថវិកាដៃគូ'!G16","v":0},null,{"$f":"'ចំណាយ-ថវិការដ្ឋ'!T16","v":0},{"$f":"'ចំណាយ-ថវិកាដៃគូ'!N16","v":0},null,{"$f":"'ចំណាយ-ថវិការដ្ឋ'!AD16","v":0},{"$f":"'ចំណាយ-ថវិកាដៃគូ'!U16","v":0},null,{"$f":"'ចំណាយ-ថវិការដ្ឋ'!AN16","v":0},{"$f":"'ចំណាយ-ថវិកាដៃគូ'!AB16","v":0}]
[{"$f":"IF(A73<>\"\",'Table 4 (MEF)'!$A$18,\"\")","v":"- មិនទាន់មានហិរញ្ញប្បទាន"},{"$f":"'ចំណាយ-ថវិការដ្ឋ'!K16","v":0},{"$f":"'ចំណាយ-ថវិកាដៃគូ'!H16","v":0},null,{"$f":"'ចំណាយ-ថវិការដ្ឋ'!U16","v":0},{"$f":"'ចំណាយ-ថវិកាដៃគូ'!O16","v":0},null,{"$f":"'ចំណាយ-ថវិការដ្ឋ'!AE16","v":0},{"$f":"'ចំណាយ-ថវិកាដៃគូ'!V16","v":0},null,{"$f":"'ចំណាយ-ថវិការដ្ឋ'!AO16","v":0},{"$f":"'ចំណាយ-ថវិកាដៃគូ'!AC16","v":0}]
[{"$f":"IF(ព័ត៌មានអង្គភាព!C10=\"\",\"\",ព័ត៌មានអង្គភាព!C10)","v":"៥. ប្រកួតកីឡាសិស្ស និស្សិតថ្នាក់រាជធានី-ខេត្ត"},{"$f":"SUM(B76,B79)","v":0},{"$f":"SUM(C76,C79)","v":0},null,{"$f":"SUM(E76,E79)","v":0},{"$f":"SUM(F76,F79)","v":0},null,{"$f":"SUM(H76,H79)","v":0},{"$f":"SUM(I76,I79)","v":0},null,{"$f":"SUM(K76,K79)","v":0},{"$f":"SUM(L76,L79)","v":0}]
[{"$f":"IF(A75<>\"\",'Table 4 (MEF)'!$A$9,\"\")","v":"□ សរុបចំណាយចរន្ដ"},{"$f":"SUM(B77:B78)","v":0},{"$f":"SUM(C77:C78)","v":0},null,0,0,null,0,0,null,0,0]
[{"$f":"IF(A76<>\"\",'Table 4 (MEF)'!$A$10,\"\")","v":"•  បន្ទុកបុគ្គលិក"},{"$f":"'ចំណាយ-ថវិការដ្ឋ'!C17","v":0},null,null,{"$f":"'ចំណាយ-ថវិការដ្ឋ'!M17","v":0},null,null,{"$f":"'ចំណាយ-ថវិការដ្ឋ'!W17","v":0},null,null,{"$f":"'ចំណាយ-ថវិការដ្ឋ'!AG17","v":0}]
[{"$f":"IF(A77<>\"\",'Table 4 (MEF)'!$A$11,\"\")","v":"•  ក្រៅបន្ទុកបុគ្គលិក"},{"$f":"'ចំណាយ-ថវិការដ្ឋ'!D17","v":0},null,null,{"$f":"'ចំណាយ-ថវិការដ្ឋ'!N17","v":0},null,null,{"$f":"'ចំណាយ-ថវិការដ្ឋ'!X17","v":0},null,null,{"$f":"'ចំណាយ-ថវិការដ្ឋ'!AH17","v":0}]
[{"$f":"IF(A78<>\"\",'Table 4 (MEF)'!$A$12,\"\")","v":"□ សរុបចំណាយមូលធន"},{"$f":"SUM(B80,B83)","v":0},{"$f":"SUM(C80,C83)","v":0},null,0,0,null,0,0,null,0,0]
[{"$f":"IF(A79<>\"\",'Table 4 (MEF)'!$A$13,\"\")","v":"•  គម្រោងវិនិយោគ"},{"$f":"SUM(B81:B82)","v":0},{"$f":"SUM(C81:C82)","v":0},null,0,0,null,0,0,null,0,0]
[{"$f":"IF(A80<>\"\",'Table 4 (MEF)'!$A$14,\"\")","v":"- មានហិរញ្ញប្បទាន"},{"$f":"'ចំណាយ-ថវិការដ្ឋ'!G17","v":0},{"$f":"'ចំណាយ-ថវិកាដៃគូ'!D17","v":0},null,{"$f":"'ចំណាយ-ថវិការដ្ឋ'!Q17","v":0},{"$f":"'ចំណាយ-ថវិកាដៃគូ'!K17","v":0},null,{"$f":"'ចំណាយ-ថវិការដ្ឋ'!AA17","v":0},{"$f":"'ចំណាយ-ថវិកាដៃគូ'!R17","v":0},null,{"$f":"'ចំណាយ-ថវិការដ្ឋ'!AK17","v":0},{"$f":"'ចំណាយ-ថវិកាដៃគូ'!Y17","v":0}]
[{"$f":"IF(A81<>\"\",'Table 4 (MEF)'!$A$15,\"\")","v":"- មិនទាន់មានហិរញ្ញប្បទាន"},{"$f":"'ចំណាយ-ថវិការដ្ឋ'!H17","v":0},{"$f":"'ចំណាយ-ថវិកាដៃគូ'!E17","v":0},null,{"$f":"'ចំណាយ-ថវិការដ្ឋ'!R17","v":0},{"$f":"'ចំណាយ-ថវិកាដៃគូ'!L17","v":0},null,{"$f":"'ចំណាយ-ថវិការដ្ឋ'!AB17","v":0},{"$f":"'ចំណាយ-ថវិកាដៃគូ'!S17","v":0},null,{"$f":"'ចំណាយ-ថវិការដ្ឋ'!AL17","v":0},{"$f":"'ចំណាយ-ថវិកាដៃគូ'!Z17","v":0}]
[{"$f":"IF(A82<>\"\",'Table 4 (MEF)'!$A$16,\"\")","v":"•  ជំនួយបច្ចេកទេស"},{"$f":"SUM(B84:B85)","v":0},{"$f":"SUM(C84:C85)","v":0},null,0,0,null,0,0,null,0,0]
[{"$f":"IF(A83<>\"\",'Table 4 (MEF)'!$A$17,\"\")","v":"- មានហិរញ្ញប្បទាន"},{"$f":"'ចំណាយ-ថវិការដ្ឋ'!J17","v":0},{"$f":"'ចំណាយ-ថវិកាដៃគូ'!G17","v":0},null,{"$f":"'ចំណាយ-ថវិការដ្ឋ'!T17","v":0},{"$f":"'ចំណាយ-ថវិកាដៃគូ'!N17","v":0},null,{"$f":"'ចំណាយ-ថវិការដ្ឋ'!AD17","v":0},{"$f":"'ចំណាយ-ថវិកាដៃគូ'!U17","v":0},null,{"$f":"'ចំណាយ-ថវិការដ្ឋ'!AN17","v":0},{"$f":"'ចំណាយ-ថវិកាដៃគូ'!AB17","v":0}]
[{"$f":"IF(A84<>\"\",'Table 4 (MEF)'!$A$18,\"\")","v":"- មិនទាន់មានហិរញ្ញប្បទាន"},{"$f":"'ចំណាយ-ថវិការដ្ឋ'!K17","v":0},{"$f":"'ចំណាយ-ថវិកាដៃគូ'!H17","v":0},null,{"$f":"'ចំណាយ-ថវិការដ្ឋ'!U17","v":0},{"$f":"'ចំណាយ-ថវិកាដៃគូ'!O17","v":0},null,{"$f":"'ចំណាយ-ថវិការដ្ឋ'!AE17","v":0},{"$f":"'ចំណាយ-ថវិកាដៃគូ'!V17","v":0},null,{"$f":"'ចំណាយ-ថវិការដ្ឋ'!AO17","v":0},{"$f":"'ចំណាយ-ថវិកាដៃគូ'!AC17","v":0}]
[{"$f":"IF(ព័ត៌មានអង្គភាព!C11=\"\",\"\",ព័ត៌មានអង្គភាព!C11)","v":"៦. រៀបចំ និងចូលរួមប្រកួតកីឡាជាលក្ខណៈជាតិ និងអន្ដរជាតិ"},{"$f":"SUM(B87,B90)","v":0},{"$f":"SUM(C87,C90)","v":0},null,{"$f":"SUM(E87,E90)","v":0},{"$f":"SUM(F87,F90)","v":0},null,{"$f":"SUM(H87,H90)","v":0},{"$f":"SUM(I87,I90)","v":0},null,{"$f":"SUM(K87,K90)","v":0},{"$f":"SUM(L87,L90)","v":0}]
[{"$f":"IF(A86<>\"\",'Table 4 (MEF)'!$A$9,\"\")","v":"□ សរុបចំណាយចរន្ដ"},{"$f":"SUM(B88:B89)","v":0},{"$f":"SUM(C88:C89)","v":0},null,0,0,null,0,0,null,0,0]
[{"$f":"IF(A87<>\"\",'Table 4 (MEF)'!$A$10,\"\")","v":"•  បន្ទុកបុគ្គលិក"},{"$f":"'ចំណាយ-ថវិការដ្ឋ'!C18","v":0},null,null,{"$f":"'ចំណាយ-ថវិការដ្ឋ'!M18","v":0},null,null,{"$f":"'ចំណាយ-ថវិការដ្ឋ'!W18","v":0},null,null,{"$f":"'ចំណាយ-ថវិការដ្ឋ'!AG18","v":0}]
[{"$f":"IF(A88<>\"\",'Table 4 (MEF)'!$A$11,\"\")","v":"•  ក្រៅបន្ទុកបុគ្គលិក"},{"$f":"'ចំណាយ-ថវិការដ្ឋ'!D18","v":0},null,null,{"$f":"'ចំណាយ-ថវិការដ្ឋ'!N18","v":0},null,null,{"$f":"'ចំណាយ-ថវិការដ្ឋ'!X18","v":0},null,null,{"$f":"'ចំណាយ-ថវិការដ្ឋ'!AH18","v":0}]
[{"$f":"IF(A89<>\"\",'Table 4 (MEF)'!$A$12,\"\")","v":"□ សរុបចំណាយមូលធន"},{"$f":"SUM(B91,B94)","v":0},{"$f":"SUM(C91,C94)","v":0},null,0,0,null,0,0,null,0,0]
[{"$f":"IF(A90<>\"\",'Table 4 (MEF)'!$A$13,\"\")","v":"•  គម្រោងវិនិយោគ"},{"$f":"SUM(B92:B93)","v":0},{"$f":"SUM(C92:C93)","v":0},null,0,0,null,0,0,null,0,0]
[{"$f":"IF(A91<>\"\",'Table 4 (MEF)'!$A$14,\"\")","v":"- មានហិរញ្ញប្បទាន"},{"$f":"'ចំណាយ-ថវិការដ្ឋ'!G18","v":0},{"$f":"'ចំណាយ-ថវិកាដៃគូ'!D18","v":0},null,{"$f":"'ចំណាយ-ថវិការដ្ឋ'!Q18","v":0},{"$f":"'ចំណាយ-ថវិកាដៃគូ'!K18","v":0},null,{"$f":"'ចំណាយ-ថវិការដ្ឋ'!AA18","v":0},{"$f":"'ចំណាយ-ថវិកាដៃគូ'!R18","v":0},null,{"$f":"'ចំណាយ-ថវិការដ្ឋ'!AK18","v":0},{"$f":"'ចំណាយ-ថវិកាដៃគូ'!Y18","v":0}]
[{"$f":"IF(A92<>\"\",'Table 4 (MEF)'!$A$15,\"\")","v":"- មិនទាន់មានហិរញ្ញប្បទាន"},{"$f":"'ចំណាយ-ថវិការដ្ឋ'!H18","v":0},{"$f":"'ចំណាយ-ថវិកាដៃគូ'!E18","v":0},null,{"$f":"'ចំណាយ-ថវិការដ្ឋ'!R18","v":0},{"$f":"'ចំណាយ-ថវិកាដៃគូ'!L18","v":0},null,{"$f":"'ចំណាយ-ថវិការដ្ឋ'!AB18","v":0},{"$f":"'ចំណាយ-ថវិកាដៃគូ'!S18","v":0},null,{"$f":"'ចំណាយ-ថវិការដ្ឋ'!AL18","v":0},{"$f":"'ចំណាយ-ថវិកាដៃគូ'!Z18","v":0}]
[{"$f":"IF(A93<>\"\",'Table 4 (MEF)'!$A$16,\"\")","v":"•  ជំនួយបច្ចេកទេស"},{"$f":"SUM(B95:B96)","v":0},{"$f":"SUM(C95:C96)","v":0},null,0,0,null,0,0,null,0,0]
[{"$f":"IF(A94<>\"\",'Table 4 (MEF)'!$A$17,\"\")","v":"- មានហិរញ្ញប្បទាន"},{"$f":"'ចំណាយ-ថវិការដ្ឋ'!J18","v":0},{"$f":"'ចំណាយ-ថវិកាដៃគូ'!G18","v":0},null,{"$f":"'ចំណាយ-ថវិការដ្ឋ'!T18","v":0},{"$f":"'ចំណាយ-ថវិកាដៃគូ'!N18","v":0},null,{"$f":"'ចំណាយ-ថវិការដ្ឋ'!AD18","v":0},{"$f":"'ចំណាយ-ថវិកាដៃគូ'!U18","v":0},null,{"$f":"'ចំណាយ-ថវិការដ្ឋ'!AN18","v":0},{"$f":"'ចំណាយ-ថវិកាដៃគូ'!AB18","v":0}]
[{"$f":"IF(A95<>\"\",'Table 4 (MEF)'!$A$18,\"\")","v":"- មិនទាន់មានហិរញ្ញប្បទាន"},{"$f":"'ចំណាយ-ថវិការដ្ឋ'!K18","v":0},{"$f":"'ចំណាយ-ថវិកាដៃគូ'!H18","v":0},null,{"$f":"'ចំណាយ-ថវិការដ្ឋ'!U18","v":0},{"$f":"'ចំណាយ-ថវិកាដៃគូ'!O18","v":0},null,{"$f":"'ចំណាយ-ថវិការដ្ឋ'!AE18","v":0},{"$f":"'ចំណាយ-ថវិកាដៃគូ'!V18","v":0},null,{"$f":"'ចំណាយ-ថវិការដ្ឋ'!AO18","v":0},{"$f":"'ចំណាយ-ថវិកាដៃគូ'!AC18","v":0}]
[{"$f":"IF(ព័ត៌មានអង្គភាព!C12=\"\",\"\",ព័ត៌មានអង្គភាព!C12)","v":"៧. ប្រកួតកីឡាមហាជនថ្នាក់រាជធានី-ខេត្ត"},{"$f":"SUM(B98,B101)","v":0},{"$f":"SUM(C98,C101)","v":0},null,{"$f":"SUM(E98,E101)","v":0},{"$f":"SUM(F98,F101)","v":0},null,{"$f":"SUM(H98,H101)","v":0},{"$f":"SUM(I98,I101)","v":0},null,{"$f":"SUM(K98,K101)","v":0},{"$f":"SUM(L98,L101)","v":0}]
[{"$f":"IF(A97<>\"\",'Table 4 (MEF)'!$A$9,\"\")","v":"□ សរុបចំណាយចរន្ដ"},{"$f":"SUM(B99:B100)","v":0},{"$f":"SUM(C99:C100)","v":0},null,0,0,null,0,0,null,0,0]
[{"$f":"IF(A98<>\"\",'Table 4 (MEF)'!$A$10,\"\")","v":"•  បន្ទុកបុគ្គលិក"},{"$f":"'ចំណាយ-ថវិការដ្ឋ'!C19","v":0},null,null,{"$f":"'ចំណាយ-ថវិការដ្ឋ'!M19","v":0},null,null,{"$f":"'ចំណាយ-ថវិការដ្ឋ'!W19","v":0},null,null,{"$f":"'ចំណាយ-ថវិការដ្ឋ'!AG19","v":0}]
[{"$f":"IF(A99<>\"\",'Table 4 (MEF)'!$A$11,\"\")","v":"•  ក្រៅបន្ទុកបុគ្គលិក"},{"$f":"'ចំណាយ-ថវិការដ្ឋ'!D19","v":0},null,null,{"$f":"'ចំណាយ-ថវិការដ្ឋ'!N19","v":0},null,null,{"$f":"'ចំណាយ-ថវិការដ្ឋ'!X19","v":0},null,null,{"$f":"'ចំណាយ-ថវិការដ្ឋ'!AH19","v":0}]
[{"$f":"IF(A100<>\"\",'Table 4 (MEF)'!$A$12,\"\")","v":"□ សរុបចំណាយមូលធន"},{"$f":"SUM(B102,B105)","v":0},{"$f":"SUM(C102,C105)","v":0},null,0,0,null,0,0,null,0,0]
[{"$f":"IF(A101<>\"\",'Table 4 (MEF)'!$A$13,\"\")","v":"•  គម្រោងវិនិយោគ"},{"$f":"SUM(B103:B104)","v":0},{"$f":"SUM(C103:C104)","v":0},null,0,0,null,0,0,null,0,0]
[{"$f":"IF(A102<>\"\",'Table 4 (MEF)'!$A$14,\"\")","v":"- មានហិរញ្ញប្បទាន"},{"$f":"'ចំណាយ-ថវិការដ្ឋ'!G19","v":0},{"$f":"'ចំណាយ-ថវិកាដៃគូ'!D19","v":0},null,{"$f":"'ចំណាយ-ថវិការដ្ឋ'!Q19","v":0},{"$f":"'ចំណាយ-ថវិកាដៃគូ'!K19","v":0},null,{"$f":"'ចំណាយ-ថវិការដ្ឋ'!AA19","v":0},{"$f":"'ចំណាយ-ថវិកាដៃគូ'!R19","v":0},null,{"$f":"'ចំណាយ-ថវិការដ្ឋ'!AK19","v":0},{"$f":"'ចំណាយ-ថវិកាដៃគូ'!Y19","v":0}]
[{"$f":"IF(A103<>\"\",'Table 4 (MEF)'!$A$15,\"\")","v":"- មិនទាន់មានហិរញ្ញប្បទាន"},{"$f":"'ចំណាយ-ថវិការដ្ឋ'!H19","v":0},{"$f":"'ចំណាយ-ថវិកាដៃគូ'!E19","v":0},null,{"$f":"'ចំណាយ-ថវិការដ្ឋ'!R19","v":0},{"$f":"'ចំណាយ-ថវិកាដៃគូ'!L19","v":0},null,{"$f":"'ចំណាយ-ថវិការដ្ឋ'!AB19","v":0},{"$f":"'ចំណាយ-ថវិកាដៃគូ'!S19","v":0},null,{"$f":"'ចំណាយ-ថវិការដ្ឋ'!AL19","v":0},{"$f":"'ចំណាយ-ថវិកាដៃគូ'!Z19","v":0}]
[{"$f":"IF(A104<>\"\",'Table 4 (MEF)'!$A$16,\"\")","v":"•  ជំនួយបច្ចេកទេស"},{"$f":"SUM(B106:B107)","v":0},{"$f":"SUM(C106:C107)","v":0},null,0,0,null,0,0,null,0,0]
[{"$f":"IF(A105<>\"\",'Table 4 (MEF)'!$A$17,\"\")","v":"- មានហិរញ្ញប្បទាន"},{"$f":"'ចំណាយ-ថវិការដ្ឋ'!J19","v":0},{"$f":"'ចំណាយ-ថវិកាដៃគូ'!G19","v":0},null,{"$f":"'ចំណាយ-ថវិការដ្ឋ'!T19","v":0},{"$f":"'ចំណាយ-ថវិកាដៃគូ'!N19","v":0},null,{"$f":"'ចំណាយ-ថវិការដ្ឋ'!AD19","v":0},{"$f":"'ចំណាយ-ថវិកាដៃគូ'!U19","v":0},null,{"$f":"'ចំណាយ-ថវិការដ្ឋ'!AN19","v":0},{"$f":"'ចំណាយ-ថវិកាដៃគូ'!AB19","v":0}]
[{"$f":"IF(A106<>\"\",'Table 4 (MEF)'!$A$18,\"\")","v":"- មិនទាន់មានហិរញ្ញប្បទាន"},{"$f":"'ចំណាយ-ថវិការដ្ឋ'!K19","v":0},{"$f":"'ចំណាយ-ថវិកាដៃគូ'!H19","v":0},null,{"$f":"'ចំណាយ-ថវិការដ្ឋ'!U19","v":0},{"$f":"'ចំណាយ-ថវិកាដៃគូ'!O19","v":0},null,{"$f":"'ចំណាយ-ថវិការដ្ឋ'!AE19","v":0},{"$f":"'ចំណាយ-ថវិកាដៃគូ'!V19","v":0},null,{"$f":"'ចំណាយ-ថវិការដ្ឋ'!AO19","v":0},{"$f":"'ចំណាយ-ថវិកាដៃគូ'!AC19","v":0}]
[{"$f":"IF(ព័ត៌មានអង្គភាព!C13=\"\",\"\",ព័ត៌មានអង្គភាព!C13)","v":"៨. អភិវឌ្ឍហេដ្ឋារចនាសម្ព័ន្ធកីឡា និងឧបករណ៍សម្ភារកីឡា"},{"$f":"SUM(B109,B112)","v":0},{"$f":"SUM(C109,C112)","v":0},null,{"$f":"SUM(E109,E112)","v":0},{"$f":"SUM(F109,F112)","v":0},null,{"$f":"SUM(H109,H112)","v":0},{"$f":"SUM(I109,I112)","v":0},null,{"$f":"SUM(K109,K112)","v":0},{"$f":"SUM(L109,L112)","v":0}]
[{"$f":"IF(A108<>\"\",'Table 4 (MEF)'!$A$9,\"\")","v":"□ សរុបចំណាយចរន្ដ"},{"$f":"SUM(B110:B111)","v":0},{"$f":"SUM(C110:C111)","v":0},null,0,0,null,0,0,null,0,0]
[{"$f":"IF(A109<>\"\",'Table 4 (MEF)'!$A$10,\"\")","v":"•  បន្ទុកបុគ្គលិក"},{"$f":"'ចំណាយ-ថវិការដ្ឋ'!C20","v":0},null,null,{"$f":"'ចំណាយ-ថវិការដ្ឋ'!M20","v":0},null,null,{"$f":"'ចំណាយ-ថវិការដ្ឋ'!W20","v":0},null,null,{"$f":"'ចំណាយ-ថវិការដ្ឋ'!AG20","v":0}]
[{"$f":"IF(A110<>\"\",'Table 4 (MEF)'!$A$11,\"\")","v":"•  ក្រៅបន្ទុកបុគ្គលិក"},{"$f":"'ចំណាយ-ថវិការដ្ឋ'!D20","v":0},null,null,{"$f":"'ចំណាយ-ថវិការដ្ឋ'!N20","v":0},null,null,{"$f":"'ចំណាយ-ថវិការដ្ឋ'!X20","v":0},null,null,{"$f":"'ចំណាយ-ថវិការដ្ឋ'!AH20","v":0}]
[{"$f":"IF(A111<>\"\",'Table 4 (MEF)'!$A$12,\"\")","v":"□ សរុបចំណាយមូលធន"},{"$f":"SUM(B113,B116)","v":0},{"$f":"SUM(C113,C116)","v":0},null,0,0,null,0,0,null,0,0]
[{"$f":"IF(A112<>\"\",'Table 4 (MEF)'!$A$13,\"\")","v":"•  គម្រោងវិនិយោគ"},{"$f":"SUM(B114:B115)","v":0},{"$f":"SUM(C114:C115)","v":0},null,0,0,null,0,0,null,0,0]
[{"$f":"IF(A113<>\"\",'Table 4 (MEF)'!$A$14,\"\")","v":"- មានហិរញ្ញប្បទាន"},{"$f":"'ចំណាយ-ថវិការដ្ឋ'!G20","v":0},{"$f":"'ចំណាយ-ថវិកាដៃគូ'!D20","v":0},null,{"$f":"'ចំណាយ-ថវិការដ្ឋ'!Q20","v":0},{"$f":"'ចំណាយ-ថវិកាដៃគូ'!K20","v":0},null,{"$f":"'ចំណាយ-ថវិការដ្ឋ'!AA20","v":0},{"$f":"'ចំណាយ-ថវិកាដៃគូ'!R20","v":0},null,{"$f":"'ចំណាយ-ថវិការដ្ឋ'!AK20","v":0},{"$f":"'ចំណាយ-ថវិកាដៃគូ'!Y20","v":0}]
[{"$f":"IF(A114<>\"\",'Table 4 (MEF)'!$A$15,\"\")","v":"- មិនទាន់មានហិរញ្ញប្បទាន"},{"$f":"'ចំណាយ-ថវិការដ្ឋ'!H20","v":0},{"$f":"'ចំណាយ-ថវិកាដៃគូ'!E20","v":0},null,{"$f":"'ចំណាយ-ថវិការដ្ឋ'!R20","v":0},{"$f":"'ចំណាយ-ថវិកាដៃគូ'!L20","v":0},null,{"$f":"'ចំណាយ-ថវិការដ្ឋ'!AB20","v":0},{"$f":"'ចំណាយ-ថវិកាដៃគូ'!S20","v":0},null,{"$f":"'ចំណាយ-ថវិការដ្ឋ'!AL20","v":0},{"$f":"'ចំណាយ-ថវិកាដៃគូ'!Z20","v":0}]
[{"$f":"IF(A115<>\"\",'Table 4 (MEF)'!$A$16,\"\")","v":"•  ជំនួយបច្ចេកទេស"},{"$f":"SUM(B117:B118)","v":0},{"$f":"SUM(C117:C118)","v":0},null,0,0,null,0,0,null,0,0]
[{"$f":"IF(A116<>\"\",'Table 4 (MEF)'!$A$17,\"\")","v":"- មានហិរញ្ញប្បទាន"},{"$f":"'ចំណាយ-ថវិការដ្ឋ'!J20","v":0},{"$f":"'ចំណាយ-ថវិកាដៃគូ'!G20","v":0},null,{"$f":"'ចំណាយ-ថវិការដ្ឋ'!T20","v":0},{"$f":"'ចំណាយ-ថវិកាដៃគូ'!N20","v":0},null,{"$f":"'ចំណាយ-ថវិការដ្ឋ'!AD20","v":0},{"$f":"'ចំណាយ-ថវិកាដៃគូ'!U20","v":0},null,{"$f":"'ចំណាយ-ថវិការដ្ឋ'!AN20","v":0},{"$f":"'ចំណាយ-ថវិកាដៃគូ'!AB20","v":0}]
[{"$f":"IF(A117<>\"\",'Table 4 (MEF)'!$A$18,\"\")","v":"- មិនទាន់មានហិរញ្ញប្បទាន"},{"$f":"'ចំណាយ-ថវិការដ្ឋ'!K20","v":0},{"$f":"'ចំណាយ-ថវិកាដៃគូ'!H20","v":0},null,{"$f":"'ចំណាយ-ថវិការដ្ឋ'!U20","v":0},{"$f":"'ចំណាយ-ថវិកាដៃគូ'!O20","v":0},null,{"$f":"'ចំណាយ-ថវិការដ្ឋ'!AE20","v":0},{"$f":"'ចំណាយ-ថវិកាដៃគូ'!V20","v":0},null,{"$f":"'ចំណាយ-ថវិការដ្ឋ'!AO20","v":0},{"$f":"'ចំណាយ-ថវិកាដៃគូ'!AC20","v":0}]
[{"$f":"IF(ព័ត៌មានអង្គភាព!C14=\"\",\"\",ព័ត៌មានអង្គភាព!C14)","v":""},{"$f":"SUM(B120,B123)","v":0},{"$f":"SUM(C120,C123)","v":0},null,{"$f":"SUM(E120,E123)","v":0},{"$f":"SUM(F120,F123)","v":0},null,{"$f":"SUM(H120,H123)","v":0},{"$f":"SUM(I120,I123)","v":0},null,{"$f":"SUM(K120,K123)","v":0},{"$f":"SUM(L120,L123)","v":0}]
[{"$f":"IF(A119<>\"\",'Table 4 (MEF)'!$A$9,\"\")","v":""},{"$f":"SUM(B121:B122)","v":0},{"$f":"SUM(C121:C122)","v":0},null,0,0,null,0,0,null,0,0]
[{"$f":"IF(A120<>\"\",'Table 4 (MEF)'!$A$10,\"\")","v":""},{"$f":"'ចំណាយ-ថវិការដ្ឋ'!C21","v":0},null,null,{"$f":"'ចំណាយ-ថវិការដ្ឋ'!M21","v":0},null,null,{"$f":"'ចំណាយ-ថវិការដ្ឋ'!W21","v":0},null,null,{"$f":"'ចំណាយ-ថវិការដ្ឋ'!AG21","v":0}]
[{"$f":"IF(A121<>\"\",'Table 4 (MEF)'!$A$11,\"\")","v":""},{"$f":"'ចំណាយ-ថវិការដ្ឋ'!D21","v":0},null,null,{"$f":"'ចំណាយ-ថវិការដ្ឋ'!N21","v":0},null,null,{"$f":"'ចំណាយ-ថវិការដ្ឋ'!X21","v":0},null,null,{"$f":"'ចំណាយ-ថវិការដ្ឋ'!AH21","v":0}]
[{"$f":"IF(A122<>\"\",'Table 4 (MEF)'!$A$12,\"\")","v":""},{"$f":"SUM(B124,B127)","v":0},{"$f":"SUM(C124,C127)","v":0},null,0,0,null,0,0,null,0,0]
[{"$f":"IF(A123<>\"\",'Table 4 (MEF)'!$A$13,\"\")","v":""},{"$f":"SUM(B125:B126)","v":0},{"$f":"SUM(C125:C126)","v":0},null,0,0,null,0,0,null,0,0]
[{"$f":"IF(A124<>\"\",'Table 4 (MEF)'!$A$14,\"\")","v":""},{"$f":"'ចំណាយ-ថវិការដ្ឋ'!G21","v":0},{"$f":"'ចំណាយ-ថវិកាដៃគូ'!D21","v":0},null,{"$f":"'ចំណាយ-ថវិការដ្ឋ'!Q21","v":0},{"$f":"'ចំណាយ-ថវិកាដៃគូ'!K21","v":0},null,{"$f":"'ចំណាយ-ថវិការដ្ឋ'!AA21","v":0},{"$f":"'ចំណាយ-ថវិកាដៃគូ'!R21","v":0},null,{"$f":"'ចំណាយ-ថវិការដ្ឋ'!AK21","v":0},{"$f":"'ចំណាយ-ថវិកាដៃគូ'!Y21","v":0}]
[{"$f":"IF(A125<>\"\",'Table 4 (MEF)'!$A$15,\"\")","v":""},{"$f":"'ចំណាយ-ថវិការដ្ឋ'!H21","v":0},{"$f":"'ចំណាយ-ថវិកាដៃគូ'!E21","v":0},null,{"$f":"'ចំណាយ-ថវិការដ្ឋ'!R21","v":0},{"$f":"'ចំណាយ-ថវិកាដៃគូ'!L21","v":0},null,{"$f":"'ចំណាយ-ថវិការដ្ឋ'!AB21","v":0},{"$f":"'ចំណាយ-ថវិកាដៃគូ'!S21","v":0},null,{"$f":"'ចំណាយ-ថវិការដ្ឋ'!AL21","v":0},{"$f":"'ចំណាយ-ថវិកាដៃគូ'!Z21","v":0}]
[{"$f":"IF(A126<>\"\",'Table 4 (MEF)'!$A$16,\"\")","v":""},{"$f":"SUM(B128:B129)","v":0},{"$f":"SUM(C128:C129)","v":0},null,0,0,null,0,0,null,0,0]
[{"$f":"IF(A127<>\"\",'Table 4 (MEF)'!$A$17,\"\")","v":""},{"$f":"'ចំណាយ-ថវិការដ្ឋ'!J21","v":0},{"$f":"'ចំណាយ-ថវិកាដៃគូ'!G21","v":0},null,{"$f":"'ចំណាយ-ថវិការដ្ឋ'!T21","v":0},{"$f":"'ចំណាយ-ថវិកាដៃគូ'!N21","v":0},null,{"$f":"'ចំណាយ-ថវិការដ្ឋ'!AD21","v":0},{"$f":"'ចំណាយ-ថវិកាដៃគូ'!U21","v":0},null,{"$f":"'ចំណាយ-ថវិការដ្ឋ'!AN21","v":0},{"$f":"'ចំណាយ-ថវិកាដៃគូ'!AB21","v":0}]
[{"$f":"IF(A128<>\"\",'Table 4 (MEF)'!$A$18,\"\")","v":""},{"$f":"'ចំណាយ-ថវិការដ្ឋ'!K21","v":0},{"$f":"'ចំណាយ-ថវិកាដៃគូ'!H21","v":0},null,{"$f":"'ចំណាយ-ថវិការដ្ឋ'!U21","v":0},{"$f":"'ចំណាយ-ថវិកាដៃគូ'!O21","v":0},null,{"$f":"'ចំណាយ-ថវិការដ្ឋ'!AE21","v":0},{"$f":"'ចំណាយ-ថវិកាដៃគូ'!V21","v":0},null,{"$f":"'ចំណាយ-ថវិការដ្ឋ'!AO21","v":0},{"$f":"'ចំណាយ-ថវិកាដៃគូ'!AC21","v":0}]
[{"$f":"IF(ព័ត៌មានអង្គភាព!C15=\"\",\"\",ព័ត៌មានអង្គភាព!C15)","v":""},{"$f":"SUM(B131,B134)","v":0},{"$f":"SUM(C131,C134)","v":0},null,{"$f":"SUM(E131,E134)","v":0},{"$f":"SUM(F131,F134)","v":0},null,{"$f":"SUM(H131,H134)","v":0},{"$f":"SUM(I131,I134)","v":0},null,{"$f":"SUM(K131,K134)","v":0},{"$f":"SUM(L131,L134)","v":0}]
[{"$f":"IF(A130<>\"\",'Table 4 (MEF)'!$A$9,\"\")","v":""},{"$f":"SUM(B132:B133)","v":0},{"$f":"SUM(C132:C133)","v":0},null,0,0,null,0,0,null,0,0]
[{"$f":"IF(A131<>\"\",'Table 4 (MEF)'!$A$10,\"\")","v":""},{"$f":"'ចំណាយ-ថវិការដ្ឋ'!C22","v":0},null,null,{"$f":"'ចំណាយ-ថវិការដ្ឋ'!M22","v":0},null,null,{"$f":"'ចំណាយ-ថវិការដ្ឋ'!W22","v":0},null,null,{"$f":"'ចំណាយ-ថវិការដ្ឋ'!AG22","v":0}]
[{"$f":"IF(A132<>\"\",'Table 4 (MEF)'!$A$11,\"\")","v":""},{"$f":"'ចំណាយ-ថវិការដ្ឋ'!D22","v":0},null,null,{"$f":"'ចំណាយ-ថវិការដ្ឋ'!N22","v":0},null,null,{"$f":"'ចំណាយ-ថវិការដ្ឋ'!X22","v":0},null,null,{"$f":"'ចំណាយ-ថវិការដ្ឋ'!AH22","v":0}]
[{"$f":"IF(A133<>\"\",'Table 4 (MEF)'!$A$12,\"\")","v":""},{"$f":"SUM(B135,B138)","v":0},{"$f":"SUM(C135,C138)","v":0},null,0,0,null,0,0,null,0,0]
[{"$f":"IF(A134<>\"\",'Table 4 (MEF)'!$A$13,\"\")","v":""},{"$f":"SUM(B136:B137)","v":0},{"$f":"SUM(C136:C137)","v":0},null,0,0,null,0,0,null,0,0]
[{"$f":"IF(A135<>\"\",'Table 4 (MEF)'!$A$14,\"\")","v":""},{"$f":"'ចំណាយ-ថវិការដ្ឋ'!G22","v":0},{"$f":"'ចំណាយ-ថវិកាដៃគូ'!D22","v":0},null,{"$f":"'ចំណាយ-ថវិការដ្ឋ'!Q22","v":0},{"$f":"'ចំណាយ-ថវិកាដៃគូ'!K22","v":0},null,{"$f":"'ចំណាយ-ថវិការដ្ឋ'!AA22","v":0},{"$f":"'ចំណាយ-ថវិកាដៃគូ'!R22","v":0},null,{"$f":"'ចំណាយ-ថវិការដ្ឋ'!AK22","v":0},{"$f":"'ចំណាយ-ថវិកាដៃគូ'!Y22","v":0}]
[{"$f":"IF(A136<>\"\",'Table 4 (MEF)'!$A$15,\"\")","v":""},{"$f":"'ចំណាយ-ថវិការដ្ឋ'!H22","v":0},{"$f":"'ចំណាយ-ថវិកាដៃគូ'!E22","v":0},null,{"$f":"'ចំណាយ-ថវិការដ្ឋ'!R22","v":0},{"$f":"'ចំណាយ-ថវិកាដៃគូ'!L22","v":0},null,{"$f":"'ចំណាយ-ថវិការដ្ឋ'!AB22","v":0},{"$f":"'ចំណាយ-ថវិកាដៃគូ'!S22","v":0},null,{"$f":"'ចំណាយ-ថវិការដ្ឋ'!AL22","v":0},{"$f":"'ចំណាយ-ថវិកាដៃគូ'!Z22","v":0}]
[{"$f":"IF(A137<>\"\",'Table 4 (MEF)'!$A$16,\"\")","v":""},{"$f":"SUM(B139:B140)","v":0},{"$f":"SUM(C139:C140)","v":0},null,0,0,null,0,0,null,0,0]
[{"$f":"IF(A138<>\"\",'Table 4 (MEF)'!$A$17,\"\")","v":""},{"$f":"'ចំណាយ-ថវិការដ្ឋ'!J22","v":0},{"$f":"'ចំណាយ-ថវិកាដៃគូ'!G22","v":0},null,{"$f":"'ចំណាយ-ថវិការដ្ឋ'!T22","v":0},{"$f":"'ចំណាយ-ថវិកាដៃគូ'!N22","v":0},null,{"$f":"'ចំណាយ-ថវិការដ្ឋ'!AD22","v":0},{"$f":"'ចំណាយ-ថវិកាដៃគូ'!U22","v":0},null,{"$f":"'ចំណាយ-ថវិការដ្ឋ'!AN22","v":0},{"$f":"'ចំណាយ-ថវិកាដៃគូ'!AB22","v":0}]
[{"$f":"IF(A139<>\"\",'Table 4 (MEF)'!$A$18,\"\")","v":""},{"$f":"'ចំណាយ-ថវិការដ្ឋ'!K22","v":0},{"$f":"'ចំណាយ-ថវិកាដៃគូ'!H22","v":0},null,{"$f":"'ចំណាយ-ថវិការដ្ឋ'!U22","v":0},{"$f":"'ចំណាយ-ថវិកាដៃគូ'!O22","v":0},null,{"$f":"'ចំណាយ-ថវិការដ្ឋ'!AE22","v":0},{"$f":"'ចំណាយ-ថវិកាដៃគូ'!V22","v":0},null,{"$f":"'ចំណាយ-ថវិការដ្ឋ'!AO22","v":0},{"$f":"'ចំណាយ-ថវិកាដៃគូ'!AC22","v":0}]
[{"$f":"ព័ត៌មានអង្គភាព!C16","v":"ច.ស.ក ទី ២. ការលើកកម្ពស់ភាពជាអ្នកដឹកនាំ និងគ្រប់គ្រង របស់មន្រ្តីអប់រំគ្រប់លំដាប់ថ្នាក់"},{"$f":"SUM(B152,B163,B174,B185,B196)","v":0},{"$f":"SUM(C152,C163,C174,C185,C196)","v":0},null,{"$f":"SUM(E152,E163,E174,E185,E196)","v":0},{"$f":"SUM(F152,F163,F174,F185,F196)","v":0},null,{"$f":"SUM(H152,H163,H174,H185,H196)","v":0},{"$f":"SUM(I152,I163,I174,I185,I196)","v":0},null,{"$f":"SUM(K152,K163,K174,K185,K196)","v":0},{"$f":"SUM(L152,L163,L174,L185,L196)","v":0}]
["□ សរុបចំណាយចរន្ដ",{"$f":"SUM(B143:B144)","v":0},{"$f":"SUM(C143:C144)","v":0},null,0,0,null,0,0,null,0,0]
["•  បន្ទុកបុគ្គលិក",{"$f":"SUM(B154,B165,B176,B187,B198)","v":0},{"$f":"SUM(C154,C165,C176,C187,C198)","v":0},null,{"$f":"SUM(E154,E165,E176,E187,E198)","v":0},{"$f":"SUM(F154,F165,F176,F187,F198)","v":0},null,{"$f":"SUM(H154,H165,H176,H187,H198)","v":0},{"$f":"SUM(I154,I165,I176,I187,I198)","v":0},null,{"$f":"SUM(K154,K165,K176,K187,K198)","v":0},{"$f":"SUM(L154,L165,L176,L187,L198)","v":0}]
["•  ក្រៅបន្ទុកបុគ្គលិក",{"$f":"SUM(B155,B166,B177,B188,B199)","v":0},{"$f":"SUM(C155,C166,C177,C188,C199)","v":0},null,{"$f":"SUM(E155,E166,E177,E188,E199)","v":0},{"$f":"SUM(F155,F166,F177,F188,F199)","v":0},null,{"$f":"SUM(H155,H166,H177,H188,H199)","v":0},{"$f":"SUM(I155,I166,I177,I188,I199)","v":0},null,{"$f":"SUM(K155,K166,K177,K188,K199)","v":0},{"$f":"SUM(L155,L166,L177,L188,L199)","v":0}]
["□ សរុបចំណាយមូលធន",{"$f":"SUM(B146,B149)","v":0},{"$f":"SUM(C146,C149)","v":0},null,0,0,null,0,0,null,0,0]
["•  គម្រោងវិនិយោគ",{"$f":"SUM(B147:B148)","v":0},{"$f":"SUM(C147:C148)","v":0},null,0,0,null,0,0,null,0,0]
["- មានហិរញ្ញប្បទាន",{"$f":"SUM(B158,B169,B180,B191,B202)","v":0},{"$f":"SUM(C158,C169,C180,C191,C202)","v":0},null,{"$f":"SUM(E158,E169,E180,E191,E202)","v":0},{"$f":"SUM(F158,F169,F180,F191,F202)","v":0},null,{"$f":"SUM(H158,H169,H180,H191,H202)","v":0},{"$f":"SUM(I158,I169,I180,I191,I202)","v":0},null,{"$f":"SUM(K158,K169,K180,K191,K202)","v":0},{"$f":"SUM(L158,L169,L180,L191,L202)","v":0}]
["- មិនទាន់មានហិរញ្ញប្បទាន",{"$f":"SUM(B159,B170,B181,B192,B203)","v":0},{"$f":"SUM(C159,C170,C181,C192,C203)","v":0},null,{"$f":"SUM(E159,E170,E181,E192,E203)","v":0},{"$f":"SUM(F159,F170,F181,F192,F203)","v":0},null,{"$f":"SUM(H159,H170,H181,H192,H203)","v":0},{"$f":"SUM(I159,I170,I181,I192,I203)","v":0},null,{"$f":"SUM(K159,K170,K181,K192,K203)","v":0},{"$f":"SUM(L159,L170,L181,L192,L203)","v":0}]
["•  ជំនួយបច្ចេកទេស",{"$f":"SUM(B150:B151)","v":0},{"$f":"SUM(C150:C151)","v":0},null,0,0,null,0,0,null,0,0]
["- មានហិរញ្ញប្បទាន",{"$f":"SUM(B161,B172,B183,B194,B205)","v":0},{"$f":"SUM(C161,C172,C183,C194,C205)","v":0},null,{"$f":"SUM(E161,E172,E183,E194,E205)","v":0},{"$f":"SUM(F161,F172,F183,F194,F205)","v":0},null,{"$f":"SUM(H161,H172,H183,H194,H205)","v":0},{"$f":"SUM(I161,I172,I183,I194,I205)","v":0},null,{"$f":"SUM(K161,K172,K183,K194,K205)","v":0},{"$f":"SUM(L161,L172,L183,L194,L205)","v":0}]
["- មិនទាន់មានហិរញ្ញប្បទាន",{"$f":"SUM(B162,B173,B184,B195,B206)","v":0},{"$f":"SUM(C162,C173,C184,C195,C206)","v":0},null,{"$f":"SUM(E162,E173,E184,E195,E206)","v":0},{"$f":"SUM(F162,F173,F184,F195,F206)","v":0},null,{"$f":"SUM(H162,H173,H184,H195,H206)","v":0},{"$f":"SUM(I162,I173,I184,I195,I206)","v":0},null,{"$f":"SUM(K162,K173,K184,K195,K206)","v":0},{"$f":"SUM(L162,L173,L184,L195,L206)","v":0}]
[{"$f":"IF(ព័ត៌មានអង្គភាព!C17=\"\",\"\",ព័ត៌មានអង្គភាព!C17)","v":"១. អភិវឌ្ឍធនធានមនុស្សលើវិស័យកីឡា"},{"$f":"SUM(B153,B156)","v":0},{"$f":"SUM(C153,C156)","v":0},null,{"$f":"SUM(E153,E156)","v":0},{"$f":"SUM(F153,F156)","v":0},null,{"$f":"SUM(H153,H156)","v":0},{"$f":"SUM(I153,I156)","v":0},null,{"$f":"SUM(K153,K156)","v":0},{"$f":"SUM(L153,L156)","v":0}]
[{"$f":"IF(A152<>\"\",'Table 4 (MEF)'!$A$9,\"\")","v":"□ សរុបចំណាយចរន្ដ"},{"$f":"SUM(B154:B155)","v":0},{"$f":"SUM(C154:C155)","v":0},null,0,0,null,0,0,null,0,0]
[{"$f":"IF(A153<>\"\",'Table 4 (MEF)'!$A$10,\"\")","v":"•  បន្ទុកបុគ្គលិក"},{"$f":"'ចំណាយ-ថវិការដ្ឋ'!C24","v":0},null,null,{"$f":"'ចំណាយ-ថវិការដ្ឋ'!M24","v":0},null,null,{"$f":"'ចំណាយ-ថវិការដ្ឋ'!W24","v":0},null,null,{"$f":"'ចំណាយ-ថវិការដ្ឋ'!AG24","v":0}]
[{"$f":"IF(A154<>\"\",'Table 4 (MEF)'!$A$11,\"\")","v":"•  ក្រៅបន្ទុកបុគ្គលិក"},{"$f":"'ចំណាយ-ថវិការដ្ឋ'!D24","v":0},null,null,{"$f":"'ចំណាយ-ថវិការដ្ឋ'!N24","v":0},null,null,{"$f":"'ចំណាយ-ថវិការដ្ឋ'!X24","v":0},null,null,{"$f":"'ចំណាយ-ថវិការដ្ឋ'!AH24","v":0}]
[{"$f":"IF(A155<>\"\",'Table 4 (MEF)'!$A$12,\"\")","v":"□ សរុបចំណាយមូលធន"},{"$f":"SUM(B157,B160)","v":0},{"$f":"SUM(C157,C160)","v":0},null,0,0,null,0,0,null,0,0]
[{"$f":"IF(A156<>\"\",'Table 4 (MEF)'!$A$13,\"\")","v":"•  គម្រោងវិនិយោគ"},{"$f":"SUM(B158:B159)","v":0},{"$f":"SUM(C158:C159)","v":0},null,0,0,null,0,0,null,0,0]
[{"$f":"IF(A157<>\"\",'Table 4 (MEF)'!$A$14,\"\")","v":"- មានហិរញ្ញប្បទាន"},{"$f":"'ចំណាយ-ថវិការដ្ឋ'!G24","v":0},{"$f":"'ចំណាយ-ថវិកាដៃគូ'!D24","v":0},null,{"$f":"'ចំណាយ-ថវិការដ្ឋ'!Q24","v":0},{"$f":"'ចំណាយ-ថវិកាដៃគូ'!K24","v":0},null,{"$f":"'ចំណាយ-ថវិការដ្ឋ'!AA24","v":0},{"$f":"'ចំណាយ-ថវិកាដៃគូ'!R24","v":0},null,{"$f":"'ចំណាយ-ថវិការដ្ឋ'!AK24","v":0},{"$f":"'ចំណាយ-ថវិកាដៃគូ'!Y24","v":0}]
[{"$f":"IF(A158<>\"\",'Table 4 (MEF)'!$A$15,\"\")","v":"- មិនទាន់មានហិរញ្ញប្បទាន"},{"$f":"'ចំណាយ-ថវិការដ្ឋ'!H24","v":0},{"$f":"'ចំណាយ-ថវិកាដៃគូ'!E24","v":0},null,{"$f":"'ចំណាយ-ថវិការដ្ឋ'!R24","v":0},{"$f":"'ចំណាយ-ថវិកាដៃគូ'!L24","v":0},null,{"$f":"'ចំណាយ-ថវិការដ្ឋ'!AB24","v":0},{"$f":"'ចំណាយ-ថវិកាដៃគូ'!S24","v":0},null,{"$f":"'ចំណាយ-ថវិការដ្ឋ'!AL24","v":0},{"$f":"'ចំណាយ-ថវិកាដៃគូ'!Z24","v":0}]
[{"$f":"IF(A159<>\"\",'Table 4 (MEF)'!$A$16,\"\")","v":"•  ជំនួយបច្ចេកទេស"},{"$f":"SUM(B161:B162)","v":0},{"$f":"SUM(C161:C162)","v":0},null,0,0,null,0,0,null,0,0]
[{"$f":"IF(A160<>\"\",'Table 4 (MEF)'!$A$17,\"\")","v":"- មានហិរញ្ញប្បទាន"},{"$f":"'ចំណាយ-ថវិការដ្ឋ'!J24","v":0},{"$f":"'ចំណាយ-ថវិកាដៃគូ'!G24","v":0},null,{"$f":"'ចំណាយ-ថវិការដ្ឋ'!T24","v":0},{"$f":"'ចំណាយ-ថវិកាដៃគូ'!N24","v":0},null,{"$f":"'ចំណាយ-ថវិការដ្ឋ'!AD24","v":0},{"$f":"'ចំណាយ-ថវិកាដៃគូ'!U24","v":0},null,{"$f":"'ចំណាយ-ថវិការដ្ឋ'!AN24","v":0},{"$f":"'ចំណាយ-ថវិកាដៃគូ'!AB24","v":0}]
[{"$f":"IF(A161<>\"\",'Table 4 (MEF)'!$A$18,\"\")","v":"- មិនទាន់មានហិរញ្ញប្បទាន"},{"$f":"'ចំណាយ-ថវិការដ្ឋ'!K24","v":0},{"$f":"'ចំណាយ-ថវិកាដៃគូ'!H24","v":0},null,{"$f":"'ចំណាយ-ថវិការដ្ឋ'!U24","v":0},{"$f":"'ចំណាយ-ថវិកាដៃគូ'!O24","v":0},null,{"$f":"'ចំណាយ-ថវិការដ្ឋ'!AE24","v":0},{"$f":"'ចំណាយ-ថវិកាដៃគូ'!V24","v":0},null,{"$f":"'ចំណាយ-ថវិការដ្ឋ'!AO24","v":0},{"$f":"'ចំណាយ-ថវិកាដៃគូ'!AC24","v":0}]
[{"$f":"IF(ព័ត៌មានអង្គភាព!C18=\"\",\"\",ព័ត៌មានអង្គភាព!C18)","v":""},{"$f":"SUM(B164,B167)","v":0},{"$f":"SUM(C164,C167)","v":0},null,{"$f":"SUM(E164,E167)","v":0},{"$f":"SUM(F164,F167)","v":0},null,{"$f":"SUM(H164,H167)","v":0},{"$f":"SUM(I164,I167)","v":0},null,{"$f":"SUM(K164,K167)","v":0},{"$f":"SUM(L164,L167)","v":0}]
[{"$f":"IF(A163<>\"\",'Table 4 (MEF)'!$A$9,\"\")","v":""},{"$f":"SUM(B165:B166)","v":0},{"$f":"SUM(C165:C166)","v":0},null,0,0,null,0,0,null,0,0]
[{"$f":"IF(A164<>\"\",'Table 4 (MEF)'!$A$10,\"\")","v":""},{"$f":"'ចំណាយ-ថវិការដ្ឋ'!C25","v":0},null,null,{"$f":"'ចំណាយ-ថវិការដ្ឋ'!M25","v":0},null,null,{"$f":"'ចំណាយ-ថវិការដ្ឋ'!W25","v":0},null,null,{"$f":"'ចំណាយ-ថវិការដ្ឋ'!AG25","v":0}]
[{"$f":"IF(A165<>\"\",'Table 4 (MEF)'!$A$11,\"\")","v":""},{"$f":"'ចំណាយ-ថវិការដ្ឋ'!D25","v":0},null,null,{"$f":"'ចំណាយ-ថវិការដ្ឋ'!N25","v":0},null,null,{"$f":"'ចំណាយ-ថវិការដ្ឋ'!X25","v":0},null,null,{"$f":"'ចំណាយ-ថវិការដ្ឋ'!AH25","v":0}]
[{"$f":"IF(A166<>\"\",'Table 4 (MEF)'!$A$12,\"\")","v":""},{"$f":"SUM(B168,B171)","v":0},{"$f":"SUM(C168,C171)","v":0},null,0,0,null,0,0,null,0,0]
[{"$f":"IF(A167<>\"\",'Table 4 (MEF)'!$A$13,\"\")","v":""},{"$f":"SUM(B169:B170)","v":0},{"$f":"SUM(C169:C170)","v":0},null,0,0,null,0,0,null,0,0]
[{"$f":"IF(A168<>\"\",'Table 4 (MEF)'!$A$14,\"\")","v":""},{"$f":"'ចំណាយ-ថវិការដ្ឋ'!G25","v":0},{"$f":"'ចំណាយ-ថវិកាដៃគូ'!D25","v":0},null,{"$f":"'ចំណាយ-ថវិការដ្ឋ'!Q25","v":0},{"$f":"'ចំណាយ-ថវិកាដៃគូ'!K25","v":0},null,{"$f":"'ចំណាយ-ថវិការដ្ឋ'!AA25","v":0},{"$f":"'ចំណាយ-ថវិកាដៃគូ'!R25","v":0},null,{"$f":"'ចំណាយ-ថវិការដ្ឋ'!AK25","v":0},{"$f":"'ចំណាយ-ថវិកាដៃគូ'!Y25","v":0}]
[{"$f":"IF(A169<>\"\",'Table 4 (MEF)'!$A$15,\"\")","v":""},{"$f":"'ចំណាយ-ថវិការដ្ឋ'!H25","v":0},{"$f":"'ចំណាយ-ថវិកាដៃគូ'!E25","v":0},null,{"$f":"'ចំណាយ-ថវិការដ្ឋ'!R25","v":0},{"$f":"'ចំណាយ-ថវិកាដៃគូ'!L25","v":0},null,{"$f":"'ចំណាយ-ថវិការដ្ឋ'!AB25","v":0},{"$f":"'ចំណាយ-ថវិកាដៃគូ'!S25","v":0},null,{"$f":"'ចំណាយ-ថវិការដ្ឋ'!AL25","v":0},{"$f":"'ចំណាយ-ថវិកាដៃគូ'!Z25","v":0}]
[{"$f":"IF(A170<>\"\",'Table 4 (MEF)'!$A$16,\"\")","v":""},{"$f":"SUM(B172:B173)","v":0},{"$f":"SUM(C172:C173)","v":0},null,0,0,null,0,0,null,0,0]
[{"$f":"IF(A171<>\"\",'Table 4 (MEF)'!$A$17,\"\")","v":""},{"$f":"'ចំណាយ-ថវិការដ្ឋ'!J25","v":0},{"$f":"'ចំណាយ-ថវិកាដៃគូ'!G25","v":0},null,{"$f":"'ចំណាយ-ថវិការដ្ឋ'!T25","v":0},{"$f":"'ចំណាយ-ថវិកាដៃគូ'!N25","v":0},null,{"$f":"'ចំណាយ-ថវិការដ្ឋ'!AD25","v":0},{"$f":"'ចំណាយ-ថវិកាដៃគូ'!U25","v":0},null,{"$f":"'ចំណាយ-ថវិការដ្ឋ'!AN25","v":0},{"$f":"'ចំណាយ-ថវិកាដៃគូ'!AB25","v":0}]
[{"$f":"IF(A172<>\"\",'Table 4 (MEF)'!$A$18,\"\")","v":""},{"$f":"'ចំណាយ-ថវិការដ្ឋ'!K25","v":0},{"$f":"'ចំណាយ-ថវិកាដៃគូ'!H25","v":0},null,{"$f":"'ចំណាយ-ថវិការដ្ឋ'!U25","v":0},{"$f":"'ចំណាយ-ថវិកាដៃគូ'!O25","v":0},null,{"$f":"'ចំណាយ-ថវិការដ្ឋ'!AE25","v":0},{"$f":"'ចំណាយ-ថវិកាដៃគូ'!V25","v":0},null,{"$f":"'ចំណាយ-ថវិការដ្ឋ'!AO25","v":0},{"$f":"'ចំណាយ-ថវិកាដៃគូ'!AC25","v":0}]
[{"$f":"IF(ព័ត៌មានអង្គភាព!C19=\"\",\"\",ព័ត៌មានអង្គភាព!C19)","v":""},{"$f":"SUM(B175,B178)","v":0},{"$f":"SUM(C175,C178)","v":0},null,{"$f":"SUM(E175,E178)","v":0},{"$f":"SUM(F175,F178)","v":0},null,{"$f":"SUM(H175,H178)","v":0},{"$f":"SUM(I175,I178)","v":0},null,{"$f":"SUM(K175,K178)","v":0},{"$f":"SUM(L175,L178)","v":0}]
[{"$f":"IF(A174<>\"\",'Table 4 (MEF)'!$A$9,\"\")","v":""},{"$f":"SUM(B176:B177)","v":0},{"$f":"SUM(C176:C177)","v":0},null,0,0,null,0,0,null,0,0]
[{"$f":"IF(A175<>\"\",'Table 4 (MEF)'!$A$10,\"\")","v":""},{"$f":"'ចំណាយ-ថវិការដ្ឋ'!C26","v":0},null,null,{"$f":"'ចំណាយ-ថវិការដ្ឋ'!M26","v":0},null,null,{"$f":"'ចំណាយ-ថវិការដ្ឋ'!W26","v":0},null,null,{"$f":"'ចំណាយ-ថវិការដ្ឋ'!AG26","v":0}]
[{"$f":"IF(A176<>\"\",'Table 4 (MEF)'!$A$11,\"\")","v":""},{"$f":"'ចំណាយ-ថវិការដ្ឋ'!D26","v":0},null,null,{"$f":"'ចំណាយ-ថវិការដ្ឋ'!N26","v":0},null,null,{"$f":"'ចំណាយ-ថវិការដ្ឋ'!X26","v":0},null,null,{"$f":"'ចំណាយ-ថវិការដ្ឋ'!AH26","v":0}]
[{"$f":"IF(A177<>\"\",'Table 4 (MEF)'!$A$12,\"\")","v":""},{"$f":"SUM(B179,B182)","v":0},{"$f":"SUM(C179,C182)","v":0},null,0,0,null,0,0,null,0,0]
[{"$f":"IF(A178<>\"\",'Table 4 (MEF)'!$A$13,\"\")","v":""},{"$f":"SUM(B180:B181)","v":0},{"$f":"SUM(C180:C181)","v":0},null,0,0,null,0,0,null,0,0]
[{"$f":"IF(A179<>\"\",'Table 4 (MEF)'!$A$14,\"\")","v":""},{"$f":"'ចំណាយ-ថវិការដ្ឋ'!G26","v":0},{"$f":"'ចំណាយ-ថវិកាដៃគូ'!D26","v":0},null,{"$f":"'ចំណាយ-ថវិការដ្ឋ'!Q26","v":0},{"$f":"'ចំណាយ-ថវិកាដៃគូ'!K26","v":0},null,{"$f":"'ចំណាយ-ថវិការដ្ឋ'!AA26","v":0},{"$f":"'ចំណាយ-ថវិកាដៃគូ'!R26","v":0},null,{"$f":"'ចំណាយ-ថវិការដ្ឋ'!AK26","v":0},{"$f":"'ចំណាយ-ថវិកាដៃគូ'!Y26","v":0}]
[{"$f":"IF(A180<>\"\",'Table 4 (MEF)'!$A$15,\"\")","v":""},{"$f":"'ចំណាយ-ថវិការដ្ឋ'!H26","v":0},{"$f":"'ចំណាយ-ថវិកាដៃគូ'!E26","v":0},null,{"$f":"'ចំណាយ-ថវិការដ្ឋ'!R26","v":0},{"$f":"'ចំណាយ-ថវិកាដៃគូ'!L26","v":0},null,{"$f":"'ចំណាយ-ថវិការដ្ឋ'!AB26","v":0},{"$f":"'ចំណាយ-ថវិកាដៃគូ'!S26","v":0},null,{"$f":"'ចំណាយ-ថវិការដ្ឋ'!AL26","v":0},{"$f":"'ចំណាយ-ថវិកាដៃគូ'!Z26","v":0}]
[{"$f":"IF(A181<>\"\",'Table 4 (MEF)'!$A$16,\"\")","v":""},{"$f":"SUM(B183:B184)","v":0},{"$f":"SUM(C183:C184)","v":0},null,0,0,null,0,0,null,0,0]
[{"$f":"IF(A182<>\"\",'Table 4 (MEF)'!$A$17,\"\")","v":""},{"$f":"'ចំណាយ-ថវិការដ្ឋ'!J26","v":0},{"$f":"'ចំណាយ-ថវិកាដៃគូ'!G26","v":0},null,{"$f":"'ចំណាយ-ថវិការដ្ឋ'!T26","v":0},{"$f":"'ចំណាយ-ថវិកាដៃគូ'!N26","v":0},null,{"$f":"'ចំណាយ-ថវិការដ្ឋ'!AD26","v":0},{"$f":"'ចំណាយ-ថវិកាដៃគូ'!U26","v":0},null,{"$f":"'ចំណាយ-ថវិការដ្ឋ'!AN26","v":0},{"$f":"'ចំណាយ-ថវិកាដៃគូ'!AB26","v":0}]
[{"$f":"IF(A183<>\"\",'Table 4 (MEF)'!$A$18,\"\")","v":""},{"$f":"'ចំណាយ-ថវិការដ្ឋ'!K26","v":0},{"$f":"'ចំណាយ-ថវិកាដៃគូ'!H26","v":0},null,{"$f":"'ចំណាយ-ថវិការដ្ឋ'!U26","v":0},{"$f":"'ចំណាយ-ថវិកាដៃគូ'!O26","v":0},null,{"$f":"'ចំណាយ-ថវិការដ្ឋ'!AE26","v":0},{"$f":"'ចំណាយ-ថវិកាដៃគូ'!V26","v":0},null,{"$f":"'ចំណាយ-ថវិការដ្ឋ'!AO26","v":0},{"$f":"'ចំណាយ-ថវិកាដៃគូ'!AC26","v":0}]
[{"$f":"IF(ព័ត៌មានអង្គភាព!C20=\"\",\"\",ព័ត៌មានអង្គភាព!C20)","v":""},{"$f":"SUM(B186,B189)","v":0},{"$f":"SUM(C186,C189)","v":0},null,{"$f":"SUM(E186,E189)","v":0},{"$f":"SUM(F186,F189)","v":0},null,{"$f":"SUM(H186,H189)","v":0},{"$f":"SUM(I186,I189)","v":0},null,{"$f":"SUM(K186,K189)","v":0},{"$f":"SUM(L186,L189)","v":0}]
[{"$f":"IF(A185<>\"\",'Table 4 (MEF)'!$A$9,\"\")","v":""},{"$f":"SUM(B187:B188)","v":0},{"$f":"SUM(C187:C188)","v":0},null,0,0,null,0,0,null,0,0]
[{"$f":"IF(A186<>\"\",'Table 4 (MEF)'!$A$10,\"\")","v":""},{"$f":"'ចំណាយ-ថវិការដ្ឋ'!C27","v":0},null,null,{"$f":"'ចំណាយ-ថវិការដ្ឋ'!M27","v":0},null,null,{"$f":"'ចំណាយ-ថវិការដ្ឋ'!W27","v":0},null,null,{"$f":"'ចំណាយ-ថវិការដ្ឋ'!AG27","v":0}]
[{"$f":"IF(A187<>\"\",'Table 4 (MEF)'!$A$11,\"\")","v":""},{"$f":"'ចំណាយ-ថវិការដ្ឋ'!D27","v":0},null,null,{"$f":"'ចំណាយ-ថវិការដ្ឋ'!N27","v":0},null,null,{"$f":"'ចំណាយ-ថវិការដ្ឋ'!X27","v":0},null,null,{"$f":"'ចំណាយ-ថវិការដ្ឋ'!AH27","v":0}]
[{"$f":"IF(A188<>\"\",'Table 4 (MEF)'!$A$12,\"\")","v":""},{"$f":"SUM(B190,B193)","v":0},{"$f":"SUM(C190,C193)","v":0},null,0,0,null,0,0,null,0,0]
[{"$f":"IF(A189<>\"\",'Table 4 (MEF)'!$A$13,\"\")","v":""},{"$f":"SUM(B191:B192)","v":0},{"$f":"SUM(C191:C192)","v":0},null,0,0,null,0,0,null,0,0]
[{"$f":"IF(A190<>\"\",'Table 4 (MEF)'!$A$14,\"\")","v":""},{"$f":"'ចំណាយ-ថវិការដ្ឋ'!G27","v":0},{"$f":"'ចំណាយ-ថវិកាដៃគូ'!D27","v":0},null,{"$f":"'ចំណាយ-ថវិការដ្ឋ'!Q27","v":0},{"$f":"'ចំណាយ-ថវិកាដៃគូ'!K27","v":0},null,{"$f":"'ចំណាយ-ថវិការដ្ឋ'!AA27","v":0},{"$f":"'ចំណាយ-ថវិកាដៃគូ'!R27","v":0},null,{"$f":"'ចំណាយ-ថវិការដ្ឋ'!AK27","v":0},{"$f":"'ចំណាយ-ថវិកាដៃគូ'!Y27","v":0}]
[{"$f":"IF(A191<>\"\",'Table 4 (MEF)'!$A$15,\"\")","v":""},{"$f":"'ចំណាយ-ថវិការដ្ឋ'!H27","v":0},{"$f":"'ចំណាយ-ថវិកាដៃគូ'!E27","v":0},null,{"$f":"'ចំណាយ-ថវិការដ្ឋ'!R27","v":0},{"$f":"'ចំណាយ-ថវិកាដៃគូ'!L27","v":0},null,{"$f":"'ចំណាយ-ថវិការដ្ឋ'!AB27","v":0},{"$f":"'ចំណាយ-ថវិកាដៃគូ'!S27","v":0},null,{"$f":"'ចំណាយ-ថវិការដ្ឋ'!AL27","v":0},{"$f":"'ចំណាយ-ថវិកាដៃគូ'!Z27","v":0}]
[{"$f":"IF(A192<>\"\",'Table 4 (MEF)'!$A$16,\"\")","v":""},{"$f":"SUM(B194:B195)","v":0},{"$f":"SUM(C194:C195)","v":0},null,0,0,null,0,0,null,0,0]
[{"$f":"IF(A193<>\"\",'Table 4 (MEF)'!$A$17,\"\")","v":""},{"$f":"'ចំណាយ-ថវិការដ្ឋ'!J27","v":0},{"$f":"'ចំណាយ-ថវិកាដៃគូ'!G27","v":0},null,{"$f":"'ចំណាយ-ថវិការដ្ឋ'!T27","v":0},{"$f":"'ចំណាយ-ថវិកាដៃគូ'!N27","v":0},null,{"$f":"'ចំណាយ-ថវិការដ្ឋ'!AD27","v":0},{"$f":"'ចំណាយ-ថវិកាដៃគូ'!U27","v":0},null,{"$f":"'ចំណាយ-ថវិការដ្ឋ'!AN27","v":0},{"$f":"'ចំណាយ-ថវិកាដៃគូ'!AB27","v":0}]
[{"$f":"IF(A194<>\"\",'Table 4 (MEF)'!$A$18,\"\")","v":""},{"$f":"'ចំណាយ-ថវិការដ្ឋ'!K27","v":0},{"$f":"'ចំណាយ-ថវិកាដៃគូ'!H27","v":0},null,{"$f":"'ចំណាយ-ថវិការដ្ឋ'!U27","v":0},{"$f":"'ចំណាយ-ថវិកាដៃគូ'!O27","v":0},null,{"$f":"'ចំណាយ-ថវិការដ្ឋ'!AE27","v":0},{"$f":"'ចំណាយ-ថវិកាដៃគូ'!V27","v":0},null,{"$f":"'ចំណាយ-ថវិការដ្ឋ'!AO27","v":0},{"$f":"'ចំណាយ-ថវិកាដៃគូ'!AC27","v":0}]
[{"$f":"IF(ព័ត៌មានអង្គភាព!C21=\"\",\"\",ព័ត៌មានអង្គភាព!C21)","v":""},{"$f":"SUM(B197,B200)","v":0},{"$f":"SUM(C197,C200)","v":0},null,{"$f":"SUM(E197,E200)","v":0},{"$f":"SUM(F197,F200)","v":0},null,{"$f":"SUM(H197,H200)","v":0},{"$f":"SUM(I197,I200)","v":0},null,{"$f":"SUM(K197,K200)","v":0},{"$f":"SUM(L197,L200)","v":0}]
[{"$f":"IF(A196<>\"\",'Table 4 (MEF)'!$A$9,\"\")","v":""},{"$f":"SUM(B198:B199)","v":0},{"$f":"SUM(C198:C199)","v":0},null,0,0,null,0,0,null,0,0]
[{"$f":"IF(A197<>\"\",'Table 4 (MEF)'!$A$10,\"\")","v":""},{"$f":"'ចំណាយ-ថវិការដ្ឋ'!C28","v":0},null,null,{"$f":"'ចំណាយ-ថវិការដ្ឋ'!M28","v":0},null,null,{"$f":"'ចំណាយ-ថវិការដ្ឋ'!W28","v":0},null,null,{"$f":"'ចំណាយ-ថវិការដ្ឋ'!AG28","v":0}]
[{"$f":"IF(A198<>\"\",'Table 4 (MEF)'!$A$11,\"\")","v":""},{"$f":"'ចំណាយ-ថវិការដ្ឋ'!D28","v":0},null,null,{"$f":"'ចំណាយ-ថវិការដ្ឋ'!N28","v":0},null,null,{"$f":"'ចំណាយ-ថវិការដ្ឋ'!X28","v":0},null,null,{"$f":"'ចំណាយ-ថវិការដ្ឋ'!AH28","v":0}]
[{"$f":"IF(A199<>\"\",'Table 4 (MEF)'!$A$12,\"\")","v":""},{"$f":"SUM(B201,B204)","v":0},{"$f":"SUM(C201,C204)","v":0},null,0,0,null,0,0,null,0,0]
[{"$f":"IF(A200<>\"\",'Table 4 (MEF)'!$A$13,\"\")","v":""},{"$f":"SUM(B202:B203)","v":0},{"$f":"SUM(C202:C203)","v":0},null,0,0,null,0,0,null,0,0]
[{"$f":"IF(A201<>\"\",'Table 4 (MEF)'!$A$14,\"\")","v":""},{"$f":"'ចំណាយ-ថវិការដ្ឋ'!G28","v":0},{"$f":"'ចំណាយ-ថវិកាដៃគូ'!D28","v":0},null,{"$f":"'ចំណាយ-ថវិការដ្ឋ'!Q28","v":0},{"$f":"'ចំណាយ-ថវិកាដៃគូ'!K28","v":0},null,{"$f":"'ចំណាយ-ថវិការដ្ឋ'!AA28","v":0},{"$f":"'ចំណាយ-ថវិកាដៃគូ'!R28","v":0},null,{"$f":"'ចំណាយ-ថវិការដ្ឋ'!AK28","v":0},{"$f":"'ចំណាយ-ថវិកាដៃគូ'!Y28","v":0}]
[{"$f":"IF(A202<>\"\",'Table 4 (MEF)'!$A$15,\"\")","v":""},{"$f":"'ចំណាយ-ថវិការដ្ឋ'!H28","v":0},{"$f":"'ចំណាយ-ថវិកាដៃគូ'!E28","v":0},null,{"$f":"'ចំណាយ-ថវិការដ្ឋ'!R28","v":0},{"$f":"'ចំណាយ-ថវិកាដៃគូ'!L28","v":0},null,{"$f":"'ចំណាយ-ថវិការដ្ឋ'!AB28","v":0},{"$f":"'ចំណាយ-ថវិកាដៃគូ'!S28","v":0},null,{"$f":"'ចំណាយ-ថវិការដ្ឋ'!AL28","v":0},{"$f":"'ចំណាយ-ថវិកាដៃគូ'!Z28","v":0}]
[{"$f":"IF(A203<>\"\",'Table 4 (MEF)'!$A$16,\"\")","v":""},{"$f":"SUM(B205:B206)","v":0},{"$f":"SUM(C205:C206)","v":0},null,0,0,null,0,0,null,0,0]
[{"$f":"IF(A204<>\"\",'Table 4 (MEF)'!$A$17,\"\")","v":""},{"$f":"'ចំណាយ-ថវិការដ្ឋ'!J28","v":0},{"$f":"'ចំណាយ-ថវិកាដៃគូ'!G28","v":0},null,{"$f":"'ចំណាយ-ថវិការដ្ឋ'!T28","v":0},{"$f":"'ចំណាយ-ថវិកាដៃគូ'!N28","v":0},null,{"$f":"'ចំណាយ-ថវិការដ្ឋ'!AD28","v":0},{"$f":"'ចំណាយ-ថវិកាដៃគូ'!U28","v":0},null,{"$f":"'ចំណាយ-ថវិការដ្ឋ'!AN28","v":0},{"$f":"'ចំណាយ-ថវិកាដៃគូ'!AB28","v":0}]
[{"$f":"IF(A205<>\"\",'Table 4 (MEF)'!$A$18,\"\")","v":""},{"$f":"'ចំណាយ-ថវិការដ្ឋ'!K28","v":0},{"$f":"'ចំណាយ-ថវិកាដៃគូ'!H28","v":0},null,{"$f":"'ចំណាយ-ថវិការដ្ឋ'!U28","v":0},{"$f":"'ចំណាយ-ថវិកាដៃគូ'!O28","v":0},null,{"$f":"'ចំណាយ-ថវិការដ្ឋ'!AE28","v":0},{"$f":"'ចំណាយ-ថវិកាដៃគូ'!V28","v":0},null,{"$f":"'ចំណាយ-ថវិការដ្ឋ'!AO28","v":0},{"$f":"'ចំណាយ-ថវិកាដៃគូ'!AC28","v":0}]
[]
[1,2,3,4,5,6,7,8,9,10,11,12,13]

{"sheet":"Table 4.3","index":7,"n_rows":29,"n_cols":69,"rows_kept":29,"cut":false,"hidden":false,"merged":[[8,55,9,55],[8,56,8,58],[8,59,8,61],[8,62,9,62],[8,63,8,65],[8,66,8,68],[8,45,9,45],[8,46,8,48],[8,49,8,51],[8,52,9,52],[8,53,9,53],[8,54,9,54],[8,35,9,35],[8,36,9,36],[8,37,9,37],[8,38,9,38],[8,39,8,41],[8,42,8,44],[8,21,9,21],[8,22,8,24],[8,25,8,27],[8,28,9,28],[8,29,8,31],[8,32,8,34],[8,11,9,11],[8,12,8,14],[8,15,8,17],[8,18,9,18],[8,19,9,19],[8,20,9,20],[8,1,9,1],[8,2,9,2],[8,3,9,3],[8,4,9,4],[8,5,8,7],[8,8,8,10],[7,35,7,37],[7,38,7,44],[7,45,7,51],[7,52,7,54],[7,55,7,61],[7,62,7,68],[6,35,6,44],[6,45,6,51],[6,52,6,61],[6,62,6,68],[7,1,7,3],[7,4,7,10],[7,11,7,17],[7,18,7,20],[7,21,7,27],[7,28,7,34],[3,0,3,10],[5,0,9,0],[5,1,5,17],[5,18,5,34],[5,35,5,51],[5,52,5,68],[6,1,6,10],[6,11,6,17],[6,18,6,27],[6,28,6,34]]}
[]
["ក្រសួងអប់រំ​​​​​​​​​​​ យុវជន និងកីឡា"]
[{"$f":"ព័ត៌មានអង្គភាព!C4","v":"អគ្គនាយកដ្ឋានកីឡា"}]
["ការកំណត់តម្រូវការចំណាយសម្រាប់កម្មវិធី និងអនុកម្មវិធី (ថវិការដ្ឋ)"]
[null,null,null,null,null,null,null,null,null,null,"ឯកតា៖ លានរៀល"]
["តម្រូវការឥណទាន\nតាមប្រភេទចំណាយ","ច្បាប់ហិរញ្ញវត្ថុ ឆ្នាំ ២០១៨",null,null,null,null,null,null,null,null,null,null,null,null,null,null,null,null,"គ្រោងតម្រូវការឥណទាន សម្រាប់ឆ្នាំ ២០១៩",null,null,null,null,null,null,null,null,null,null,null,null,null,null,null,null,"គ្រោងតម្រូវការឥណទាន សម្រាប់ឆ្នាំ ២០២០",null,null,null,null,null,null,null,null,null,null,null,null,null,null,null,null,"គ្រោងតម្រូវការឥណទាន សម្រាប់ឆ្នាំ ២០២១"]
[null,"ថវិការដ្ឋ",null,null,null,null,null,null,null,null,null,"ថវិកាដៃគូ",null,null,null,null,null,null,"ថវិការដ្ឋ",null,null,null,null,null,null,null,null,null,"ថវិកាដៃគូ",null,null,null,null,null,null,"ថវិការដ្ឋ",null,null,null,null,null,null,null,null,null,"ថវិកាដៃគូ",null,null,null,null,null,null,"ថវិការដ្ឋ",null,null,null,null,null,null,null,null,null,"ថវិកាដៃគូ"]
[null,"ចំណាយចរន្ដ",null,null,"ចំណាយមូលធន",null,null,null,null,null,null,"ចំណាយមូលធន",null,null,null,null,null,null,"ចំណាយចរន្ដ",null,null,"ចំណាយមូលធន",null,null,null,null,null,null,"ចំណាយមូលធន",null,null,null,null,null,null,"ចំណាយចរន្ដ",null,null,"ចំណាយមូលធន",null,null,null,null,null,null,"ចំណាយមូលធន",null,null,null,null,null,null,"ចំណាយចរន្ដ",null,null,"ចំណាយមូលធន",null,null,null,null,null,null,"ចំណាយមូលធន"]
[null,"សរុប","បន្ទុកបុគ្គលិក","ក្រៅបន្ទុកបុគ្គលិក","សរុបគម្រោងវិនិយោគ","គម្រោងវិនិយោគ",null,null,"ជំនួយបច្ចេកទេស",null,null,"សរុបគម្រោងវិនិយោគ","គម្រោងវិនិយោគ",null,null,"ជំនួយបច្ចេកទេស",null,null,"សរុប","បន្ទុកបុគ្គលិក","ក្រៅបន្ទុកបុគ្គលិក","សរុបគម្រោងវិនិយោគ","គម្រោងវិនិយោគ",null,null,"ជំនួយបច្ចេកទេស",null,null,"សរុបគម្រោងវិនិយោគ","គម្រោងវិនិយោគ",null,null,"ជំនួយបច្ចេកទេស",null,null,"សរុប","បន្ទុកបុគ្គលិក","ក្រៅបន្ទុកបុគ្គលិក","សរុបគម្រោងវិនិយោគ","គម្រោងវិនិយោគ",null,null,"ជំនួយបច្ចេកទេស",null,null,"សរុបគម្រោងវិនិយោគ","គម្រោងវិនិយោគ",null,null,"ជំនួយបច្ចេកទេស",null,null,"សរុប","បន្ទុកបុគ្គលិក","ក្រៅបន្ទុកបុគ្គលិក","សរុបគម្រោងវិនិយោគ","គម្រោងវិនិយោគ",null,null,"ជំនួយបច្ចេកទេស",null,null,"សរុបគម្រោងវិនិយោគ","គម្រោងវិនិយោគ",null,null,"ជំនួយបច្ចេកទេស"]
[null,null,null,null,null,"សរុប","មានហិរញ្ញប្បទាន","មិនទាន់មានហិរញ្ញប្បទាន","សរុប","មានហិរញ្ញប្ប​ទាន","មិនទាន់មានហិរញ្ញប្បទាន",null,"សរុប","មានហិរញ្ញប្បទាន","មិនទាន់មានហិរញ្ញប្បទាន","សរុប","មានហិរញ្ញប្ប​ទាន","មិនទាន់មានហិរញ្ញប្បទាន",null,null,null,null,"សរុប","មានហិរញ្ញប្បទាន","មិនទាន់មានហិរញ្ញប្បទាន","សរុប","មានហិរញ្ញប្ប​ទាន","មិនទាន់មានហិរញ្ញប្បទាន",null,"សរុប","មានហិរញ្ញប្បទាន","មិនទាន់មានហិរញ្ញប្បទាន","សរុប","មានហិរញ្ញប្ប​ទាន","មិនទាន់មានហិរញ្ញប្បទាន",null,null,null,null,"សរុប","មានហិរញ្ញប្បទាន","មិនទាន់មានហិរញ្ញប្បទាន","សរុប","មានហិរញ្ញប្ប​ទាន","មិនទាន់មានហិរញ្ញប្បទាន",null,"សរុប","មានហិរញ្ញប្បទាន","មិនទាន់មានហិរញ្ញប្បទាន","សរុប","មានហិរញ្ញប្ប​ទាន","មិនទាន់មានហិរញ្ញប្បទាន",null,null,null,null,"សរុប","មានហិរញ្ញប្បទាន","មិនទាន់មានហិរញ្ញប្បទាន","សរុប","មានហិរញ្ញប្ប​ទាន","មិនទាន់មានហិរញ្ញប្បទាន",null,"សរុប","មានហិរញ្ញប្បទាន","មិនទាន់មានហិរញ្ញប្បទាន","សរុប","មានហិរញ្ញប្ប​ទាន","មិនទាន់មានហិរញ្ញប្បទាន"]
[{"$f":"ព័ត៌មានអង្គភាព!C2","v":"កម្មវិធីទី៣៖ ការអភិវឌ្ឍវិស័យអប់រំកាយ និងកីឡា"},{"$f":"B12","v":0},{"$f":"C12","v":0},0,0,0,0,0,0,0,0,0,0,0,0,0,0,0,{"$f":"S12","v":0},0,0,0,0,0,0,0,0,0,0,0,0,0,0,0,0,{"$f":"AJ12","v":0},0,0,0,0,0,0,0,0,0,0,0,0,0,0,0,0,{"$f":"BA12","v":0},0,0,0,0,0,0,0,0,0,0,0,0,0,{"$f":"BO12","v":0},0,0]
[{"$f":"CONCATENATE(\"អនុកម្មវិធីទី \",ព័ត៌មានអង្គភាព!C3)","v":"អនុកម្មវិធីទី ៣.១៖ ការអភិវឌ្ឍអប់រំកាយ និងកីឡាសិស្ស និស្សិត មហាជន និងកីឡាកម្រិតខ្ពស់"},{"$f":"SUM(B13,B24)","v":0},{"$f":"SUM(C13,C24)","v":0},0,0,0,0,0,0,0,0,0,0,0,0,0,0,0,{"$f":"SUM(S13,S24)","v":0},{"$f":"SUM(T13,T24)","v":0},0,0,0,0,0,0,0,0,0,0,0,0,0,0,0,{"$f":"SUM(AJ13,AJ24)","v":0},{"$f":"SUM(AK13,AK24)","v":0},0,0,0,0,0,0,0,0,0,0,0,0,0,0,0,{"$f":"SUM(BA13,BA24)","v":0},{"$f":"SUM(BB13,BB24)","v":0},0,0,0,0,0,0,0,0,0,0,0,0,0,0,0]
[{"$f":"ព័ត៌មានអង្គភាព!C5","v":"ច.ស.ក ទី ១. ការចូលរៀនមានគុណភាពប្រកប​ដោយ​សមធម៌ និងបរិយាប័ន្ន និងលើកកម្ពស់ឱកាសក្នុងការសិក្សា​ពេញមួយជីវិតសម្រាប់ទាំងអស់គ្នា"},{"$f":"SUM(B14:B23)","v":0},{"$f":"SUM(C14:C23)","v":0},0,0,0,0,0,0,0,0,0,0,0,0,0,0,0,0,0,0,0,0,0,0,0,0,0,0,0,0,0,0,0,0,0,0,0,0,0,0,0,0,0,0,0,0,0,0,0,0,0,0,0,0,0,0,0,0,0,0,0,0,0,0,0,{"$f":"SUM(BO14:BO23)","v":0},0,0]
[{"$f":"ព័ត៌មានអង្គភាព!C6","v":"១. កិច្ចដំណើរការអង្គភាព"},{"$f":"SUM(C14:D14)","v":0},{"$f":"ROUND('ចំណាយ-ថវិការដ្ឋ'!C13,1)","v":0},{"$f":"ROUND('ចំណាយ-ថវិការដ្ឋ'!D13,1)","v":0},{"$f":"SUM(F14,I14)","v":0},{"$f":"SUM(G14:H14)","v":0},{"$f":"ROUND('ចំណាយ-ថវិការដ្ឋ'!G13,1)","v":0},{"$f":"ROUND('ចំណាយ-ថវិការដ្ឋ'!H13,1)","v":0},{"$f":"SUM(J14:K14)","v":0},{"$f":"ROUND('ចំណាយ-ថវិការដ្ឋ'!J13,1)","v":0},{"$f":"ROUND('ចំណាយ-ថវិការដ្ឋ'!K13,1)","v":0},{"$f":"SUM(M14,P14)","v":0},{"$f":"SUM(N14:O14)","v":0},{"$f":"ROUND('ចំណាយ-ថវិកាដៃគូ'!D13,1)","v":0},{"$f":"ROUND('ចំណាយ-ថវិកាដៃគូ'!E13,1)","v":0},{"$f":"SUM(Q14:R14)","v":0},{"$f":"ROUND('ចំណាយ-ថវិកាដៃគូ'!G13,1)","v":0},{"$f":"ROUND('ចំណាយ-ថវិកាដៃគូ'!H13,1)","v":0},{"$f":"SUM(T14:U14)","v":0},{"$f":"ROUND('ចំណាយ-ថវិការដ្ឋ'!M13,1)","v":0},{"$f":"ROUND('ចំណាយ-ថវិការដ្ឋ'!N13,1)","v":0},{"$f":"SUM(W14,Z14)","v":0},{"$f":"SUM(X14:Y14)","v":0},{"$f":"ROUND('ចំណាយ-ថវិការដ្ឋ'!Q13,1)","v":0},{"$f":"ROUND('ចំណាយ-ថវិការដ្ឋ'!R13,1)","v":0},{"$f":"SUM(AA14:AB14)","v":0},{"$f":"ROUND('ចំណាយ-ថវិការដ្ឋ'!T13,1)","v":0},{"$f":"ROUND('ចំណាយ-ថវិការដ្ឋ'!U13,1)","v":0},{"$f":"SUM(AD14,AG14)","v":0},{"$f":"SUM(AE14:AF14)","v":0},{"$f":"ROUND('ចំណាយ-ថវិកាដៃគូ'!K13,1)","v":0},{"$f":"ROUND('ចំណាយ-ថវិកាដៃគូ'!L13,1)","v":0},{"$f":"SUM(AH14:AI14)","v":0},{"$f":"ROUND('ចំណាយ-ថវិកាដៃគូ'!N13,1)","v":0},{"$f":"ROUND('ចំណាយ-ថវិកាដៃគូ'!O13,1)","v":0},{"$f":"SUM(AK14:AL14)","v":0},{"$f":"ROUND('ចំណាយ-ថវិការដ្ឋ'!W13,1)","v":0},{"$f":"ROUND('ចំណាយ-ថវិការដ្ឋ'!X13,1)","v":0},{"$f":"SUM(AN14,AQ14)","v":0},{"$f":"SUM(AO14:AP14)","v":0},{"$f":"ROUND('ចំណាយ-ថវិការដ្ឋ'!AA13,1)","v":0},{"$f":"ROUND('ចំណាយ-ថវិការដ្ឋ'!AB13,1)","v":0},{"$f":"SUM(AR14:AS14)","v":0},{"$f":"ROUND('ចំណាយ-ថវិការដ្ឋ'!AD13,1)","v":0},{"$f":"ROUND('ចំណាយ-ថវិការដ្ឋ'!AE13,1)","v":0},{"$f":"SUM(AU14,AX14)","v":0},{"$f":"SUM(AV14:AW14)","v":0},{"$f":"ROUND('ចំណាយ-ថវិកាដៃគូ'!R13,1)","v":0},{"$f":"ROUND('ចំណាយ-ថវិកាដៃគូ'!S13,1)","v":0},{"$f":"SUM(AY14:AZ14)","v":0},{"$f":"ROUND('ចំណាយ-ថវិកាដៃគូ'!U13,1)","v":0},{"$f":"ROUND('ចំណាយ-ថវិកាដៃគូ'!V13,1)","v":0},{"$f":"SUM(BB14:BC14)","v":0},{"$f":"ROUND('ចំណាយ-ថវិការដ្ឋ'!AG13,1)","v":0},{"$f":"ROUND('ចំណាយ-ថវិការដ្ឋ'!AH13,1)","v":0},{"$f":"SUM(BE14,BH14)","v":0},{"$f":"SUM(BF14:BG14)","v":0},{"$f":"ROUND('ចំណាយ-ថវិការដ្ឋ'!AK13,1)","v":0},{"$f":"ROUND('ចំណាយ-ថវិការដ្ឋ'!AL13,1)","v":0},{"$f":"SUM(BI14:BJ14)","v":0},{"$f":"ROUND('ចំណាយ-ថវិការដ្ឋ'!AN13,1)","v":0},{"$f":"ROUND('ចំណាយ-ថវិការដ្ឋ'!AO13,1)","v":0},{"$f":"SUM(BL14,BO14)","v":0},{"$f":"SUM(BM14:BN14)","v":0},{"$f":"ROUND('ចំណាយ-ថវិកាដៃគូ'!Y13,1)","v":0},{"$f":"ROUND('ចំណាយ-ថវិកាដៃគូ'!Z13,1)","v":0},{"$f":"SUM(BP14:BQ14)","v":0},{"$f":"ROUND('ចំណាយ-ថវិកាដៃគូ'!AB13,1)","v":0},{"$f":"ROUND('ចំណាយ-ថវិកាដៃគូ'!AC13,1)","v":0}]
[{"$f":"ព័ត៌មានអង្គភាព!C7","v":"២. ថវិកាលទ្ធកម្ម"},{"$f":"SUM(C15:D15)","v":0},{"$f":"ROUND('ចំណាយ-ថវិការដ្ឋ'!C14,1)","v":0},{"$f":"ROUND('ចំណាយ-ថវិការដ្ឋ'!D14,1)","v":0},{"$f":"SUM(F15,I15)","v":0},{"$f":"SUM(G15:H15)","v":0},{"$f":"ROUND('ចំណាយ-ថវិការដ្ឋ'!G14,1)","v":0},{"$f":"ROUND('ចំណាយ-ថវិការដ្ឋ'!H14,1)","v":0},{"$f":"SUM(J15:K15)","v":0},{"$f":"ROUND('ចំណាយ-ថវិការដ្ឋ'!J14,1)","v":0},{"$f":"ROUND('ចំណាយ-ថវិការដ្ឋ'!K14,1)","v":0},{"$f":"SUM(M15,P15)","v":0},{"$f":"SUM(N15:O15)","v":0},{"$f":"ROUND('ចំណាយ-ថវិកាដៃគូ'!D14,1)","v":0},{"$f":"ROUND('ចំណាយ-ថវិកាដៃគូ'!E14,1)","v":0},{"$f":"SUM(Q15:R15)","v":0},{"$f":"ROUND('ចំណាយ-ថវិកាដៃគូ'!G14,1)","v":0},{"$f":"ROUND('ចំណាយ-ថវិកាដៃគូ'!H14,1)","v":0},{"$f":"SUM(T15:U15)","v":0},{"$f":"ROUND('ចំណាយ-ថវិការដ្ឋ'!M14,1)","v":0},{"$f":"ROUND('ចំណាយ-ថវិការដ្ឋ'!N14,1)","v":0},{"$f":"SUM(W15,Z15)","v":0},{"$f":"SUM(X15:Y15)","v":0},{"$f":"ROUND('ចំណាយ-ថវិការដ្ឋ'!Q14,1)","v":0},{"$f":"ROUND('ចំណាយ-ថវិការដ្ឋ'!R14,1)","v":0},{"$f":"SUM(AA15:AB15)","v":0},{"$f":"ROUND('ចំណាយ-ថវិការដ្ឋ'!T14,1)","v":0},{"$f":"ROUND('ចំណាយ-ថវិការដ្ឋ'!U14,1)","v":0},{"$f":"SUM(AD15,AG15)","v":0},{"$f":"SUM(AE15:AF15)","v":0},{"$f":"ROUND('ចំណាយ-ថវិកាដៃគូ'!K14,1)","v":0},{"$f":"ROUND('ចំណាយ-ថវិកាដៃគូ'!L14,1)","v":0},{"$f":"SUM(AH15:AI15)","v":0},{"$f":"ROUND('ចំណាយ-ថវិកាដៃគូ'!N14,1)","v":0},{"$f":"ROUND('ចំណាយ-ថវិកាដៃគូ'!O14,1)","v":0},{"$f":"SUM(AK15:AL15)","v":0},{"$f":"ROUND('ចំណាយ-ថវិការដ្ឋ'!W14,1)","v":0},{"$f":"ROUND('ចំណាយ-ថវិការដ្ឋ'!X14,1)","v":0},{"$f":"SUM(AN15,AQ15)","v":0},{"$f":"SUM(AO15:AP15)","v":0},{"$f":"ROUND('ចំណាយ-ថវិការដ្ឋ'!AA14,1)","v":0},{"$f":"ROUND('ចំណាយ-ថវិការដ្ឋ'!AB14,1)","v":0},{"$f":"SUM(AR15:AS15)","v":0},{"$f":"ROUND('ចំណាយ-ថវិការដ្ឋ'!AD14,1)","v":0},{"$f":"ROUND('ចំណាយ-ថវិការដ្ឋ'!AE14,1)","v":0},{"$f":"SUM(AU15,AX15)","v":0},{"$f":"SUM(AV15:AW15)","v":0},{"$f":"ROUND('ចំណាយ-ថវិកាដៃគូ'!R14,1)","v":0},{"$f":"ROUND('ចំណាយ-ថវិកាដៃគូ'!S14,1)","v":0},{"$f":"SUM(AY15:AZ15)","v":0},{"$f":"ROUND('ចំណាយ-ថវិកាដៃគូ'!U14,1)","v":0},{"$f":"ROUND('ចំណាយ-ថវិកាដៃគូ'!V14,1)","v":0},{"$f":"SUM(BB15:BC15)","v":0},{"$f":"ROUND('ចំណាយ-ថវិការដ្ឋ'!AG14,1)","v":0},{"$f":"ROUND('ចំណាយ-ថវិការដ្ឋ'!AH14,1)","v":0},{"$f":"SUM(BE15,BH15)","v":0},{"$f":"SUM(BF15:BG15)","v":0},{"$f":"ROUND('ចំណាយ-ថវិការដ្ឋ'!AK14,1)","v":0},{"$f":"ROUND('ចំណាយ-ថវិការដ្ឋ'!AL14,1)","v":0},{"$f":"SUM(BI15:BJ15)","v":0},{"$f":"ROUND('ចំណាយ-ថវិការដ្ឋ'!AN14,1)","v":0},{"$f":"ROUND('ចំណាយ-ថវិការដ្ឋ'!AO14,1)","v":0},{"$f":"SUM(BL15,BO15)","v":0},{"$f":"SUM(BM15:BN15)","v":0},{"$f":"ROUND('ចំណាយ-ថវិកាដៃគូ'!Y14,1)","v":0},{"$f":"ROUND('ចំណាយ-ថវិកាដៃគូ'!Z14,1)","v":0},{"$f":"SUM(BP15:BQ15)","v":0},{"$f":"ROUND('ចំណាយ-ថវិកាដៃគូ'!AB14,1)","v":0},{"$f":"ROUND('ចំណាយ-ថវិកាដៃគូ'!AC14,1)","v":0}]
[{"$f":"ព័ត៌មានអង្គភាព!C8","v":"៣. ពិនិត្យតាមដាន និងវាយតម្លៃ"},0,{"$f":"ROUND('ចំណាយ-ថវិការដ្ឋ'!C15,1)","v":0},{"$f":"ROUND('ចំណាយ-ថវិការដ្ឋ'!D15,1)","v":0},0,0,{"$f":"ROUND('ចំណាយ-ថវិការដ្ឋ'!G15,1)","v":0},{"$f":"ROUND('ចំណាយ-ថវិការដ្ឋ'!H15,1)","v":0},0,{"$f":"ROUND('ចំណាយ-ថវិការដ្ឋ'!J15,1)","v":0},{"$f":"ROUND('ចំណាយ-ថវិការដ្ឋ'!K15,1)","v":0},0,0,{"$f":"ROUND('ចំណាយ-ថវិកាដៃគូ'!D15,1)","v":0},{"$f":"ROUND('ចំណាយ-ថវិកាដៃគូ'!E15,1)","v":0},0,{"$f":"ROUND('ចំណាយ-ថវិកាដៃគូ'!G15,1)","v":0},{"$f":"ROUND('ចំណាយ-ថវិកាដៃគូ'!H15,1)","v":0},0,{"$f":"ROUND('ចំណាយ-ថវិការដ្ឋ'!M15,1)","v":0},{"$f":"ROUND('ចំណាយ-ថវិការដ្ឋ'!N15,1)","v":0},0,0,{"$f":"ROUND('ចំណាយ-ថវិការដ្ឋ'!Q15,1)","v":0},{"$f":"ROUND('ចំណាយ-ថវិការដ្ឋ'!R15,1)","v":0},0,{"$f":"ROUND('ចំណាយ-ថវិការដ្ឋ'!T15,1)","v":0},{"$f":"ROUND('ចំណាយ-ថវិការដ្ឋ'!U15,1)","v":0},0,0,{"$f":"ROUND('ចំណាយ-ថវិកាដៃគូ'!K15,1)","v":0},{"$f":"ROUND('ចំណាយ-ថវិកាដៃគូ'!L15,1)","v":0},0,{"$f":"ROUND('ចំណាយ-ថវិកាដៃគូ'!N15,1)","v":0},{"$f":"ROUND('ចំណាយ-ថវិកាដៃគូ'!O15,1)","v":0},0,{"$f":"ROUND('ចំណាយ-ថវិការដ្ឋ'!W15,1)","v":0},{"$f":"ROUND('ចំណាយ-ថវិការដ្ឋ'!X15,1)","v":0},0,0,{"$f":"ROUND('ចំណាយ-ថវិការដ្ឋ'!AA15,1)","v":0},{"$f":"ROUND('ចំណាយ-ថវិការដ្ឋ'!AB15,1)","v":0},0,{"$f":"ROUND('ចំណាយ-ថវិការដ្ឋ'!AD15,1)","v":0},{"$f":"ROUND('ចំណាយ-ថវិការដ្ឋ'!AE15,1)","v":0},0,0,{"$f":"ROUND('ចំណាយ-ថវិកាដៃគូ'!R15,1)","v":0},{"$f":"ROUND('ចំណាយ-ថវិកាដៃគូ'!S15,1)","v":0},0,{"$f":"ROUND('ចំណាយ-ថវិកាដៃគូ'!U15,1)","v":0},{"$f":"ROUND('ចំណាយ-ថវិកាដៃគូ'!V15,1)","v":0},0,{"$f":"ROUND('ចំណាយ-ថវិការដ្ឋ'!AG15,1)","v":0},{"$f":"ROUND('ចំណាយ-ថវិការដ្ឋ'!AH15,1)","v":0},0,0,{"$f":"ROUND('ចំណាយ-ថវិការដ្ឋ'!AK15,1)","v":0},{"$f":"ROUND('ចំណាយ-ថវិការដ្ឋ'!AL15,1)","v":0},0,{"$f":"ROUND('ចំណាយ-ថវិការដ្ឋ'!AN15,1)","v":0},{"$f":"ROUND('ចំណាយ-ថវិការដ្ឋ'!AO15,1)","v":0},0,0,{"$f":"ROUND('ចំណាយ-ថវិកាដៃគូ'!Y15,1)","v":0},{"$f":"ROUND('ចំណាយ-ថវិកាដៃគូ'!Z15,1)","v":0},0,{"$f":"ROUND('ចំណាយ-ថវិកាដៃគូ'!AB15,1)","v":0},{"$f":"ROUND('ចំណាយ-ថវិកាដៃគូ'!AC15,1)","v":0}]
[{"$f":"ព័ត៌មានអង្គភាព!C9","v":"៤. អភិវឌ្ឍកម្មវិធីអប់រំកាយក្នុងម៉ោងសិក្សា កីឡាក្រៅម៉ោងសិក្សា និងសមាគមកីឡា"},0,{"$f":"ROUND('ចំណាយ-ថវិការដ្ឋ'!C16,1)","v":0},{"$f":"ROUND('ចំណាយ-ថវិការដ្ឋ'!D16,1)","v":0},0,0,{"$f":"ROUND('ចំណាយ-ថវិការដ្ឋ'!G16,1)","v":0},{"$f":"ROUND('ចំណាយ-ថវិការដ្ឋ'!H16,1)","v":0},0,{"$f":"ROUND('ចំណាយ-ថវិការដ្ឋ'!J16,1)","v":0},{"$f":"ROUND('ចំណាយ-ថវិការដ្ឋ'!K16,1)","v":0},0,0,{"$f":"ROUND('ចំណាយ-ថវិកាដៃគូ'!D16,1)","v":0},{"$f":"ROUND('ចំណាយ-ថវិកាដៃគូ'!E16,1)","v":0},0,{"$f":"ROUND('ចំណាយ-ថវិកាដៃគូ'!G16,1)","v":0},{"$f":"ROUND('ចំណាយ-ថវិកាដៃគូ'!H16,1)","v":0},0,{"$f":"ROUND('ចំណាយ-ថវិការដ្ឋ'!M16,1)","v":0},{"$f":"ROUND('ចំណាយ-ថវិការដ្ឋ'!N16,1)","v":0},0,0,{"$f":"ROUND('ចំណាយ-ថវិការដ្ឋ'!Q16,1)","v":0},{"$f":"ROUND('ចំណាយ-ថវិការដ្ឋ'!R16,1)","v":0},0,{"$f":"ROUND('ចំណាយ-ថវិការដ្ឋ'!T16,1)","v":0},{"$f":"ROUND('ចំណាយ-ថវិការដ្ឋ'!U16,1)","v":0},0,0,{"$f":"ROUND('ចំណាយ-ថវិកាដៃគូ'!K16,1)","v":0},{"$f":"ROUND('ចំណាយ-ថវិកាដៃគូ'!L16,1)","v":0},0,{"$f":"ROUND('ចំណាយ-ថវិកាដៃគូ'!N16,1)","v":0},{"$f":"ROUND('ចំណាយ-ថវិកាដៃគូ'!O16,1)","v":0},0,{"$f":"ROUND('ចំណាយ-ថវិការដ្ឋ'!W16,1)","v":0},{"$f":"ROUND('ចំណាយ-ថវិការដ្ឋ'!X16,1)","v":0},0,0,{"$f":"ROUND('ចំណាយ-ថវិការដ្ឋ'!AA16,1)","v":0},{"$f":"ROUND('ចំណាយ-ថវិការដ្ឋ'!AB16,1)","v":0},0,{"$f":"ROUND('ចំណាយ-ថវិការដ្ឋ'!AD16,1)","v":0},{"$f":"ROUND('ចំណាយ-ថវិការដ្ឋ'!AE16,1)","v":0},0,0,{"$f":"ROUND('ចំណាយ-ថវិកាដៃគូ'!R16,1)","v":0},{"$f":"ROUND('ចំណាយ-ថវិកាដៃគូ'!S16,1)","v":0},0,{"$f":"ROUND('ចំណាយ-ថវិកាដៃគូ'!U16,1)","v":0},{"$f":"ROUND('ចំណាយ-ថវិកាដៃគូ'!V16,1)","v":0},0,{"$f":"ROUND('ចំណាយ-ថវិការដ្ឋ'!AG16,1)","v":0},{"$f":"ROUND('ចំណាយ-ថវិការដ្ឋ'!AH16,1)","v":0},0,0,{"$f":"ROUND('ចំណាយ-ថវិការដ្ឋ'!AK16,1)","v":0},{"$f":"ROUND('ចំណាយ-ថវិការដ្ឋ'!AL16,1)","v":0},0,{"$f":"ROUND('ចំណាយ-ថវិការដ្ឋ'!AN16,1)","v":0},{"$f":"ROUND('ចំណាយ-ថវិការដ្ឋ'!AO16,1)","v":0},0,0,{"$f":"ROUND('ចំណាយ-ថវិកាដៃគូ'!Y16,1)","v":0},{"$f":"ROUND('ចំណាយ-ថវិកាដៃគូ'!Z16,1)","v":0},0,{"$f":"ROUND('ចំណាយ-ថវិកាដៃគូ'!AB16,1)","v":0},{"$f":"ROUND('ចំណាយ-ថវិកាដៃគូ'!AC16,1)","v":0}]
[{"$f":"ព័ត៌មានអង្គភាព!C10","v":"៥. ប្រកួតកីឡាសិស្ស និស្សិតថ្នាក់រាជធានី-ខេត្ត"},0,{"$f":"ROUND('ចំណាយ-ថវិការដ្ឋ'!C17,1)","v":0},{"$f":"ROUND('ចំណាយ-ថវិការដ្ឋ'!D17,1)","v":0},0,0,{"$f":"ROUND('ចំណាយ-ថវិការដ្ឋ'!G17,1)","v":0},{"$f":"ROUND('ចំណាយ-ថវិការដ្ឋ'!H17,1)","v":0},0,{"$f":"ROUND('ចំណាយ-ថវិការដ្ឋ'!J17,1)","v":0},{"$f":"ROUND('ចំណាយ-ថវិការដ្ឋ'!K17,1)","v":0},0,0,{"$f":"ROUND('ចំណាយ-ថវិកាដៃគូ'!D17,1)","v":0},{"$f":"ROUND('ចំណាយ-ថវិកាដៃគូ'!E17,1)","v":0},0,{"$f":"ROUND('ចំណាយ-ថវិកាដៃគូ'!G17,1)","v":0},{"$f":"ROUND('ចំណាយ-ថវិកាដៃគូ'!H17,1)","v":0},0,{"$f":"ROUND('ចំណាយ-ថវិការដ្ឋ'!M17,1)","v":0},{"$f":"ROUND('ចំណាយ-ថវិការដ្ឋ'!N17,1)","v":0},0,0,{"$f":"ROUND('ចំណាយ-ថវិការដ្ឋ'!Q17,1)","v":0},{"$f":"ROUND('ចំណាយ-ថវិការដ្ឋ'!R17,1)","v":0},0,{"$f":"ROUND('ចំណាយ-ថវិការដ្ឋ'!T17,1)","v":0},{"$f":"ROUND('ចំណាយ-ថវិការដ្ឋ'!U17,1)","v":0},0,0,{"$f":"ROUND('ចំណាយ-ថវិកាដៃគូ'!K17,1)","v":0},{"$f":"ROUND('ចំណាយ-ថវិកាដៃគូ'!L17,1)","v":0},0,{"$f":"ROUND('ចំណាយ-ថវិកាដៃគូ'!N17,1)","v":0},{"$f":"ROUND('ចំណាយ-ថវិកាដៃគូ'!O17,1)","v":0},0,{"$f":"ROUND('ចំណាយ-ថវិការដ្ឋ'!W17,1)","v":0},{"$f":"ROUND('ចំណាយ-ថវិការដ្ឋ'!X17,1)","v":0},0,0,{"$f":"ROUND('ចំណាយ-ថវិការដ្ឋ'!AA17,1)","v":0},{"$f":"ROUND('ចំណាយ-ថវិការដ្ឋ'!AB17,1)","v":0},0,{"$f":"ROUND('ចំណាយ-ថវិការដ្ឋ'!AD17,1)","v":0},{"$f":"ROUND('ចំណាយ-ថវិការដ្ឋ'!AE17,1)","v":0},0,0,{"$f":"ROUND('ចំណាយ-ថវិកាដៃគូ'!R17,1)","v":0},{"$f":"ROUND('ចំណាយ-ថវិកាដៃគូ'!S17,1)","v":0},0,{"$f":"ROUND('ចំណាយ-ថវិកាដៃគូ'!U17,1)","v":0},{"$f":"ROUND('ចំណាយ-ថវិកាដៃគូ'!V17,1)","v":0},0,{"$f":"ROUND('ចំណាយ-ថវិការដ្ឋ'!AG17,1)","v":0},{"$f":"ROUND('ចំណាយ-ថវិការដ្ឋ'!AH17,1)","v":0},0,0,{"$f":"ROUND('ចំណាយ-ថវិការដ្ឋ'!AK17,1)","v":0},{"$f":"ROUND('ចំណាយ-ថវិការដ្ឋ'!AL17,1)","v":0},0,{"$f":"ROUND('ចំណាយ-ថវិការដ្ឋ'!AN17,1)","v":0},{"$f":"ROUND('ចំណាយ-ថវិការដ្ឋ'!AO17,1)","v":0},0,0,{"$f":"ROUND('ចំណាយ-ថវិកាដៃគូ'!Y17,1)","v":0},{"$f":"ROUND('ចំណាយ-ថវិកាដៃគូ'!Z17,1)","v":0},0,{"$f":"ROUND('ចំណាយ-ថវិកាដៃគូ'!AB17,1)","v":0},{"$f":"ROUND('ចំណាយ-ថវិកាដៃគូ'!AC17,1)","v":0}]
[{"$f":"ព័ត៌មានអង្គភាព!C11","v":"៦. រៀបចំ និងចូលរួមប្រកួតកីឡាជាលក្ខណៈជាតិ និងអន្ដរជាតិ"},0,{"$f":"ROUND('ចំណាយ-ថវិការដ្ឋ'!C18,1)","v":0},{"$f":"ROUND('ចំណាយ-ថវិការដ្ឋ'!D18,1)","v":0},0,0,{"$f":"ROUND('ចំណាយ-ថវិការដ្ឋ'!G18,1)","v":0},{"$f":"ROUND('ចំណាយ-ថវិការដ្ឋ'!H18,1)","v":0},0,{"$f":"ROUND('ចំណាយ-ថវិការដ្ឋ'!J18,1)","v":0},{"$f":"ROUND('ចំណាយ-ថវិការដ្ឋ'!K18,1)","v":0},0,0,{"$f":"ROUND('ចំណាយ-ថវិកាដៃគូ'!D18,1)","v":0},{"$f":"ROUND('ចំណាយ-ថវិកាដៃគូ'!E18,1)","v":0},0,{"$f":"ROUND('ចំណាយ-ថវិកាដៃគូ'!G18,1)","v":0},{"$f":"ROUND('ចំណាយ-ថវិកាដៃគូ'!H18,1)","v":0},0,{"$f":"ROUND('ចំណាយ-ថវិការដ្ឋ'!M18,1)","v":0},{"$f":"ROUND('ចំណាយ-ថវិការដ្ឋ'!N18,1)","v":0},0,0,{"$f":"ROUND('ចំណាយ-ថវិការដ្ឋ'!Q18,1)","v":0},{"$f":"ROUND('ចំណាយ-ថវិការដ្ឋ'!R18,1)","v":0},0,{"$f":"ROUND('ចំណាយ-ថវិការដ្ឋ'!T18,1)","v":0},{"$f":"ROUND('ចំណាយ-ថវិការដ្ឋ'!U18,1)","v":0},0,0,{"$f":"ROUND('ចំណាយ-ថវិកាដៃគូ'!K18,1)","v":0},{"$f":"ROUND('ចំណាយ-ថវិកាដៃគូ'!L18,1)","v":0},0,{"$f":"ROUND('ចំណាយ-ថវិកាដៃគូ'!N18,1)","v":0},{"$f":"ROUND('ចំណាយ-ថវិកាដៃគូ'!O18,1)","v":0},0,{"$f":"ROUND('ចំណាយ-ថវិការដ្ឋ'!W18,1)","v":0},{"$f":"ROUND('ចំណាយ-ថវិការដ្ឋ'!X18,1)","v":0},0,0,{"$f":"ROUND('ចំណាយ-ថវិការដ្ឋ'!AA18,1)","v":0},{"$f":"ROUND('ចំណាយ-ថវិការដ្ឋ'!AB18,1)","v":0},0,{"$f":"ROUND('ចំណាយ-ថវិការដ្ឋ'!AD18,1)","v":0},{"$f":"ROUND('ចំណាយ-ថវិការដ្ឋ'!AE18,1)","v":0},0,0,{"$f":"ROUND('ចំណាយ-ថវិកាដៃគូ'!R18,1)","v":0},{"$f":"ROUND('ចំណាយ-ថវិកាដៃគូ'!S18,1)","v":0},0,{"$f":"ROUND('ចំណាយ-ថវិកាដៃគូ'!U18,1)","v":0},{"$f":"ROUND('ចំណាយ-ថវិកាដៃគូ'!V18,1)","v":0},0,{"$f":"ROUND('ចំណាយ-ថវិការដ្ឋ'!AG18,1)","v":0},{"$f":"ROUND('ចំណាយ-ថវិការដ្ឋ'!AH18,1)","v":0},0,0,{"$f":"ROUND('ចំណាយ-ថវិការដ្ឋ'!AK18,1)","v":0},{"$f":"ROUND('ចំណាយ-ថវិការដ្ឋ'!AL18,1)","v":0},0,{"$f":"ROUND('ចំណាយ-ថវិការដ្ឋ'!AN18,1)","v":0},{"$f":"ROUND('ចំណាយ-ថវិការដ្ឋ'!AO18,1)","v":0},0,0,{"$f":"ROUND('ចំណាយ-ថវិកាដៃគូ'!Y18,1)","v":0},{"$f":"ROUND('ចំណាយ-ថវិកាដៃគូ'!Z18,1)","v":0},0,{"$f":"ROUND('ចំណាយ-ថវិកាដៃគូ'!AB18,1)","v":0},{"$f":"ROUND('ចំណាយ-ថវិកាដៃគូ'!AC18,1)","v":0}]
[{"$f":"ព័ត៌មានអង្គភាព!C12","v":"៧. ប្រកួតកីឡាមហាជនថ្នាក់រាជធានី-ខេត្ត"},0,{"$f":"ROUND('ចំណាយ-ថវិការដ្ឋ'!C19,1)","v":0},{"$f":"ROUND('ចំណាយ-ថវិការដ្ឋ'!D19,1)","v":0},0,0,{"$f":"ROUND('ចំណាយ-ថវិការដ្ឋ'!G19,1)","v":0},{"$f":"ROUND('ចំណាយ-ថវិការដ្ឋ'!H19,1)","v":0},0,{"$f":"ROUND('ចំណាយ-ថវិការដ្ឋ'!J19,1)","v":0},{"$f":"ROUND('ចំណាយ-ថវិការដ្ឋ'!K19,1)","v":0},0,0,{"$f":"ROUND('ចំណាយ-ថវិកាដៃគូ'!D19,1)","v":0},{"$f":"ROUND('ចំណាយ-ថវិកាដៃគូ'!E19,1)","v":0},0,{"$f":"ROUND('ចំណាយ-ថវិកាដៃគូ'!G19,1)","v":0},{"$f":"ROUND('ចំណាយ-ថវិកាដៃគូ'!H19,1)","v":0},0,{"$f":"ROUND('ចំណាយ-ថវិការដ្ឋ'!M19,1)","v":0},{"$f":"ROUND('ចំណាយ-ថវិការដ្ឋ'!N19,1)","v":0},0,0,{"$f":"ROUND('ចំណាយ-ថវិការដ្ឋ'!Q19,1)","v":0},{"$f":"ROUND('ចំណាយ-ថវិការដ្ឋ'!R19,1)","v":0},0,{"$f":"ROUND('ចំណាយ-ថវិការដ្ឋ'!T19,1)","v":0},{"$f":"ROUND('ចំណាយ-ថវិការដ្ឋ'!U19,1)","v":0},0,0,{"$f":"ROUND('ចំណាយ-ថវិកាដៃគូ'!K19,1)","v":0},{"$f":"ROUND('ចំណាយ-ថវិកាដៃគូ'!L19,1)","v":0},0,{"$f":"ROUND('ចំណាយ-ថវិកាដៃគូ'!N19,1)","v":0},{"$f":"ROUND('ចំណាយ-ថវិកាដៃគូ'!O19,1)","v":0},0,{"$f":"ROUND('ចំណាយ-ថវិការដ្ឋ'!W19,1)","v":0},{"$f":"ROUND('ចំណាយ-ថវិការដ្ឋ'!X19,1)","v":0},0,0,{"$f":"ROUND('ចំណាយ-ថវិការដ្ឋ'!AA19,1)","v":0},{"$f":"ROUND('ចំណាយ-ថវិការដ្ឋ'!AB19,1)","v":0},0,{"$f":"ROUND('ចំណាយ-ថវិការដ្ឋ'!AD19,1)","v":0},{"$f":"ROUND('ចំណាយ-ថវិការដ្ឋ'!AE19,1)","v":0},0,0,{"$f":"ROUND('ចំណាយ-ថវិកាដៃគូ'!R19,1)","v":0},{"$f":"ROUND('ចំណាយ-ថវិកាដៃគូ'!S19,1)","v":0},0,{"$f":"ROUND('ចំណាយ-ថវិកាដៃគូ'!U19,1)","v":0},{"$f":"ROUND('ចំណាយ-ថវិកាដៃគូ'!V19,1)","v":0},0,{"$f":"ROUND('ចំណាយ-ថវិការដ្ឋ'!AG19,1)","v":0},{"$f":"ROUND('ចំណាយ-ថវិការដ្ឋ'!AH19,1)","v":0},0,0,{"$f":"ROUND('ចំណាយ-ថវិការដ្ឋ'!AK19,1)","v":0},{"$f":"ROUND('ចំណាយ-ថវិការដ្ឋ'!AL19,1)","v":0},0,{"$f":"ROUND('ចំណាយ-ថវិការដ្ឋ'!AN19,1)","v":0},{"$f":"ROUND('ចំណាយ-ថវិការដ្ឋ'!AO19,1)","v":0},0,0,{"$f":"ROUND('ចំណាយ-ថវិកាដៃគូ'!Y19,1)","v":0},{"$f":"ROUND('ចំណាយ-ថវិកាដៃគូ'!Z19,1)","v":0},0,{"$f":"ROUND('ចំណាយ-ថវិកាដៃគូ'!AB19,1)","v":0},{"$f":"ROUND('ចំណាយ-ថវិកាដៃគូ'!AC19,1)","v":0}]
[{"$f":"ព័ត៌មានអង្គភាព!C13","v":"៨. អភិវឌ្ឍហេដ្ឋារចនាសម្ព័ន្ធកីឡា និងឧបករណ៍សម្ភារកីឡា"},0,{"$f":"ROUND('ចំណាយ-ថវិការដ្ឋ'!C20,1)","v":0},{"$f":"ROUND('ចំណាយ-ថវិការដ្ឋ'!D20,1)","v":0},0,0,{"$f":"ROUND('ចំណាយ-ថវិការដ្ឋ'!G20,1)","v":0},{"$f":"ROUND('ចំណាយ-ថវិការដ្ឋ'!H20,1)","v":0},0,{"$f":"ROUND('ចំណាយ-ថវិការដ្ឋ'!J20,1)","v":0},{"$f":"ROUND('ចំណាយ-ថវិការដ្ឋ'!K20,1)","v":0},0,0,{"$f":"ROUND('ចំណាយ-ថវិកាដៃគូ'!D20,1)","v":0},{"$f":"ROUND('ចំណាយ-ថវិកាដៃគូ'!E20,1)","v":0},0,{"$f":"ROUND('ចំណាយ-ថវិកាដៃគូ'!G20,1)","v":0},{"$f":"ROUND('ចំណាយ-ថវិកាដៃគូ'!H20,1)","v":0},0,{"$f":"ROUND('ចំណាយ-ថវិការដ្ឋ'!M20,1)","v":0},{"$f":"ROUND('ចំណាយ-ថវិការដ្ឋ'!N20,1)","v":0},0,0,{"$f":"ROUND('ចំណាយ-ថវិការដ្ឋ'!Q20,1)","v":0},{"$f":"ROUND('ចំណាយ-ថវិការដ្ឋ'!R20,1)","v":0},0,{"$f":"ROUND('ចំណាយ-ថវិការដ្ឋ'!T20,1)","v":0},{"$f":"ROUND('ចំណាយ-ថវិការដ្ឋ'!U20,1)","v":0},0,0,{"$f":"ROUND('ចំណាយ-ថវិកាដៃគូ'!K20,1)","v":0},{"$f":"ROUND('ចំណាយ-ថវិកាដៃគូ'!L20,1)","v":0},0,{"$f":"ROUND('ចំណាយ-ថវិកាដៃគូ'!N20,1)","v":0},{"$f":"ROUND('ចំណាយ-ថវិកាដៃគូ'!O20,1)","v":0},0,{"$f":"ROUND('ចំណាយ-ថវិការដ្ឋ'!W20,1)","v":0},{"$f":"ROUND('ចំណាយ-ថវិការដ្ឋ'!X20,1)","v":0},0,0,{"$f":"ROUND('ចំណាយ-ថវិការដ្ឋ'!AA20,1)","v":0},{"$f":"ROUND('ចំណាយ-ថវិការដ្ឋ'!AB20,1)","v":0},0,{"$f":"ROUND('ចំណាយ-ថវិការដ្ឋ'!AD20,1)","v":0},{"$f":"ROUND('ចំណាយ-ថវិការដ្ឋ'!AE20,1)","v":0},0,0,{"$f":"ROUND('ចំណាយ-ថវិកាដៃគូ'!R20,1)","v":0},{"$f":"ROUND('ចំណាយ-ថវិកាដៃគូ'!S20,1)","v":0},0,{"$f":"ROUND('ចំណាយ-ថវិកាដៃគូ'!U20,1)","v":0},{"$f":"ROUND('ចំណាយ-ថវិកាដៃគូ'!V20,1)","v":0},0,{"$f":"ROUND('ចំណាយ-ថវិការដ្ឋ'!AG20,1)","v":0},{"$f":"ROUND('ចំណាយ-ថវិការដ្ឋ'!AH20,1)","v":0},0,0,{"$f":"ROUND('ចំណាយ-ថវិការដ្ឋ'!AK20,1)","v":0},{"$f":"ROUND('ចំណាយ-ថវិការដ្ឋ'!AL20,1)","v":0},0,{"$f":"ROUND('ចំណាយ-ថវិការដ្ឋ'!AN20,1)","v":0},{"$f":"ROUND('ចំណាយ-ថវិការដ្ឋ'!AO20,1)","v":0},0,0,{"$f":"ROUND('ចំណាយ-ថវិកាដៃគូ'!Y20,1)","v":0},{"$f":"ROUND('ចំណាយ-ថវិកាដៃគូ'!Z20,1)","v":0},0,{"$f":"ROUND('ចំណាយ-ថវិកាដៃគូ'!AB20,1)","v":0},{"$f":"ROUND('ចំណាយ-ថវិកាដៃគូ'!AC20,1)","v":0}]
[{"$f":"ព័ត៌មានអង្គភាព!C14","v":""},0,{"$f":"ROUND('ចំណាយ-ថវិការដ្ឋ'!C21,1)","v":0},{"$f":"ROUND('ចំណាយ-ថវិការដ្ឋ'!D21,1)","v":0},0,0,{"$f":"ROUND('ចំណាយ-ថវិការដ្ឋ'!G21,1)","v":0},{"$f":"ROUND('ចំណាយ-ថវិការដ្ឋ'!H21,1)","v":0},0,{"$f":"ROUND('ចំណាយ-ថវិការដ្ឋ'!J21,1)","v":0},{"$f":"ROUND('ចំណាយ-ថវិការដ្ឋ'!K21,1)","v":0},0,0,{"$f":"ROUND('ចំណាយ-ថវិកាដៃគូ'!D21,1)","v":0},{"$f":"ROUND('ចំណាយ-ថវិកាដៃគូ'!E21,1)","v":0},0,{"$f":"ROUND('ចំណាយ-ថវិកាដៃគូ'!G21,1)","v":0},{"$f":"ROUND('ចំណាយ-ថវិកាដៃគូ'!H21,1)","v":0},0,{"$f":"ROUND('ចំណាយ-ថវិការដ្ឋ'!M21,1)","v":0},{"$f":"ROUND('ចំណាយ-ថវិការដ្ឋ'!N21,1)","v":0},0,0,{"$f":"ROUND('ចំណាយ-ថវិការដ្ឋ'!Q21,1)","v":0},{"$f":"ROUND('ចំណាយ-ថវិការដ្ឋ'!R21,1)","v":0},0,{"$f":"ROUND('ចំណាយ-ថវិការដ្ឋ'!T21,1)","v":0},{"$f":"ROUND('ចំណាយ-ថវិការដ្ឋ'!U21,1)","v":0},0,0,{"$f":"ROUND('ចំណាយ-ថវិកាដៃគូ'!K21,1)","v":0},{"$f":"ROUND('ចំណាយ-ថវិកាដៃគូ'!L21,1)","v":0},0,{"$f":"ROUND('ចំណាយ-ថវិកាដៃគូ'!N21,1)","v":0},{"$f":"ROUND('ចំណាយ-ថវិកាដៃគូ'!O21,1)","v":0},0,{"$f":"ROUND('ចំណាយ-ថវិការដ្ឋ'!W21,1)","v":0},{"$f":"ROUND('ចំណាយ-ថវិការដ្ឋ'!X21,1)","v":0},0,0,{"$f":"ROUND('ចំណាយ-ថវិការដ្ឋ'!AA21,1)","v":0},{"$f":"ROUND('ចំណាយ-ថវិការដ្ឋ'!AB21,1)","v":0},0,{"$f":"ROUND('ចំណាយ-ថវិការដ្ឋ'!AD21,1)","v":0},{"$f":"ROUND('ចំណាយ-ថវិការដ្ឋ'!AE21,1)","v":0},0,0,{"$f":"ROUND('ចំណាយ-ថវិកាដៃគូ'!R21,1)","v":0},{"$f":"ROUND('ចំណាយ-ថវិកាដៃគូ'!S21,1)","v":0},0,{"$f":"ROUND('ចំណាយ-ថវិកាដៃគូ'!U21,1)","v":0},{"$f":"ROUND('ចំណាយ-ថវិកាដៃគូ'!V21,1)","v":0},0,{"$f":"ROUND('ចំណាយ-ថវិការដ្ឋ'!AG21,1)","v":0},{"$f":"ROUND('ចំណាយ-ថវិការដ្ឋ'!AH21,1)","v":0},0,0,{"$f":"ROUND('ចំណាយ-ថវិការដ្ឋ'!AK21,1)","v":0},{"$f":"ROUND('ចំណាយ-ថវិការដ្ឋ'!AL21,1)","v":0},0,{"$f":"ROUND('ចំណាយ-ថវិការដ្ឋ'!AN21,1)","v":0},{"$f":"ROUND('ចំណាយ-ថវិការដ្ឋ'!AO21,1)","v":0},0,0,{"$f":"ROUND('ចំណាយ-ថវិកាដៃគូ'!Y21,1)","v":0},{"$f":"ROUND('ចំណាយ-ថវិកាដៃគូ'!Z21,1)","v":0},0,{"$f":"ROUND('ចំណាយ-ថវិកាដៃគូ'!AB21,1)","v":0},{"$f":"ROUND('ចំណាយ-ថវិកាដៃគូ'!AC21,1)","v":0}]
[{"$f":"ព័ត៌មានអង្គភាព!C15","v":""},0,{"$f":"ROUND('ចំណាយ-ថវិការដ្ឋ'!C22,1)","v":0},{"$f":"ROUND('ចំណាយ-ថវិការដ្ឋ'!D22,1)","v":0},0,0,{"$f":"ROUND('ចំណាយ-ថវិការដ្ឋ'!G22,1)","v":0},{"$f":"ROUND('ចំណាយ-ថវិការដ្ឋ'!H22,1)","v":0},0,{"$f":"ROUND('ចំណាយ-ថវិការដ្ឋ'!J22,1)","v":0},{"$f":"ROUND('ចំណាយ-ថវិការដ្ឋ'!K22,1)","v":0},0,0,{"$f":"ROUND('ចំណាយ-ថវិកាដៃគូ'!D22,1)","v":0},{"$f":"ROUND('ចំណាយ-ថវិកាដៃគូ'!E22,1)","v":0},0,{"$f":"ROUND('ចំណាយ-ថវិកាដៃគូ'!G22,1)","v":0},{"$f":"ROUND('ចំណាយ-ថវិកាដៃគូ'!H22,1)","v":0},0,{"$f":"ROUND('ចំណាយ-ថវិការដ្ឋ'!M22,1)","v":0},{"$f":"ROUND('ចំណាយ-ថវិការដ្ឋ'!N22,1)","v":0},0,0,{"$f":"ROUND('ចំណាយ-ថវិការដ្ឋ'!Q22,1)","v":0},{"$f":"ROUND('ចំណាយ-ថវិការដ្ឋ'!R22,1)","v":0},0,{"$f":"ROUND('ចំណាយ-ថវិការដ្ឋ'!T22,1)","v":0},{"$f":"ROUND('ចំណាយ-ថវិការដ្ឋ'!U22,1)","v":0},0,0,{"$f":"ROUND('ចំណាយ-ថវិកាដៃគូ'!K22,1)","v":0},{"$f":"ROUND('ចំណាយ-ថវិកាដៃគូ'!L22,1)","v":0},0,{"$f":"ROUND('ចំណាយ-ថវិកាដៃគូ'!N22,1)","v":0},{"$f":"ROUND('ចំណាយ-ថវិកាដៃគូ'!O22,1)","v":0},0,{"$f":"ROUND('ចំណាយ-ថវិការដ្ឋ'!W22,1)","v":0},{"$f":"ROUND('ចំណាយ-ថវិការដ្ឋ'!X22,1)","v":0},0,0,{"$f":"ROUND('ចំណាយ-ថវិការដ្ឋ'!AA22,1)","v":0},{"$f":"ROUND('ចំណាយ-ថវិការដ្ឋ'!AB22,1)","v":0},0,{"$f":"ROUND('ចំណាយ-ថវិការដ្ឋ'!AD22,1)","v":0},{"$f":"ROUND('ចំណាយ-ថវិការដ្ឋ'!AE22,1)","v":0},0,0,{"$f":"ROUND('ចំណាយ-ថវិកាដៃគូ'!R22,1)","v":0},{"$f":"ROUND('ចំណាយ-ថវិកាដៃគូ'!S22,1)","v":0},0,{"$f":"ROUND('ចំណាយ-ថវិកាដៃគូ'!U22,1)","v":0},{"$f":"ROUND('ចំណាយ-ថវិកាដៃគូ'!V22,1)","v":0},0,{"$f":"ROUND('ចំណាយ-ថវិការដ្ឋ'!AG22,1)","v":0},{"$f":"ROUND('ចំណាយ-ថវិការដ្ឋ'!AH22,1)","v":0},0,0,{"$f":"ROUND('ចំណាយ-ថវិការដ្ឋ'!AK22,1)","v":0},{"$f":"ROUND('ចំណាយ-ថវិការដ្ឋ'!AL22,1)","v":0},0,{"$f":"ROUND('ចំណាយ-ថវិការដ្ឋ'!AN22,1)","v":0},{"$f":"ROUND('ចំណាយ-ថវិការដ្ឋ'!AO22,1)","v":0},0,0,{"$f":"ROUND('ចំណាយ-ថវិកាដៃគូ'!Y22,1)","v":0},{"$f":"ROUND('ចំណាយ-ថវិកាដៃគូ'!Z22,1)","v":0},0,{"$f":"ROUND('ចំណាយ-ថវិកាដៃគូ'!AB22,1)","v":0},{"$f":"ROUND('ចំណាយ-ថវិកាដៃគូ'!AC22,1)","v":0}]
[{"$f":"ព័ត៌មានអង្គភាព!C16","v":"ច.ស.ក ទី ២. ការលើកកម្ពស់ភាពជាអ្នកដឹកនាំ និងគ្រប់គ្រង របស់មន្រ្តីអប់រំគ្រប់លំដាប់ថ្នាក់"},{"$f":"SUM(B25:B29)","v":0},{"$f":"SUM(C25:C29)","v":0},0,0,0,0,0,0,0,0,0,0,0,0,0,0,0,0,0,0,0,0,0,0,0,0,0,0,0,0,0,0,0,0,0,0,0,0,0,0,0,0,0,0,0,0,0,0,0,0,0,0,0,0,0,0,0,0,0,0,0,0,0,0,0,{"$f":"SUM(BO25:BO29)","v":0},0,0]
[{"$f":"ព័ត៌មានអង្គភាព!C17","v":"១. អភិវឌ្ឍធនធានមនុស្សលើវិស័យកីឡា"},{"$f":"SUM(C25:D25)","v":0},{"$f":"ROUND('ចំណាយ-ថវិការដ្ឋ'!C24,1)","v":0},{"$f":"ROUND('ចំណាយ-ថវិការដ្ឋ'!D24,1)","v":0},{"$f":"SUM(F25,I25)","v":0},{"$f":"SUM(G25:H25)","v":0},{"$f":"ROUND('ចំណាយ-ថវិការដ្ឋ'!G24,1)","v":0},{"$f":"ROUND('ចំណាយ-ថវិការដ្ឋ'!H24,1)","v":0},{"$f":"SUM(J25:K25)","v":0},{"$f":"ROUND('ចំណាយ-ថវិការដ្ឋ'!J24,1)","v":0},{"$f":"ROUND('ចំណាយ-ថវិការដ្ឋ'!K24,1)","v":0},{"$f":"SUM(M25,P25)","v":0},{"$f":"SUM(N25:O25)","v":0},{"$f":"ROUND('ចំណាយ-ថវិកាដៃគូ'!D24,1)","v":0},{"$f":"ROUND('ចំណាយ-ថវិកាដៃគូ'!E24,1)","v":0},{"$f":"SUM(Q25:R25)","v":0},{"$f":"ROUND('ចំណាយ-ថវិកាដៃគូ'!G24,1)","v":0},{"$f":"ROUND('ចំណាយ-ថវិកាដៃគូ'!H24,1)","v":0},{"$f":"SUM(T25:U25)","v":0},{"$f":"ROUND('ចំណាយ-ថវិការដ្ឋ'!M24,1)","v":0},{"$f":"ROUND('ចំណាយ-ថវិការដ្ឋ'!N24,1)","v":0},{"$f":"SUM(W25,Z25)","v":0},{"$f":"SUM(X25:Y25)","v":0},{"$f":"ROUND('ចំណាយ-ថវិការដ្ឋ'!Q24,1)","v":0},{"$f":"ROUND('ចំណាយ-ថវិការដ្ឋ'!R24,1)","v":0},{"$f":"SUM(AA25:AB25)","v":0},{"$f":"ROUND('ចំណាយ-ថវិការដ្ឋ'!T24,1)","v":0},{"$f":"ROUND('ចំណាយ-ថវិការដ្ឋ'!U24,1)","v":0},{"$f":"SUM(AD25,AG25)","v":0},{"$f":"SUM(AE25:AF25)","v":0},{"$f":"ROUND('ចំណាយ-ថវិកាដៃគូ'!K24,1)","v":0},{"$f":"ROUND('ចំណាយ-ថវិកាដៃគូ'!L24,1)","v":0},{"$f":"SUM(AH25:AI25)","v":0},{"$f":"ROUND('ចំណាយ-ថវិកាដៃគូ'!N24,1)","v":0},{"$f":"ROUND('ចំណាយ-ថវិកាដៃគូ'!O24,1)","v":0},{"$f":"SUM(AK25:AL25)","v":0},{"$f":"ROUND('ចំណាយ-ថវិការដ្ឋ'!W24,1)","v":0},{"$f":"ROUND('ចំណាយ-ថវិការដ្ឋ'!X24,1)","v":0},{"$f":"SUM(AN25,AQ25)","v":0},{"$f":"SUM(AO25:AP25)","v":0},{"$f":"ROUND('ចំណាយ-ថវិការដ្ឋ'!AA24,1)","v":0},{"$f":"ROUND('ចំណាយ-ថវិការដ្ឋ'!AB24,1)","v":0},{"$f":"SUM(AR25:AS25)","v":0},{"$f":"ROUND('ចំណាយ-ថវិការដ្ឋ'!AD24,1)","v":0},{"$f":"ROUND('ចំណាយ-ថវិការដ្ឋ'!AE24,1)","v":0},{"$f":"SUM(AU25,AX25)","v":0},{"$f":"SUM(AV25:AW25)","v":0},{"$f":"ROUND('ចំណាយ-ថវិកាដៃគូ'!R24,1)","v":0},{"$f":"ROUND('ចំណាយ-ថវិកាដៃគូ'!S24,1)","v":0},{"$f":"SUM(AY25:AZ25)","v":0},{"$f":"ROUND('ចំណាយ-ថវិកាដៃគូ'!U24,1)","v":0},{"$f":"ROUND('ចំណាយ-ថវិកាដៃគូ'!V24,1)","v":0},{"$f":"SUM(BB25:BC25)","v":0},{"$f":"ROUND('ចំណាយ-ថវិការដ្ឋ'!AG24,1)","v":0},{"$f":"ROUND('ចំណាយ-ថវិការដ្ឋ'!AH24,1)","v":0},{"$f":"SUM(BE25,BH25)","v":0},{"$f":"SUM(BF25:BG25)","v":0},{"$f":"ROUND('ចំណាយ-ថវិការដ្ឋ'!AK24,1)","v":0},{"$f":"ROUND('ចំណាយ-ថវិការដ្ឋ'!AL24,1)","v":0},{"$f":"SUM(BI25:BJ25)","v":0},{"$f":"ROUND('ចំណាយ-ថវិការដ្ឋ'!AN24,1)","v":0},{"$f":"ROUND('ចំណាយ-ថវិការដ្ឋ'!AO24,1)","v":0},{"$f":"SUM(BL25,BO25)","v":0},{"$f":"SUM(BM25:BN25)","v":0},{"$f":"ROUND('ចំណាយ-ថវិកាដៃគូ'!Y24,1)","v":0},{"$f":"ROUND('ចំណាយ-ថវិកាដៃគូ'!Z24,1)","v":0},{"$f":"SUM(BP25:BQ25)","v":0},{"$f":"ROUND('ចំណាយ-ថវិកាដៃគូ'!AB24,1)","v":0},{"$f":"ROUND('ចំណាយ-ថវិកាដៃគូ'!AC24,1)","v":0}]
[{"$f":"ព័ត៌មានអង្គភាព!C18","v":""},0,{"$f":"ROUND('ចំណាយ-ថវិការដ្ឋ'!C25,1)","v":0},{"$f":"ROUND('ចំណាយ-ថវិការដ្ឋ'!D25,1)","v":0},0,0,{"$f":"ROUND('ចំណាយ-ថវិការដ្ឋ'!G25,1)","v":0},{"$f":"ROUND('ចំណាយ-ថវិការដ្ឋ'!H25,1)","v":0},0,{"$f":"ROUND('ចំណាយ-ថវិការដ្ឋ'!J25,1)","v":0},{"$f":"ROUND('ចំណាយ-ថវិការដ្ឋ'!K25,1)","v":0},0,0,{"$f":"ROUND('ចំណាយ-ថវិកាដៃគូ'!D25,1)","v":0},{"$f":"ROUND('ចំណាយ-ថវិកាដៃគូ'!E25,1)","v":0},0,{"$f":"ROUND('ចំណាយ-ថវិកាដៃគូ'!G25,1)","v":0},{"$f":"ROUND('ចំណាយ-ថវិកាដៃគូ'!H25,1)","v":0},0,{"$f":"ROUND('ចំណាយ-ថវិការដ្ឋ'!M25,1)","v":0},{"$f":"ROUND('ចំណាយ-ថវិការដ្ឋ'!N25,1)","v":0},0,0,{"$f":"ROUND('ចំណាយ-ថវិការដ្ឋ'!Q25,1)","v":0},{"$f":"ROUND('ចំណាយ-ថវិការដ្ឋ'!R25,1)","v":0},0,{"$f":"ROUND('ចំណាយ-ថវិការដ្ឋ'!T25,1)","v":0},{"$f":"ROUND('ចំណាយ-ថវិការដ្ឋ'!U25,1)","v":0},0,0,{"$f":"ROUND('ចំណាយ-ថវិកាដៃគូ'!K25,1)","v":0},{"$f":"ROUND('ចំណាយ-ថវិកាដៃគូ'!L25,1)","v":0},0,{"$f":"ROUND('ចំណាយ-ថវិកាដៃគូ'!N25,1)","v":0},{"$f":"ROUND('ចំណាយ-ថវិកាដៃគូ'!O25,1)","v":0},0,{"$f":"ROUND('ចំណាយ-ថវិការដ្ឋ'!W25,1)","v":0},{"$f":"ROUND('ចំណាយ-ថវិការដ្ឋ'!X25,1)","v":0},0,0,{"$f":"ROUND('ចំណាយ-ថវិការដ្ឋ'!AA25,1)","v":0},{"$f":"ROUND('ចំណាយ-ថវិការដ្ឋ'!AB25,1)","v":0},0,{"$f":"ROUND('ចំណាយ-ថវិការដ្ឋ'!AD25,1)","v":0},{"$f":"ROUND('ចំណាយ-ថវិការដ្ឋ'!AE25,1)","v":0},0,0,{"$f":"ROUND('ចំណាយ-ថវិកាដៃគូ'!R25,1)","v":0},{"$f":"ROUND('ចំណាយ-ថវិកាដៃគូ'!S25,1)","v":0},0,{"$f":"ROUND('ចំណាយ-ថវិកាដៃគូ'!U25,1)","v":0},{"$f":"ROUND('ចំណាយ-ថវិកាដៃគូ'!V25,1)","v":0},0,{"$f":"ROUND('ចំណាយ-ថវិការដ្ឋ'!AG25,1)","v":0},{"$f":"ROUND('ចំណាយ-ថវិការដ្ឋ'!AH25,1)","v":0},0,0,{"$f":"ROUND('ចំណាយ-ថវិការដ្ឋ'!AK25,1)","v":0},{"$f":"ROUND('ចំណាយ-ថវិការដ្ឋ'!AL25,1)","v":0},0,{"$f":"ROUND('ចំណាយ-ថវិការដ្ឋ'!AN25,1)","v":0},{"$f":"ROUND('ចំណាយ-ថវិការដ្ឋ'!AO25,1)","v":0},0,0,{"$f":"ROUND('ចំណាយ-ថវិកាដៃគូ'!Y25,1)","v":0},{"$f":"ROUND('ចំណាយ-ថវិកាដៃគូ'!Z25,1)","v":0},0,{"$f":"ROUND('ចំណាយ-ថវិកាដៃគូ'!AB25,1)","v":0},{"$f":"ROUND('ចំណាយ-ថវិកាដៃគូ'!AC25,1)","v":0}]
[{"$f":"ព័ត៌មានអង្គភាព!C19","v":""},0,{"$f":"ROUND('ចំណាយ-ថវិការដ្ឋ'!C26,1)","v":0},{"$f":"ROUND('ចំណាយ-ថវិការដ្ឋ'!D26,1)","v":0},0,0,{"$f":"ROUND('ចំណាយ-ថវិការដ្ឋ'!G26,1)","v":0},{"$f":"ROUND('ចំណាយ-ថវិការដ្ឋ'!H26,1)","v":0},0,{"$f":"ROUND('ចំណាយ-ថវិការដ្ឋ'!J26,1)","v":0},{"$f":"ROUND('ចំណាយ-ថវិការដ្ឋ'!K26,1)","v":0},0,0,{"$f":"ROUND('ចំណាយ-ថវិកាដៃគូ'!D26,1)","v":0},{"$f":"ROUND('ចំណាយ-ថវិកាដៃគូ'!E26,1)","v":0},0,{"$f":"ROUND('ចំណាយ-ថវិកាដៃគូ'!G26,1)","v":0},{"$f":"ROUND('ចំណាយ-ថវិកាដៃគូ'!H26,1)","v":0},0,{"$f":"ROUND('ចំណាយ-ថវិការដ្ឋ'!M26,1)","v":0},{"$f":"ROUND('ចំណាយ-ថវិការដ្ឋ'!N26,1)","v":0},0,0,{"$f":"ROUND('ចំណាយ-ថវិការដ្ឋ'!Q26,1)","v":0},{"$f":"ROUND('ចំណាយ-ថវិការដ្ឋ'!R26,1)","v":0},0,{"$f":"ROUND('ចំណាយ-ថវិការដ្ឋ'!T26,1)","v":0},{"$f":"ROUND('ចំណាយ-ថវិការដ្ឋ'!U26,1)","v":0},0,0,{"$f":"ROUND('ចំណាយ-ថវិកាដៃគូ'!K26,1)","v":0},{"$f":"ROUND('ចំណាយ-ថវិកាដៃគូ'!L26,1)","v":0},0,{"$f":"ROUND('ចំណាយ-ថវិកាដៃគូ'!N26,1)","v":0},{"$f":"ROUND('ចំណាយ-ថវិកាដៃគូ'!O26,1)","v":0},0,{"$f":"ROUND('ចំណាយ-ថវិការដ្ឋ'!W26,1)","v":0},{"$f":"ROUND('ចំណាយ-ថវិការដ្ឋ'!X26,1)","v":0},0,0,{"$f":"ROUND('ចំណាយ-ថវិការដ្ឋ'!AA26,1)","v":0},{"$f":"ROUND('ចំណាយ-ថវិការដ្ឋ'!AB26,1)","v":0},0,{"$f":"ROUND('ចំណាយ-ថវិការដ្ឋ'!AD26,1)","v":0},{"$f":"ROUND('ចំណាយ-ថវិការដ្ឋ'!AE26,1)","v":0},0,0,{"$f":"ROUND('ចំណាយ-ថវិកាដៃគូ'!R26,1)","v":0},{"$f":"ROUND('ចំណាយ-ថវិកាដៃគូ'!S26,1)","v":0},0,{"$f":"ROUND('ចំណាយ-ថវិកាដៃគូ'!U26,1)","v":0},{"$f":"ROUND('ចំណាយ-ថវិកាដៃគូ'!V26,1)","v":0},0,{"$f":"ROUND('ចំណាយ-ថវិការដ្ឋ'!AG26,1)","v":0},{"$f":"ROUND('ចំណាយ-ថវិការដ្ឋ'!AH26,1)","v":0},0,0,{"$f":"ROUND('ចំណាយ-ថវិការដ្ឋ'!AK26,1)","v":0},{"$f":"ROUND('ចំណាយ-ថវិការដ្ឋ'!AL26,1)","v":0},0,{"$f":"ROUND('ចំណាយ-ថវិការដ្ឋ'!AN26,1)","v":0},{"$f":"ROUND('ចំណាយ-ថវិការដ្ឋ'!AO26,1)","v":0},0,0,{"$f":"ROUND('ចំណាយ-ថវិកាដៃគូ'!Y26,1)","v":0},{"$f":"ROUND('ចំណាយ-ថវិកាដៃគូ'!Z26,1)","v":0},0,{"$f":"ROUND('ចំណាយ-ថវិកាដៃគូ'!AB26,1)","v":0},{"$f":"ROUND('ចំណាយ-ថវិកាដៃគូ'!AC26,1)","v":0}]
[{"$f":"ព័ត៌មានអង្គភាព!C20","v":""},0,{"$f":"ROUND('ចំណាយ-ថវិការដ្ឋ'!C27,1)","v":0},{"$f":"ROUND('ចំណាយ-ថវិការដ្ឋ'!D27,1)","v":0},0,0,{"$f":"ROUND('ចំណាយ-ថវិការដ្ឋ'!G27,1)","v":0},{"$f":"ROUND('ចំណាយ-ថវិការដ្ឋ'!H27,1)","v":0},0,{"$f":"ROUND('ចំណាយ-ថវិការដ្ឋ'!J27,1)","v":0},{"$f":"ROUND('ចំណាយ-ថវិការដ្ឋ'!K27,1)","v":0},0,0,{"$f":"ROUND('ចំណាយ-ថវិកាដៃគូ'!D27,1)","v":0},{"$f":"ROUND('ចំណាយ-ថវិកាដៃគូ'!E27,1)","v":0},0,{"$f":"ROUND('ចំណាយ-ថវិកាដៃគូ'!G27,1)","v":0},{"$f":"ROUND('ចំណាយ-ថវិកាដៃគូ'!H27,1)","v":0},0,{"$f":"ROUND('ចំណាយ-ថវិការដ្ឋ'!M27,1)","v":0},{"$f":"ROUND('ចំណាយ-ថវិការដ្ឋ'!N27,1)","v":0},0,0,{"$f":"ROUND('ចំណាយ-ថវិការដ្ឋ'!Q27,1)","v":0},{"$f":"ROUND('ចំណាយ-ថវិការដ្ឋ'!R27,1)","v":0},0,{"$f":"ROUND('ចំណាយ-ថវិការដ្ឋ'!T27,1)","v":0},{"$f":"ROUND('ចំណាយ-ថវិការដ្ឋ'!U27,1)","v":0},0,0,{"$f":"ROUND('ចំណាយ-ថវិកាដៃគូ'!K27,1)","v":0},{"$f":"ROUND('ចំណាយ-ថវិកាដៃគូ'!L27,1)","v":0},0,{"$f":"ROUND('ចំណាយ-ថវិកាដៃគូ'!N27,1)","v":0},{"$f":"ROUND('ចំណាយ-ថវិកាដៃគូ'!O27,1)","v":0},0,{"$f":"ROUND('ចំណាយ-ថវិការដ្ឋ'!W27,1)","v":0},{"$f":"ROUND('ចំណាយ-ថវិការដ្ឋ'!X27,1)","v":0},0,0,{"$f":"ROUND('ចំណាយ-ថវិការដ្ឋ'!AA27,1)","v":0},{"$f":"ROUND('ចំណាយ-ថវិការដ្ឋ'!AB27,1)","v":0},0,{"$f":"ROUND('ចំណាយ-ថវិការដ្ឋ'!AD27,1)","v":0},{"$f":"ROUND('ចំណាយ-ថវិការដ្ឋ'!AE27,1)","v":0},0,0,{"$f":"ROUND('ចំណាយ-ថវិកាដៃគូ'!R27,1)","v":0},{"$f":"ROUND('ចំណាយ-ថវិកាដៃគូ'!S27,1)","v":0},0,{"$f":"ROUND('ចំណាយ-ថវិកាដៃគូ'!U27,1)","v":0},{"$f":"ROUND('ចំណាយ-ថវិកាដៃគូ'!V27,1)","v":0},0,{"$f":"ROUND('ចំណាយ-ថវិការដ្ឋ'!AG27,1)","v":0},{"$f":"ROUND('ចំណាយ-ថវិការដ្ឋ'!AH27,1)","v":0},0,0,{"$f":"ROUND('ចំណាយ-ថវិការដ្ឋ'!AK27,1)","v":0},{"$f":"ROUND('ចំណាយ-ថវិការដ្ឋ'!AL27,1)","v":0},0,{"$f":"ROUND('ចំណាយ-ថវិការដ្ឋ'!AN27,1)","v":0},{"$f":"ROUND('ចំណាយ-ថវិការដ្ឋ'!AO27,1)","v":0},0,0,{"$f":"ROUND('ចំណាយ-ថវិកាដៃគូ'!Y27,1)","v":0},{"$f":"ROUND('ចំណាយ-ថវិកាដៃគូ'!Z27,1)","v":0},0,{"$f":"ROUND('ចំណាយ-ថវិកាដៃគូ'!AB27,1)","v":0},{"$f":"ROUND('ចំណាយ-ថវិកាដៃគូ'!AC27,1)","v":0}]
[{"$f":"ព័ត៌មានអង្គភាព!C21","v":""},0,{"$f":"ROUND('ចំណាយ-ថវិការដ្ឋ'!C28,1)","v":0},{"$f":"ROUND('ចំណាយ-ថវិការដ្ឋ'!D28,1)","v":0},0,0,{"$f":"ROUND('ចំណាយ-ថវិការដ្ឋ'!G28,1)","v":0},{"$f":"ROUND('ចំណាយ-ថវិការដ្ឋ'!H28,1)","v":0},0,{"$f":"ROUND('ចំណាយ-ថវិការដ្ឋ'!J28,1)","v":0},{"$f":"ROUND('ចំណាយ-ថវិការដ្ឋ'!K28,1)","v":0},0,0,{"$f":"ROUND('ចំណាយ-ថវិកាដៃគូ'!D28,1)","v":0},{"$f":"ROUND('ចំណាយ-ថវិកាដៃគូ'!E28,1)","v":0},0,{"$f":"ROUND('ចំណាយ-ថវិកាដៃគូ'!G28,1)","v":0},{"$f":"ROUND('ចំណាយ-ថវិកាដៃគូ'!H28,1)","v":0},0,{"$f":"ROUND('ចំណាយ-ថវិការដ្ឋ'!M28,1)","v":0},{"$f":"ROUND('ចំណាយ-ថវិការដ្ឋ'!N28,1)","v":0},0,0,{"$f":"ROUND('ចំណាយ-ថវិការដ្ឋ'!Q28,1)","v":0},{"$f":"ROUND('ចំណាយ-ថវិការដ្ឋ'!R28,1)","v":0},0,{"$f":"ROUND('ចំណាយ-ថវិការដ្ឋ'!T28,1)","v":0},{"$f":"ROUND('ចំណាយ-ថវិការដ្ឋ'!U28,1)","v":0},0,0,{"$f":"ROUND('ចំណាយ-ថវិកាដៃគូ'!K28,1)","v":0},{"$f":"ROUND('ចំណាយ-ថវិកាដៃគូ'!L28,1)","v":0},0,{"$f":"ROUND('ចំណាយ-ថវិកាដៃគូ'!N28,1)","v":0},{"$f":"ROUND('ចំណាយ-ថវិកាដៃគូ'!O28,1)","v":0},0,{"$f":"ROUND('ចំណាយ-ថវិការដ្ឋ'!W28,1)","v":0},{"$f":"ROUND('ចំណាយ-ថវិការដ្ឋ'!X28,1)","v":0},0,0,{"$f":"ROUND('ចំណាយ-ថវិការដ្ឋ'!AA28,1)","v":0},{"$f":"ROUND('ចំណាយ-ថវិការដ្ឋ'!AB28,1)","v":0},0,{"$f":"ROUND('ចំណាយ-ថវិការដ្ឋ'!AD28,1)","v":0},{"$f":"ROUND('ចំណាយ-ថវិការដ្ឋ'!AE28,1)","v":0},0,0,{"$f":"ROUND('ចំណាយ-ថវិកាដៃគូ'!R28,1)","v":0},{"$f":"ROUND('ចំណាយ-ថវិកាដៃគូ'!S28,1)","v":0},0,{"$f":"ROUND('ចំណាយ-ថវិកាដៃគូ'!U28,1)","v":0},{"$f":"ROUND('ចំណាយ-ថវិកាដៃគូ'!V28,1)","v":0},0,{"$f":"ROUND('ចំណាយ-ថវិការដ្ឋ'!AG28,1)","v":0},{"$f":"ROUND('ចំណាយ-ថវិការដ្ឋ'!AH28,1)","v":0},0,0,{"$f":"ROUND('ចំណាយ-ថវិការដ្ឋ'!AK28,1)","v":0},{"$f":"ROUND('ចំណាយ-ថវិការដ្ឋ'!AL28,1)","v":0},0,{"$f":"ROUND('ចំណាយ-ថវិការដ្ឋ'!AN28,1)","v":0},{"$f":"ROUND('ចំណាយ-ថវិការដ្ឋ'!AO28,1)","v":0},0,0,{"$f":"ROUND('ចំណាយ-ថវិកាដៃគូ'!Y28,1)","v":0},{"$f":"ROUND('ចំណាយ-ថវិកាដៃគូ'!Z28,1)","v":0},0,{"$f":"ROUND('ចំណាយ-ថវិកាដៃគូ'!AB28,1)","v":0},{"$f":"ROUND('ចំណាយ-ថវិកាដៃគូ'!AC28,1)","v":0}]

{"sheet":"Table 4 (MEF)","index":8,"n_rows":40,"n_cols":13,"rows_kept":40,"cut":false,"hidden":false,"merged":[[3,0,3,12],[5,0,6,0],[5,1,5,3],[5,4,5,6],[5,7,5,9],[5,10,5,12]]}
[]
["ក្រសួងអប់រំ​​​​​​​​​​​ យុវជន និងកីឡា"]
[{"$f":"ព័ត៌មានអង្គភាព!C4","v":"អគ្គនាយកដ្ឋានកីឡា"}]
["តារាង ៤ ៖ ការកំណត់តម្រូវការចំណាយសម្រាប់កម្មវិធី និងអនុកម្មវិធី"]
[null,null,null,null,null,null,null,null,null,null,null,null,"ឯកតា៖ លានរៀល"]
["តម្រូវការឥណទាន\nតាមប្រភេទចំណាយ","ច្បាប់ហិរញ្ញវត្ថុ \nឆ្នាំ ២០១៨",null,null,"គ្រោងតម្រូវការឥណទាន\nសម្រាប់ឆ្នាំ ២០១៩",null,null,"គ្រោងតម្រូវការឥណទាន\nសម្រាប់ឆ្នាំ ២០២០",null,null,"គ្រោងតម្រូវការឥណទាន\nសម្រាប់ឆ្នាំ ២០២១"]
[null,"ថវិការដ្ឋ","ថវិកាដៃគូ \nអភិវឌ្ឍ","ផ្សេងៗ","ថវិការដ្ឋ","ថវិកាដៃគូ \nអភិវឌ្ឍ","ផ្សេងៗ","ថវិការដ្ឋ","ថវិកាដៃគូ \nអភិវឌ្ឍ","ផ្សេងៗ","ថវិការដ្ឋ","ថវិកាដៃគូ \nអភិវឌ្ឍ","ផ្សេងៗ"]
["សរុបរួម",{"$f":"SUM(B9,B12)","v":0},{"$f":"SUM(C9,C12)","v":0},null,0,0,null,0,0,null,0,0]
["□ សរុបចំណាយចរន្ដ",{"$f":"SUM(B10:B11)","v":0},{"$f":"SUM(C10:C11)","v":0},null,0,0,null,0,0,null,0,0]
["•  បន្ទុកបុគ្គលិក",{"$f":"SUM(B21,B32)","v":0},{"$f":"SUM(C21,C32)","v":0},null,0,0,null,0,0,null,0,0]
["•  ក្រៅបន្ទុកបុគ្គលិក",{"$f":"SUM(B22,B33)","v":0},0,null,0,0,null,0,0,null,0,0]
["□ សរុបចំណាយមូលធន",{"$f":"SUM(B13,B16)","v":0},{"$f":"SUM(C13,C16)","v":0},null,0,0,null,0,0,null,0,0]
["•  គម្រោងវិនិយោគ",{"$f":"SUM(B14:B15)","v":0},{"$f":"SUM(C14:C15)","v":0},null,0,0,null,0,0,null,0,0]
["- មានហិរញ្ញប្បទាន",{"$f":"SUM(B25,B36)","v":0},0,null,0,0,null,0,0,null,0,0]
["- មិនទាន់មានហិរញ្ញប្បទាន",{"$f":"SUM(B26,B37)","v":0},0,null,0,0,null,0,0,null,0,0]
["•  ជំនួយបច្ចេកទេស",{"$f":"SUM(B17:B18)","v":0},{"$f":"SUM(C17:C18)","v":0},null,{"$f":"SUM(E17:E18)","v":0},{"$f":"SUM(F17:F18)","v":0},null,{"$f":"SUM(H17:H18)","v":0},{"$f":"SUM(I17:I18)","v":0},null,{"$f":"SUM(K17:K18)","v":0},{"$f":"SUM(L17:L18)","v":0}]
["- មានហិរញ្ញប្បទាន",{"$f":"SUM(B28,B39)","v":0},0,null,0,0,null,0,0,null,0,0]
["- មិនទាន់មានហិរញ្ញប្បទាន",{"$f":"SUM(B29,B40)","v":0},0,null,0,0,null,0,0,null,0,0]
[{"$f":"ព័ត៌មានអង្គភាព!C5","v":"ច.ស.ក ទី ១. ការចូលរៀនមានគុណភាពប្រកប​ដោយ​សមធម៌ និងបរិយាប័ន្ន និងលើកកម្ពស់ឱកាសក្នុងការសិក្សា​ពេញមួយជីវិតសម្រាប់ទាំងអស់គ្នា"},{"$f":"SUM(B20,B23)","v":0},{"$f":"SUM(C20,C23)","v":0},null,{"$f":"SUM(E20,E23)","v":0},0,null,{"$f":"SUM(H20,H23)","v":0},0,null,{"$f":"SUM(K20,K23)","v":0},0]
["□ សរុបចំណាយចរន្ដ",{"$f":"SUM(B21:B22)","v":0},{"$f":"SUM(C21:C22)","v":0},null,0,0,null,0,0,null,0,0]
["•  បន្ទុកបុគ្គលិក",{"$f":"'Table 4.2'!B22","v":0},{"$f":"'Table 4.2'!C22","v":0},null,{"$f":"'Table 4.2'!E22","v":0},{"$f":"'Table 4.2'!F22","v":0},null,{"$f":"'Table 4.2'!H22","v":0},{"$f":"'Table 4.2'!I22","v":0},null,{"$f":"'Table 4.2'!K22","v":0},{"$f":"'Table 4.2'!L22","v":0}]
["•  ក្រៅបន្ទុកបុគ្គលិក",{"$f":"'Table 4.2'!B23","v":0},{"$f":"'Table 4.2'!C23","v":0},null,{"$f":"'Table 4.2'!E23","v":0},{"$f":"'Table 4.2'!F23","v":0},null,{"$f":"'Table 4.2'!H23","v":0},{"$f":"'Table 4.2'!I23","v":0},null,{"$f":"'Table 4.2'!K23","v":0},{"$f":"'Table 4.2'!L23","v":0}]
["□ សរុបចំណាយមូលធន",{"$f":"SUM(B24,B27)","v":0},{"$f":"SUM(C24,C27)","v":0},null,0,0,null,0,0,null,0,0]
["•  គម្រោងវិនិយោគ",{"$f":"SUM(B25:B26)","v":0},{"$f":"SUM(C25:C26)","v":0},null,0,0,null,0,0,null,0,0]
["- មានហិរញ្ញប្បទាន",{"$f":"'Table 4.2'!B26","v":0},{"$f":"'Table 4.2'!C26","v":0},null,{"$f":"'Table 4.2'!E26","v":0},{"$f":"'Table 4.2'!F26","v":0},null,{"$f":"'Table 4.2'!H26","v":0},{"$f":"'Table 4.2'!I26","v":0},null,{"$f":"'Table 4.2'!K26","v":0},{"$f":"'Table 4.2'!L26","v":0}]
["- មិនទាន់មានហិរញ្ញប្បទាន",{"$f":"'Table 4.2'!B27","v":0},{"$f":"'Table 4.2'!C27","v":0},null,{"$f":"'Table 4.2'!E27","v":0},{"$f":"'Table 4.2'!F27","v":0},null,{"$f":"'Table 4.2'!H27","v":0},{"$f":"'Table 4.2'!I27","v":0},null,{"$f":"'Table 4.2'!K27","v":0},{"$f":"'Table 4.2'!L27","v":0}]
["•  ជំនួយបច្ចេកទេស",{"$f":"SUM(B28:B29)","v":0},{"$f":"SUM(C28:C29)","v":0},null,0,0,null,0,0,null,0,0]
["- មានហិរញ្ញប្បទាន",{"$f":"'Table 4.2'!B29","v":0},{"$f":"'Table 4.2'!C29","v":0},null,{"$f":"'Table 4.2'!E29","v":0},{"$f":"'Table 4.2'!F29","v":0},null,{"$f":"'Table 4.2'!H29","v":0},{"$f":"'Table 4.2'!I29","v":0},null,{"$f":"'Table 4.2'!K29","v":0},{"$f":"'Table 4.2'!L29","v":0}]
["- មិនទាន់មានហិរញ្ញប្បទាន",{"$f":"'Table 4.2'!B30","v":0},{"$f":"'Table 4.2'!C30","v":0},null,{"$f":"'Table 4.2'!E30","v":0},{"$f":"'Table 4.2'!F30","v":0},null,{"$f":"'Table 4.2'!H30","v":0},{"$f":"'Table 4.2'!I30","v":0},null,{"$f":"'Table 4.2'!K30","v":0},{"$f":"'Table 4.2'!L30","v":0}]
[{"$f":"ព័ត៌មានអង្គភាព!C16","v":"ច.ស.ក ទី ២. ការលើកកម្ពស់ភាពជាអ្នកដឹកនាំ និងគ្រប់គ្រង របស់មន្រ្តីអប់រំគ្រប់លំដាប់ថ្នាក់"},{"$f":"SUM(B31,B34)","v":0},{"$f":"SUM(C31,C34)","v":0},null,{"$f":"SUM(E31,E34)","v":0},{"$f":"SUM(F31,F34)","v":0},null,{"$f":"SUM(H31,H34)","v":0},{"$f":"SUM(I31,I34)","v":0},null,{"$f":"SUM(K31,K34)","v":0},{"$f":"SUM(L31,L34)","v":0}]
["□ សរុបចំណាយចរន្ដ",{"$f":"SUM(B32:B33)","v":0},{"$f":"SUM(C32:C33)","v":0},null,{"$f":"SUM(E32:E33)","v":0},0,null,{"$f":"SUM(H32:H33)","v":0},0,null,{"$f":"SUM(K32:K33)","v":0},0]
["•  បន្ទុកបុគ្គលិក",{"$f":"'Table 4.2'!B143","v":0},{"$f":"'Table 4.2'!C143","v":0},null,{"$f":"'Table 4.2'!E143","v":0},{"$f":"'Table 4.2'!F143","v":0},null,{"$f":"'Table 4.2'!H143","v":0},{"$f":"'Table 4.2'!I143","v":0},null,{"$f":"'Table 4.2'!K143","v":0},{"$f":"'Table 4.2'!L143","v":0}]
["•  ក្រៅបន្ទុកបុគ្គលិក",{"$f":"'Table 4.2'!B144","v":0},{"$f":"'Table 4.2'!C144","v":0},null,{"$f":"'Table 4.2'!E144","v":0},{"$f":"'Table 4.2'!F144","v":0},null,{"$f":"'Table 4.2'!H144","v":0},{"$f":"'Table 4.2'!I144","v":0},null,{"$f":"'Table 4.2'!K144","v":0},{"$f":"'Table 4.2'!L144","v":0}]
["□ សរុបចំណាយមូលធន",{"$f":"SUM(B35,B38)","v":0},{"$f":"SUM(C35,C38)","v":0},null,{"$f":"SUM(E35,E38)","v":0},0,null,{"$f":"SUM(H35,H38)","v":0},0,null,{"$f":"SUM(K35,K38)","v":0},0]
["•  គម្រោងវិនិយោគ",{"$f":"SUM(B36:B37)","v":0},{"$f":"SUM(C36:C37)","v":0},null,{"$f":"SUM(E36:E37)","v":0},0,null,{"$f":"SUM(H36:H37)","v":0},0,null,{"$f":"SUM(K36:K37)","v":0},0]
["- មានហិរញ្ញប្បទាន",{"$f":"'Table 4.2'!B147","v":0},{"$f":"'Table 4.2'!C147","v":0},null,{"$f":"'Table 4.2'!E147","v":0},{"$f":"'Table 4.2'!F147","v":0},null,{"$f":"'Table 4.2'!H147","v":0},{"$f":"'Table 4.2'!I147","v":0},null,{"$f":"'Table 4.2'!K147","v":0},{"$f":"'Table 4.2'!L147","v":0}]
["- មិនទាន់មានហិរញ្ញប្បទាន",{"$f":"'Table 4.2'!B148","v":0},{"$f":"'Table 4.2'!C148","v":0},null,{"$f":"'Table 4.2'!E148","v":0},{"$f":"'Table 4.2'!F148","v":0},null,{"$f":"'Table 4.2'!H148","v":0},{"$f":"'Table 4.2'!I148","v":0},null,{"$f":"'Table 4.2'!K148","v":0},{"$f":"'Table 4.2'!L148","v":0}]
["•  ជំនួយបច្ចេកទេស",{"$f":"SUM(B39:B40)","v":0},{"$f":"SUM(C39:C40)","v":0},null,{"$f":"SUM(E39:E40)","v":0},0,null,{"$f":"SUM(H39:H40)","v":0},0,null,{"$f":"SUM(K39:K40)","v":0},0]
["- មានហិរញ្ញប្បទាន",{"$f":"'Table 4.2'!B150","v":0},{"$f":"'Table 4.2'!C150","v":0},null,{"$f":"'Table 4.2'!E150","v":0},{"$f":"'Table 4.2'!F150","v":0},null,{"$f":"'Table 4.2'!H150","v":0},{"$f":"'Table 4.2'!I150","v":0},null,{"$f":"'Table 4.2'!K150","v":0},{"$f":"'Table 4.2'!L150","v":0}]
["- មិនទាន់មានហិរញ្ញប្បទាន",{"$f":"'Table 4.2'!B151","v":0},{"$f":"'Table 4.2'!C151","v":0},null,{"$f":"'Table 4.2'!E151","v":0},{"$f":"'Table 4.2'!F151","v":0},null,{"$f":"'Table 4.2'!H151","v":0},{"$f":"'Table 4.2'!I151","v":0},null,{"$f":"'Table 4.2'!K151","v":0},{"$f":"'Table 4.2'!L151","v":0}]