{"text_format":"1","workbook":"xlsx","n_sheets":32,"sheets":["DoE","E_DoE_Subacc","P_DoE_Subacc","S_DoE_Subacc","H_DoE_Subacc","RB_Subacc","T_DoE_Subacc","DoE_Subacc_Total","Create","Subactivies","Summary_Subacc","E_DoE_Types","P_DoE_Types","S_DoE_Types","H_DoE_Types","RB_Types","T_DoE_Types","DoE_Types_Total","E_DoE_Others","P_DoE_Others","S_DoE_Others","H_DoE_Others","RB_DoE_Others","T_DoE_Others","DoE_Others_Total","E_Annual","P_Annual","S_Annual","H_Annual","RB_Annual","T_Annual","Sch_Annual_Total"],"not_rendered":{"charts":0,"images":3,"macros":1,"external_links":1,"defined_names":0,"comments":0,"pivot_tables":0},"unopened":[],"bounds":{"document_bytes":16777216,"sheet_cells":100000,"rows_first":2000,"rows_last":500,"rows_between":2000,"halvings":0,"cell_chars":16384,"cell_head_chars":4096},"cells_cut":0,"cells_raw":0,"read":"whole","date_system":"1900"}

{"sheet":"DoE","index":0,"n_rows":106,"n_cols":3,"rows_kept":106,"cut":false,"hidden":false,"merged":[[0,0,0,2],[1,0,1,2],[3,0,3,2]]}
[]
["មន្ទីរអប់រំ យុវជន និងកីឡា រាជធានី/ខេត្ត............................."]
[]
["តារាងសម្រង់ឈ្មោះការិយាល័យអប់រំ យុវជន និងកីឡា ក្រុង ស្រុក ខ័ណ្ឌ"]
[]
["ល.រ","ឈ្មោះការិយាល័យអប់រំ យុវជន និងកីឡា ក្រុង ស្រុក ខ័ណ្ឌ","ឈ្មោះឯកសារ(File Name)"]
[1,"ការិយាល័យអប់រំ យុវជន និងកីឡា អង្គគគី","D1"]
[2,"ការិយាល័យអប់រំ យុវជន និងកីឡា ស្វាយរំដួល","D2"]
[3,"ការិយាល័យអប់រំ យុវជន និងកីឡា ត្របែកព្រៃ","D3"]
[4,"ការិយាល័យអប់រំ យុវជន និងកីឡា ត្រាំងចេក","D4"]
[5]
[6]
[7]
[8]
[9]
[10]
[11]
[12]
[13]
[14]
[15]
[16]
[17]
[18]
[19]
[20]
[21]
[22]
[23]
[24]
[25]
[26]
[27]
[28]
[29]
[30]
[31]
[32]
[33]
[34]
[35]
[36]
[37]
[38]
[39]
[40]
[41]
[42]
[43]
[44]
[45]
[46]
[47]
[48]
[49]
[50]
[51]
[52]
[53]
[54]
[55]
[56]
[57]
[58]
[59]
[60]
[61]
[62]
[63]
[64]
[65]
[66]
[67]
[68]
[69]
[70]
[71]
[72]
[73]
[74]
[75]
[76]
[77]
[78]
[79]
[80]
[81]
[82]
[83]
[84]
[85]
[86]
[87]
[88]
[89]
[90]
[91]
[92]
[93]
[94]
[95]
[96]
[97]
[98]
[99]
[100]

{"sheet":"E_DoE_Subacc","index":1,"n_rows":115,"n_cols":137,"rows_kept":115,"cut":false,"hidden":false,"merged":[[14,0,14,1],[10,136,13,136],[10,2,12,2],[10,3,12,3],[10,1,13,1],[10,0,13,0],[11,4,11,6],[11,7,11,9],[11,10,11,12],[10,4,10,63],[11,13,11,15],[11,16,11,18],[11,19,11,21],[11,43,11,45],[11,31,11,33],[11,28,11,30],[11,25,11,27],[11,22,11,24],[11,34,11,36],[11,88,11,90],[11,100,11,102],[11,97,11,99],[11,94,11,96],[11,37,11,39],[11,40,11,42],[11,46,11,48],[11,49,11,51],[11,52,11,54],[11,73,11,75],[11,76,11,78],[11,79,11,81],[11,85,11,87],[11,82,11,84],[10,133,11,135],[10,121,10,132],[10,112,10,120],[11,115,11,117],[11,118,11,120],[11,121,11,123],[11,124,11,126],[11,112,11,114],[8,0,8,17],[5,0,5,4],[6,0,6,4],[11,130,11,132],[11,127,11,129],[11,91,11,93],[11,103,11,105],[11,106,11,108],[11,109,11,111],[11,61,11,63],[11,58,11,60],[11,55,11,57],[10,64,10,111],[11,64,11,66],[11,67,11,69],[11,70,11,72]]}
[]
[]
[]
[null,null,null,null,null,null,null,null,null,null,null,null,null,null,null,null,null,null,null,null,null,null,null,null,null,null,null,null,null,null,null,null,null,null,null,null,null,null,null,null,null,null,null,null,null,null,null,null,null,null,null,null,null,null,null,null,null,null,null,null,null,null,null,null,null,null,null,null,null,null,null,null,null,null,null,null,null,null,null,null,null,null,null,null,null,null,null,null,null,null,null,null,null,null,null,null,null,null,null,null,null,null,null,null,null,null,null,null,null,null,null,null,null,null,null,null,null,null,null,null,null,"        ព្រះរាជាណាចក្រកម្ពុជា"]
[null,null,null,null,null,null,null,null,null,null,null,null,null,null,null,null,null,null,null,null,null,null,null,null,null,null,null,null,null,null,null,null,null,null,null,null,null,null,null,null,null,null,null,null,null,null,null,null,null,null,null,null,null,null,null,null,null,null,null,null,null,null,null,null,null,null,null,null,null,null,null,null,null,null,null,null,null,null,null,null,null,null,null,null,null,null,null,null,null,null,null,null,null,null,null,null,null,null,null,null,null,null,null,null,null,null,null,null,null,null,null,null,null,null,null,null,null,null,null,null,null,"    ជាតិ សាសនា ព្រះមហាក្សត្រ"]
[{"$f":"Create!G2","v":"ក្រសួងអប់រំ យុវជន និងកីឡា"}]
[{"$f":"Create!G3","v":"បំពេញឈ្មោះទីនេះ"}]
[null,null,null,null,null,null,null,null,null,null,null,null,null,null,null,null,null,null,null,null,null,null,null,null,null,null,null,null,null,null,null,null,null,null,null,null,null,null,null,null,null,null,null,null,null,null,null,null,null,null,null,null,null,null,null,null,null,null,null,null,null,null,null,null,null,null,null,null,null,null,null,null,null,null,null,null,null,null,null,null,null,null,null,null,null,null,null,null,null,null,null,null,null,null,null,null,null,null,null,null,null,null,null,null,null,null,null,null,null,null,null,null,null,null,null,null,null,null,null,null,null,null,null,null,null,null,null,null,null,null,null,null,null,null,null,null,"តារាងលេខ ២"]
[{"$f":"CONCATENATE(\"របាយការណ៍ទូទាត់ចំណាយថវិការបស់មត្តេយ្យសិក្សាសម្រាប់ថវិកាដំណើរការសាលារៀនប្រចាំត្រីមាសទី\",IF(Create!$G$4=1,\"១\",IF(Create!$G$4=2,\"២\",IF(Create!$G$4=3,\"៣\",\"៤\"))),\" ឆ្នាំ២០១៨\")","v":"របាយការណ៍ទូទាត់ចំណាយថវិការបស់មត្តេយ្យសិក្សាសម្រាប់ថវិកាដំណើរការសាលារៀនប្រចាំត្រីមាសទី១ ឆ្នាំ២០១៨"}]
[]
["ល.រ","ឈ្មោះការិយាល័យអប់រំ យុវជន និងកីឡា\nក្រុង ឬ ស្រុក ឬ ខ័ណ្ឌ","ឥណទាន\nដើមឆ្នាំ","ឥណទាន\nកែតម្រូវ","ជំពូក ៦០",null,null,null,null,null,null,null,null,null,null,null,null,null,null,null,null,null,null,null,null,null,null,null,null,null,null,null,null,null,null,null,null,null,null,null,null,null,null,null,null,null,null,null,null,null,null,null,null,null,null,null,null,null,null,null,null,null,null,null,"ជំពូក ៦១",null,null,null,null,null,null,null,null,null,null,null,null,null,null,null,null,null,null,null,null,null,null,null,null,null,null,null,null,null,null,null,null,null,null,null,null,null,null,null,null,null,null,null,null,null,null,null,"ជំពូក ៦៤",null,null,null,null,null,null,null,null,"ជំពូក ៦២",null,null,null,null,null,null,null,null,null,null,null,"ចំណាយសរុប",null,null,"ផ្សេងៗ"]
[null,null,null,null,60011,null,null,60012,null,null,60013,null,null,60014,null,null,60021,null,null,60022,null,null,60023,null,null,60031,null,null,60032,null,null,60033,null,null,60035,null,null,60041,null,null,60051,null,null,60052,null,null,60053,null,null,60055,null,null,60061,null,null,60062,null,null,60068,null,null,"សរុប",null,null,61011,null,null,61012,null,null,61021,null,null,61051,null,null,61052,null,null,61053,null,null,61054,null,null,61057,null,null,61071,null,null,61081,null,null,61101,null,null,61102,null,null,61103,null,null,61141,null,null,61142,null,null,"សរុប",null,null,64023,null,null,64033,null,null,"សរុប",null,null,62024,null,null,62025,null,null,62028,null,null,"សរុប"]
[null,null,null,null,"បណ្ដាត្រី.មុន","ក្នុងត្រី.","បូកយោង","បណ្ដាត្រី.មុន","ក្នុងត្រី.","បូកយោង","បណ្ដាត្រី.មុន","ក្នុងត្រី.","បូកយោង","បណ្ដាត្រី.មុន","ក្នុងត្រី.","បូកយោង","បណ្ដាត្រី.មុន","ក្នុងត្រី.","បូកយោង","បណ្ដាត្រី.មុន","ក្នុងត្រី.","បូកយោង","បណ្ដាត្រី.មុន","ក្នុងត្រី.","បូកយោង","បណ្ដាត្រី.មុន","ក្នុងត្រី.","បូកយោង","បណ្ដាត្រី.មុន","ក្នុងត្រី.","បូកយោង","បណ្ដាត្រី.មុន","ក្នុងត្រី.","បូកយោង","បណ្ដាត្រី.មុន","ក្នុងត្រី.","បូកយោង","បណ្ដាត្រី.មុន","ក្នុងត្រី.","បូកយោង","បណ្ដាត្រី.មុន","ក្នុងត្រី.","បូកយោង","បណ្ដាត្រី.មុន","ក្នុងត្រី.","បូកយោង","បណ្ដាត្រី.មុន","ក្នុងត្រី.","បូកយោង","បណ្ដាត្រី.មុន","ក្នុងត្រី.","បូកយោង","បណ្ដាត្រី.មុន","ក្នុងត្រី.","បូកយោង","បណ្ដាត្រី.មុន","ក្នុងត្រី.","បូកយោង","បណ្ដាត្រី.មុន","ក្នុងត្រី.","បូកយោង","បណ្ដាត្រី.មុន","ក្នុងត្រី.","បូកយោង","បណ្ដាត្រី.មុន","ក្នុងត្រី.","បូកយោង","បណ្ដាត្រី.មុន","ក្នុងត្រី.","បូកយោង","បណ្ដាត្រី.មុន","ក្នុងត្រី.","បូកយោង","បណ្ដាត្រី.មុន","ក្នុងត្រី.","បូកយោង","បណ្ដាត្រី.មុន","ក្នុងត្រី.","បូកយោង","បណ្ដាត្រី.មុន","ក្នុងត្រី.","បូកយោង","បណ្ដាត្រី.មុន","ក្នុងត្រី.","បូកយោង","បណ្ដាត្រី.មុន","ក្នុងត្រី.","បូកយោង","បណ្ដាត្រី.មុន","ក្នុងត្រី.","បូកយោង","បណ្ដាត្រី.មុន","ក្នុងត្រី.","បូកយោង","បណ្ដាត្រី.មុន","ក្នុងត្រី.","បូកយោង","បណ្ដាត្រី.មុន","ក្នុងត្រី.","បូកយោង","បណ្ដាត្រី.មុន","ក្នុងត្រី.","បូកយោង","បណ្ដាត្រី.មុន","ក្នុងត្រី.","បូកយោង","បណ្ដាត្រី.មុន","ក្នុងត្រី.","បូកយោង","បណ្ដាត្រី.មុន","ក្នុងត្រី.","បូកយោង","បណ្ដាត្រី.មុន","ក្នុងត្រី.","បូកយោង","បណ្ដាត្រី.មុន","ក្នុងត្រី.","បូកយោង","បណ្ដាត្រី.មុន","ក្នុងត្រី.","បូកយោង","បណ្ដាត្រី.មុន","ក្នុងត្រី.","បូកយោង","បណ្ដាត្រី.មុន","ក្នុងត្រី.","បូកយោង","បណ្ដាត្រី.មុន","ក្នុងត្រី.","បូកយោង","បណ្ដាត្រី.មុន","ក្នុងត្រី.","បូកយោង","បណ្ដាត្រី.មុន","ក្នុងត្រី.","បូកយោង"]
[null,null,1,2,3,4,"5=3+4",6,7,"8=6+7",9,10,"11=9+10",12,13,"14=12+13",15,16,"17=15+16",18,19,"20=18+19",21,22,"23=21+22",24,25,"26=24+25",27,28,"29=27+28",30,31,"32=30+31",33,34,"35=33+34",36,37,"38=36+37",39,40,"41=39+40",42,43,"44=42+43",45,46,"47=45+46",48,49,"50=48+49",51,52,"53=51+52",54,55,"56=54+55",57,58,"59=57+58","60=3+6+9+…+57","61=4+7+10+…+58","62=60+61",63,64,"65=63+64",66,67,"68=66+67",69,70,"71=69+70",72,73,"74=72+73",75,76,"77=75+76",78,79,"80=78+79",81,82,"83=81+82",84,85,"86=84+85",87,88,"89=87+88",90,91,"92=90+91",93,94,"95=93+94",96,97,"98=96+97",99,100,"101=99+100",102,103,"104=102+103",105,106,"107=105+106","108=63+66+…+105","109=64+67+…+106","110=108+109",111,112,"113=111+112",114,115,"116=114+115","117=111+114","118=112+115","119=117+118",120,121,"122=120+121",123,124,125,126,127,"128=126+127",129,130,"131=129+130","132=60+108+117+129","133=61+109+118+130","134=132+133"]
["សរុប",null,{"$f":"SUM(C16:C115)","v":10},{"$f":"SUM(D16:D115)","v":15},0,0,{"$f":"SUM(E15:F15)","v":0},0,0,{"$f":"SUM(H15:I15)","v":0},0,0,{"$f":"SUM(K15:L15)","v":0},0,0,{"$f":"SUM(N15:O15)","v":0},0,0,{"$f":"SUM(Q15:R15)","v":0},0,0,{"$f":"SUM(T15:U15)","v":0},0,0,{"$f":"SUM(W15:X15)","v":0},0,0,{"$f":"SUM(Z15:AA15)","v":0},0,0,{"$f":"SUM(AC15:AD15)","v":0},0,0,{"$f":"SUM(AF15:AG15)","v":0},0,0,{"$f":"SUM(AI15:AJ15)","v":0},0,0,{"$f":"SUM(AL15:AM15)","v":0},0,0,{"$f":"SUM(AO15:AP15)","v":0},0,0,{"$f":"SUM(AR15:AS15)","v":0},0,0,{"$f":"SUM(AU15:AV15)","v":0},0,0,{"$f":"SUM(AX15:AY15)","v":0},0,0,{"$f":"SUM(BA15:BB15)","v":0},0,0,{"$f":"SUM(BD15:BE15)","v":0},0,0,{"$f":"SUM(BG15:BH15)","v":0},{"$f":"SUM(E15,H15,K15,N15,Q15,T15,W15,Z15,AC15,AF15,AI15,AL15,AO15,AR15,AU15,AX15,BA15,BD15,BG15)","v":0},{"$f":"SUM(F15,I15,L15,O15,R15,U15,X15,AA15,AD15,AG15,AJ15,AM15,AP15,AS15,AV15,AY15,BB15,BE15,BH15)","v":0},{"$f":"SUM(BJ15:BK15)","v":0},0,0,{"$f":"SUM(BM15:BN15)","v":0},{"$f":"SUM(BP16:BP115)","v":0},0,{"$f":"SUM(BP15:BQ15)","v":0},0,0,{"$f":"SUM(BS15:BT15)","v":0},0,0,{"$f":"SUM(BV15:BW15)","v":0},0,0,{"$f":"SUM(BY15:BZ15)","v":0},0,0,{"$f":"SUM(CB15:CC15)","v":0},0,0,{"$f":"SUM(CE15:CF15)","v":0},0,0,{"$f":"SUM(CH15:CI15)","v":0},0,0,{"$f":"SUM(CK15:CL15)","v":0},0,0,{"$f":"SUM(CN15:CO15)","v":0},0,0,{"$f":"SUM(CQ15:CR15)","v":0},0,0,{"$f":"SUM(CT15:CU15)","v":0},0,0,{"$f":"SUM(CW15:CX15)","v":0},0,0,{"$f":"SUM(CZ15:DA15)","v":0},0,0,{"$f":"SUM(DC15:DD15)","v":0},{"$f":"SUM(BM15,BP15,BS15,BV15,BY15,CB15,CE15,CH15,CK15,CN15,CQ15,CT15,CW15,CZ15,DC15)","v":0},{"$f":"SUM(BN15,BQ15,BT15,BW15,BZ15,CC15,CF15,CI15,CL15,CO15,CR15,CU15,CX15,DA15,DD15)","v":0},{"$f":"SUM(DF15:DG15)","v":0},0,0,{"$f":"SUM(DI15:DJ15)","v":0},0,0,{"$f":"SUM(DL15:DM15)","v":0},{"$f":"SUM(DI15,DL15)","v":0},{"$f":"SUM(DJ15,DM15)","v":0},{"$f":"SUM(DO15:DP15)","v":0},0,0,{"$f":"SUM(DR15:DS15)","v":0},0,0,{"$f":"SUM(DU15:DV15)","v":0},0,0,{"$f":"SUM(DX15:DY15)","v":0},{"$f":"SUM(DR15,DU15,DX15)","v":0},{"$f":"SUM(DS15,DV15,DY15)","v":0},{"$f":"SUM(EA15:EB15)","v":0},{"$f":"SUM(BJ15,DF15,DO15,EA15)","v":0},{"$f":"SUM(BK15,DG15,DP15,EB15)","v":0},{"$f":"SUM(ED15:EE15)","v":0}]
[1,{"$f":"[1]E_Sch_Subacc!A7","v":"ការិយាល័យអប់រំ យុវជន និងកីឡាក្រុងប៉ៃលិន"},{"$f":"[1]E_Sch_Subacc!C15","v":10},{"$f":"[1]E_Sch_Subacc!D15","v":15},{"$f":"[1]E_Sch_Subacc!E15","v":0},{"$f":"[1]E_Sch_Subacc!F15","v":0},{"$f":"SUM(E16:F16)","v":0},{"$f":"[1]E_Sch_Subacc!H15","v":0},{"$f":"[1]E_Sch_Subacc!I15","v":0},{"$f":"SUM(H16:I16)","v":0},{"$f":"[1]E_Sch_Subacc!K15","v":0},{"$f":"[1]E_Sch_Subacc!L15","v":0},{"$f":"SUM(K16:L16)","v":0},{"$f":"[1]E_Sch_Subacc!N15","v":0},{"$f":"[1]E_Sch_Subacc!O15","v":0},{"$f":"SUM(N16:O16)","v":0},{"$f":"[1]E_Sch_Subacc!Q15","v":0},{"$f":"[1]E_Sch_Subacc!R15","v":0},{"$f":"SUM(Q16:R16)","v":0},{"$f":"[1]E_Sch_Subacc!T15","v":0},{"$f":"[1]E_Sch_Subacc!U15","v":0},{"$f":"SUM(T16:U16)","v":0},{"$f":"[1]E_Sch_Subacc!W15","v":0},{"$f":"[1]E_Sch_Subacc!X15","v":0},{"$f":"SUM(W16:X16)","v":0},{"$f":"[1]E_Sch_Subacc!Z15","v":0},{"$f":"[1]E_Sch_Subacc!AA15","v":0},{"$f":"SUM(Z16:AA16)","v":0},{"$f":"[1]E_Sch_Subacc!AC15","v":0},{"$f":"[1]E_Sch_Subacc!AD15","v":0},{"$f":"SUM(AC16:AD16)","v":0},{"$f":"[1]E_Sch_Subacc!AF15","v":0},{"$f":"[1]E_Sch_Subacc!AG15","v":0},{"$f":"SUM(AF16:AG16)","v":0},{"$f":"[1]E_Sch_Subacc!AI15","v":0},{"$f":"[1]E_Sch_Subacc!AJ15","v":0},{"$f":"SUM(AI16:AJ16)","v":0},{"$f":"[1]E_Sch_Subacc!AL15","v":0},{"$f":"[1]E_Sch_Subacc!AM15","v":0},{"$f":"SUM(AL16:AM16)","v":0},{"$f":"[1]E_Sch_Subacc!AO15","v":0},{"$f":"[1]E_Sch_Subacc!AP15","v":0},{"$f":"SUM(AO16:AP16)","v":0},{"$f":"[1]E_Sch_Subacc!AR15","v":0},{"$f":"[1]E_Sch_Subacc!AS15","v":0},{"$f":"SUM(AR16:AS16)","v":0},{"$f":"[1]E_Sch_Subacc!AU15","v":0},{"$f":"[1]E_Sch_Subacc!AV15","v":0},{"$f":"SUM(AU16:AV16)","v":0},{"$f":"[1]E_Sch_Subacc!AX15","v":0},{"$f":"[1]E_Sch_Subacc!AY15","v":0},{"$f":"SUM(AX16:AY16)","v":0},{"$f":"[1]E_Sch_Subacc!BA15","v":0},{"$f":"[1]E_Sch_Subacc!BB15","v":0},{"$f":"SUM(BA16:BB16)","v":0},{"$f":"[1]E_Sch_Subacc!BD15","v":0},{"$f":"[1]E_Sch_Subacc!BE15","v":0},{"$f":"SUM(BD16:BE16)","v":0},{"$f":"[1]E_Sch_Subacc!BG15","v":0},{"$f":"[1]E_Sch_Subacc!BH15","v":0},{"$f":"SUM(BG16:BH16)","v":0},{"$f":"SUM(E16,H16,K16,N16,Q16,T16,W16,Z16,AC16,AF16,AI16,AL16,AO16,AR16,AU16,AX16,BA16,BD16,BG16)","v":0},{"$f":"SUM(F16,I16,L16,O16,R16,U16,X16,AA16,AD16,AG16,AJ16,AM16,AP16,AS16,AV16,AY16,BB16,BE16,BH16)","v":0},{"$f":"SUM(BJ16:BK16)","v":0},{"$f":"[1]E_Sch_Subacc!BM15","v":0},{"$f":"[1]E_Sch_Subacc!BN15","v":0},{"$f":"SUM(BM16:BN16)","v":0},{"$f":"[1]E_Sch_Subacc!BP15","v":0},{"$f":"[1]E_Sch_Subacc!BQ15","v":0},{"$f":"SUM(BP16:BQ16)","v":0},{"$f":"[1]E_Sch_Subacc!BS15","v":0},{"$f":"[1]E_Sch_Subacc!BT15","v":0},{"$f":"SUM(BS16:BT16)","v":0},{"$f":"[1]E_Sch_Subacc!BV15","v":0},{"$f":"[1]E_Sch_Subacc!BW15","v":0},{"$f":"SUM(BV16:BW16)","v":0},{"$f":"[1]E_Sch_Subacc!BY15","v":0},{"$f":"[1]E_Sch_Subacc!BZ15","v":0},{"$f":"SUM(BY16:BZ16)","v":0},{"$f":"[1]E_Sch_Subacc!CB15","v":0},{"$f":"[1]E_Sch_Subacc!CC15","v":0},{"$f":"SUM(CB16:CC16)","v":0},{"$f":"[1]E_Sch_Subacc!CE15","v":0},{"$f":"[1]E_Sch_Subacc!CF15","v":0},{"$f":"SUM(CE16:CF16)","v":0},{"$f":"[1]E_Sch_Subacc!CH15","v":0},{"$f":"[1]E_Sch_Subacc!CI15","v":0},{"$f":"SUM(CH16:CI16)","v":0},{"$f":"[1]E_Sch_Subacc!CK15","v":0},{"$f":"[1]E_Sch_Subacc!CL15","v":0},{"$f":"SUM(CK16:CL16)","v":0},{"$f":"[1]E_Sch_Subacc!CN15","v":0},{"$f":"[1]E_Sch_Subacc!CO15","v":0},{"$f":"SUM(CN16:CO16)","v":0},{"$f":"[1]E_Sch_Subacc!CQ15","v":0},{"$f":"[1]E_Sch_Subacc!CR15","v":0},{"$f":"SUM(CQ16:CR16)","v":0},{"$f":"[1]E_Sch_Subacc!CT15","v":0},{"$f":"[1]E_Sch_Subacc!CU15","v":0},{"$f":"SUM(CT16:CU16)","v":0},{"$f":"[1]E_Sch_Subacc!CW15","v":0},{"$f":"[1]E_Sch_Subacc!CX15","v":0},{"$f":"SUM(CW16:CX16)","v":0},{"$f":"[1]E_Sch_Subacc!CZ15","v":0},{"$f":"[1]E_Sch_Subacc!DA15","v":0},{"$f":"SUM(CZ16:DA16)","v":0},{"$f":"[1]E_Sch_Subacc!DC15","v":0},{"$f":"[1]E_Sch_Subacc!DD15","v":0},{"$f":"SUM(DC16:DD16)","v":0},{"$f":"SUM(BM16,BP16,BS16,BV16,BY16,CB16,CE16,CH16,CK16,CN16,CQ16,CT16,CW16,CZ16,DC16)","v":0},{"$f":"SUM(BN16,BQ16,BT16,BW16,BZ16,CC16,CF16,CI16,CL16,CO16,CR16,CU16,CX16,DA16,DD16)","v":0},{"$f":"SUM(DF16:DG16)","v":0},{"$f":"[1]E_Sch_Subacc!DI15","v":0},{"$f":"[1]E_Sch_Subacc!DJ15","v":0},{"$f":"SUM(DI16:DJ16)","v":0},{"$f":"[1]E_Sch_Subacc!DL15","v":0},{"$f":"[1]E_Sch_Subacc!DM15","v":0},{"$f":"SUM(DL16:DM16)","v":0},{"$f":"SUM(DI16,DL16)","v":0},{"$f":"SUM(DJ16,DM16)","v":0},{"$f":"SUM(DO16:DP16)","v":0},{"$f":"[1]E_Sch_Subacc!DR15","v":0},{"$f":"[1]E_Sch_Subacc!DS15","v":0},{"$f":"SUM(DR16:DS16)","v":0},{"$f":"[1]E_Sch_Subacc!DU15","v":0},{"$f":"[1]E_Sch_Subacc!DV15","v":0},{"$f":"SUM(DU16:DV16)","v":0},{"$f":"[1]E_Sch_Subacc!DX15","v":0},{"$f":"[1]E_Sch_Subacc!DY15","v":0},{"$f":"SUM(DX16:DY16)","v":0},{"$f":"SUM(DR16,DU16,DX16)","v":0},{"$f":"SUM(DS16,DV16,DY16)","v":0},{"$f":"SUM(EA16:EB16)","v":0},{"$f":"SUM(BJ16,DF16,DO16,EA16)","v":0},{"$f":"SUM(BK16,DG16,DP16,EB16)","v":0},{"$f":"SUM(ED16:EE16)","v":0}]
[2,null,null,null,null,null,{"$f":"SUM(E17:F17)","v":0},null,null,0,null,null,0,null,null,0,null,null,0,null,null,0,null,null,0,null,null,0,null,null,0,null,null,0,null,null,0,null,null,0,null,null,0,null,null,0,null,null,0,null,null,0,null,null,0,null,null,0,null,null,0,0,0,0,null,null,0,null,null,0,null,null,0,null,null,0,null,null,0,null,null,0,null,null,0,null,null,0,null,null,0,null,null,0,null,null,0,null,null,0,null,null,0,null,null,0,null,null,0,0,0,0,null,null,0,null,null,0,0,0,0,null,null,0,null,null,0,null,null,0,0,0,0,0,0,0]
[3,null,null,null,null,null,0,null,null,0,null,null,0,null,null,0,null,null,0,null,null,0,null,null,0,null,null,0,null,null,0,null,null,0,null,null,0,null,null,0,null,null,0,null,null,0,null,null,0,null,null,0,null,null,0,null,null,0,null,null,0,0,0,0,null,null,0,null,null,0,null,null,0,null,null,0,null,null,0,null,null,0,null,null,0,null,null,0,null,null,0,null,null,0,null,null,0,null,null,0,null,null,0,null,null,0,null,null,0,0,0,0,null,null,0,null,null,0,0,0,0,null,null,0,null,null,0,null,null,0,0,0,0,0,0,0]
[4,null,null,null,null,null,0,null,null,0,null,null,0,null,null,0,null,null,0,null,null,0,null,null,0,null,null,0,null,null,0,null,null,0,null,null,0,null,null,0,null,null,0,null,null,0,null,null,0,null,null,0,null,null,0,null,null,0,null,null,0,0,0,0,null,null,0,null,null,0,null,null,0,null,null,0,null,null,0,null,null,0,null,null,0,null,null,0,null,null,0,null,null,0,null,null,0,null,null,0,null,null,0,null,null,0,null,null,0,0,0,0,null,null,0,null,null,0,0,0,0,null,null,0,null,null,0,null,null,0,0,0,0,0,0,0]
[5,null,null,null,null,null,0,null,null,0,null,null,0,null,null,0,null,null,0,null,null,0,null,null,0,null,null,0,null,null,0,null,null,0,null,null,0,null,null,0,null,null,0,null,null,0,null,null,0,null,null,0,null,null,0,null,null,0,null,null,0,0,0,0,null,null,0,null,null,0,null,null,0,null,null,0,null,null,0,null,null,0,null,null,0,null,null,0,null,null,0,null,null,0,null,null,0,null,null,0,null,null,0,null,null,0,null,null,0,0,0,0,null,null,0,null,null,0,0,0,0,null,null,0,null,null,0,null,null,0,0,0,0,0,0,0]
[6,null,null,null,null,null,0,null,null,0,null,null,0,null,null,0,null,null,0,null,null,0,null,null,0,null,null,0,null,null,0,null,null,0,null,null,0,null,null,0,null,null,0,null,null,0,null,null,0,null,null,0,null,null,0,null,null,0,null,null,0,0,0,0,null,null,0,null,null,0,null,null,0,null,null,0,null,null,0,null,null,0,null,null,0,null,null,0,null,null,0,null,null,0,null,null,0,null,null,0,null,null,0,null,null,0,null,null,0,0,0,0,null,null,0,null,null,0,0,0,0,null,null,0,null,null,0,null,null,0,0,0,0,0,0,0]
[7,null,null,null,null,null,0,null,null,0,null,null,0,null,null,0,null,null,0,null,null,0,null,null,0,null,null,0,null,null,0,null,null,0,null,null,0,null,null,0,null,null,0,null,null,0,null,null,0,null,null,0,null,null,0,null,null,0,null,null,0,0,0,0,null,null,0,null,null,0,null,null,0,null,null,0,null,null,0,null,null,0,null,null,0,null,null,0,null,null,0,null,null,0,null,null,0,null,null,0,null,null,0,null,null,0,null,null,0,0,0,0,null,null,0,null,null,0,0,0,0,null,null,0,null,null,0,null,null,0,0,0,0,0,0,0]
[8,null,null,null,null,null,0,null,null,0,null,null,0,null,null,0,null,null,0,null,null,0,null,null,0,null,null,0,null,null,0,null,null,0,null,null,0,null,null,0,null,null,0,null,null,0,null,null,0,null,null,0,null,null,0,null,null,0,null,null,0,0,0,0,null,null,0,null,null,0,null,null,0,null,null,0,null,null,0,null,null,0,null,null,0,null,null,0,null,null,0,null,null,0,null,null,0,null,null,0,null,null,0,null,null,0,null,null,0,0,0,0,null,null,0,null,null,0,0,0,0,null,null,0,null,null,0,null,null,0,0,0,0,0,0,0]
[9,null,null,null,null,null,0,null,null,0,null,null,0,null,null,0,null,null,0,null,null,0,null,null,0,null,null,0,null,null,0,null,null,0,null,null,0,null,null,0,null,null,0,null,null,0,null,null,0,null,null,0,null,null,0,null,null,0,null,null,0,0,0,0,null,null,0,null,null,0,null,null,0,null,null,0,null,null,0,null,null,0,null,null,0,null,null,0,null,null,0,null,null,0,null,null,0,null,null,0,null,null,0,null,null,0,null,null,0,0,0,0,null,null,0,null,null,0,0,0,0,null,null,0,null,null,0,null,null,0,0,0,0,0,0,0]
[10,null,null,null,null,null,0,null,null,0,null,null,0,null,null,0,null,null,0,null,null,0,null,null,0,null,null,0,null,null,0,null,null,0,null,null,0,null,null,0,null,null,0,null,null,0,null,null,0,null,null,0,null,null,0,null,null,0,null,null,0,0,0,0,null,null,0,null,null,0,null,null,0,null,null,0,null,null,0,null,null,0,null,null,0,null,null,0,null,null,0,null,null,0,null,null,0,null,null,0,null,null,0,null,null,0,null,null,0,0,0,0,null,null,0,null,null,0,0,0,0,null,null,0,null,null,0,null,null,0,0,0,0,0,0,0]
[11,null,null,null,null,null,0,null,null,0,null,null,0,null,null,0,null,null,0,null,null,0,null,null,0,null,null,0,null,null,0,null,null,0,null,null,0,null,null,0,null,null,0,null,null,0,null,null,0,null,null,0,null,null,0,null,null,0,null,null,0,0,0,0,null,null,0,null,null,0,null,null,0,null,null,0,null,null,0,null,null,0,null,null,0,null,null,0,null,null,0,null,null,0,null,null,0,null,null,0,null,null,0,null,null,0,null,null,0,0,0,0,null,null,0,null,null,0,0,0,0,null,null,0,null,null,0,null,null,0,0,0,0,0,0,0]
[12,null,null,null,null,null,0,null,null,0,null,null,0,null,null,0,null,null,0,null,null,0,null,null,0,null,null,0,null,null,0,null,null,0,null,null,0,null,null,0,null,null,0,null,null,0,null,null,0,null,null,0,null,null,0,null,null,0,null,null,0,0,0,0,null,null,0,null,null,0,null,null,0,null,null,0,null,null,0,null,null,0,null,null,0,null,null,0,null,null,0,null,null,0,null,null,0,null,null,0,null,null,0,null,null,0,null,null,0,0,0,0,null,null,0,null,null,0,0,0,0,null,null,0,null,null,0,null,null,0,0,0,0,0,0,0]
[13,null,null,null,null,null,0,null,null,0,null,null,0,null,null,0,null,null,0,null,null,0,null,null,0,null,null,0,null,null,0,null,null,0,null,null,0,null,null,0,null,null,0,null,null,0,null,null,0,null,null,0,null,null,0,null,null,0,null,null,0,0,0,0,null,null,0,null,null,0,null,null,0,null,null,0,null,null,0,null,null,0,null,null,0,null,null,0,null,null,0,null,null,0,null,null,0,null,null,0,null,null,0,null,null,0,null,null,0,0,0,0,null,null,0,null,null,0,0,0,0,null,null,0,null,null,0,null,null,0,0,0,0,0,0,0]
[14,null,null,null,null,null,0,null,null,0,null,null,0,null,null,0,null,null,0,null,null,0,null,null,0,null,null,0,null,null,0,null,null,0,null,null,0,null,null,0,null,null,0,null,null,0,null,null,0,null,null,0,null,null,0,null,null,0,null,null,0,0,0,0,null,null,0,null,null,0,null,null,0,null,null,0,null,null,0,null,null,0,null,null,0,null,null,0,null,null,0,null,null,0,null,null,0,null,null,0,null,null,0,null,null,0,null,null,0,0,0,0,null,null,0,null,null,0,0,0,0,null,null,0,null,null,0,null,null,0,0,0,0,0,0,0]
[15,null,null,null,null,null,0,null,null,0,null,null,0,null,null,0,null,null,0,null,null,0,null,null,0,null,null,0,null,null,0,null,null,0,null,null,0,null,null,0,null,null,0,null,null,0,null,null,0,null,null,0,null,null,0,null,null,0,null,null,0,0,0,0,null,null,0,null,null,0,null,null,0,null,null,0,null,null,0,null,null,0,null,null,0,null,null,0,null,null,0,null,null,0,null,null,0,null,null,0,null,null,0,null,null,0,null,null,0,0,0,0,null,null,0,null,null,0,0,0,0,null,null,0,null,null,0,null,null,0,0,0,0,0,0,0]
[16,null,null,null,null,null,0,null,null,0,null,null,0,null,null,0,null,null,0,null,null,0,null,null,0,null,null,0,null,null,0,null,null,0,null,null,0,null,null,0,null,null,0,null,null,0,null,null,0,null,null,0,null,null,0,null,null,0,null,null,0,0,0,0,null,null,0,null,null,0,null,null,0,null,null,0,null,null,0,null,null,0,null,null,0,null,null,0,null,null,0,null,null,0,null,null,0,null,null,0,null,null,0,null,null,0,null,null,0,0,0,0,null,null,0,null,null,0,0,0,0,null,null,0,null,null,0,null,null,0,0,0,0,0,0,0]
[17,null,null,null,null,null,0,null,null,0,null,null,0,null,null,0,null,null,0,null,null,0,null,null,0,null,null,0,null,null,0,null,null,0,null,null,0,null,null,0,null,null,0,null,null,0,null,null,0,null,null,0,null,null,0,null,null,0,null,null,0,0,0,0,null,null,0,null,null,0,null,null,0,null,null,0,null,null,0,null,null,0,null,null,0,null,null,0,null,null,0,null,null,0,null,null,0,null,null,0,null,null,0,null,null,0,null,null,0,0,0,0,null,null,0,null,null,0,0,0,0,null,null,0,null,null,0,null,null,0,0,0,0,0,0,0]
[18,null,null,null,null,null,0,null,null,0,null,null,0,null,null,0,null,null,0,null,null,0,null,null,0,null,null,0,null,null,0,null,null,0,null,null,0,null,null,0,null,null,0,null,null,0,null,null,0,null,null,0,null,null,0,null,null,0,null,null,0,0,0,0,null,null,0,null,null,0,null,null,0,null,null,0,null,null,0,null,null,0,null,null,0,null,null,0,null,null,0,null,null,0,null,null,0,null,null,0,null,null,0,null,null,0,null,null,0,0,0,0,null,null,0,null,null,0,0,0,0,null,null,0,null,null,0,null,null,0,0,0,0,0,0,0]
[19,null,null,null,null,null,0,null,null,0,null,null,0,null,null,0,null,null,0,null,null,0,null,null,0,null,null,0,null,null,0,null,null,0,null,null,0,null,null,0,null,null,0,null,null,0,null,null,0,null,null,0,null,null,0,null,null,0,null,null,0,0,0,0,null,null,0,null,null,0,null,null,0,null,null,0,null,null,0,null,null,0,null,null,0,null,null,0,null,null,0,null,null,0,null,null,0,null,null,0,null,null,0,null,null,0,null,null,0,0,0,0,null,null,0,null,null,0,0,0,0,null,null,0,null,null,0,null,null,0,0,0,0,0,0,0]
[20,null,null,null,null,null,0,null,null,0,null,null,0,null,null,0,null,null,0,null,null,0,null,null,0,null,null,0,null,null,0,null,null,0,null,null,0,null,null,0,null,null,0,null,null,0,null,null,0,null,null,0,null,null,0,null,null,0,null,null,0,0,0,0,null,null,0,null,null,0,null,null,0,null,null,0,null,null,0,null,null,0,null,null,0,null,null,0,null,null,0,null,null,0,null,null,0,null,null,0,null,null,0,null,null,0,null,null,0,0,0,0,null,null,0,null,null,0,0,0,0,null,null,0,null,null,0,null,null,0,0,0,0,0,0,0]
[21,null,null,null,null,null,0,null,null,0,null,null,0,null,null,0,null,null,0,null,null,0,null,null,0,null,null,0,null,null,0,null,null,0,null,null,0,null,null,0,null,null,0,null,null,0,null,null,0,null,null,0,null,null,0,null,null,0,null,null,0,0,0,0,null,null,0,null,null,0,null,null,0,null,null,0,null,null,0,null,null,0,null,null,0,null,null,0,null,null,0,null,null,0,null,null,0,null,null,0,null,null,0,null,null,0,null,null,0,0,0,0,null,null,0,null,null,0,0,0,0,null,null,0,null,null,0,null,null,0,0,0,0,0,0,0]
[22,null,null,null,null,null,0,null,null,0,null,null,0,null,null,0,null,null,0,null,null,0,null,null,0,null,null,0,null,null,0,null,null,0,null,null,0,null,null,0,null,null,0,null,null,0,null,null,0,null,null,0,null,null,0,null,null,0,null,null,0,0,0,0,null,null,0,null,null,0,null,null,0,null,null,0,null,null,0,null,null,0,null,null,0,null,null,0,null,null,0,null,null,0,null,null,0,null,null,0,null,null,0,null,null,0,null,null,0,0,0,0,null,null,0,null,null,0,0,0,0,null,null,0,null,null,0,null,null,0,0,0,0,0,0,0]
[23,null,null,null,null,null,0,null,null,0,null,null,0,null,null,0,null,null,0,null,null,0,null,null,0,null,null,0,null,null,0,null,null,0,null,null,0,null,null,0,null,null,0,null,null,0,null,null,0,null,null,0,null,null,0,null,null,0,null,null,0,0,0,0,null,null,0,null,null,0,null,null,0,null,null,0,null,null,0,null,null,0,null,null,0,null,null,0,null,null,0,null,null,0,null,null,0,null,null,0,null,null,0,null,null,0,null,null,0,0,0,0,null,null,0,null,null,0,0,0,0,null,null,0,null,null,0,null,null,0,0,0,0,0,0,0]
[24,null,null,null,null,null,0,null,null,0,null,null,0,null,null,0,null,null,0,null,null,0,null,null,0,null,null,0,null,null,0,null,null,0,null,null,0,null,null,0,null,null,0,null,null,0,null,null,0,null,null,0,null,null,0,null,null,0,null,null,0,0,0,0,null,null,0,null,null,0,null,null,0,null,null,0,null,null,0,null,null,0,null,null,0,null,null,0,null,null,0,null,null,0,null,null,0,null,null,0,null,null,0,null,null,0,null,null,0,0,0,0,null,null,0,null,null,0,0,0,0,null,null,0,null,null,0,null,null,0,0,0,0,0,0,0]
[25,null,null,null,null,null,0,null,null,0,null,null,0,null,null,0,null,null,0,null,null,0,null,null,0,null,null,0,null,null,0,null,null,0,null,null,0,null,null,0,null,null,0,null,null,0,null,null,0,null,null,0,null,null,0,null,null,0,null,null,0,0,0,0,null,null,0,null,null,0,null,null,0,null,null,0,null,null,0,null,null,0,null,null,0,null,null,0,null,null,0,null,null,0,null,null,0,null,null,0,null,null,0,null,null,0,null,null,0,0,0,0,null,null,0,null,null,0,0,0,0,null,null,0,null,null,0,null,null,0,0,0,0,0,0,0]
[26,null,null,null,null,null,0,null,null,0,null,null,0,null,null,0,null,null,0,null,null,0,null,null,0,null,null,0,null,null,0,null,null,0,null,null,0,null,null,0,null,null,0,null,null,0,null,null,0,null,null,0,null,null,0,null,null,0,null,null,0,0,0,0,null,null,0,null,null,0,null,null,0,null,null,0,null,null,0,null,null,0,null,null,0,null,null,0,null,null,0,null,null,0,null,null,0,null,null,0,null,null,0,null,null,0,null,null,0,0,0,0,null,null,0,null,null,0,0,0,0,null,null,0,null,null,0,null,null,0,0,0,0,0,0,0]
[27,null,null,null,null,null,0,null,null,0,null,null,0,null,null,0,null,null,0,null,null,0,null,null,0,null,null,0,null,null,0,null,null,0,null,null,0,null,null,0,null,null,0,null,null,0,null,null,0,null,null,0,null,null,0,null,null,0,null,null,0,0,0,0,null,null,0,null,null,0,null,null,0,null,null,0,null,null,0,null,null,0,null,null,0,null,null,0,null,null,0,null,null,0,null,null,0,null,null,0,null,null,0,null,null,0,null,null,0,0,0,0,null,null,0,null,null,0,0,0,0,null,null,0,null,null,0,null,null,0,0,0,0,0,0,0]
[28,null,null,null,null,null,0,null,null,0,null,null,0,null,null,0,null,null,0,null,null,0,null,null,0,null,null,0,null,null,0,null,null,0,null,null,0,null,null,0,null,null,0,null,null,0,null,null,0,null,null,0,null,null,0,null,null,0,null,null,0,0,0,0,null,null,0,null,null,0,null,null,0,null,null,0,null,null,0,null,null,0,null,null,0,null,null,0,null,null,0,null,null,0,null,null,0,null,null,0,null,null,0,null,null,0,null,null,0,0,0,0,null,null,0,null,null,0,0,0,0,null,null,0,null,null,0,null,null,0,0,0,0,0,0,0]
[29,null,null,null,null,null,0,null,null,0,null,null,0,null,null,0,null,null,0,null,null,0,null,null,0,null,null,0,null,null,0,null,null,0,null,null,0,null,null,0,null,null,0,null,null,0,null,null,0,null,null,0,null,null,0,null,null,0,null,null,0,0,0,0,null,null,0,null,null,0,null,null,0,null,null,0,null,null,0,null,null,0,null,null,0,null,null,0,null,null,0,null,null,0,null,null,0,null,null,0,null,null,0,null,null,0,null,null,0,0,0,0,null,null,0,null,null,0,0,0,0,null,null,0,null,null,0,null,null,0,0,0,0,0,0,0]
[30,null,null,null,null,null,0,null,null,0,null,null,0,null,null,0,null,null,0,null,null,0,null,null,0,null,null,0,null,null,0,null,null,0,null,null,0,null,null,0,null,null,0,null,null,0,null,null,0,null,null,0,null,null,0,null,null,0,null,null,0,0,0,0,null,null,0,null,null,0,null,null,0,null,null,0,null,null,0,null,null,0,null,null,0,null,null,0,null,null,0,null,null,0,null,null,0,null,null,0,null,null,0,null,null,0,null,null,0,0,0,0,null,null,0,null,null,0,0,0,0,null,null,0,null,null,0,null,null,0,0,0,0,0,0,0]
[31,null,null,null,null,null,0,null,null,0,null,null,0,null,null,0,null,null,0,null,null,0,null,null,0,null,null,0,null,null,0,null,null,0,null,null,0,null,null,0,null,null,0,null,null,0,null,null,0,null,null,0,null,null,0,null,null,0,null,null,0,0,0,0,null,null,0,null,null,0,null,null,0,null,null,0,null,null,0,null,null,0,null,null,0,null,null,0,null,null,0,null,null,0,null,null,0,null,null,0,null,null,0,null,null,0,null,null,0,0,0,0,null,null,0,null,null,0,0,0,0,null,null,0,null,null,0,null,null,0,0,0,0,0,0,0]
[32,null,null,null,null,null,0,null,null,0,null,null,0,null,null,0,null,null,0,null,null,0,null,null,0,null,null,0,null,null,0,null,null,0,null,null,0,null,null,0,null,null,0,null,null,0,null,null,0,null,null,0,null,null,0,null,null,0,null,null,0,0,0,0,null,null,0,null,null,0,null,null,0,null,null,0,null,null,0,null,null,0,null,null,0,null,null,0,null,null,0,null,null,0,null,null,0,null,null,0,null,null,0,null,null,0,null,null,0,0,0,0,null,null,0,null,null,0,0,0,0,null,null,0,null,null,0,null,null,0,0,0,0,0,0,0]
[33,null,null,null,null,null,0,null,null,0,null,null,0,null,null,0,null,null,0,null,null,0,null,null,0,null,null,0,null,null,0,null,null,0,null,null,0,null,null,0,null,null,0,null,null,0,null,null,0,null,null,0,null,null,0,null,null,0,null,null,0,0,0,0,null,null,0,null,null,0,null,null,0,null,null,0,null,null,0,null,null,0,null,null,0,null,null,0,null,null,0,null,null,0,null,null,0,null,null,0,null,null,0,null,null,0,null,null,0,0,0,0,null,null,0,null,null,0,0,0,0,null,null,0,null,null,0,null,null,0,0,0,0,0,0,0]
[34,null,null,null,null,null,0,null,null,0,null,null,0,null,null,0,null,null,0,null,null,0,null,null,0,null,null,0,null,null,0,null,null,0,null,null,0,null,null,0,null,null,0,null,null,0,null,null,0,null,null,0,null,null,0,null,null,0,null,null,0,0,0,0,null,null,0,null,null,0,null,null,0,null,null,0,null,null,0,null,null,0,null,null,0,null,null,0,null,null,0,null,null,0,null,null,0,null,null,0,null,null,0,null,null,0,null,null,0,0,0,0,null,null,0,null,null,0,0,0,0,null,null,0,null,null,0,null,null,0,0,0,0,0,0,0]
[35,null,null,null,null,null,0,null,null,0,null,null,0,null,null,0,null,null,0,null,null,0,null,null,0,null,null,0,null,null,0,null,null,0,null,null,0,null,null,0,null,null,0,null,null,0,null,null,0,null,null,0,null,null,0,null,null,0,null,null,0,0,0,0,null,null,0,null,null,0,null,null,0,null,null,0,null,null,0,null,null,0,null,null,0,null,null,0,null,null,0,null,null,0,null,null,0,null,null,0,null,null,0,null,null,0,null,null,0,0,0,0,null,null,0,null,null,0,0,0,0,null,null,0,null,null,0,null,null,0,0,0,0,0,0,0]
[36,null,null,null,null,null,0,null,null,0,null,null,0,null,null,0,null,null,0,null,null,0,null,null,0,null,null,0,null,null,0,null,null,0,null,null,0,null,null,0,null,null,0,null,null,0,null,null,0,null,null,0,null,null,0,null,null,0,null,null,0,0,0,0,null,null,0,null,null,0,null,null,0,null,null,0,null,null,0,null,null,0,null,null,0,null,null,0,null,null,0,null,null,0,null,null,0,null,null,0,null,null,0,null,null,0,null,null,0,0,0,0,null,null,0,null,null,0,0,0,0,null,null,0,null,null,0,null,null,0,0,0,0,0,0,0]
[37,null,null,null,null,null,0,null,null,0,null,null,0,null,null,0,null,null,0,null,null,0,null,null,0,null,null,0,null,null,0,null,null,0,null,null,0,null,null,0,null,null,0,null,null,0,null,null,0,null,null,0,null,null,0,null,null,0,null,null,0,0,0,0,null,null,0,null,null,0,null,null,0,null,null,0,null,null,0,null,null,0,null,null,0,null,null,0,null,null,0,null,null,0,null,null,0,null,null,0,null,null,0,null,null,0,null,null,0,0,0,0,null,null,0,null,null,0,0,0,0,null,null,0,null,null,0,null,null,0,0,0,0,0,0,0]
[38,null,null,null,null,null,0,null,null,0,null,null,0,null,null,0,null,null,0,null,null,0,null,null,0,null,null,0,null,null,0,null,null,0,null,null,0,null,null,0,null,null,0,null,null,0,null,null,0,null,null,0,null,null,0,null,null,0,null,null,0,0,0,0,null,null,0,null,null,0,null,null,0,null,null,0,null,null,0,null,null,0,null,null,0,null,null,0,null,null,0,null,null,0,null,null,0,null,null,0,null,null,0,null,null,0,null,null,0,0,0,0,null,null,0,null,null,0,0,0,0,null,null,0,null,null,0,null,null,0,0,0,0,0,0,0]
[39,null,null,null,null,null,0,null,null,0,null,null,0,null,null,0,null,null,0,null,null,0,null,null,0,null,null,0,null,null,0,null,null,0,null,null,0,null,null,0,null,null,0,null,null,0,null,null,0,null,null,0,null,null,0,null,null,0,null,null,0,0,0,0,null,null,0,null,null,0,null,null,0,null,null,0,null,null,0,null,null,0,null,null,0,null,null,0,null,null,0,null,null,0,null,null,0,null,null,0,null,null,0,null,null,0,null,null,0,0,0,0,null,null,0,null,null,0,0,0,0,null,null,0,null,null,0,null,null,0,0,0,0,0,0,0]
[40,null,null,null,null,null,0,null,null,0,null,null,0,null,null,0,null,null,0,null,null,0,null,null,0,null,null,0,null,null,0,null,null,0,null,null,0,null,null,0,null,null,0,null,null,0,null,null,0,null,null,0,null,null,0,null,null,0,null,null,0,0,0,0,null,null,0,null,null,0,null,null,0,null,null,0,null,null,0,null,null,0,null,null,0,null,null,0,null,null,0,null,null,0,null,null,0,null,null,0,null,null,0,null,null,0,null,null,0,0,0,0,null,null,0,null,null,0,0,0,0,null,null,0,null,null,0,null,null,0,0,0,0,0,0,0]
[41,null,null,null,null,null,0,null,null,0,null,null,0,null,null,0,null,null,0,null,null,0,null,null,0,null,null,0,null,null,0,null,null,0,null,null,0,null,null,0,null,null,0,null,null,0,null,null,0,null,null,0,null,null,0,null,null,0,null,null,0,0,0,0,null,null,0,null,null,0,null,null,0,null,null,0,null,null,0,null,null,0,null,null,0,null,null,0,null,null,0,null,null,0,null,null,0,null,null,0,null,null,0,null,null,0,null,null,0,0,0,0,null,null,0,null,null,0,0,0,0,null,null,0,null,null,0,null,null,0,0,0,0,0,0,0]
[42,null,null,null,null,null,0,null,null,0,null,null,0,null,null,0,null,null,0,null,null,0,null,null,0,null,null,0,null,null,0,null,null,0,null,null,0,null,null,0,null,null,0,null,null,0,null,null,0,null,null,0,null,null,0,null,null,0,null,null,0,0,0,0,null,null,0,null,null,0,null,null,0,null,null,0,null,null,0,null,null,0,null,null,0,null,null,0,null,null,0,null,null,0,null,null,0,null,null,0,null,null,0,null,null,0,null,null,0,0,0,0,null,null,0,null,null,0,0,0,0,null,null,0,null,null,0,null,null,0,0,0,0,0,0,0]
[43,null,null,null,null,null,0,null,null,0,null,null,0,null,null,0,null,null,0,null,null,0,null,null,0,null,null,0,null,null,0,null,null,0,null,null,0,null,null,0,null,null,0,null,null,0,null,null,0,null,null,0,null,null,0,null,null,0,null,null,0,0,0,0,null,null,0,null,null,0,null,null,0,null,null,0,null,null,0,null,null,0,null,null,0,null,null,0,null,null,0,null,null,0,null,null,0,null,null,0,null,null,0,null,null,0,null,null,0,0,0,0,null,null,0,null,null,0,0,0,0,null,null,0,null,null,0,null,null,0,0,0,0,0,0,0]
[44,null,null,null,null,null,0,null,null,0,null,null,0,null,null,0,null,null,0,null,null,0,null,null,0,null,null,0,null,null,0,null,null,0,null,null,0,null,null,0,null,null,0,null,null,0,null,null,0,null,null,0,null,null,0,null,null,0,null,null,0,0,0,0,null,null,0,null,null,0,null,null,0,null,null,0,null,null,0,null,null,0,null,null,0,null,null,0,null,null,0,null,null,0,null,null,0,null,null,0,null,null,0,null,null,0,null,null,0,0,0,0,null,null,0,null,null,0,0,0,0,null,null,0,null,null,0,null,null,0,0,0,0,0,0,0]
[45,null,null,null,null,null,0,null,null,0,null,null,0,null,null,0,null,null,0,null,null,0,null,null,0,null,null,0,null,null,0,null,null,0,null,null,0,null,null,0,null,null,0,null,null,0,null,null,0,null,null,0,null,null,0,null,null,0,null,null,0,0,0,0,null,null,0,null,null,0,null,null,0,null,null,0,null,null,0,null,null,0,null,null,0,null,null,0,null,null,0,null,null,0,null,null,0,null,null,0,null,null,0,null,null,0,null,null,0,0,0,0,null,null,0,null,null,0,0,0,0,null,null,0,null,null,0,null,null,0,0,0,0,0,0,0]
[46,null,null,null,null,null,0,null,null,0,null,null,0,null,null,0,null,null,0,null,null,0,null,null,0,null,null,0,null,null,0,null,null,0,null,null,0,null,null,0,null,null,0,null,null,0,null,null,0,null,null,0,null,null,0,null,null,0,null,null,0,0,0,0,null,null,0,null,null,0,null,null,0,null,null,0,null,null,0,null,null,0,null,null,0,null,null,0,null,null,0,null,null,0,null,null,0,null,null,0,null,null,0,null,null,0,null,null,0,0,0,0,null,null,0,null,null,0,0,0,0,null,null,0,null,null,0,null,null,0,0,0,0,0,0,0]
[47,null,null,null,null,null,0,null,null,0,null,null,0,null,null,0,null,null,0,null,null,0,null,null,0,null,null,0,null,null,0,null,null,0,null,null,0,null,null,0,null,null,0,null,null,0,null,null,0,null,null,0,null,null,0,null,null,0,null,null,0,0,0,0,null,null,0,null,null,0,null,null,0,null,null,0,null,null,0,null,null,0,null,null,0,null,null,0,null,null,0,null,null,0,null,null,0,null,null,0,null,null,0,null,null,0,null,null,0,0,0,0,null,null,0,null,null,0,0,0,0,null,null,0,null,null,0,null,null,0,0,0,0,0,0,0]
[48,null,null,null,null,null,0,null,null,0,null,null,0,null,null,0,null,null,0,null,null,0,null,null,0,null,null,0,null,null,0,null,null,0,null,null,0,null,null,0,null,null,0,null,null,0,null,null,0,null,null,0,null,null,0,null,null,0,null,null,0,0,0,0,null,null,0,null,null,0,null,null,0,null,null,0,null,null,0,null,null,0,null,null,0,null,null,0,null,null,0,null,null,0,null,null,0,null,null,0,null,null,0,null,null,0,null,null,0,0,0,0,null,null,0,null,null,0,0,0,0,null,null,0,null,null,0,null,null,0,0,0,0,0,0,0]
[49,null,null,null,null,null,0,null,null,0,null,null,0,null,null,0,null,null,0,null,null,0,null,null,0,null,null,0,null,null,0,null,null,0,null,null,0,null,null,0,null,null,0,null,null,0,null,null,0,null,null,0,null,null,0,null,null,0,null,null,0,0,0,0,null,null,0,null,null,0,null,null,0,null,null,0,null,null,0,null,null,0,null,null,0,null,null,0,null,null,0,null,null,0,null,null,0,null,null,0,null,null,0,null,null,0,null,null,0,0,0,0,null,null,0,null,null,0,0,0,0,null,null,0,null,null,0,null,null,0,0,0,0,0,0,0]
[50,null,null,null,null,null,0,null,null,0,null,null,0,null,null,0,null,null,0,null,null,0,null,null,0,null,null,0,null,null,0,null,null,0,null,null,0,null,null,0,null,null,0,null,null,0,null,null,0,null,null,0,null,null,0,null,null,0,null,null,0,0,0,0,null,null,0,null,null,0,null,null,0,null,null,0,null,null,0,null,null,0,null,null,0,null,null,0,null,null,0,null,null,0,null,null,0,null,null,0,null,null,0,null,null,0,null,null,0,0,0,0,null,null,0,null,null,0,0,0,0,null,null,0,null,null,0,null,null,0,0,0,0,0,0,0]
[51,null,null,null,null,null,0,null,null,0,null,null,0,null,null,0,null,null,0,null,null,0,null,null,0,null,null,0,null,null,0,null,null,0,null,null,0,null,null,0,null,null,0,null,null,0,null,null,0,null,null,0,null,null,0,null,null,0,null,null,0,0,0,0,null,null,0,null,null,0,null,null,0,null,null,0,null,null,0,null,null,0,null,null,0,null,null,0,null,null,0,null,null,0,null,null,0,null,null,0,null,null,0,null,null,0,null,null,0,0,0,0,null,null,0,null,null,0,0,0,0,null,null,0,null,null,0,null,null,0,0,0,0,0,0,0]
[52,null,null,null,null,null,0,null,null,0,null,null,0,null,null,0,null,null,0,null,null,0,null,null,0,null,null,0,null,null,0,null,null,0,null,null,0,null,null,0,null,null,0,null,null,0,null,null,0,null,null,0,null,null,0,null,null,0,null,null,0,0,0,0,null,null,0,null,null,0,null,null,0,null,null,0,null,null,0,null,null,0,null,null,0,null,null,0,null,null,0,null,null,0,null,null,0,null,null,0,null,null,0,null,null,0,null,null,0,0,0,0,null,null,0,null,null,0,0,0,0,null,null,0,null,null,0,null,null,0,0,0,0,0,0,0]
[53,null,null,null,null,null,0,null,null,0,null,null,0,null,null,0,null,null,0,null,null,0,null,null,0,null,null,0,null,null,0,null,null,0,null,null,0,null,null,0,null,null,0,null,null,0,null,null,0,null,null,0,null,null,0,null,null,0,null,null,0,0,0,0,null,null,0,null,null,0,null,null,0,null,null,0,null,null,0,null,null,0,null,null,0,null,null,0,null,null,0,null,null,0,null,null,0,null,null,0,null,null,0,null,null,0,null,null,0,0,0,0,null,null,0,null,null,0,0,0,0,null,null,0,null,null,0,null,null,0,0,0,0,0,0,0]
[54,null,null,null,null,null,0,null,null,0,null,null,0,null,null,0,null,null,0,null,null,0,null,null,0,null,null,0,null,null,0,null,null,0,null,null,0,null,null,0,null,null,0,null,null,0,null,null,0,null,null,0,null,null,0,null,null,0,null,null,0,0,0,0,null,null,0,null,null,0,null,null,0,null,null,0,null,null,0,null,null,0,null,null,0,null,null,0,null,null,0,null,null,0,null,null,0,null,null,0,null,null,0,null,null,0,null,null,0,0,0,0,null,null,0,null,null,0,0,0,0,null,null,0,null,null,0,null,null,0,0,0,0,0,0,0]
[55,null,null,null,null,null,0,null,null,0,null,null,0,null,null,0,null,null,0,null,null,0,null,null,0,null,null,0,null,null,0,null,null,0,null,null,0,null,null,0,null,null,0,null,null,0,null,null,0,null,null,0,null,null,0,null,null,0,null,null,0,0,0,0,null,null,0,null,null,0,null,null,0,null,null,0,null,null,0,null,null,0,null,null,0,null,null,0,null,null,0,null,null,0,null,null,0,null,null,0,null,null,0,null,null,0,null,null,0,0,0,0,null,null,0,null,null,0,0,0,0,null,null,0,null,null,0,null,null,0,0,0,0,0,0,0]
[56,null,null,null,null,null,0,null,null,0,null,null,0,null,null,0,null,null,0,null,null,0,null,null,0,null,null,0,null,null,0,null,null,0,null,null,0,null,null,0,null,null,0,null,null,0,null,null,0,null,null,0,null,null,0,null,null,0,null,null,0,0,0,0,null,null,0,null,null,0,null,null,0,null,null,0,null,null,0,null,null,0,null,null,0,null,null,0,null,null,0,null,null,0,null,null,0,null,null,0,null,null,0,null,null,0,null,null,0,0,0,0,null,null,0,null,null,0,0,0,0,null,null,0,null,null,0,null,null,0,0,0,0,0,0,0]
[57,null,null,null,null,null,0,null,null,0,null,null,0,null,null,0,null,null,0,null,null,0,null,null,0,null,null,0,null,null,0,null,null,0,null,null,0,null,null,0,null,null,0,null,null,0,null,null,0,null,null,0,null,null,0,null,null,0,null,null,0,0,0,0,null,null,0,null,null,0,null,null,0,null,null,0,null,null,0,null,null,0,null,null,0,null,null,0,null,null,0,null,null,0,null,null,0,null,null,0,null,null,0,null,null,0,null,null,0,0,0,0,null,null,0,null,null,0,0,0,0,null,null,0,null,null,0,null,null,0,0,0,0,0,0,0]
[58,null,null,null,null,null,0,null,null,0,null,null,0,null,null,0,null,null,0,null,null,0,null,null,0,null,null,0,null,null,0,null,null,0,null,null,0,null,null,0,null,null,0,null,null,0,null,null,0,null,null,0,null,null,0,null,null,0,null,null,0,0,0,0,null,null,0,null,null,0,null,null,0,null,null,0,null,null,0,null,null,0,null,null,0,null,null,0,null,null,0,null,null,0,null,null,0,null,null,0,null,null,0,null,null,0,null,null,0,0,0,0,null,null,0,null,null,0,0,0,0,null,null,0,null,null,0,null,null,0,0,0,0,0,0,0]
[59,null,null,null,null,null,0,null,null,0,null,null,0,null,null,0,null,null,0,null,null,0,null,null,0,null,null,0,null,null,0,null,null,0,null,null,0,null,null,0,null,null,0,null,null,0,null,null,0,null,null,0,null,null,0,null,null,0,null,null,0,0,0,0,null,null,0,null,null,0,null,null,0,null,null,0,null,null,0,null,null,0,null,null,0,null,null,0,null,null,0,null,null,0,null,null,0,null,null,0,null,null,0,null,null,0,null,null,0,0,0,0,null,null,0,null,null,0,0,0,0,null,null,0,null,null,0,null,null,0,0,0,0,0,0,0]
[60,null,null,null,null,null,0,null,null,0,null,null,0,null,null,0,null,null,0,null,null,0,null,null,0,null,null,0,null,null,0,null,null,0,null,null,0,null,null,0,null,null,0,null,null,0,null,null,0,null,null,0,null,null,0,null,null,0,null,null,0,0,0,0,null,null,0,null,null,0,null,null,0,null,null,0,null,null,0,null,null,0,null,null,0,null,null,0,null,null,0,null,null,0,null,null,0,null,null,0,null,null,0,null,null,0,null,null,0,0,0,0,null,null,0,null,null,0,0,0,0,null,null,0,null,null,0,null,null,0,0,0,0,0,0,0]
[61,null,null,null,null,null,0,null,null,0,null,null,0,null,null,0,null,null,0,null,null,0,null,null,0,null,null,0,null,null,0,null,null,0,null,null,0,null,null,0,null,null,0,null,null,0,null,null,0,null,null,0,null,null,0,null,null,0,null,null,0,0,0,0,null,null,0,null,null,0,null,null,0,null,null,0,null,null,0,null,null,0,null,null,0,null,null,0,null,null,0,null,null,0,null,null,0,null,null,0,null,null,0,null,null,0,null,null,0,0,0,0,null,null,0,null,null,0,0,0,0,null,null,0,null,null,0,null,null,0,0,0,0,0,0,0]
[62,null,null,null,null,null,0,null,null,0,null,null,0,null,null,0,null,null,0,null,null,0,null,null,0,null,null,0,null,null,0,null,null,0,null,null,0,null,null,0,null,null,0,null,null,0,null,null,0,null,null,0,null,null,0,null,null,0,null,null,0,0,0,0,null,null,0,null,null,0,null,null,0,null,null,0,null,null,0,null,null,0,null,null,0,null,null,0,null,null,0,null,null,0,null,null,0,null,null,0,null,null,0,null,null,0,null,null,0,0,0,0,null,null,0,null,null,0,0,0,0,null,null,0,null,null,0,null,null,0,0,0,0,0,0,0]
[63,null,null,null,null,null,0,null,null,0,null,null,0,null,null,0,null,null,0,null,null,0,null,null,0,null,null,0,null,null,0,null,null,0,null,null,0,null,null,0,null,null,0,null,null,0,null,null,0,null,null,0,null,null,0,null,null,0,null,null,0,0,0,0,null,null,0,null,null,0,null,null,0,null,null,0,null,null,0,null,null,0,null,null,0,null,null,0,null,null,0,null,null,0,null,null,0,null,null,0,null,null,0,null,null,0,null,null,0,0,0,0,null,null,0,null,null,0,0,0,0,null,null,0,null,null,0,null,null,0,0,0,0,0,0,0]
[64,null,null,null,null,null,0,null,null,0,null,null,0,null,null,0,null,null,0,null,null,0,null,null,0,null,null,0,null,null,0,null,null,0,null,null,0,null,null,0,null,null,0,null,null,0,null,null,0,null,null,0,null,null,0,null,null,0,null,null,0,0,0,0,null,null,0,null,null,0,null,null,0,null,null,0,null,null,0,null,null,0,null,null,0,null,null,0,null,null,0,null,null,0,null,null,0,null,null,0,null,null,0,null,null,0,null,null,0,0,0,0,null,null,0,null,null,0,0,0,0,null,null,0,null,null,0,null,null,0,0,0,0,0,0,0]
[65,null,null,null,null,null,{"$f":"SUM(E80:F80)","v":0},null,null,{"$f":"SUM(H80:I80)","v":0},null,null,{"$f":"SUM(K80:L80)","v":0},null,null,{"$f":"SUM(N80:O80)","v":0},null,null,{"$f":"SUM(Q80:R80)","v":0},null,null,{"$f":"SUM(T80:U80)","v":0},null,null,{"$f":"SUM(W80:X80)","v":0},null,null,{"$f":"SUM(Z80:AA80)","v":0},null,null,{"$f":"SUM(AC80:AD80)","v":0},null,null,{"$f":"SUM(AF80:AG80)","v":0},null,null,{"$f":"SUM(AI80:AJ80)","v":0},null,null,{"$f":"SUM(AL80:AM80)","v":0},null,null,{"$f":"SUM(AO80:AP80)","v":0},null,null,{"$f":"SUM(AR80:AS80)","v":0},null,null,{"$f":"SUM(AU80:AV80)","v":0},null,null,{"$f":"SUM(AX80:AY80)","v":0},null,null,{"$f":"SUM(BA80:BB80)","v":0},null,null,{"$f":"SUM(BD80:BE80)","v":0},null,null,{"$f":"SUM(BG80:BH80)","v":0},{"$f":"SUM(E80,H80,K80,N80,Q80,T80,W80,Z80,AC80,AF80,AI80,AL80,AO80,AR80,AU80,AX80,BA80,BD80,BG80)","v":0},{"$f":"SUM(F80,I80,L80,O80,R80,U80,X80,AA80,AD80,AG80,AJ80,AM80,AP80,AS80,AV80,AY80,BB80,BE80,BH80)","v":0},{"$f":"SUM(BJ80:BK80)","v":0},null,null,{"$f":"SUM(BM80:BN80)","v":0},null,null,{"$f":"SUM(BP80:BQ80)","v":0},null,null,{"$f":"SUM(BS80:BT80)","v":0},null,null,{"$f":"SUM(BV80:BW80)","v":0},null,null,{"$f":"SUM(BY80:BZ80)","v":0},null,null,{"$f":"SUM(CB80:CC80)","v":0},null,null,{"$f":"SUM(CE80:CF80)","v":0},null,null,{"$f":"SUM(CH80:CI80)","v":0},null,null,{"$f":"SUM(CK80:CL80)","v":0},null,null,{"$f":"SUM(CN80:CO80)","v":0},null,null,{"$f":"SUM(CQ80:CR80)","v":0},null,null,{"$f":"SUM(CT80:CU80)","v":0},null,null,{"$f":"SUM(CW80:CX80)","v":0},null,null,{"$f":"SUM(CZ80:DA80)","v":0},null,null,{"$f":"SUM(DC80:DD80)","v":0},{"$f":"SUM(BM80,BP80,BS80,BV80,BY80,CB80,CE80,CH80,CK80,CN80,CQ80,CT80,CW80,CZ80,DC80)","v":0},{"$f":"SUM(BN80,BQ80,BT80,BW80,BZ80,CC80,CF80,CI80,CL80,CO80,CR80,CU80,CX80,DA80,DD80)","v":0},{"$f":"SUM(DF80:DG80)","v":0},null,null,{"$f":"SUM(DI80:DJ80)","v":0},null,null,{"$f":"SUM(DL80:DM80)","v":0},{"$f":"SUM(DI80,DL80)","v":0},{"$f":"SUM(DJ80,DM80)","v":0},{"$f":"SUM(DO80:DP80)","v":0},null,null,{"$f":"SUM(DR80:DS80)","v":0},null,null,{"$f":"SUM(DU80:DV80)","v":0},null,null,{"$f":"SUM(DX80:DY80)","v":0},{"$f":"SUM(DR80,DU80,DX80)","v":0},{"$f":"SUM(DS80,DV80,DY80)","v":0},{"$f":"SUM(EA80:EB80)","v":0},{"$f":"SUM(BJ80,DF80,DO80,EA80)","v":0},{"$f":"SUM(BK80,DG80,DP80,EB80)","v":0},{"$f":"SUM(ED80:EE80)","v":0}]
[66,null,null,null,null,null,0,null,null,0,null,null,0,null,null,0,null,null,0,null,null,0,null,null,0,null,null,0,null,null,0,null,null,0,null,null,0,null,null,0,null,null,0,null,null,0,null,null,0,null,null,0,null,null,0,null,null,0,null,null,0,0,0,0,null,null,0,null,null,0,null,null,0,null,null,0,null,null,0,null,null,0,null,null,0,null,null,0,null,null,0,null,null,0,null,null,0,null,null,0,null,null,0,null,null,0,null,null,0,0,0,0,null,null,0,null,null,0,0,0,0,null,null,0,null,null,0,null,null,0,0,0,0,0,0,0]
[67,null,null,null,null,null,0,null,null,0,null,null,0,null,null,0,null,null,0,null,null,0,null,null,0,null,null,0,null,null,0,null,null,0,null,null,0,null,null,0,null,null,0,null,null,0,null,null,0,null,null,0,null,null,0,null,null,0,null,null,0,0,0,0,null,null,0,null,null,0,null,null,0,null,null,0,null,null,0,null,null,0,null,null,0,null,null,0,null,null,0,null,null,0,null,null,0,null,null,0,null,null,0,null,null,0,null,null,0,0,0,0,null,null,0,null,null,0,0,0,0,null,null,0,null,null,0,null,null,0,0,0,0,0,0,0]
[68,null,null,null,null,null,0,null,null,0,null,null,0,null,null,0,null,null,0,null,null,0,null,null,0,null,null,0,null,null,0,null,null,0,null,null,0,null,null,0,null,null,0,null,null,0,null,null,0,null,null,0,null,null,0,null,null,0,null,null,0,0,0,0,null,null,0,null,null,0,null,null,0,null,null,0,null,null,0,null,null,0,null,null,0,null,null,0,null,null,0,null,null,0,null,null,0,null,null,0,null,null,0,null,null,0,null,null,0,0,0,0,null,null,0,null,null,0,0,0,0,null,null,0,null,null,0,null,null,0,0,0,0,0,0,0]
[69,null,null,null,null,null,0,null,null,0,null,null,0,null,null,0,null,null,0,null,null,0,null,null,0,null,null,0,null,null,0,null,null,0,null,null,0,null,null,0,null,null,0,null,null,0,null,null,0,null,null,0,null,null,0,null,null,0,null,null,0,0,0,0,null,null,0,null,null,0,null,null,0,null,null,0,null,null,0,null,null,0,null,null,0,null,null,0,null,null,0,null,null,0,null,null,0,null,null,0,null,null,0,null,null,0,null,null,0,0,0,0,null,null,0,null,null,0,0,0,0,null,null,0,null,null,0,null,null,0,0,0,0,0,0,0]
[70,null,null,null,null,null,0,null,null,0,null,null,0,null,null,0,null,null,0,null,null,0,null,null,0,null,null,0,null,null,0,null,null,0,null,null,0,null,null,0,null,null,0,null,null,0,null,null,0,null,null,0,null,null,0,null,null,0,null,null,0,0,0,0,null,null,0,null,null,0,null,null,0,null,null,0,null,null,0,null,null,0,null,null,0,null,null,0,null,null,0,null,null,0,null,null,0,null,null,0,null,null,0,null,null,0,null,null,0,0,0,0,null,null,0,null,null,0,0,0,0,null,null,0,null,null,0,null,null,0,0,0,0,0,0,0]
[71,null,null,null,null,null,0,null,null,0,null,null,0,null,null,0,null,null,0,null,null,0,null,null,0,null,null,0,null,null,0,null,null,0,null,null,0,null,null,0,null,null,0,null,null,0,null,null,0,null,null,0,null,null,0,null,null,0,null,null,0,0,0,0,null,null,0,null,null,0,null,null,0,null,null,0,null,null,0,null,null,0,null,null,0,null,null,0,null,null,0,null,null,0,null,null,0,null,null,0,null,null,0,null,null,0,null,null,0,0,0,0,null,null,0,null,null,0,0,0,0,null,null,0,null,null,0,null,null,0,0,0,0,0,0,0]
[72,null,null,null,null,null,0,null,null,0,null,null,0,null,null,0,null,null,0,null,null,0,null,null,0,null,null,0,null,null,0,null,null,0,null,null,0,null,null,0,null,null,0,null,null,0,null,null,0,null,null,0,null,null,0,null,null,0,null,null,0,0,0,0,null,null,0,null,null,0,null,null,0,null,null,0,null,null,0,null,null,0,null,null,0,null,null,0,null,null,0,null,null,0,null,null,0,null,null,0,null,null,0,null,null,0,null,null,0,0,0,0,null,null,0,null,null,0,0,0,0,null,null,0,null,null,0,null,null,0,0,0,0,0,0,0]
[73,null,null,null,null,null,0,null,null,0,null,null,0,null,null,0,null,null,0,null,null,0,null,null,0,null,null,0,null,null,0,null,null,0,null,null,0,null,null,0,null,null,0,null,null,0,null,null,0,null,null,0,null,null,0,null,null,0,null,null,0,0,0,0,null,null,0,null,null,0,null,null,0,null,null,0,null,null,0,null,null,0,null,null,0,null,null,0,null,null,0,null,null,0,null,null,0,null,null,0,null,null,0,null,null,0,null,null,0,0,0,0,null,null,0,null,null,0,0,0,0,null,null,0,null,null,0,null,null,0,0,0,0,0,0,0]
[74,null,null,null,null,null,0,null,null,0,null,null,0,null,null,0,null,null,0,null,null,0,null,null,0,null,null,0,null,null,0,null,null,0,null,null,0,null,null,0,null,null,0,null,null,0,null,null,0,null,null,0,null,null,0,null,null,0,null,null,0,0,0,0,null,null,0,null,null,0,null,null,0,null,null,0,null,null,0,null,null,0,null,null,0,null,null,0,null,null,0,null,null,0,null,null,0,null,null,0,null,null,0,null,null,0,null,null,0,0,0,0,null,null,0,null,null,0,0,0,0,null,null,0,null,null,0,null,null,0,0,0,0,0,0,0]
[75,null,null,null,null,null,0,null,null,0,null,null,0,null,null,0,null,null,0,null,null,0,null,null,0,null,null,0,null,null,0,null,null,0,null,null,0,null,null,0,null,null,0,null,null,0,null,null,0,null,null,0,null,null,0,null,null,0,null,null,0,0,0,0,null,null,0,null,null,0,null,null,0,null,null,0,null,null,0,null,null,0,null,null,0,null,null,0,null,null,0,null,null,0,null,null,0,null,null,0,null,null,0,null,null,0,null,null,0,0,0,0,null,null,0,null,null,0,0,0,0,null,null,0,null,null,0,null,null,0,0,0,0,0,0,0]
[76,null,null,null,null,null,0,null,null,0,null,null,0,null,null,0,null,null,0,null,null,0,null,null,0,null,null,0,null,null,0,null,null,0,null,null,0,null,null,0,null,null,0,null,null,0,null,null,0,null,null,0,null,null,0,null,null,0,null,null,0,0,0,0,null,null,0,null,null,0,null,null,0,null,null,0,null,null,0,null,null,0,null,null,0,null,null,0,null,null,0,null,null,0,null,null,0,null,null,0,null,null,0,null,null,0,null,null,0,0,0,0,null,null,0,null,null,0,0,0,0,null,null,0,null,null,0,null,null,0,0,0,0,0,0,0]
[77,null,null,null,null,null,0,null,null,0,null,null,0,null,null,0,null,null,0,null,null,0,null,null,0,null,null,0,null,null,0,null,null,0,null,null,0,null,null,0,null,null,0,null,null,0,null,null,0,null,null,0,null,null,0,null,null,0,null,null,0,0,0,0,null,null,0,null,null,0,null,null,0,null,null,0,null,null,0,null,null,0,null,null,0,null,null,0,null,null,0,null,null,0,null,null,0,null,null,0,null,null,0,null,null,0,null,null,0,0,0,0,null,null,0,null,null,0,0,0,0,null,null,0,null,null,0,null,null,0,0,0,0,0,0,0]
[78,null,null,null,null,null,0,null,null,0,null,null,0,null,null,0,null,null,0,null,null,0,null,null,0,null,null,0,null,null,0,null,null,0,null,null,0,null,null,0,null,null,0,null,null,0,null,null,0,null,null,0,null,null,0,null,null,0,null,null,0,0,0,0,null,null,0,null,null,0,null,null,0,null,null,0,null,null,0,null,null,0,null,null,0,null,null,0,null,null,0,null,null,0,null,null,0,null,null,0,null,null,0,null,null,0,null,null,0,0,0,0,null,null,0,null,null,0,0,0,0,null,null,0,null,null,0,null,null,0,0,0,0,0,0,0]
[79,null,null,null,null,null,0,null,null,0,null,null,0,null,null,0,null,null,0,null,null,0,null,null,0,null,null,0,null,null,0,null,null,0,null,null,0,null,null,0,null,null,0,null,null,0,null,null,0,null,null,0,null,null,0,null,null,0,null,null,0,0,0,0,null,null,0,null,null,0,null,null,0,null,null,0,null,null,0,null,null,0,null,null,0,null,null,0,null,null,0,null,null,0,null,null,0,null,null,0,null,null,0,null,null,0,null,null,0,0,0,0,null,null,0,null,null,0,0,0,0,null,null,0,null,null,0,null,null,0,0,0,0,0,0,0]
[80,null,null,null,null,null,0,null,null,0,null,null,0,null,null,0,null,null,0,null,null,0,null,null,0,null,null,0,null,null,0,null,null,0,null,null,0,null,null,0,null,null,0,null,null,0,null,null,0,null,null,0,null,null,0,null,null,0,null,null,0,0,0,0,null,null,0,null,null,0,null,null,0,null,null,0,null,null,0,null,null,0,null,null,0,null,null,0,null,null,0,null,null,0,null,null,0,null,null,0,null,null,0,null,null,0,null,null,0,0,0,0,null,null,0,null,null,0,0,0,0,null,null,0,null,null,0,null,null,0,0,0,0,0,0,0]
[81,null,null,null,null,null,0,null,null,0,null,null,0,null,null,0,null,null,0,null,null,0,null,null,0,null,null,0,null,null,0,null,null,0,null,null,0,null,null,0,null,null,0,null,null,0,null,null,0,null,null,0,null,null,0,null,null,0,null,null,0,0,0,0,null,null,0,null,null,0,null,null,0,null,null,0,null,null,0,null,null,0,null,null,0,null,null,0,null,null,0,null,null,0,null,null,0,null,null,0,null,null,0,null,null,0,null,null,0,0,0,0,null,null,0,null,null,0,0,0,0,null,null,0,null,null,0,null,null,0,0,0,0,0,0,0]
[82,null,null,null,null,null,0,null,null,0,null,null,0,null,null,0,null,null,0,null,null,0,null,null,0,null,null,0,null,null,0,null,null,0,null,null,0,null,null,0,null,null,0,null,null,0,null,null,0,null,null,0,null,null,0,null,null,0,null,null,0,0,0,0,null,null,0,null,null,0,null,null,0,null,null,0,null,null,0,null,null,0,null,null,0,null,null,0,null,null,0,null,null,0,null,null,0,null,null,0,null,null,0,null,null,0,null,null,0,0,0,0,null,null,0,null,null,0,0,0,0,null,null,0,null,null,0,null,null,0,0,0,0,0,0,0]
[83,null,null,null,null,null,0,null,null,0,null,null,0,null,null,0,null,null,0,null,null,0,null,null,0,null,null,0,null,null,0,null,null,0,null,null,0,null,null,0,null,null,0,null,null,0,null,null,0,null,null,0,null,null,0,null,null,0,null,null,0,0,0,0,null,null,0,null,null,0,null,null,0,null,null,0,null,null,0,null,null,0,null,null,0,null,null,0,null,null,0,null,null,0,null,null,0,null,null,0,null,null,0,null,null,0,null,null,0,0,0,0,null,null,0,null,null,0,0,0,0,null,null,0,null,null,0,null,null,0,0,0,0,0,0,0]
[84,null,null,null,null,null,0,null,null,0,null,null,0,null,null,0,null,null,0,null,null,0,null,null,0,null,null,0,null,null,0,null,null,0,null,null,0,null,null,0,null,null,0,null,null,0,null,null,0,null,null,0,null,null,0,null,null,0,null,null,0,0,0,0,null,null,0,null,null,0,null,null,0,null,null,0,null,null,0,null,null,0,null,null,0,null,null,0,null,null,0,null,null,0,null,null,0,null,null,0,null,null,0,null,null,0,null,null,0,0,0,0,null,null,0,null,null,0,0,0,0,null,null,0,null,null,0,null,null,0,0,0,0,0,0,0]
[85,null,null,null,null,null,0,null,null,0,null,null,0,null,null,0,null,null,0,null,null,0,null,null,0,null,null,0,null,null,0,null,null,0,null,null,0,null,null,0,null,null,0,null,null,0,null,null,0,null,null,0,null,null,0,null,null,0,null,null,0,0,0,0,null,null,0,null,null,0,null,null,0,null,null,0,null,null,0,null,null,0,null,null,0,null,null,0,null,null,0,null,null,0,null,null,0,null,null,0,null,null,0,null,null,0,null,null,0,0,0,0,null,null,0,null,null,0,0,0,0,null,null,0,null,null,0,null,null,0,0,0,0,0,0,0]
[86,null,null,null,null,null,0,null,null,0,null,null,0,null,null,0,null,null,0,null,null,0,null,null,0,null,null,0,null,null,0,null,null,0,null,null,0,null,null,0,null,null,0,null,null,0,null,null,0,null,null,0,null,null,0,null,null,0,null,null,0,0,0,0,null,null,0,null,null,0,null,null,0,null,null,0,null,null,0,null,null,0,null,null,0,null,null,0,null,null,0,null,null,0,null,null,0,null,null,0,null,null,0,null,null,0,null,null,0,0,0,0,null,null,0,null,null,0,0,0,0,null,null,0,null,null,0,null,null,0,0,0,0,0,0,0]
[87,null,null,null,null,null,0,null,null,0,null,null,0,null,null,0,null,null,0,null,null,0,null,null,0,null,null,0,null,null,0,null,null,0,null,null,0,null,null,0,null,null,0,null,null,0,null,null,0,null,null,0,null,null,0,null,null,0,null,null,0,0,0,0,null,null,0,null,null,0,null,null,0,null,null,0,null,null,0,null,null,0,null,null,0,null,null,0,null,null,0,null,null,0,null,null,0,null,null,0,null,null,0,null,null,0,null,null,0,0,0,0,null,null,0,null,null,0,0,0,0,null,null,0,null,null,0,null,null,0,0,0,0,0,0,0]
[88,null,null,null,null,null,0,null,null,0,null,null,0,null,null,0,null,null,0,null,null,0,null,null,0,null,null,0,null,null,0,null,null,0,null,null,0,null,null,0,null,null,0,null,null,0,null,null,0,null,null,0,null,null,0,null,null,0,null,null,0,0,0,0,null,null,0,null,null,0,null,null,0,null,null,0,null,null,0,null,null,0,null,null,0,null,null,0,null,null,0,null,null,0,null,null,0,null,null,0,null,null,0,null,null,0,null,null,0,0,0,0,null,null,0,null,null,0,0,0,0,null,null,0,null,null,0,null,null,0,0,0,0,0,0,0]
[89,null,null,null,null,null,0,null,null,0,null,null,0,null,null,0,null,null,0,null,null,0,null,null,0,null,null,0,null,null,0,null,null,0,null,null,0,null,null,0,null,null,0,null,null,0,null,null,0,null,null,0,null,null,0,null,null,0,null,null,0,0,0,0,null,null,0,null,null,0,null,null,0,null,null,0,null,null,0,null,null,0,null,null,0,null,null,0,null,null,0,null,null,0,null,null,0,null,null,0,null,null,0,null,null,0,null,null,0,0,0,0,null,null,0,null,null,0,0,0,0,null,null,0,null,null,0,null,null,0,0,0,0,0,0,0]
[90,null,null,null,null,null,0,null,null,0,null,null,0,null,null,0,null,null,0,null,null,0,null,null,0,null,null,0,null,null,0,null,null,0,null,null,0,null,null,0,null,null,0,null,null,0,null,null,0,null,null,0,null,null,0,null,null,0,null,null,0,0,0,0,null,null,0,null,null,0,null,null,0,null,null,0,null,null,0,null,null,0,null,null,0,null,null,0,null,null,0,null,null,0,null,null,0,null,null,0,null,null,0,null,null,0,null,null,0,0,0,0,null,null,0,null,null,0,0,0,0,null,null,0,null,null,0,null,null,0,0,0,0,0,0,0]
[91,null,null,null,null,null,0,null,null,0,null,null,0,null,null,0,null,null,0,null,null,0,null,null,0,null,null,0,null,null,0,null,null,0,null,null,0,null,null,0,null,null,0,null,null,0,null,null,0,null,null,0,null,null,0,null,null,0,null,null,0,0,0,0,null,null,0,null,null,0,null,null,0,null,null,0,null,null,0,null,null,0,null,null,0,null,null,0,null,null,0,null,null,0,null,null,0,null,null,0,null,null,0,null,null,0,null,null,0,0,0,0,null,null,0,null,null,0,0,0,0,null,null,0,null,null,0,null,null,0,0,0,0,0,0,0]
[92,null,null,null,null,null,0,null,null,0,null,null,0,null,null,0,null,null,0,null,null,0,null,null,0,null,null,0,null,null,0,null,null,0,null,null,0,null,null,0,null,null,0,null,null,0,null,null,0,null,null,0,null,null,0,null,null,0,null,null,0,0,0,0,null,null,0,null,null,0,null,null,0,null,null,0,null,null,0,null,null,0,null,null,0,null,null,0,null,null,0,null,null,0,null,null,0,null,null,0,null,null,0,null,null,0,null,null,0,0,0,0,null,null,0,null,null,0,0,0,0,null,null,0,null,null,0,null,null,0,0,0,0,0,0,0]
[93,null,null,null,null,null,0,null,null,0,null,null,0,null,null,0,null,null,0,null,null,0,null,null,0,null,null,0,null,null,0,null,null,0,null,null,0,null,null,0,null,null,0,null,null,0,null,null,0,null,null,0,null,null,0,null,null,0,null,null,0,0,0,0,null,null,0,null,null,0,null,null,0,null,null,0,null,null,0,null,null,0,null,null,0,null,null,0,null,null,0,null,null,0,null,null,0,null,null,0,null,null,0,null,null,0,null,null,0,0,0,0,null,null,0,null,null,0,0,0,0,null,null,0,null,null,0,null,null,0,0,0,0,0,0,0]
[94,null,null,null,null,null,0,null,null,0,null,null,0,null,null,0,null,null,0,null,null,0,null,null,0,null,null,0,null,null,0,null,null,0,null,null,0,null,null,0,null,null,0,null,null,0,null,null,0,null,null,0,null,null,0,null,null,0,null,null,0,0,0,0,null,null,0,null,null,0,null,null,0,null,null,0,null,null,0,null,null,0,null,null,0,null,null,0,null,null,0,null,null,0,null,null,0,null,null,0,null,null,0,null,null,0,null,null,0,0,0,0,null,null,0,null,null,0,0,0,0,null,null,0,null,null,0,null,null,0,0,0,0,0,0,0]
[95,null,null,null,null,null,0,null,null,0,null,null,0,null,null,0,null,null,0,null,null,0,null,null,0,null,null,0,null,null,0,null,null,0,null,null,0,null,null,0,null,null,0,null,null,0,null,null,0,null,null,0,null,null,0,null,null,0,null,null,0,0,0,0,null,null,0,null,null,0,null,null,0,null,null,0,null,null,0,null,null,0,null,null,0,null,null,0,null,null,0,null,null,0,null,null,0,null,null,0,null,null,0,null,null,0,null,null,0,0,0,0,null,null,0,null,null,0,0,0,0,null,null,0,null,null,0,null,null,0,0,0,0,0,0,0]
[96,null,null,null,null,null,0,null,null,0,null,null,0,null,null,0,null,null,0,null,null,0,null,null,0,null,null,0,null,null,0,null,null,0,null,null,0,null,null,0,null,null,0,null,null,0,null,null,0,null,null,0,null,null,0,null,null,0,null,null,0,0,0,0,null,null,0,null,null,0,null,null,0,null,null,0,null,null,0,null,null,0,null,null,0,null,null,0,null,null,0,null,null,0,null,null,0,null,null,0,null,null,0,null,null,0,null,null,0,0,0,0,null,null,0,null,null,0,0,0,0,null,null,0,null,null,0,null,null,0,0,0,0,0,0,0]
[97,null,null,null,null,null,0,null,null,0,null,null,0,null,null,0,null,null,0,null,null,0,null,null,0,null,null,0,null,null,0,null,null,0,null,null,0,null,null,0,null,null,0,null,null,0,null,null,0,null,null,0,null,null,0,null,null,0,null,null,0,0,0,0,null,null,0,null,null,0,null,null,0,null,null,0,null,null,0,null,null,0,null,null,0,null,null,0,null,null,0,null,null,0,null,null,0,null,null,0,null,null,0,null,null,0,null,null,0,0,0,0,null,null,0,null,null,0,0,0,0,null,null,0,null,null,0,null,null,0,0,0,0,0,0,0]
[98,null,null,null,null,null,0,null,null,0,null,null,0,null,null,0,null,null,0,null,null,0,null,null,0,null,null,0,null,null,0,null,null,0,null,null,0,null,null,0,null,null,0,null,null,0,null,null,0,null,null,0,null,null,0,null,null,0,null,null,0,0,0,0,null,null,0,null,null,0,null,null,0,null,null,0,null,null,0,null,null,0,null,null,0,null,null,0,null,null,0,null,null,0,null,null,0,null,null,0,null,null,0,null,null,0,null,null,0,0,0,0,null,null,0,null,null,0,0,0,0,null,null,0,null,null,0,null,null,0,0,0,0,0,0,0]
[99,null,null,null,null,null,0,null,null,0,null,null,0,null,null,0,null,null,0,null,null,0,null,null,0,null,null,0,null,null,0,null,null,0,null,null,0,null,null,0,null,null,0,null,null,0,null,null,0,null,null,0,null,null,0,null,null,0,null,null,0,0,0,0,null,null,0,null,null,0,null,null,0,null,null,0,null,null,0,null,null,0,null,null,0,null,null,0,null,null,0,null,null,0,null,null,0,null,null,0,null,null,0,null,null,0,null,null,0,0,0,0,null,null,0,null,null,0,0,0,0,null,null,0,null,null,0,null,null,0,0,0,0,0,0,0]
[100,null,null,null,null,null,0,null,null,0,null,null,0,null,null,0,null,null,0,null,null,0,null,null,0,null,null,0,null,null,0,null,null,0,null,null,0,null,null,0,null,null,0,null,null,0,null,null,0,null,null,0,null,null,0,null,null,0,null,null,0,0,0,0,null,null,0,null,null,0,null,null,0,null,null,0,null,null,0,null,null,0,null,null,0,null,null,0,null,null,0,null,null,0,null,null,0,null,null,0,null,null,0,null,null,0,null,null,0,0,0,0,null,null,0,null,null,0,0,0,0,null,null,0,null,null,0,null,null,0,0,0,0,0,0,0]

{"sheet":"P_DoE_Subacc","index":2,"n_rows":115,"n_cols":137,"rows_kept":115,"cut":false,"hidden":false,"merged":[[11,130,11,132],[14,0,14,1],[11,109,11,111],[11,112,11,114],[11,115,11,117],[11,118,11,120],[11,121,11,123],[11,61,11,63],[11,64,11,66],[11,67,11,69],[11,70,11,72],[11,73,11,75],[11,46,11,48],[11,49,11,51],[11,52,11,54],[11,127,11,129],[11,25,11,27],[11,28,11,30],[11,31,11,33],[11,37,11,39],[11,43,11,45],[11,40,11,42],[10,133,11,135],[10,136,13,136],[11,76,11,78],[11,79,11,81],[11,82,11,84],[11,85,11,87],[11,88,11,90],[11,91,11,93],[11,94,11,96],[11,97,11,99],[11,100,11,102],[11,103,11,105],[11,106,11,108],[11,124,11,126],[10,64,10,111],[10,112,10,120],[2,40,2,46],[3,40,3,46],[5,0,5,8],[8,0,8,31],[6,0,6,8],[10,121,10,132],[11,55,11,57],[11,58,11,60],[10,2,12,2],[10,0,13,0],[10,1,13,1],[10,3,12,3],[11,34,11,36],[10,4,10,63],[11,4,11,6],[11,7,11,9],[11,10,11,12],[11,13,11,15],[11,16,11,18],[11,19,11,21],[11,22,11,24]]}
[]
[]
[null,null,null,null,null,null,null,null,null,null,null,null,null,null,null,null,null,null,null,null,null,null,null,null,null,null,null,null,null,null,null,null,null,null,null,null,null,null,null,null,"        ព្រះរាជាណាចក្រកម្ពុជា"]
[null,null,null,null,null,null,null,null,null,null,null,null,null,null,null,null,null,null,null,null,null,null,null,null,null,null,null,null,null,null,null,null,null,null,null,null,null,null,null,null,"    ជាតិ សាសនា ព្រះមហាក្សត្រ"]
[]
[{"$f":"Create!$G$2","v":"ក្រសួងអប់រំ យុវជន និងកីឡា"}]
[{"$f":"Create!$G$3","v":"បំពេញឈ្មោះទីនេះ"}]
[]
[{"$f":"CONCATENATE(\"របាយការណ៍ទូទាត់ចំណាយថវិការបស់បឋមសិក្សាសម្រាប់ថវិកាដំណើរការសាលារៀនប្រចាំត្រីមាសទី\",IF(Create!$G$4=1,\"១\",IF(Create!$G$4=2,\"២\",IF(Create!$G$4=3,\"៣\",\"៤\"))),\" ឆ្នាំ២០១៨\")","v":"របាយការណ៍ទូទាត់ចំណាយថវិការបស់បឋមសិក្សាសម្រាប់ថវិកាដំណើរការសាលារៀនប្រចាំត្រីមាសទី១ ឆ្នាំ២០១៨"}]
[null,null,null,null,null,null,null,null,null,null,null,null,null,null,null,null,null,null,null,null,null,null,null,null,null,null,null,null,null,null,null,null,null,null,null,null,null,null,null,null,null,null,null,null,null,null,null,null,null,null,null,null,null,null,null,null,null,null,null,null,null,null,null,null,null,null,null,null,null,null,null,null,null,null,null,null,null,null,null,null,null,null,null,null,null,null,null,null,null,null,null,null,null,null,null,null,null,null,null,null,null,null,null,null,null,null,null,null,null,null,null,null,null,null,null,null,null,null,null,null,null,null,null,null,null,null,null,null,null,null,null,null,null,null,null,null,"ឯកតាៈ រៀល"]
["ល.រ","ឈ្មោះការិយាល័យអប់រំ យុវជន និងកីឡា\nក្រុង ឬ ស្រុក ឬ ខ័ណ្ឌ","ឥណទាន\nដើមឆ្នាំ","ឥណទាន\nកែតម្រូវ","ជំពូក ៦០",null,null,null,null,null,null,null,null,null,null,null,null,null,null,null,null,null,null,null,null,null,null,null,null,null,null,null,null,null,null,null,null,null,null,null,null,null,null,null,null,null,null,null,null,null,null,null,null,null,null,null,null,null,null,null,null,null,null,null,"ជំពូក ៦១",null,null,null,null,null,null,null,null,null,null,null,null,null,null,null,null,null,null,null,null,null,null,null,null,null,null,null,null,null,null,null,null,null,null,null,null,null,null,null,null,null,null,null,null,null,null,null,"ជំពូក ៦៤",null,null,null,null,null,null,null,null,"ជំពូក ៦២",null,null,null,null,null,null,null,null,null,null,null,"ចំណាយសរុប",null,null,"ផ្សេងៗ"]
[null,null,null,null,60011,null,null,60012,null,null,60013,null,null,60014,null,null,60021,null,null,60022,null,null,60023,null,null,60031,null,null,60032,null,null,60033,null,null,60035,null,null,60041,null,null,60051,null,null,60052,null,null,60053,null,null,60055,null,null,60061,null,null,60062,null,null,60068,null,null,"សរុប",null,null,61011,null,null,61012,null,null,61021,null,null,61051,null,null,61052,null,null,61053,null,null,61054,null,null,61057,null,null,61071,null,null,61081,null,null,61101,null,null,61102,null,null,61103,null,null,61141,null,null,61142,null,null,"សរុប",null,null,64023,null,null,64033,null,null,"សរុប",null,null,62024,null,null,62025,null,null,62028,null,null,"សរុប"]
[null,null,null,null,"បណ្ដាត្រី.មុន","ក្នុងត្រី.","បូកយោង","បណ្ដាត្រី.មុន","ក្នុងត្រី.","បូកយោង","បណ្ដាត្រី.មុន","ក្នុងត្រី.","បូកយោង","បណ្ដាត្រី.មុន","ក្នុងត្រី.","បូកយោង","បណ្ដាត្រី.មុន","ក្នុងត្រី.","បូកយោង","បណ្ដាត្រី.មុន","ក្នុងត្រី.","បូកយោង","បណ្ដាត្រី.មុន","ក្នុងត្រី.","បូកយោង","បណ្ដាត្រី.មុន","ក្នុងត្រី.","បូកយោង","បណ្ដាត្រី.មុន","ក្នុងត្រី.","បូកយោង","បណ្ដាត្រី.មុន","ក្នុងត្រី.","បូកយោង","បណ្ដាត្រី.មុន","ក្នុងត្រី.","បូកយោង","បណ្ដាត្រី.មុន","ក្នុងត្រី.","បូកយោង","បណ្ដាត្រី.មុន","ក្នុងត្រី.","បូកយោង","បណ្ដាត្រី.មុន","ក្នុងត្រី.","បូកយោង","បណ្ដាត្រី.មុន","ក្នុងត្រី.","បូកយោង","បណ្ដាត្រី.មុន","ក្នុងត្រី.","បូកយោង","បណ្ដាត្រី.មុន","ក្នុងត្រី.","បូកយោង","បណ្ដាត្រី.មុន","ក្នុងត្រី.","បូកយោង","បណ្ដាត្រី.មុន","ក្នុងត្រី.","បូកយោង","បណ្ដាត្រី.មុន","ក្នុងត្រី.","បូកយោង","បណ្ដាត្រី.មុន","ក្នុងត្រី.","បូកយោង","បណ្ដាត្រី.មុន","ក្នុងត្រី.","បូកយោង","បណ្ដាត្រី.មុន","ក្នុងត្រី.","បូកយោង","បណ្ដាត្រី.មុន","ក្នុងត្រី.","បូកយោង","បណ្ដាត្រី.មុន","ក្នុងត្រី.","បូកយោង","បណ្ដាត្រី.មុន","ក្នុងត្រី.","បូកយោង","បណ្ដាត្រី.មុន","ក្នុងត្រី.","បូកយោង","បណ្ដាត្រី.មុន","ក្នុងត្រី.","បូកយោង","បណ្ដាត្រី.មុន","ក្នុងត្រី.","បូកយោង","បណ្ដាត្រី.មុន","ក្នុងត្រី.","បូកយោង","បណ្ដាត្រី.មុន","ក្នុងត្រី.","បូកយោង","បណ្ដាត្រី.មុន","ក្នុងត្រី.","បូកយោង","បណ្ដាត្រី.មុន","ក្នុងត្រី.","បូកយោង","បណ្ដាត្រី.មុន","ក្នុងត្រី.","បូកយោង","បណ្ដាត្រី.មុន","ក្នុងត្រី.","បូកយោង","បណ្ដាត្រី.មុន","ក្នុងត្រី.","បូកយោង","បណ្ដាត្រី.មុន","ក្នុងត្រី.","បូកយោង","បណ្ដាត្រី.មុន","ក្នុងត្រី.","បូកយោង","បណ្ដាត្រី.មុន","ក្នុងត្រី.","បូកយោង","បណ្ដាត្រី.មុន","ក្នុងត្រី.","បូកយោង","បណ្ដាត្រី.មុន","ក្នុងត្រី.","បូកយោង","បណ្ដាត្រី.មុន","ក្នុងត្រី.","បូកយោង","បណ្ដាត្រី.មុន","ក្នុងត្រី.","បូកយោង","បណ្ដាត្រី.មុន","ក្នុងត្រី.","បូកយោង"]
[null,null,1,2,3,4,"5=3+4",6,7,"8=6+7",9,10,"11=9+10",12,13,"14=12+13",15,16,"17=15+16",18,19,"20=18+19",21,22,"23=21+22",24,25,"26=24+25",27,28,"29=27+28",30,31,"32=30+31",33,34,"35=33+34",36,37,"38=36+37",39,40,"41=39+40",42,43,"44=42+43",45,46,"47=45+46",48,49,"50=48+49",51,52,"53=51+52",54,55,"56=54+55",57,58,"59=57+58","60=3+6+9+…+57","61=4+7+10+…+58","62=60+61",63,64,"65=63+64",66,67,"68=66+67",69,70,"71=69+70",72,73,"74=72+73",75,76,"77=75+76",78,79,"80=78+79",81,82,"83=81+82",84,85,"86=84+85",87,88,"89=87+88",90,91,"92=90+91",93,94,"95=93+94",96,97,"98=96+97",99,100,"101=99+100",102,103,"104=102+103",105,106,"107=105+106","108=63+66+…+105","109=64+67+…+106","110=108+109",111,112,"113=111+112",114,115,"116=114+115","117=111+114","118=112+115","119=117+118",120,121,"122=120+121",123,124,125,126,127,"128=126+127",129,130,"131=129+130","132=60+108+117+129","133=61+109+118+130","134=132+133"]
["សរុប",null,{"$f":"SUM(C16:C115)","v":10},{"$f":"SUM(D16:D115)","v":15},0,0,{"$f":"SUM(E15:F15)","v":0},0,0,{"$f":"SUM(H15:I15)","v":0},0,0,{"$f":"SUM(K15:L15)","v":0},0,0,{"$f":"SUM(N15:O15)","v":0},0,0,{"$f":"SUM(Q15:R15)","v":0},0,0,{"$f":"SUM(T15:U15)","v":0},0,0,{"$f":"SUM(W15:X15)","v":0},0,0,{"$f":"SUM(Z15:AA15)","v":0},0,0,{"$f":"SUM(AC15:AD15)","v":0},0,0,{"$f":"SUM(AF15:AG15)","v":0},0,0,{"$f":"SUM(AI15:AJ15)","v":0},0,0,{"$f":"SUM(AL15:AM15)","v":0},0,0,{"$f":"SUM(AO15:AP15)","v":0},0,0,{"$f":"SUM(AR15:AS15)","v":0},0,0,{"$f":"SUM(AU15:AV15)","v":0},0,0,{"$f":"SUM(AX15:AY15)","v":0},0,0,{"$f":"SUM(BA15:BB15)","v":0},0,0,{"$f":"SUM(BD15:BE15)","v":0},0,0,{"$f":"SUM(BG15:BH15)","v":0},{"$f":"SUM(E15,H15,K15,N15,Q15,T15,W15,Z15,AC15,AF15,AI15,AL15,AO15,AR15,AU15,AX15,BA15,BD15,BG15)","v":0},{"$f":"SUM(F15,I15,L15,O15,R15,U15,X15,AA15,AD15,AG15,AJ15,AM15,AP15,AS15,AV15,AY15,BB15,BE15,BH15)","v":0},{"$f":"SUM(BJ15:BK15)","v":0},0,0,{"$f":"SUM(BM15:BN15)","v":0},{"$f":"SUM(BP16:BP115)","v":0},0,{"$f":"SUM(BP15:BQ15)","v":0},0,0,{"$f":"SUM(BS15:BT15)","v":0},0,0,{"$f":"SUM(BV15:BW15)","v":0},0,0,{"$f":"SUM(BY15:BZ15)","v":0},0,0,{"$f":"SUM(CB15:CC15)","v":0},0,0,{"$f":"SUM(CE15:CF15)","v":0},0,0,{"$f":"SUM(CH15:CI15)","v":0},0,0,{"$f":"SUM(CK15:CL15)","v":0},0,0,{"$f":"SUM(CN15:CO15)","v":0},0,0,{"$f":"SUM(CQ15:CR15)","v":0},0,0,{"$f":"SUM(CT15:CU15)","v":0},0,0,{"$f":"SUM(CW15:CX15)","v":0},0,0,{"$f":"SUM(CZ15:DA15)","v":0},0,0,{"$f":"SUM(DC15:DD15)","v":0},{"$f":"SUM(BM15,BP15,BS15,BV15,BY15,CB15,CE15,CH15,CK15,CN15,CQ15,CT15,CW15,CZ15,DC15)","v":0},{"$f":"SUM(BN15,BQ15,BT15,BW15,BZ15,CC15,CF15,CI15,CL15,CO15,CR15,CU15,CX15,DA15,DD15)","v":0},{"$f":"SUM(DF15:DG15)","v":0},0,0,{"$f":"SUM(DI15:DJ15)","v":0},0,0,{"$f":"SUM(DL15:DM15)","v":0},{"$f":"SUM(DI15,DL15)","v":0},{"$f":"SUM(DJ15,DM15)","v":0},{"$f":"SUM(DO15:DP15)","v":0},0,0,{"$f":"SUM(DR15:DS15)","v":0},0,0,{"$f":"SUM(DU15:DV15)","v":0},0,0,{"$f":"SUM(DX15:DY15)","v":0},{"$f":"SUM(DR15,DU15,DX15)","v":0},{"$f":"SUM(DS15,DV15,DY15)","v":0},{"$f":"SUM(EA15:EB15)","v":0},{"$f":"SUM(BJ15,DF15,DO15,EA15)","v":0},{"$f":"SUM(BK15,DG15,DP15,EB15)","v":0},{"$f":"SUM(ED15:EE15)","v":0}]
[1,{"$f":"[1]P_Sch_Subacc!A7","v":"ការិយាល័យអប់រំ យុវជន និងកីឡាក្រុងប៉ៃលិន"},{"$f":"[1]P_Sch_Subacc!C15","v":10},{"$f":"[1]P_Sch_Subacc!D15","v":15},{"$f":"[1]P_Sch_Subacc!E15","v":0},{"$f":"[1]P_Sch_Subacc!F15","v":0},{"$f":"SUM(E16:F16)","v":0},{"$f":"[1]P_Sch_Subacc!H15","v":0},{"$f":"[1]P_Sch_Subacc!I15","v":0},{"$f":"SUM(H16:I16)","v":0},{"$f":"[1]P_Sch_Subacc!K15","v":0},{"$f":"[1]P_Sch_Subacc!L15","v":0},{"$f":"SUM(K16:L16)","v":0},{"$f":"[1]P_Sch_Subacc!N15","v":0},{"$f":"[1]P_Sch_Subacc!O15","v":0},{"$f":"SUM(N16:O16)","v":0},{"$f":"[1]P_Sch_Subacc!Q15","v":0},{"$f":"[1]P_Sch_Subacc!R15","v":0},{"$f":"SUM(Q16:R16)","v":0},{"$f":"[1]P_Sch_Subacc!T15","v":0},{"$f":"[1]P_Sch_Subacc!U15","v":0},{"$f":"SUM(T16:U16)","v":0},{"$f":"[1]P_Sch_Subacc!W15","v":0},{"$f":"[1]P_Sch_Subacc!X15","v":0},{"$f":"SUM(W16:X16)","v":0},{"$f":"[1]P_Sch_Subacc!Z15","v":0},{"$f":"[1]P_Sch_Subacc!AA15","v":0},{"$f":"SUM(Z16:AA16)","v":0},{"$f":"[1]P_Sch_Subacc!AC15","v":0},{"$f":"[1]P_Sch_Subacc!AD15","v":0},{"$f":"SUM(AC16:AD16)","v":0},{"$f":"[1]P_Sch_Subacc!AF15","v":0},{"$f":"[1]P_Sch_Subacc!AG15","v":0},{"$f":"SUM(AF16:AG16)","v":0},{"$f":"[1]P_Sch_Subacc!AI15","v":0},{"$f":"[1]P_Sch_Subacc!AJ15","v":0},{"$f":"SUM(AI16:AJ16)","v":0},{"$f":"[1]P_Sch_Subacc!AL15","v":0},{"$f":"[1]P_Sch_Subacc!AM15","v":0},{"$f":"SUM(AL16:AM16)","v":0},{"$f":"[1]P_Sch_Subacc!AO15","v":0},{"$f":"[1]P_Sch_Subacc!AP15","v":0},{"$f":"SUM(AO16:AP16)","v":0},{"$f":"[1]P_Sch_Subacc!AR15","v":0},{"$f":"[1]P_Sch_Subacc!AS15","v":0},{"$f":"SUM(AR16:AS16)","v":0},{"$f":"[1]P_Sch_Subacc!AU15","v":0},{"$f":"[1]P_Sch_Subacc!AV15","v":0},{"$f":"SUM(AU16:AV16)","v":0},{"$f":"[1]P_Sch_Subacc!AX15","v":0},{"$f":"[1]P_Sch_Subacc!AY15","v":0},{"$f":"SUM(AX16:AY16)","v":0},{"$f":"[1]P_Sch_Subacc!BA15","v":0},{"$f":"[1]P_Sch_Subacc!BB15","v":0},{"$f":"SUM(BA16:BB16)","v":0},{"$f":"[1]P_Sch_Subacc!BD15","v":0},{"$f":"[1]P_Sch_Subacc!BE15","v":0},{"$f":"SUM(BD16:BE16)","v":0},{"$f":"[1]P_Sch_Subacc!BG15","v":0},{"$f":"[1]P_Sch_Subacc!BH15","v":0},{"$f":"SUM(BG16:BH16)","v":0},{"$f":"SUM(E16,H16,K16,N16,Q16,T16,W16,Z16,AC16,AF16,AI16,AL16,AO16,AR16,AU16,AX16,BA16,BD16,BG16)","v":0},0,{"$f":"SUM(BJ16:BK16)","v":0},{"$f":"[1]P_Sch_Subacc!BM15","v":0},{"$f":"[1]P_Sch_Subacc!BN15","v":0},{"$f":"SUM(BM16:BN16)","v":0},{"$f":"[1]P_Sch_Subacc!BP15","v":0},{"$f":"[1]P_Sch_Subacc!BQ15","v":0},{"$f":"SUM(BP16:BQ16)","v":0},{"$f":"[1]P_Sch_Subacc!BS15","v":0},{"$f":"[1]P_Sch_Subacc!BT15","v":0},{"$f":"SUM(BS16:BT16)","v":0},{"$f":"[1]P_Sch_Subacc!BV15","v":0},{"$f":"[1]P_Sch_Subacc!BW15","v":0},{"$f":"SUM(BV16:BW16)","v":0},{"$f":"[1]P_Sch_Subacc!BY15","v":0},{"$f":"[1]P_Sch_Subacc!BZ15","v":0},{"$f":"SUM(BY16:BZ16)","v":0},{"$f":"[1]P_Sch_Subacc!CB15","v":0},{"$f":"[1]P_Sch_Subacc!CC15","v":0},{"$f":"SUM(CB16:CC16)","v":0},{"$f":"[1]P_Sch_Subacc!CE15","v":0},{"$f":"[1]P_Sch_Subacc!CF15","v":0},{"$f":"SUM(CE16:CF16)","v":0},{"$f":"[1]P_Sch_Subacc!CH15","v":0},{"$f":"[1]P_Sch_Subacc!CI15","v":0},{"$f":"SUM(CH16:CI16)","v":0},{"$f":"[1]P_Sch_Subacc!CK15","v":0},{"$f":"[1]P_Sch_Subacc!CL15","v":0},{"$f":"SUM(CK16:CL16)","v":0},{"$f":"[1]P_Sch_Subacc!CN15","v":0},{"$f":"[1]P_Sch_Subacc!CO15","v":0},{"$f":"SUM(CN16:CO16)","v":0},{"$f":"[1]P_Sch_Subacc!CQ15","v":0},{"$f":"[1]P_Sch_Subacc!CR15","v":0},{"$f":"SUM(CQ16:CR16)","v":0},{"$f":"[1]P_Sch_Subacc!CT15","v":0},{"$f":"[1]P_Sch_Subacc!CU15","v":0},{"$f":"SUM(CT16:CU16)","v":0},{"$f":"[1]P_Sch_Subacc!CW15","v":0},{"$f":"[1]P_Sch_Subacc!CX15","v":0},{"$f":"SUM(CW16:CX16)","v":0},{"$f":"[1]P_Sch_Subacc!CZ15","v":0},{"$f":"[1]P_Sch_Subacc!DA15","v":0},{"$f":"SUM(CZ16:DA16)","v":0},{"$f":"[1]P_Sch_Subacc!DC15","v":0},{"$f":"[1]P_Sch_Subacc!DD15","v":0},{"$f":"SUM(DC16:DD16)","v":0},{"$f":"SUM(BM16,BP16,BS16,BV16,BY16,CB16,CE16,CH16,CK16,CN16,CQ16,CT16,CW16,CZ16,DC16)","v":0},0,{"$f":"SUM(DF16:DG16)","v":0},{"$f":"[1]P_Sch_Subacc!DI15","v":0},{"$f":"[1]P_Sch_Subacc!DJ15","v":0},{"$f":"SUM(DI16:DJ16)","v":0},{"$f":"[1]P_Sch_Subacc!DL15","v":0},{"$f":"[1]P_Sch_Subacc!DM15","v":0},{"$f":"SUM(DL16:DM16)","v":0},{"$f":"SUM(DI16,DL16)","v":0},0,{"$f":"SUM(DO16:DP16)","v":0},{"$f":"[1]P_Sch_Subacc!DR15","v":0},{"$f":"[1]P_Sch_Subacc!DS15","v":0},{"$f":"SUM(DR16:DS16)","v":0},{"$f":"[1]P_Sch_Subacc!DU15","v":0},{"$f":"[1]P_Sch_Subacc!DV15","v":0},{"$f":"SUM(DU16:DV16)","v":0},{"$f":"[1]P_Sch_Subacc!DX15","v":0},{"$f":"[1]P_Sch_Subacc!DY15","v":0},{"$f":"SUM(DX16:DY16)","v":0},{"$f":"SUM(DR16,DU16,DX16)","v":0},0,{"$f":"SUM(EA16:EB16)","v":0},{"$f":"SUM(BJ16,DF16,DO16,EA16)","v":0},0,{"$f":"SUM(ED16:EE16)","v":0}]
[2,null,null,null,null,null,{"$f":"SUM(E17:F17)","v":0},null,null,0,null,null,0,null,null,0,null,null,0,null,null,0,null,null,0,null,null,0,null,null,0,null,null,0,null,null,0,null,null,0,null,null,0,null,null,0,null,null,0,null,null,0,null,null,0,null,null,0,null,null,0,0,0,0,null,null,0,null,null,0,null,null,0,null,null,0,null,null,0,null,null,0,null,null,0,null,null,0,null,null,0,null,null,0,null,null,0,null,null,0,null,null,0,null,null,0,null,null,0,0,0,0,null,null,0,null,null,0,0,0,0,null,null,0,null,null,0,null,null,0,0,0,0,0,0,0]
[3,null,null,null,null,null,0,null,null,0,null,null,0,null,null,0,null,null,0,null,null,0,null,null,0,null,null,0,null,null,0,null,null,0,null,null,0,null,null,0,null,null,0,null,null,0,null,null,0,null,null,0,null,null,0,null,null,0,null,null,0,0,0,0,null,null,0,null,null,0,null,null,0,null,null,0,null,null,0,null,null,0,null,null,0,null,null,0,null,null,0,null,null,0,null,null,0,null,null,0,null,null,0,null,null,0,null,null,0,0,0,0,null,null,0,null,null,0,0,0,0,null,null,0,null,null,0,null,null,0,0,0,0,0,0,0]
[4,null,null,null,null,null,0,null,null,0,null,null,0,null,null,0,null,null,0,null,null,0,null,null,0,null,null,0,null,null,0,null,null,0,null,null,0,null,null,0,null,null,0,null,null,0,null,null,0,null,null,0,null,null,0,null,null,0,null,null,0,0,0,0,null,null,0,null,null,0,null,null,0,null,null,0,null,null,0,null,null,0,null,null,0,null,null,0,null,null,0,null,null,0,null,null,0,null,null,0,null,null,0,null,null,0,null,null,0,0,0,0,null,null,0,null,null,0,0,0,0,null,null,0,null,null,0,null,null,0,0,0,0,0,0,0]
[5,null,null,null,null,null,0,null,null,0,null,null,0,null,null,0,null,null,0,null,null,0,null,null,0,null,null,0,null,null,0,null,null,0,null,null,0,null,null,0,null,null,0,null,null,0,null,null,0,null,null,0,null,null,0,null,null,0,null,null,0,0,0,0,null,null,0,null,null,0,null,null,0,null,null,0,null,null,0,null,null,0,null,null,0,null,null,0,null,null,0,null,null,0,null,null,0,null,null,0,null,null,0,null,null,0,null,null,0,0,0,0,null,null,0,null,null,0,0,0,0,null,null,0,null,null,0,null,null,0,0,0,0,0,0,0]
[6,null,null,null,null,null,0,null,null,0,null,null,0,null,null,0,null,null,0,null,null,0,null,null,0,null,null,0,null,null,0,null,null,0,null,null,0,null,null,0,null,null,0,null,null,0,null,null,0,null,null,0,null,null,0,null,null,0,null,null,0,0,0,0,null,null,0,null,null,0,null,null,0,null,null,0,null,null,0,null,null,0,null,null,0,null,null,0,null,null,0,null,null,0,null,null,0,null,null,0,null,null,0,null,null,0,null,null,0,0,0,0,null,null,0,null,null,0,0,0,0,null,null,0,null,null,0,null,null,0,0,0,0,0,0,0]
[7,null,null,null,null,null,0,null,null,0,null,null,0,null,null,0,null,null,0,null,null,0,null,null,0,null,null,0,null,null,0,null,null,0,null,null,0,null,null,0,null,null,0,null,null,0,null,null,0,null,null,0,null,null,0,null,null,0,null,null,0,0,0,0,null,null,0,null,null,0,null,null,0,null,null,0,null,null,0,null,null,0,null,null,0,null,null,0,null,null,0,null,null,0,null,null,0,null,null,0,null,null,0,null,null,0,null,null,0,0,0,0,null,null,0,null,null,0,0,0,0,null,null,0,null,null,0,null,null,0,0,0,0,0,0,0]
[8,null,null,null,null,null,0,null,null,0,null,null,0,null,null,0,null,null,0,null,null,0,null,null,0,null,null,0,null,null,0,null,null,0,null,null,0,null,null,0,null,null,0,null,null,0,null,null,0,null,null,0,null,null,0,null,null,0,null,null,0,0,0,0,null,null,0,null,null,0,null,null,0,null,null,0,null,null,0,null,null,0,null,null,0,null,null,0,null,null,0,null,null,0,null,null,0,null,null,0,null,null,0,null,null,0,null,null,0,0,0,0,null,null,0,null,null,0,0,0,0,null,null,0,null,null,0,null,null,0,0,0,0,0,0,0]
[9,null,null,null,null,null,0,null,null,0,null,null,0,null,null,0,null,null,0,null,null,0,null,null,0,null,null,0,null,null,0,null,null,0,null,null,0,null,null,0,null,null,0,null,null,0,null,null,0,null,null,0,null,null,0,null,null,0,null,null,0,0,0,0,null,null,0,null,null,0,null,null,0,null,null,0,null,null,0,null,null,0,null,null,0,null,null,0,null,null,0,null,null,0,null,null,0,null,null,0,null,null,0,null,null,0,null,null,0,0,0,0,null,null,0,null,null,0,0,0,0,null,null,0,null,null,0,null,null,0,0,0,0,0,0,0]
[10,null,null,null,null,null,0,null,null,0,null,null,0,null,null,0,null,null,0,null,null,0,null,null,0,null,null,0,null,null,0,null,null,0,null,null,0,null,null,0,null,null,0,null,null,0,null,null,0,null,null,0,null,null,0,null,null,0,null,null,0,0,0,0,null,null,0,null,null,0,null,null,0,null,null,0,null,null,0,null,null,0,null,null,0,null,null,0,null,null,0,null,null,0,null,null,0,null,null,0,null,null,0,null,null,0,null,null,0,0,0,0,null,null,0,null,null,0,0,0,0,null,null,0,null,null,0,null,null,0,0,0,0,0,0,0]
[11,null,null,null,null,null,0,null,null,0,null,null,0,null,null,0,null,null,0,null,null,0,null,null,0,null,null,0,null,null,0,null,null,0,null,null,0,null,null,0,null,null,0,null,null,0,null,null,0,null,null,0,null,null,0,null,null,0,null,null,0,0,0,0,null,null,0,null,null,0,null,null,0,null,null,0,null,null,0,null,null,0,null,null,0,null,null,0,null,null,0,null,null,0,null,null,0,null,null,0,null,null,0,null,null,0,null,null,0,0,0,0,null,null,0,null,null,0,0,0,0,null,null,0,null,null,0,null,null,0,0,0,0,0,0,0]
[12,null,null,null,null,null,0,null,null,0,null,null,0,null,null,0,null,null,0,null,null,0,null,null,0,null,null,0,null,null,0,null,null,0,null,null,0,null,null,0,null,null,0,null,null,0,null,null,0,null,null,0,null,null,0,null,null,0,null,null,0,0,0,0,null,null,0,null,null,0,null,null,0,null,null,0,null,null,0,null,null,0,null,null,0,null,null,0,null,null,0,null,null,0,null,null,0,null,null,0,null,null,0,null,null,0,null,null,0,0,0,0,null,null,0,null,null,0,0,0,0,null,null,0,null,null,0,null,null,0,0,0,0,0,0,0]
[13,null,null,null,null,null,0,null,null,0,null,null,0,null,null,0,null,null,0,null,null,0,null,null,0,null,null,0,null,null,0,null,null,0,null,null,0,null,null,0,null,null,0,null,null,0,null,null,0,null,null,0,null,null,0,null,null,0,null,null,0,0,0,0,null,null,0,null,null,0,null,null,0,null,null,0,null,null,0,null,null,0,null,null,0,null,null,0,null,null,0,null,null,0,null,null,0,null,null,0,null,null,0,null,null,0,null,null,0,0,0,0,null,null,0,null,null,0,0,0,0,null,null,0,null,null,0,null,null,0,0,0,0,0,0,0]
[14,null,null,null,null,null,0,null,null,0,null,null,0,null,null,0,null,null,0,null,null,0,null,null,0,null,null,0,null,null,0,null,null,0,null,null,0,null,null,0,null,null,0,null,null,0,null,null,0,null,null,0,null,null,0,null,null,0,null,null,0,0,0,0,null,null,0,null,null,0,null,null,0,null,null,0,null,null,0,null,null,0,null,null,0,null,null,0,null,null,0,null,null,0,null,null,0,null,null,0,null,null,0,null,null,0,null,null,0,0,0,0,null,null,0,null,null,0,0,0,0,null,null,0,null,null,0,null,null,0,0,0,0,0,0,0]
[15,null,null,null,null,null,0,null,null,0,null,null,0,null,null,0,null,null,0,null,null,0,null,null,0,null,null,0,null,null,0,null,null,0,null,null,0,null,null,0,null,null,0,null,null,0,null,null,0,null,null,0,null,null,0,null,null,0,null,null,0,0,0,0,null,null,0,null,null,0,null,null,0,null,null,0,null,null,0,null,null,0,null,null,0,null,null,0,null,null,0,null,null,0,null,null,0,null,null,0,null,null,0,null,null,0,null,null,0,0,0,0,null,null,0,null,null,0,0,0,0,null,null,0,null,null,0,null,null,0,0,0,0,0,0,0]
[16,null,null,null,null,null,0,null,null,0,null,null,0,null,null,0,null,null,0,null,null,0,null,null,0,null,null,0,null,null,0,null,null,0,null,null,0,null,null,0,null,null,0,null,null,0,null,null,0,null,null,0,null,null,0,null,null,0,null,null,0,0,0,0,null,null,0,null,null,0,null,null,0,null,null,0,null,null,0,null,null,0,null,null,0,null,null,0,null,null,0,null,null,0,null,null,0,null,null,0,null,null,0,null,null,0,null,null,0,0,0,0,null,null,0,null,null,0,0,0,0,null,null,0,null,null,0,null,null,0,0,0,0,0,0,0]
[17,null,null,null,null,null,0,null,null,0,null,null,0,null,null,0,null,null,0,null,null,0,null,null,0,null,null,0,null,null,0,null,null,0,null,null,0,null,null,0,null,null,0,null,null,0,null,null,0,null,null,0,null,null,0,null,null,0,null,null,0,0,0,0,null,null,0,null,null,0,null,null,0,null,null,0,null,null,0,null,null,0,null,null,0,null,null,0,null,null,0,null,null,0,null,null,0,null,null,0,null,null,0,null,null,0,null,null,0,0,0,0,null,null,0,null,null,0,0,0,0,null,null,0,null,null,0,null,null,0,0,0,0,0,0,0]
[18,null,null,null,null,null,0,null,null,0,null,null,0,null,null,0,null,null,0,null,null,0,null,null,0,null,null,0,null,null,0,null,null,0,null,null,0,null,null,0,null,null,0,null,null,0,null,null,0,null,null,0,null,null,0,null,null,0,null,null,0,0,0,0,null,null,0,null,null,0,null,null,0,null,null,0,null,null,0,null,null,0,null,null,0,null,null,0,null,null,0,null,null,0,null,null,0,null,null,0,null,null,0,null,null,0,null,null,0,0,0,0,null,null,0,null,null,0,0,0,0,null,null,0,null,null,0,null,null,0,0,0,0,0,0,0]
[19,null,null,null,null,null,0,null,null,0,null,null,0,null,null,0,null,null,0,null,null,0,null,null,0,null,null,0,null,null,0,null,null,0,null,null,0,null,null,0,null,null,0,null,null,0,null,null,0,null,null,0,null,null,0,null,null,0,null,null,0,0,0,0,null,null,0,null,null,0,null,null,0,null,null,0,null,null,0,null,null,0,null,null,0,null,null,0,null,null,0,null,null,0,null,null,0,null,null,0,null,null,0,null,null,0,null,null,0,0,0,0,null,null,0,null,null,0,0,0,0,null,null,0,null,null,0,null,null,0,0,0,0,0,0,0]
[20,null,null,null,null,null,0,null,null,0,null,null,0,null,null,0,null,null,0,null,null,0,null,null,0,null,null,0,null,null,0,null,null,0,null,null,0,null,null,0,null,null,0,null,null,0,null,null,0,null,null,0,null,null,0,null,null,0,null,null,0,0,0,0,null,null,0,null,null,0,null,null,0,null,null,0,null,null,0,null,null,0,null,null,0,null,null,0,null,null,0,null,null,0,null,null,0,null,null,0,null,null,0,null,null,0,null,null,0,0,0,0,null,null,0,null,null,0,0,0,0,null,null,0,null,null,0,null,null,0,0,0,0,0,0,0]
[21,null,null,null,null,null,0,null,null,0,null,null,0,null,null,0,null,null,0,null,null,0,null,null,0,null,null,0,null,null,0,null,null,0,null,null,0,null,null,0,null,null,0,null,null,0,null,null,0,null,null,0,null,null,0,null,null,0,null,null,0,0,0,0,null,null,0,null,null,0,null,null,0,null,null,0,null,null,0,null,null,0,null,null,0,null,null,0,null,null,0,null,null,0,null,null,0,null,null,0,null,null,0,null,null,0,null,null,0,0,0,0,null,null,0,null,null,0,0,0,0,null,null,0,null,null,0,null,null,0,0,0,0,0,0,0]
[22,null,null,null,null,null,0,null,null,0,null,null,0,null,null,0,null,null,0,null,null,0,null,null,0,null,null,0,null,null,0,null,null,0,null,null,0,null,null,0,null,null,0,null,null,0,null,null,0,null,null,0,null,null,0,null,null,0,null,null,0,0,0,0,null,null,0,null,null,0,null,null,0,null,null,0,null,null,0,null,null,0,null,null,0,null,null,0,null,null,0,null,null,0,null,null,0,null,null,0,null,null,0,null,null,0,null,null,0,0,0,0,null,null,0,null,null,0,0,0,0,null,null,0,null,null,0,null,null,0,0,0,0,0,0,0]
[23,null,null,null,null,null,0,null,null,0,null,null,0,null,null,0,null,null,0,null,null,0,null,null,0,null,null,0,null,null,0,null,null,0,null,null,0,null,null,0,null,null,0,null,null,0,null,null,0,null,null,0,null,null,0,null,null,0,null,null,0,0,0,0,null,null,0,null,null,0,null,null,0,null,null,0,null,null,0,null,null,0,null,null,0,null,null,0,null,null,0,null,null,0,null,null,0,null,null,0,null,null,0,null,null,0,null,null,0,0,0,0,null,null,0,null,null,0,0,0,0,null,null,0,null,null,0,null,null,0,0,0,0,0,0,0]
[24,null,null,null,null,null,0,null,null,0,null,null,0,null,null,0,null,null,0,null,null,0,null,null,0,null,null,0,null,null,0,null,null,0,null,null,0,null,null,0,null,null,0,null,null,0,null,null,0,null,null,0,null,null,0,null,null,0,null,null,0,0,0,0,null,null,0,null,null,0,null,null,0,null,null,0,null,null,0,null,null,0,null,null,0,null,null,0,null,null,0,null,null,0,null,null,0,null,null,0,null,null,0,null,null,0,null,null,0,0,0,0,null,null,0,null,null,0,0,0,0,null,null,0,null,null,0,null,null,0,0,0,0,0,0,0]
[25,null,null,null,null,null,0,null,null,0,null,null,0,null,null,0,null,null,0,null,null,0,null,null,0,null,null,0,null,null,0,null,null,0,null,null,0,null,null,0,null,null,0,null,null,0,null,null,0,null,null,0,null,null,0,null,null,0,null,null,0,0,0,0,null,null,0,null,null,0,null,null,0,null,null,0,null,null,0,null,null,0,null,null,0,null,null,0,null,null,0,null,null,0,null,null,0,null,null,0,null,null,0,null,null,0,null,null,0,0,0,0,null,null,0,null,null,0,0,0,0,null,null,0,null,null,0,null,null,0,0,0,0,0,0,0]
[26,null,null,null,null,null,0,null,null,0,null,null,0,null,null,0,null,null,0,null,null,0,null,null,0,null,null,0,null,null,0,null,null,0,null,null,0,null,null,0,null,null,0,null,null,0,null,null,0,null,null,0,null,null,0,null,null,0,null,null,0,0,0,0,null,null,0,null,null,0,null,null,0,null,null,0,null,null,0,null,null,0,null,null,0,null,null,0,null,null,0,null,null,0,null,null,0,null,null,0,null,null,0,null,null,0,null,null,0,0,0,0,null,null,0,null,null,0,0,0,0,null,null,0,null,null,0,null,null,0,0,0,0,0,0,0]
[27,null,null,null,null,null,0,null,null,0,null,null,0,null,null,0,null,null,0,null,null,0,null,null,0,null,null,0,null,null,0,null,null,0,null,null,0,null,null,0,null,null,0,null,null,0,null,null,0,null,null,0,null,null,0,null,null,0,null,null,0,0,0,0,null,null,0,null,null,0,null,null,0,null,null,0,null,null,0,null,null,0,null,null,0,null,null,0,null,null,0,null,null,0,null,null,0,null,null,0,null,null,0,null,null,0,null,null,0,0,0,0,null,null,0,null,null,0,0,0,0,null,null,0,null,null,0,null,null,0,0,0,0,0,0,0]
[28,null,null,null,null,null,0,null,null,0,null,null,0,null,null,0,null,null,0,null,null,0,null,null,0,null,null,0,null,null,0,null,null,0,null,null,0,null,null,0,null,null,0,null,null,0,null,null,0,null,null,0,null,null,0,null,null,0,null,null,0,0,0,0,null,null,0,null,null,0,null,null,0,null,null,0,null,null,0,null,null,0,null,null,0,null,null,0,null,null,0,null,null,0,null,null,0,null,null,0,null,null,0,null,null,0,null,null,0,0,0,0,null,null,0,null,null,0,0,0,0,null,null,0,null,null,0,null,null,0,0,0,0,0,0,0]
[29,null,null,null,null,null,0,null,null,0,null,null,0,null,null,0,null,null,0,null,null,0,null,null,0,null,null,0,null,null,0,null,null,0,null,null,0,null,null,0,null,null,0,null,null,0,null,null,0,null,null,0,null,null,0,null,null,0,null,null,0,0,0,0,null,null,0,null,null,0,null,null,0,null,null,0,null,null,0,null,null,0,null,null,0,null,null,0,null,null,0,null,null,0,null,null,0,null,null,0,null,null,0,null,null,0,null,null,0,0,0,0,null,null,0,null,null,0,0,0,0,null,null,0,null,null,0,null,null,0,0,0,0,0,0,0]
[30,null,null,null,null,null,0,null,null,0,null,null,0,null,null,0,null,null,0,null,null,0,null,null,0,null,null,0,null,null,0,null,null,0,null,null,0,null,null,0,null,null,0,null,null,0,null,null,0,null,null,0,null,null,0,null,null,0,null,null,0,0,0,0,null,null,0,null,null,0,null,null,0,null,null,0,null,null,0,null,null,0,null,null,0,null,null,0,null,null,0,null,null,0,null,null,0,null,null,0,null,null,0,null,null,0,null,null,0,0,0,0,null,null,0,null,null,0,0,0,0,null,null,0,null,null,0,null,null,0,0,0,0,0,0,0]
[31,null,null,null,null,null,0,null,null,0,null,null,0,null,null,0,null,null,0,null,null,0,null,null,0,null,null,0,null,null,0,null,null,0,null,null,0,null,null,0,null,null,0,null,null,0,null,null,0,null,null,0,null,null,0,null,null,0,null,null,0,0,0,0,null,null,0,null,null,0,null,null,0,null,null,0,null,null,0,null,null,0,null,null,0,null,null,0,null,null,0,null,null,0,null,null,0,null,null,0,null,null,0,null,null,0,null,null,0,0,0,0,null,null,0,null,null,0,0,0,0,null,null,0,null,null,0,null,null,0,0,0,0,0,0,0]
[32,null,null,null,null,null,0,null,null,0,null,null,0,null,null,0,null,null,0,null,null,0,null,null,0,null,null,0,null,null,0,null,null,0,null,null,0,null,null,0,null,null,0,null,null,0,null,null,0,null,null,0,null,null,0,null,null,0,null,null,0,0,0,0,null,null,0,null,null,0,null,null,0,null,null,0,null,null,0,null,null,0,null,null,0,null,null,0,null,null,0,null,null,0,null,null,0,null,null,0,null,null,0,null,null,0,null,null,0,0,0,0,null,null,0,null,null,0,0,0,0,null,null,0,null,null,0,null,null,0,0,0,0,0,0,0]
[33,null,null,null,null,null,0,null,null,0,null,null,0,null,null,0,null,null,0,null,null,0,null,null,0,null,null,0,null,null,0,null,null,0,null,null,0,null,null,0,null,null,0,null,null,0,null,null,0,null,null,0,null,null,0,null,null,0,null,null,0,0,0,0,null,null,0,null,null,0,null,null,0,null,null,0,null,null,0,null,null,0,null,null,0,null,null,0,null,null,0,null,null,0,null,null,0,null,null,0,null,null,0,null,null,0,null,null,0,0,0,0,null,null,0,null,null,0,0,0,0,null,null,0,null,null,0,null,null,0,0,0,0,0,0,0]
[34,null,null,null,null,null,0,null,null,0,null,null,0,null,null,0,null,null,0,null,null,0,null,null,0,null,null,0,null,null,0,null,null,0,null,null,0,null,null,0,null,null,0,null,null,0,null,null,0,null,null,0,null,null,0,null,null,0,null,null,0,0,0,0,null,null,0,null,null,0,null,null,0,null,null,0,null,null,0,null,null,0,null,null,0,null,null,0,null,null,0,null,null,0,null,null,0,null,null,0,null,null,0,null,null,0,null,null,0,0,0,0,null,null,0,null,null,0,0,0,0,null,null,0,null,null,0,null,null,0,0,0,0,0,0,0]
[35,null,null,null,null,null,0,null,null,0,null,null,0,null,null,0,null,null,0,null,null,0,null,null,0,null,null,0,null,null,0,null,null,0,null,null,0,null,null,0,null,null,0,null,null,0,null,null,0,null,null,0,null,null,0,null,null,0,null,null,0,0,0,0,null,null,0,null,null,0,null,null,0,null,null,0,null,null,0,null,null,0,null,null,0,null,null,0,null,null,0,null,null,0,null,null,0,null,null,0,null,null,0,null,null,0,null,null,0,0,0,0,null,null,0,null,null,0,0,0,0,null,null,0,null,null,0,null,null,0,0,0,0,0,0,0]
[36,null,null,null,null,null,0,null,null,0,null,null,0,null,null,0,null,null,0,null,null,0,null,null,0,null,null,0,null,null,0,null,null,0,null,null,0,null,null,0,null,null,0,null,null,0,null,null,0,null,null,0,null,null,0,null,null,0,null,null,0,0,0,0,null,null,0,null,null,0,null,null,0,null,null,0,null,null,0,null,null,0,null,null,0,null,null,0,null,null,0,null,null,0,null,null,0,null,null,0,null,null,0,null,null,0,null,null,0,0,0,0,null,null,0,null,null,0,0,0,0,null,null,0,null,null,0,null,null,0,0,0,0,0,0,0]
[37,null,null,null,null,null,0,null,null,0,null,null,0,null,null,0,null,null,0,null,null,0,null,null,0,null,null,0,null,null,0,null,null,0,null,null,0,null,null,0,null,null,0,null,null,0,null,null,0,null,null,0,null,null,0,null,null,0,null,null,0,0,0,0,null,null,0,null,null,0,null,null,0,null,null,0,null,null,0,null,null,0,null,null,0,null,null,0,null,null,0,null,null,0,null,null,0,null,null,0,null,null,0,null,null,0,null,null,0,0,0,0,null,null,0,null,null,0,0,0,0,null,null,0,null,null,0,null,null,0,0,0,0,0,0,0]
[38,null,null,null,null,null,0,null,null,0,null,null,0,null,null,0,null,null,0,null,null,0,null,null,0,null,null,0,null,null,0,null,null,0,null,null,0,null,null,0,null,null,0,null,null,0,null,null,0,null,null,0,null,null,0,null,null,0,null,null,0,0,0,0,null,null,0,null,null,0,null,null,0,null,null,0,null,null,0,null,null,0,null,null,0,null,null,0,null,null,0,null,null,0,null,null,0,null,null,0,null,null,0,null,null,0,null,null,0,0,0,0,null,null,0,null,null,0,0,0,0,null,null,0,null,null,0,null,null,0,0,0,0,0,0,0]
[39,null,null,null,null,null,0,null,null,0,null,null,0,null,null,0,null,null,0,null,null,0,null,null,0,null,null,0,null,null,0,null,null,0,null,null,0,null,null,0,null,null,0,null,null,0,null,null,0,null,null,0,null,null,0,null,null,0,null,null,0,0,0,0,null,null,0,null,null,0,null,null,0,null,null,0,null,null,0,null,null,0,null,null,0,null,null,0,null,null,0,null,null,0,null,null,0,null,null,0,null,null,0,null,null,0,null,null,0,0,0,0,null,null,0,null,null,0,0,0,0,null,null,0,null,null,0,null,null,0,0,0,0,0,0,0]
[40,null,null,null,null,null,0,null,null,0,null,null,0,null,null,0,null,null,0,null,null,0,null,null,0,null,null,0,null,null,0,null,null,0,null,null,0,null,null,0,null,null,0,null,null,0,null,null,0,null,null,0,null,null,0,null,null,0,null,null,0,0,0,0,null,null,0,null,null,0,null,null,0,null,null,0,null,null,0,null,null,0,null,null,0,null,null,0,null,null,0,null,null,0,null,null,0,null,null,0,null,null,0,null,null,0,null,null,0,0,0,0,null,null,0,null,null,0,0,0,0,null,null,0,null,null,0,null,null,0,0,0,0,0,0,0]
[41,null,null,null,null,null,0,null,null,0,null,null,0,null,null,0,null,null,0,null,null,0,null,null,0,null,null,0,null,null,0,null,null,0,null,null,0,null,null,0,null,null,0,null,null,0,null,null,0,null,null,0,null,null,0,null,null,0,null,null,0,0,0,0,null,null,0,null,null,0,null,null,0,null,null,0,null,null,0,null,null,0,null,null,0,null,null,0,null,null,0,null,null,0,null,null,0,null,null,0,null,null,0,null,null,0,null,null,0,0,0,0,null,null,0,null,null,0,0,0,0,null,null,0,null,null,0,null,null,0,0,0,0,0,0,0]
[42,null,null,null,null,null,0,null,null,0,null,null,0,null,null,0,null,null,0,null,null,0,null,null,0,null,null,0,null,null,0,null,null,0,null,null,0,null,null,0,null,null,0,null,null,0,null,null,0,null,null,0,null,null,0,null,null,0,null,null,0,0,0,0,null,null,0,null,null,0,null,null,0,null,null,0,null,null,0,null,null,0,null,null,0,null,null,0,null,null,0,null,null,0,null,null,0,null,null,0,null,null,0,null,null,0,null,null,0,0,0,0,null,null,0,null,null,0,0,0,0,null,null,0,null,null,0,null,null,0,0,0,0,0,0,0]
[43,null,null,null,null,null,0,null,null,0,null,null,0,null,null,0,null,null,0,null,null,0,null,null,0,null,null,0,null,null,0,null,null,0,null,null,0,null,null,0,null,null,0,null,null,0,null,null,0,null,null,0,null,null,0,null,null,0,null,null,0,0,0,0,null,null,0,null,null,0,null,null,0,null,null,0,null,null,0,null,null,0,null,null,0,null,null,0,null,null,0,null,null,0,null,null,0,null,null,0,null,null,0,null,null,0,null,null,0,0,0,0,null,null,0,null,null,0,0,0,0,null,null,0,null,null,0,null,null,0,0,0,0,0,0,0]
[44,null,null,null,null,null,0,null,null,0,null,null,0,null,null,0,null,null,0,null,null,0,null,null,0,null,null,0,null,null,0,null,null,0,null,null,0,null,null,0,null,null,0,null,null,0,null,null,0,null,null,0,null,null,0,null,null,0,null,null,0,0,0,0,null,null,0,null,null,0,null,null,0,null,null,0,null,null,0,null,null,0,null,null,0,null,null,0,null,null,0,null,null,0,null,null,0,null,null,0,null,null,0,null,null,0,null,null,0,0,0,0,null,null,0,null,null,0,0,0,0,null,null,0,null,null,0,null,null,0,0,0,0,0,0,0]
[45,null,null,null,null,null,0,null,null,0,null,null,0,null,null,0,null,null,0,null,null,0,null,null,0,null,null,0,null,null,0,null,null,0,null,null,0,null,null,0,null,null,0,null,null,0,null,null,0,null,null,0,null,null,0,null,null,0,null,null,0,0,0,0,null,null,0,null,null,0,null,null,0,null,null,0,null,null,0,null,null,0,null,null,0,null,null,0,null,null,0,null,null,0,null,null,0,null,null,0,null,null,0,null,null,0,null,null,0,0,0,0,null,null,0,null,null,0,0,0,0,null,null,0,null,null,0,null,null,0,0,0,0,0,0,0]
[46,null,null,null,null,null,0,null,null,0,null,null,0,null,null,0,null,null,0,null,null,0,null,null,0,null,null,0,null,null,0,null,null,0,null,null,0,null,null,0,null,null,0,null,null,0,null,null,0,null,null,0,null,null,0,null,null,0,null,null,0,0,0,0,null,null,0,null,null,0,null,null,0,null,null,0,null,null,0,null,null,0,null,null,0,null,null,0,null,null,0,null,null,0,null,null,0,null,null,0,null,null,0,null,null,0,null,null,0,0,0,0,null,null,0,null,null,0,0,0,0,null,null,0,null,null,0,null,null,0,0,0,0,0,0,0]
[47,null,null,null,null,null,0,null,null,0,null,null,0,null,null,0,null,null,0,null,null,0,null,null,0,null,null,0,null,null,0,null,null,0,null,null,0,null,null,0,null,null,0,null,null,0,null,null,0,null,null,0,null,null,0,null,null,0,null,null,0,0,0,0,null,null,0,null,null,0,null,null,0,null,null,0,null,null,0,null,null,0,null,null,0,null,null,0,null,null,0,null,null,0,null,null,0,null,null,0,null,null,0,null,null,0,null,null,0,0,0,0,null,null,0,null,null,0,0,0,0,null,null,0,null,null,0,null,null,0,0,0,0,0,0,0]
[48,null,null,null,null,null,0,null,null,0,null,null,0,null,null,0,null,null,0,null,null,0,null,null,0,null,null,0,null,null,0,null,null,0,null,null,0,null,null,0,null,null,0,null,null,0,null,null,0,null,null,0,null,null,0,null,null,0,null,null,0,0,0,0,null,null,0,null,null,0,null,null,0,null,null,0,null,null,0,null,null,0,null,null,0,null,null,0,null,null,0,null,null,0,null,null,0,null,null,0,null,null,0,null,null,0,null,null,0,0,0,0,null,null,0,null,null,0,0,0,0,null,null,0,null,null,0,null,null,0,0,0,0,0,0,0]
[49,null,null,null,null,null,0,null,null,0,null,null,0,null,null,0,null,null,0,null,null,0,null,null,0,null,null,0,null,null,0,null,null,0,null,null,0,null,null,0,null,null,0,null,null,0,null,null,0,null,null,0,null,null,0,null,null,0,null,null,0,0,0,0,null,null,0,null,null,0,null,null,0,null,null,0,null,null,0,null,null,0,null,null,0,null,null,0,null,null,0,null,null,0,null,null,0,null,null,0,null,null,0,null,null,0,null,null,0,0,0,0,null,null,0,null,null,0,0,0,0,null,null,0,null,null,0,null,null,0,0,0,0,0,0,0]
[50,null,null,null,null,null,0,null,null,0,null,null,0,null,null,0,null,null,0,null,null,0,null,null,0,null,null,0,null,null,0,null,null,0,null,null,0,null,null,0,null,null,0,null,null,0,null,null,0,null,null,0,null,null,0,null,null,0,null,null,0,0,0,0,null,null,0,null,null,0,null,null,0,null,null,0,null,null,0,null,null,0,null,null,0,null,null,0,null,null,0,null,null,0,null,null,0,null,null,0,null,null,0,null,null,0,null,null,0,0,0,0,null,null,0,null,null,0,0,0,0,null,null,0,null,null,0,null,null,0,0,0,0,0,0,0]
[51,null,null,null,null,null,0,null,null,0,null,null,0,null,null,0,null,null,0,null,null,0,null,null,0,null,null,0,null,null,0,null,null,0,null,null,0,null,null,0,null,null,0,null,null,0,null,null,0,null,null,0,null,null,0,null,null,0,null,null,0,0,0,0,null,null,0,null,null,0,null,null,0,null,null,0,null,null,0,null,null,0,null,null,0,null,null,0,null,null,0,null,null,0,null,null,0,null,null,0,null,null,0,null,null,0,null,null,0,0,0,0,null,null,0,null,null,0,0,0,0,null,null,0,null,null,0,null,null,0,0,0,0,0,0,0]
[52,null,null,null,null,null,0,null,null,0,null,null,0,null,null,0,null,null,0,null,null,0,null,null,0,null,null,0,null,null,0,null,null,0,null,null,0,null,null,0,null,null,0,null,null,0,null,null,0,null,null,0,null,null,0,null,null,0,null,null,0,0,0,0,null,null,0,null,null,0,null,null,0,null,null,0,null,null,0,null,null,0,null,null,0,null,null,0,null,null,0,null,null,0,null,null,0,null,null,0,null,null,0,null,null,0,null,null,0,0,0,0,null,null,0,null,null,0,0,0,0,null,null,0,null,null,0,null,null,0,0,0,0,0,0,0]
[53,null,null,null,null,null,0,null,null,0,null,null,0,null,null,0,null,null,0,null,null,0,null,null,0,null,null,0,null,null,0,null,null,0,null,null,0,null,null,0,null,null,0,null,null,0,null,null,0,null,null,0,null,null,0,null,null,0,null,null,0,0,0,0,null,null,0,null,null,0,null,null,0,null,null,0,null,null,0,null,null,0,null,null,0,null,null,0,null,null,0,null,null,0,null,null,0,null,null,0,null,null,0,null,null,0,null,null,0,0,0,0,null,null,0,null,null,0,0,0,0,null,null,0,null,null,0,null,null,0,0,0,0,0,0,0]
[54,null,null,null,null,null,0,null,null,0,null,null,0,null,null,0,null,null,0,null,null,0,null,null,0,null,null,0,null,null,0,null,null,0,null,null,0,null,null,0,null,null,0,null,null,0,null,null,0,null,null,0,null,null,0,null,null,0,null,null,0,0,0,0,null,null,0,null,null,0,null,null,0,null,null,0,null,null,0,null,null,0,null,null,0,null,null,0,null,null,0,null,null,0,null,null,0,null,null,0,null,null,0,null,null,0,null,null,0,0,0,0,null,null,0,null,null,0,0,0,0,null,null,0,null,null,0,null,null,0,0,0,0,0,0,0]
[55,null,null,null,null,null,0,null,null,0,null,null,0,null,null,0,null,null,0,null,null,0,null,null,0,null,null,0,null,null,0,null,null,0,null,null,0,null,null,0,null,null,0,null,null,0,null,null,0,null,null,0,null,null,0,null,null,0,null,null,0,0,0,0,null,null,0,null,null,0,null,null,0,null,null,0,null,null,0,null,null,0,null,null,0,null,null,0,null,null,0,null,null,0,null,null,0,null,null,0,null,null,0,null,null,0,null,null,0,0,0,0,null,null,0,null,null,0,0,0,0,null,null,0,null,null,0,null,null,0,0,0,0,0,0,0]
[56,null,null,null,null,null,0,null,null,0,null,null,0,null,null,0,null,null,0,null,null,0,null,null,0,null,null,0,null,null,0,null,null,0,null,null,0,null,null,0,null,null,0,null,null,0,null,null,0,null,null,0,null,null,0,null,null,0,null,null,0,0,0,0,null,null,0,null,null,0,null,null,0,null,null,0,null,null,0,null,null,0,null,null,0,null,null,0,null,null,0,null,null,0,null,null,0,null,null,0,null,null,0,null,null,0,null,null,0,0,0,0,null,null,0,null,null,0,0,0,0,null,null,0,null,null,0,null,null,0,0,0,0,0,0,0]
[57,null,null,null,null,null,0,null,null,0,null,null,0,null,null,0,null,null,0,null,null,0,null,null,0,null,null,0,null,null,0,null,null,0,null,null,0,null,null,0,null,null,0,null,null,0,null,null,0,null,null,0,null,null,0,null,null,0,null,null,0,0,0,0,null,null,0,null,null,0,null,null,0,null,null,0,null,null,0,null,null,0,null,null,0,null,null,0,null,null,0,null,null,0,null,null,0,null,null,0,null,null,0,null,null,0,null,null,0,0,0,0,null,null,0,null,null,0,0,0,0,null,null,0,null,null,0,null,null,0,0,0,0,0,0,0]
[58,null,null,null,null,null,0,null,null,0,null,null,0,null,null,0,null,null,0,null,null,0,null,null,0,null,null,0,null,null,0,null,null,0,null,null,0,null,null,0,null,null,0,null,null,0,null,null,0,null,null,0,null,null,0,null,null,0,null,null,0,0,0,0,null,null,0,null,null,0,null,null,0,null,null,0,null,null,0,null,null,0,null,null,0,null,null,0,null,null,0,null,null,0,null,null,0,null,null,0,null,null,0,null,null,0,null,null,0,0,0,0,null,null,0,null,null,0,0,0,0,null,null,0,null,null,0,null,null,0,0,0,0,0,0,0]
[59,null,null,null,null,null,0,null,null,0,null,null,0,null,null,0,null,null,0,null,null,0,null,null,0,null,null,0,null,null,0,null,null,0,null,null,0,null,null,0,null,null,0,null,null,0,null,null,0,null,null,0,null,null,0,null,null,0,null,null,0,0,0,0,null,null,0,null,null,0,null,null,0,null,null,0,null,null,0,null,null,0,null,null,0,null,null,0,null,null,0,null,null,0,null,null,0,null,null,0,null,null,0,null,null,0,null,null,0,0,0,0,null,null,0,null,null,0,0,0,0,null,null,0,null,null,0,null,null,0,0,0,0,0,0,0]
[60,null,null,null,null,null,0,null,null,0,null,null,0,null,null,0,null,null,0,null,null,0,null,null,0,null,null,0,null,null,0,null,null,0,null,null,0,null,null,0,null,null,0,null,null,0,null,null,0,null,null,0,null,null,0,null,null,0,null,null,0,0,0,0,null,null,0,null,null,0,null,null,0,null,null,0,null,null,0,null,null,0,null,null,0,null,null,0,null,null,0,null,null,0,null,null,0,null,null,0,null,null,0,null,null,0,null,null,0,0,0,0,null,null,0,null,null,0,0,0,0,null,null,0,null,null,0,null,null,0,0,0,0,0,0,0]
[61,null,null,null,null,null,0,null,null,0,null,null,0,null,null,0,null,null,0,null,null,0,null,null,0,null,null,0,null,null,0,null,null,0,null,null,0,null,null,0,null,null,0,null,null,0,null,null,0,null,null,0,null,null,0,null,null,0,null,null,0,0,0,0,null,null,0,null,null,0,null,null,0,null,null,0,null,null,0,null,null,0,null,null,0,null,null,0,null,null,0,null,null,0,null,null,0,null,null,0,null,null,0,null,null,0,null,null,0,0,0,0,null,null,0,null,null,0,0,0,0,null,null,0,null,null,0,null,null,0,0,0,0,0,0,0]
[62,null,null,null,null,null,0,null,null,0,null,null,0,null,null,0,null,null,0,null,null,0,null,null,0,null,null,0,null,null,0,null,null,0,null,null,0,null,null,0,null,null,0,null,null,0,null,null,0,null,null,0,null,null,0,null,null,0,null,null,0,0,0,0,null,null,0,null,null,0,null,null,0,null,null,0,null,null,0,null,null,0,null,null,0,null,null,0,null,null,0,null,null,0,null,null,0,null,null,0,null,null,0,null,null,0,null,null,0,0,0,0,null,null,0,null,null,0,0,0,0,null,null,0,null,null,0,null,null,0,0,0,0,0,0,0]
[63,null,null,null,null,null,0,null,null,0,null,null,0,null,null,0,null,null,0,null,null,0,null,null,0,null,null,0,null,null,0,null,null,0,null,null,0,null,null,0,null,null,0,null,null,0,null,null,0,null,null,0,null,null,0,null,null,0,null,null,0,0,0,0,null,null,0,null,null,0,null,null,0,null,null,0,null,null,0,null,null,0,null,null,0,null,null,0,null,null,0,null,null,0,null,null,0,null,null,0,null,null,0,null,null,0,null,null,0,0,0,0,null,null,0,null,null,0,0,0,0,null,null,0,null,null,0,null,null,0,0,0,0,0,0,0]
[64,null,null,null,null,null,0,null,null,0,null,null,0,null,null,0,null,null,0,null,null,0,null,null,0,null,null,0,null,null,0,null,null,0,null,null,0,null,null,0,null,null,0,null,null,0,null,null,0,null,null,0,null,null,0,null,null,0,null,null,0,0,0,0,null,null,0,null,null,0,null,null,0,null,null,0,null,null,0,null,null,0,null,null,0,null,null,0,null,null,0,null,null,0,null,null,0,null,null,0,null,null,0,null,null,0,null,null,0,0,0,0,null,null,0,null,null,0,0,0,0,null,null,0,null,null,0,null,null,0,0,0,0,0,0,0]
[65,null,null,null,null,null,{"$f":"SUM(E80:F80)","v":0},null,null,{"$f":"SUM(H80:I80)","v":0},null,null,{"$f":"SUM(K80:L80)","v":0},null,null,{"$f":"SUM(N80:O80)","v":0},null,null,{"$f":"SUM(Q80:R80)","v":0},null,null,{"$f":"SUM(T80:U80)","v":0},null,null,{"$f":"SUM(W80:X80)","v":0},null,null,{"$f":"SUM(Z80:AA80)","v":0},null,null,{"$f":"SUM(AC80:AD80)","v":0},null,null,{"$f":"SUM(AF80:AG80)","v":0},null,null,{"$f":"SUM(AI80:AJ80)","v":0},null,null,{"$f":"SUM(AL80:AM80)","v":0},null,null,{"$f":"SUM(AO80:AP80)","v":0},null,null,{"$f":"SUM(AR80:AS80)","v":0},null,null,{"$f":"SUM(AU80:AV80)","v":0},null,null,{"$f":"SUM(AX80:AY80)","v":0},null,null,{"$f":"SUM(BA80:BB80)","v":0},null,null,{"$f":"SUM(BD80:BE80)","v":0},null,null,{"$f":"SUM(BG80:BH80)","v":0},{"$f":"SUM(E80,H80,K80,N80,Q80,T80,W80,Z80,AC80,AF80,AI80,AL80,AO80,AR80,AU80,AX80,BA80,BD80,BG80)","v":0},0,{"$f":"SUM(BJ80:BK80)","v":0},null,null,{"$f":"SUM(BM80:BN80)","v":0},null,null,{"$f":"SUM(BP80:BQ80)","v":0},null,null,{"$f":"SUM(BS80:BT80)","v":0},null,null,{"$f":"SUM(BV80:BW80)","v":0},null,null,{"$f":"SUM(BY80:BZ80)","v":0},null,null,{"$f":"SUM(CB80:CC80)","v":0},null,null,{"$f":"SUM(CE80:CF80)","v":0},null,null,{"$f":"SUM(CH80:CI80)","v":0},null,null,{"$f":"SUM(CK80:CL80)","v":0},null,null,{"$f":"SUM(CN80:CO80)","v":0},null,null,{"$f":"SUM(CQ80:CR80)","v":0},null,null,{"$f":"SUM(CT80:CU80)","v":0},null,null,{"$f":"SUM(CW80:CX80)","v":0},null,null,{"$f":"SUM(CZ80:DA80)","v":0},null,null,{"$f":"SUM(DC80:DD80)","v":0},{"$f":"SUM(BM80,BP80,BS80,BV80,BY80,CB80,CE80,CH80,CK80,CN80,CQ80,CT80,CW80,CZ80,DC80)","v":0},0,{"$f":"SUM(DF80:DG80)","v":0},null,null,{"$f":"SUM(DI80:DJ80)","v":0},null,null,{"$f":"SUM(DL80:DM80)","v":0},{"$f":"SUM(DI80,DL80)","v":0},0,{"$f":"SUM(DO80:DP80)","v":0},null,null,{"$f":"SUM(DR80:DS80)","v":0},null,null,{"$f":"SUM(DU80:DV80)","v":0},null,null,{"$f":"SUM(DX80:DY80)","v":0},{"$f":"SUM(DR80,DU80,DX80)","v":0},0,{"$f":"SUM(EA80:EB80)","v":0},{"$f":"SUM(BJ80,DF80,DO80,EA80)","v":0},0,{"$f":"SUM(ED80:EE80)","v":0}]
[66,null,null,null,null,null,0,null,null,0,null,null,0,null,null,0,null,null,0,null,null,0,null,null,0,null,null,0,null,null,0,null,null,0,null,null,0,null,null,0,null,null,0,null,null,0,null,null,0,null,null,0,null,null,0,null,null,0,null,null,0,0,0,0,null,null,0,null,null,0,null,null,0,null,null,0,null,null,0,null,null,0,null,null,0,null,null,0,null,null,0,null,null,0,null,null,0,null,null,0,null,null,0,null,null,0,null,null,0,0,0,0,null,null,0,null,null,0,0,0,0,null,null,0,null,null,0,null,null,0,0,0,0,0,0,0]
[67,null,null,null,null,null,0,null,null,0,null,null,0,null,null,0,null,null,0,null,null,0,null,null,0,null,null,0,null,null,0,null,null,0,null,null,0,null,null,0,null,null,0,null,null,0,null,null,0,null,null,0,null,null,0,null,null,0,null,null,0,0,0,0,null,null,0,null,null,0,null,null,0,null,null,0,null,null,0,null,null,0,null,null,0,null,null,0,null,null,0,null,null,0,null,null,0,null,null,0,null,null,0,null,null,0,null,null,0,0,0,0,null,null,0,null,null,0,0,0,0,null,null,0,null,null,0,null,null,0,0,0,0,0,0,0]
[68,null,null,null,null,null,0,null,null,0,null,null,0,null,null,0,null,null,0,null,null,0,null,null,0,null,null,0,null,null,0,null,null,0,null,null,0,null,null,0,null,null,0,null,null,0,null,null,0,null,null,0,null,null,0,null,null,0,null,null,0,0,0,0,null,null,0,null,null,0,null,null,0,null,null,0,null,null,0,null,null,0,null,null,0,null,null,0,null,null,0,null,null,0,null,null,0,null,null,0,null,null,0,null,null,0,null,null,0,0,0,0,null,null,0,null,null,0,0,0,0,null,null,0,null,null,0,null,null,0,0,0,0,0,0,0]
[69,null,null,null,null,null,0,null,null,0,null,null,0,null,null,0,null,null,0,null,null,0,null,null,0,null,null,0,null,null,0,null,null,0,null,null,0,null,null,0,null,null,0,null,null,0,null,null,0,null,null,0,null,null,0,null,null,0,null,null,0,0,0,0,null,null,0,null,null,0,null,null,0,null,null,0,null,null,0,null,null,0,null,null,0,null,null,0,null,null,0,null,null,0,null,null,0,null,null,0,null,null,0,null,null,0,null,null,0,0,0,0,null,null,0,null,null,0,0,0,0,null,null,0,null,null,0,null,null,0,0,0,0,0,0,0]
[70,null,null,null,null,null,0,null,null,0,null,null,0,null,null,0,null,null,0,null,null,0,null,null,0,null,null,0,null,null,0,null,null,0,null,null,0,null,null,0,null,null,0,null,null,0,null,null,0,null,null,0,null,null,0,null,null,0,null,null,0,0,0,0,null,null,0,null,null,0,null,null,0,null,null,0,null,null,0,null,null,0,null,null,0,null,null,0,null,null,0,null,null,0,null,null,0,null,null,0,null,null,0,null,null,0,null,null,0,0,0,0,null,null,0,null,null,0,0,0,0,null,null,0,null,null,0,null,null,0,0,0,0,0,0,0]
[71,null,null,null,null,null,0,null,null,0,null,null,0,null,null,0,null,null,0,null,null,0,null,null,0,null,null,0,null,null,0,null,null,0,null,null,0,null,null,0,null,null,0,null,null,0,null,null,0,null,null,0,null,null,0,null,null,0,null,null,0,0,0,0,null,null,0,null,null,0,null,null,0,null,null,0,null,null,0,null,null,0,null,null,0,null,null,0,null,null,0,null,null,0,null,null,0,null,null,0,null,null,0,null,null,0,null,null,0,0,0,0,null,null,0,null,null,0,0,0,0,null,null,0,null,null,0,null,null,0,0,0,0,0,0,0]
[72,null,null,null,null,null,0,null,null,0,null,null,0,null,null,0,null,null,0,null,null,0,null,null,0,null,null,0,null,null,0,null,null,0,null,null,0,null,null,0,null,null,0,null,null,0,null,null,0,null,null,0,null,null,0,null,null,0,null,null,0,0,0,0,null,null,0,null,null,0,null,null,0,null,null,0,null,null,0,null,null,0,null,null,0,null,null,0,null,null,0,null,null,0,null,null,0,null,null,0,null,null,0,null,null,0,null,null,0,0,0,0,null,null,0,null,null,0,0,0,0,null,null,0,null,null,0,null,null,0,0,0,0,0,0,0]
[73,null,null,null,null,null,0,null,null,0,null,null,0,null,null,0,null,null,0,null,null,0,null,null,0,null,null,0,null,null,0,null,null,0,null,null,0,null,null,0,null,null,0,null,null,0,null,null,0,null,null,0,null,null,0,null,null,0,null,null,0,0,0,0,null,null,0,null,null,0,null,null,0,null,null,0,null,null,0,null,null,0,null,null,0,null,null,0,null,null,0,null,null,0,null,null,0,null,null,0,null,null,0,null,null,0,null,null,0,0,0,0,null,null,0,null,null,0,0,0,0,null,null,0,null,null,0,null,null,0,0,0,0,0,0,0]
[74,null,null,null,null,null,0,null,null,0,null,null,0,null,null,0,null,null,0,null,null,0,null,null,0,null,null,0,null,null,0,null,null,0,null,null,0,null,null,0,null,null,0,null,null,0,null,null,0,null,null,0,null,null,0,null,null,0,null,null,0,0,0,0,null,null,0,null,null,0,null,null,0,null,null,0,null,null,0,null,null,0,null,null,0,null,null,0,null,null,0,null,null,0,null,null,0,null,null,0,null,null,0,null,null,0,null,null,0,0,0,0,null,null,0,null,null,0,0,0,0,null,null,0,null,null,0,null,null,0,0,0,0,0,0,0]
[75,null,null,null,null,null,0,null,null,0,null,null,0,null,null,0,null,null,0,null,null,0,null,null,0,null,null,0,null,null,0,null,null,0,null,null,0,null,null,0,null,null,0,null,null,0,null,null,0,null,null,0,null,null,0,null,null,0,null,null,0,0,0,0,null,null,0,null,null,0,null,null,0,null,null,0,null,null,0,null,null,0,null,null,0,null,null,0,null,null,0,null,null,0,null,null,0,null,null,0,null,null,0,null,null,0,null,null,0,0,0,0,null,null,0,null,null,0,0,0,0,null,null,0,null,null,0,null,null,0,0,0,0,0,0,0]
[76,null,null,null,null,null,0,null,null,0,null,null,0,null,null,0,null,null,0,null,null,0,null,null,0,null,null,0,null,null,0,null,null,0,null,null,0,null,null,0,null,null,0,null,null,0,null,null,0,null,null,0,null,null,0,null,null,0,null,null,0,0,0,0,null,null,0,null,null,0,null,null,0,null,null,0,null,null,0,null,null,0,null,null,0,null,null,0,null,null,0,null,null,0,null,null,0,null,null,0,null,null,0,null,null,0,null,null,0,0,0,0,null,null,0,null,null,0,0,0,0,null,null,0,null,null,0,null,null,0,0,0,0,0,0,0]
[77,null,null,null,null,null,0,null,null,0,null,null,0,null,null,0,null,null,0,null,null,0,null,null,0,null,null,0,null,null,0,null,null,0,null,null,0,null,null,0,null,null,0,null,null,0,null,null,0,null,null,0,null,null,0,null,null,0,null,null,0,0,0,0,null,null,0,null,null,0,null,null,0,null,null,0,null,null,0,null,null,0,null,null,0,null,null,0,null,null,0,null,null,0,null,null,0,null,null,0,null,null,0,null,null,0,null,null,0,0,0,0,null,null,0,null,null,0,0,0,0,null,null,0,null,null,0,null,null,0,0,0,0,0,0,0]
[78,null,null,null,null,null,0,null,null,0,null,null,0,null,null,0,null,null,0,null,null,0,null,null,0,null,null,0,null,null,0,null,null,0,null,null,0,null,null,0,null,null,0,null,null,0,null,null,0,null,null,0,null,null,0,null,null,0,null,null,0,0,0,0,null,null,0,null,null,0,null,null,0,null,null,0,null,null,0,null,null,0,null,null,0,null,null,0,null,null,0,null,null,0,null,null,0,null,null,0,null,null,0,null,null,0,null,null,0,0,0,0,null,null,0,null,null,0,0,0,0,null,null,0,null,null,0,null,null,0,0,0,0,0,0,0]
[79,null,null,null,null,null,0,null,null,0,null,null,0,null,null,0,null,null,0,null,null,0,null,null,0,null,null,0,null,null,0,null,null,0,null,null,0,null,null,0,null,null,0,null,null,0,null,null,0,null,null,0,null,null,0,null,null,0,null,null,0,0,0,0,null,null,0,null,null,0,null,null,0,null,null,0,null,null,0,null,null,0,null,null,0,null,null,0,null,null,0,null,null,0,null,null,0,null,null,0,null,null,0,null,null,0,null,null,0,0,0,0,null,null,0,null,null,0,0,0,0,null,null,0,null,null,0,null,null,0,0,0,0,0,0,0]
[80,null,null,null,null,null,0,null,null,0,null,null,0,null,null,0,null,null,0,null,null,0,null,null,0,null,null,0,null,null,0,null,null,0,null,null,0,null,null,0,null,null,0,null,null,0,null,null,0,null,null,0,null,null,0,null,null,0,null,null,0,0,0,0,null,null,0,null,null,0,null,null,0,null,null,0,null,null,0,null,null,0,null,null,0,null,null,0,null,null,0,null,null,0,null,null,0,null,null,0,null,null,0,null,null,0,null,null,0,0,0,0,null,null,0,null,null,0,0,0,0,null,null,0,null,null,0,null,null,0,0,0,0,0,0,0]
[81,null,null,null,null,null,0,null,null,0,null,null,0,null,null,0,null,null,0,null,null,0,null,null,0,null,null,0,null,null,0,null,null,0,null,null,0,null,null,0,null,null,0,null,null,0,null,null,0,null,null,0,null,null,0,null,null,0,null,null,0,0,0,0,null,null,0,null,null,0,null,null,0,null,null,0,null,null,0,null,null,0,null,null,0,null,null,0,null,null,0,null,null,0,null,null,0,null,null,0,null,null,0,null,null,0,null,null,0,0,0,0,null,null,0,null,null,0,0,0,0,null,null,0,null,null,0,null,null,0,0,0,0,0,0,0]
[82,null,null,null,null,null,0,null,null,0,null,null,0,null,null,0,null,null,0,null,null,0,null,null,0,null,null,0,null,null,0,null,null,0,null,null,0,null,null,0,null,null,0,null,null,0,null,null,0,null,null,0,null,null,0,null,null,0,null,null,0,0,0,0,null,null,0,null,null,0,null,null,0,null,null,0,null,null,0,null,null,0,null,null,0,null,null,0,null,null,0,null,null,0,null,null,0,null,null,0,null,null,0,null,null,0,null,null,0,0,0,0,null,null,0,null,null,0,0,0,0,null,null,0,null,null,0,null,null,0,0,0,0,0,0,0]
[83,null,null,null,null,null,0,null,null,0,null,null,0,null,null,0,null,null,0,null,null,0,null,null,0,null,null,0,null,null,0,null,null,0,null,null,0,null,null,0,null,null,0,null,null,0,null,null,0,null,null,0,null,null,0,null,null,0,null,null,0,0,0,0,null,null,0,null,null,0,null,null,0,null,null,0,null,null,0,null,null,0,null,null,0,null,null,0,null,null,0,null,null,0,null,null,0,null,null,0,null,null,0,null,null,0,null,null,0,0,0,0,null,null,0,null,null,0,0,0,0,null,null,0,null,null,0,null,null,0,0,0,0,0,0,0]
[84,null,null,null,null,null,0,null,null,0,null,null,0,null,null,0,null,null,0,null,null,0,null,null,0,null,null,0,null,null,0,null,null,0,null,null,0,null,null,0,null,null,0,null,null,0,null,null,0,null,null,0,null,null,0,null,null,0,null,null,0,0,0,0,null,null,0,null,null,0,null,null,0,null,null,0,null,null,0,null,null,0,null,null,0,null,null,0,null,null,0,null,null,0,null,null,0,null,null,0,null,null,0,null,null,0,null,null,0,0,0,0,null,null,0,null,null,0,0,0,0,null,null,0,null,null,0,null,null,0,0,0,0,0,0,0]
[85,null,null,null,null,null,0,null,null,0,null,null,0,null,null,0,null,null,0,null,null,0,null,null,0,null,null,0,null,null,0,null,null,0,null,null,0,null,null,0,null,null,0,null,null,0,null,null,0,null,null,0,null,null,0,null,null,0,null,null,0,0,0,0,null,null,0,null,null,0,null,null,0,null,null,0,null,null,0,null,null,0,null,null,0,null,null,0,null,null,0,null,null,0,null,null,0,null,null,0,null,null,0,null,null,0,null,null,0,0,0,0,null,null,0,null,null,0,0,0,0,null,null,0,null,null,0,null,null,0,0,0,0,0,0,0]
[86,null,null,null,null,null,0,null,null,0,null,null,0,null,null,0,null,null,0,null,null,0,null,null,0,null,null,0,null,null,0,null,null,0,null,null,0,null,null,0,null,null,0,null,null,0,null,null,0,null,null,0,null,null,0,null,null,0,null,null,0,0,0,0,null,null,0,null,null,0,null,null,0,null,null,0,null,null,0,null,null,0,null,null,0,null,null,0,null,null,0,null,null,0,null,null,0,null,null,0,null,null,0,null,null,0,null,null,0,0,0,0,null,null,0,null,null,0,0,0,0,null,null,0,null,null,0,null,null,0,0,0,0,0,0,0]
[87,null,null,null,null,null,0,null,null,0,null,null,0,null,null,0,null,null,0,null,null,0,null,null,0,null,null,0,null,null,0,null,null,0,null,null,0,null,null,0,null,null,0,null,null,0,null,null,0,null,null,0,null,null,0,null,null,0,null,null,0,0,0,0,null,null,0,null,null,0,null,null,0,null,null,0,null,null,0,null,null,0,null,null,0,null,null,0,null,null,0,null,null,0,null,null,0,null,null,0,null,null,0,null,null,0,null,null,0,0,0,0,null,null,0,null,null,0,0,0,0,null,null,0,null,null,0,null,null,0,0,0,0,0,0,0]
[88,null,null,null,null,null,0,null,null,0,null,null,0,null,null,0,null,null,0,null,null,0,null,null,0,null,null,0,null,null,0,null,null,0,null,null,0,null,null,0,null,null,0,null,null,0,null,null,0,null,null,0,null,null,0,null,null,0,null,null,0,0,0,0,null,null,0,null,null,0,null,null,0,null,null,0,null,null,0,null,null,0,null,null,0,null,null,0,null,null,0,null,null,0,null,null,0,null,null,0,null,null,0,null,null,0,null,null,0,0,0,0,null,null,0,null,null,0,0,0,0,null,null,0,null,null,0,null,null,0,0,0,0,0,0,0]
[89,null,null,null,null,null,0,null,null,0,null,null,0,null,null,0,null,null,0,null,null,0,null,null,0,null,null,0,null,null,0,null,null,0,null,null,0,null,null,0,null,null,0,null,null,0,null,null,0,null,null,0,null,null,0,null,null,0,null,null,0,0,0,0,null,null,0,null,null,0,null,null,0,null,null,0,null,null,0,null,null,0,null,null,0,null,null,0,null,null,0,null,null,0,null,null,0,null,null,0,null,null,0,null,null,0,null,null,0,0,0,0,null,null,0,null,null,0,0,0,0,null,null,0,null,null,0,null,null,0,0,0,0,0,0,0]
[90,null,null,null,null,null,0,null,null,0,null,null,0,null,null,0,null,null,0,null,null,0,null,null,0,null,null,0,null,null,0,null,null,0,null,null,0,null,null,0,null,null,0,null,null,0,null,null,0,null,null,0,null,null,0,null,null,0,null,null,0,0,0,0,null,null,0,null,null,0,null,null,0,null,null,0,null,null,0,null,null,0,null,null,0,null,null,0,null,null,0,null,null,0,null,null,0,null,null,0,null,null,0,null,null,0,null,null,0,0,0,0,null,null,0,null,null,0,0,0,0,null,null,0,null,null,0,null,null,0,0,0,0,0,0,0]
[91,null,null,null,null,null,0,null,null,0,null,null,0,null,null,0,null,null,0,null,null,0,null,null,0,null,null,0,null,null,0,null,null,0,null,null,0,null,null,0,null,null,0,null,null,0,null,null,0,null,null,0,null,null,0,null,null,0,null,null,0,0,0,0,null,null,0,null,null,0,null,null,0,null,null,0,null,null,0,null,null,0,null,null,0,null,null,0,null,null,0,null,null,0,null,null,0,null,null,0,null,null,0,null,null,0,null,null,0,0,0,0,null,null,0,null,null,0,0,0,0,null,null,0,null,null,0,null,null,0,0,0,0,0,0,0]
[92,null,null,null,null,null,0,null,null,0,null,null,0,null,null,0,null,null,0,null,null,0,null,null,0,null,null,0,null,null,0,null,null,0,null,null,0,null,null,0,null,null,0,null,null,0,null,null,0,null,null,0,null,null,0,null,null,0,null,null,0,0,0,0,null,null,0,null,null,0,null,null,0,null,null,0,null,null,0,null,null,0,null,null,0,null,null,0,null,null,0,null,null,0,null,null,0,null,null,0,null,null,0,null,null,0,null,null,0,0,0,0,null,null,0,null,null,0,0,0,0,null,null,0,null,null,0,null,null,0,0,0,0,0,0,0]
[93,null,null,null,null,null,0,null,null,0,null,null,0,null,null,0,null,null,0,null,null,0,null,null,0,null,null,0,null,null,0,null,null,0,null,null,0,null,null,0,null,null,0,null,null,0,null,null,0,null,null,0,null,null,0,null,null,0,null,null,0,0,0,0,null,null,0,null,null,0,null,null,0,null,null,0,null,null,0,null,null,0,null,null,0,null,null,0,null,null,0,null,null,0,null,null,0,null,null,0,null,null,0,null,null,0,null,null,0,0,0,0,null,null,0,null,null,0,0,0,0,null,null,0,null,null,0,null,null,0,0,0,0,0,0,0]
[94,null,null,null,null,null,0,null,null,0,null,null,0,null,null,0,null,null,0,null,null,0,null,null,0,null,null,0,null,null,0,null,null,0,null,null,0,null,null,0,null,null,0,null,null,0,null,null,0,null,null,0,null,null,0,null,null,0,null,null,0,0,0,0,null,null,0,null,null,0,null,null,0,null,null,0,null,null,0,null,null,0,null,null,0,null,null,0,null,null,0,null,null,0,null,null,0,null,null,0,null,null,0,null,null,0,null,null,0,0,0,0,null,null,0,null,null,0,0,0,0,null,null,0,null,null,0,null,null,0,0,0,0,0,0,0]
[95,null,null,null,null,null,0,null,null,0,null,null,0,null,null,0,null,null,0,null,null,0,null,null,0,null,null,0,null,null,0,null,null,0,null,null,0,null,null,0,null,null,0,null,null,0,null,null,0,null,null,0,null,null,0,null,null,0,null,null,0,0,0,0,null,null,0,null,null,0,null,null,0,null,null,0,null,null,0,null,null,0,null,null,0,null,null,0,null,null,0,null,null,0,null,null,0,null,null,0,null,null,0,null,null,0,null,null,0,0,0,0,null,null,0,null,null,0,0,0,0,null,null,0,null,null,0,null,null,0,0,0,0,0,0,0]
[96,null,null,null,null,null,0,null,null,0,null,null,0,null,null,0,null,null,0,null,null,0,null,null,0,null,null,0,null,null,0,null,null,0,null,null,0,null,null,0,null,null,0,null,null,0,null,null,0,null,null,0,null,null,0,null,null,0,null,null,0,0,0,0,null,null,0,null,null,0,null,null,0,null,null,0,null,null,0,null,null,0,null,null,0,null,null,0,null,null,0,null,null,0,null,null,0,null,null,0,null,null,0,null,null,0,null,null,0,0,0,0,null,null,0,null,null,0,0,0,0,null,null,0,null,null,0,null,null,0,0,0,0,0,0,0]
[97,null,null,null,null,null,0,null,null,0,null,null,0,null,null,0,null,null,0,null,null,0,null,null,0,null,null,0,null,null,0,null,null,0,null,null,0,null,null,0,null,null,0,null,null,0,null,null,0,null,null,0,null,null,0,null,null,0,null,null,0,0,0,0,null,null,0,null,null,0,null,null,0,null,null,0,null,null,0,null,null,0,null,null,0,null,null,0,null,null,0,null,null,0,null,null,0,null,null,0,null,null,0,null,null,0,null,null,0,0,0,0,null,null,0,null,null,0,0,0,0,null,null,0,null,null,0,null,null,0,0,0,0,0,0,0]
[98,null,null,null,null,null,0,null,null,0,null,null,0,null,null,0,null,null,0,null,null,0,null,null,0,null,null,0,null,null,0,null,null,0,null,null,0,null,null,0,null,null,0,null,null,0,null,null,0,null,null,0,null,null,0,null,null,0,null,null,0,0,0,0,null,null,0,null,null,0,null,null,0,null,null,0,null,null,0,null,null,0,null,null,0,null,null,0,null,null,0,null,null,0,null,null,0,null,null,0,null,null,0,null,null,0,null,null,0,0,0,0,null,null,0,null,null,0,0,0,0,null,null,0,null,null,0,null,null,0,0,0,0,0,0,0]
[99,null,null,null,null,null,0,null,null,0,null,null,0,null,null,0,null,null,0,null,null,0,null,null,0,null,null,0,null,null,0,null,null,0,null,null,0,null,null,0,null,null,0,null,null,0,null,null,0,null,null,0,null,null,0,null,null,0,null,null,0,0,0,0,null,null,0,null,null,0,null,null,0,null,null,0,null,null,0,null,null,0,null,null,0,null,null,0,null,null,0,null,null,0,null,null,0,null,null,0,null,null,0,null,null,0,null,null,0,0,0,0,null,null,0,null,null,0,0,0,0,null,null,0,null,null,0,null,null,0,0,0,0,0,0,0]
[100,null,null,null,null,null,0,null,null,0,null,null,0,null,null,0,null,null,0,null,null,0,null,null,0,null,null,0,null,null,0,null,null,0,null,null,0,null,null,0,null,null,0,null,null,0,null,null,0,null,null,0,null,null,0,null,null,0,null,null,0,0,0,0,null,null,0,null,null,0,null,null,0,null,null,0,null,null,0,null,null,0,null,null,0,null,null,0,null,null,0,null,null,0,null,null,0,null,null,0,null,null,0,null,null,0,null,null,0,0,0,0,null,null,0,null,null,0,0,0,0,null,null,0,null,null,0,null,null,0,0,0,0,0,0,0]

{"sheet":"S_DoE_Subacc","index":3,"n_rows":115,"n_cols":137,"rows_kept":115,"cut":false,"hidden":false,"merged":[[5,0,5,5],[14,0,14,1],[11,109,11,111],[11,112,11,114],[11,46,11,48],[11,16,11,18],[11,19,11,21],[11,22,11,24],[11,49,11,51],[11,52,11,54],[8,0,8,31],[10,2,12,2],[10,0,13,0],[10,1,13,1],[10,3,12,3],[11,61,11,63],[11,64,11,66],[11,67,11,69],[11,70,11,72],[11,73,11,75],[11,124,11,126],[11,130,11,132],[11,121,11,123],[11,115,11,117],[11,118,11,120],[11,43,11,45],[11,10,11,12],[11,13,11,15],[10,133,11,135],[10,136,13,136],[11,76,11,78],[11,79,11,81],[11,82,11,84],[11,85,11,87],[11,88,11,90],[11,91,11,93],[11,94,11,96],[11,97,11,99],[11,100,11,102],[11,103,11,105],[11,106,11,108],[6,0,6,5],[10,64,10,111],[10,112,10,120],[11,127,11,129],[11,37,11,39],[11,34,11,36],[10,121,10,132],[11,55,11,57],[11,58,11,60],[10,4,10,63],[11,4,11,6],[11,7,11,9],[11,25,11,27],[11,28,11,30],[11,31,11,33],[11,40,11,42]]}
[]
[]
[]
[]
[]
[{"$f":"Create!$G$2","v":"ក្រសួងអប់រំ យុវជន និងកីឡា"}]
[{"$f":"Create!$G$3","v":"បំពេញឈ្មោះទីនេះ"},null,null,null,null,null,null,null,null,null,null,null,null,null,null,null,null,null,null,null,null,null,null,null,null,null,null,null,null,null,null,"តារាងលេខ ២"]
[]
[{"$f":"CONCATENATE(\"របាយការណ៍ទូទាត់ចំណាយថវិការបស់អនុវិទ្យាល័យសម្រាប់ថវិកាដំណើរការសាលារៀនប្រចាំត្រីមាសទី\",IF(Create!$G$4=1,\"១\",IF(Create!$G$4=2,\"២\",IF(Create!$G$4=3,\"៣\",\"៤\"))),\" ឆ្នាំ២០១៨\")","v":"របាយការណ៍ទូទាត់ចំណាយថវិការបស់អនុវិទ្យាល័យសម្រាប់ថវិកាដំណើរការសាលារៀនប្រចាំត្រីមាសទី១ ឆ្នាំ២០១៨"}]
[null,null,null,null,null,null,null,null,null,null,null,null,null,null,null,null,null,null,null,null,null,null,null,null,null,null,null,null,null,null,null,null,null,null,null,null,null,null,null,null,null,null,null,null,null,null,null,null,null,null,null,null,null,null,null,null,null,null,null,null,null,null,null,null,null,null,null,null,null,null,null,null,null,null,null,null,null,null,null,null,null,null,null,null,null,null,null,null,null,null,null,null,null,null,null,null,null,null,null,null,null,null,null,null,null,null,null,null,null,null,null,null,null,null,null,null,null,null,null,null,null,null,null,null,null,null,null,null,null,null,null,null,null,null,null,null,"ឯកតាៈ រៀល"]
["ល.រ","ឈ្មោះការិយាល័យអប់រំ យុវជន និងកីឡា\nក្រុង ឬ ស្រុក ឬ ខ័ណ្ឌ","ឥណទាន\nដើមឆ្នាំ","ឥណទាន\nកែតម្រូវ","ជំពូក ៦០",null,null,null,null,null,null,null,null,null,null,null,null,null,null,null,null,null,null,null,null,null,null,null,null,null,null,null,null,null,null,null,null,null,null,null,null,null,null,null,null,null,null,null,null,null,null,null,null,null,null,null,null,null,null,null,null,null,null,null,"ជំពូក ៦១",null,null,null,null,null,null,null,null,null,null,null,null,null,null,null,null,null,null,null,null,null,null,null,null,null,null,null,null,null,null,null,null,null,null,null,null,null,null,null,null,null,null,null,null,null,null,null,"ជំពូក ៦៤",null,null,null,null,null,null,null,null,"ជំពូក ៦២",null,null,null,null,null,null,null,null,null,null,null,"ចំណាយសរុប",null,null,"ផ្សេងៗ"]
[null,null,null,null,60011,null,null,60012,null,null,60013,null,null,60014,null,null,60021,null,null,60022,null,null,60023,null,null,60031,null,null,60032,null,null,60033,null,null,60035,null,null,60041,null,null,60051,null,null,60052,null,null,60053,null,null,60055,null,null,60061,null,null,60062,null,null,60068,null,null,"សរុប",null,null,61011,null,null,61012,null,null,61021,null,null,61051,null,null,61052,null,null,61053,null,null,61054,null,null,61057,null,null,61071,null,null,61081,null,null,61101,null,null,61102,null,null,61103,null,null,61141,null,null,61142,null,null,"សរុប",null,null,64023,null,null,64033,null,null,"សរុប",null,null,62024,null,null,62025,null,null,62028,null,null,"សរុប"]
[null,null,null,null,"បណ្ដាត្រី.មុន","ក្នុងត្រី.","បូកយោង","បណ្ដាត្រី.មុន","ក្នុងត្រី.","បូកយោង","បណ្ដាត្រី.មុន","ក្នុងត្រី.","បូកយោង","បណ្ដាត្រី.មុន","ក្នុងត្រី.","បូកយោង","បណ្ដាត្រី.មុន","ក្នុងត្រី.","បូកយោង","បណ្ដាត្រី.មុន","ក្នុងត្រី.","បូកយោង","បណ្ដាត្រី.មុន","ក្នុងត្រី.","បូកយោង","បណ្ដាត្រី.មុន","ក្នុងត្រី.","បូកយោង","បណ្ដាត្រី.មុន","ក្នុងត្រី.","បូកយោង","បណ្ដាត្រី.មុន","ក្នុងត្រី.","បូកយោង","បណ្ដាត្រី.មុន","ក្នុងត្រី.","បូកយោង","បណ្ដាត្រី.មុន","ក្នុងត្រី.","បូកយោង","បណ្ដាត្រី.មុន","ក្នុងត្រី.","បូកយោង","បណ្ដាត្រី.មុន","ក្នុងត្រី.","បូកយោង","បណ្ដាត្រី.មុន","ក្នុងត្រី.","បូកយោង","បណ្ដាត្រី.មុន","ក្នុងត្រី.","បូកយោង","បណ្ដាត្រី.មុន","ក្នុងត្រី.","បូកយោង","បណ្ដាត្រី.មុន","ក្នុងត្រី.","បូកយោង","បណ្ដាត្រី.មុន","ក្នុងត្រី.","បូកយោង","បណ្ដាត្រី.មុន","ក្នុងត្រី.","បូកយោង","បណ្ដាត្រី.មុន","ក្នុងត្រី.","បូកយោង","បណ្ដាត្រី.មុន","ក្នុងត្រី.","បូកយោង","បណ្ដាត្រី.មុន","ក្នុងត្រី.","បូកយោង","បណ្ដាត្រី.មុន","ក្នុងត្រី.","បូកយោង","បណ្ដាត្រី.មុន","ក្នុងត្រី.","បូកយោង","បណ្ដាត្រី.មុន","ក្នុងត្រី.","បូកយោង","បណ្ដាត្រី.មុន","ក្នុងត្រី.","បូកយោង","បណ្ដាត្រី.មុន","ក្នុងត្រី.","បូកយោង","បណ្ដាត្រី.មុន","ក្នុងត្រី.","បូកយោង","បណ្ដាត្រី.មុន","ក្នុងត្រី.","បូកយោង","បណ្ដាត្រី.មុន","ក្នុងត្រី.","បូកយោង","បណ្ដាត្រី.មុន","ក្នុងត្រី.","បូកយោង","បណ្ដាត្រី.មុន","ក្នុងត្រី.","បូកយោង","បណ្ដាត្រី.មុន","ក្នុងត្រី.","បូកយោង","បណ្ដាត្រី.មុន","ក្នុងត្រី.","បូកយោង","បណ្ដាត្រី.មុន","ក្នុងត្រី.","បូកយោង","បណ្ដាត្រី.មុន","ក្នុងត្រី.","បូកយោង","បណ្ដាត្រី.មុន","ក្នុងត្រី.","បូកយោង","បណ្ដាត្រី.មុន","ក្នុងត្រី.","បូកយោង","បណ្ដាត្រី.មុន","ក្នុងត្រី.","បូកយោង","បណ្ដាត្រី.មុន","ក្នុងត្រី.","បូកយោង","បណ្ដាត្រី.មុន","ក្នុងត្រី.","បូកយោង","បណ្ដាត្រី.មុន","ក្នុងត្រី.","បូកយោង","បណ្ដាត្រី.មុន","ក្នុងត្រី.","បូកយោង"]
[null,null,1,2,3,4,"5=3+4",6,7,"8=6+7",9,10,"11=9+10",12,13,"14=12+13",15,16,"17=15+16",18,19,"20=18+19",21,22,"23=21+22",24,25,"26=24+25",27,28,"29=27+28",30,31,"32=30+31",33,34,"35=33+34",36,37,"38=36+37",39,40,"41=39+40",42,43,"44=42+43",45,46,"47=45+46",48,49,"50=48+49",51,52,"53=51+52",54,55,"56=54+55",57,58,"59=57+58","60=3+6+9+…+57","61=4+7+10+…+58","62=60+61",63,64,"65=63+64",66,67,"68=66+67",69,70,"71=69+70",72,73,"74=72+73",75,76,"77=75+76",78,79,"80=78+79",81,82,"83=81+82",84,85,"86=84+85",87,88,"89=87+88",90,91,"92=90+91",93,94,"95=93+94",96,97,"98=96+97",99,100,"101=99+100",102,103,"104=102+103",105,106,"107=105+106","108=63+66+…+105","109=64+67+…+106","110=108+109",111,112,"113=111+112",114,115,"116=114+115","117=111+114","118=112+115","119=117+118",120,121,"122=120+121",123,124,125,126,127,"128=126+127",129,130,"131=129+130","132=60+108+117+129","133=61+109+118+130","134=132+133"]
["សរុប",null,{"$f":"SUM(C16:C115)","v":10},{"$f":"SUM(D16:D115)","v":15},0,0,{"$f":"SUM(E15:F15)","v":0},0,0,{"$f":"SUM(H15:I15)","v":0},0,0,{"$f":"SUM(K15:L15)","v":0},0,0,{"$f":"SUM(N15:O15)","v":0},0,0,{"$f":"SUM(Q15:R15)","v":0},0,0,{"$f":"SUM(T15:U15)","v":0},0,0,{"$f":"SUM(W15:X15)","v":0},0,0,{"$f":"SUM(Z15:AA15)","v":0},0,0,{"$f":"SUM(AC15:AD15)","v":0},0,0,{"$f":"SUM(AF15:AG15)","v":0},0,0,{"$f":"SUM(AI15:AJ15)","v":0},0,0,{"$f":"SUM(AL15:AM15)","v":0},0,0,{"$f":"SUM(AO15:AP15)","v":0},0,0,{"$f":"SUM(AR15:AS15)","v":0},0,0,{"$f":"SUM(AU15:AV15)","v":0},0,0,{"$f":"SUM(AX15:AY15)","v":0},0,0,{"$f":"SUM(BA15:BB15)","v":0},0,0,{"$f":"SUM(BD15:BE15)","v":0},0,0,{"$f":"SUM(BG15:BH15)","v":0},{"$f":"SUM(E15,H15,K15,N15,Q15,T15,W15,Z15,AC15,AF15,AI15,AL15,AO15,AR15,AU15,AX15,BA15,BD15,BG15)","v":0},{"$f":"SUM(F15,I15,L15,O15,R15,U15,X15,AA15,AD15,AG15,AJ15,AM15,AP15,AS15,AV15,AY15,BB15,BE15,BH15)","v":0},{"$f":"SUM(BJ15:BK15)","v":0},0,0,{"$f":"SUM(BM15:BN15)","v":0},{"$f":"SUM(BP16:BP115)","v":0},0,{"$f":"SUM(BP15:BQ15)","v":0},0,0,{"$f":"SUM(BS15:BT15)","v":0},0,0,{"$f":"SUM(BV15:BW15)","v":0},0,0,{"$f":"SUM(BY15:BZ15)","v":0},0,0,{"$f":"SUM(CB15:CC15)","v":0},0,0,{"$f":"SUM(CE15:CF15)","v":0},0,0,{"$f":"SUM(CH15:CI15)","v":0},0,0,{"$f":"SUM(CK15:CL15)","v":0},0,0,{"$f":"SUM(CN15:CO15)","v":0},0,0,{"$f":"SUM(CQ15:CR15)","v":0},0,0,{"$f":"SUM(CT15:CU15)","v":0},0,0,{"$f":"SUM(CW15:CX15)","v":0},0,0,{"$f":"SUM(CZ15:DA15)","v":0},0,0,{"$f":"SUM(DC15:DD15)","v":0},{"$f":"SUM(BM15,BP15,BS15,BV15,BY15,CB15,CE15,CH15,CK15,CN15,CQ15,CT15,CW15,CZ15,DC15)","v":0},{"$f":"SUM(BN15,BQ15,BT15,BW15,BZ15,CC15,CF15,CI15,CL15,CO15,CR15,CU15,CX15,DA15,DD15)","v":0},{"$f":"SUM(DF15:DG15)","v":0},0,0,{"$f":"SUM(DI15:DJ15)","v":0},0,0,{"$f":"SUM(DL15:DM15)","v":0},{"$f":"SUM(DI15,DL15)","v":0},{"$f":"SUM(DJ15,DM15)","v":0},{"$f":"SUM(DO15:DP15)","v":0},0,0,{"$f":"SUM(DR15:DS15)","v":0},0,0,{"$f":"SUM(DU15:DV15)","v":0},0,0,{"$f":"SUM(DX15:DY15)","v":0},{"$f":"SUM(DR15,DU15,DX15)","v":0},{"$f":"SUM(DS15,DV15,DY15)","v":0},{"$f":"SUM(EA15:EB15)","v":0},{"$f":"SUM(BJ15,DF15,DO15,EA15)","v":0},{"$f":"SUM(BK15,DG15,DP15,EB15)","v":0},{"$f":"SUM(ED15:EE15)","v":0}]
[1,{"$f":"[1]S_Sch_Subacc!A7","v":"ការិយាល័យអប់រំ យុវជន និងកីឡាក្រុងប៉ៃលិន"},{"$f":"[1]S_Sch_Subacc!C15","v":10},{"$f":"[1]S_Sch_Subacc!D15","v":15},{"$f":"[1]S_Sch_Subacc!E15","v":0},{"$f":"[1]S_Sch_Subacc!F15","v":0},{"$f":"SUM(E16:F16)","v":0},{"$f":"[1]S_Sch_Subacc!H15","v":0},{"$f":"[1]S_Sch_Subacc!I15","v":0},{"$f":"SUM(H16:I16)","v":0},{"$f":"[1]S_Sch_Subacc!K15","v":0},{"$f":"[1]S_Sch_Subacc!L15","v":0},{"$f":"SUM(K16:L16)","v":0},{"$f":"[1]S_Sch_Subacc!N15","v":0},{"$f":"[1]S_Sch_Subacc!O15","v":0},{"$f":"SUM(N16:O16)","v":0},{"$f":"[1]S_Sch_Subacc!Q15","v":0},{"$f":"[1]S_Sch_Subacc!R15","v":0},{"$f":"SUM(Q16:R16)","v":0},{"$f":"[1]S_Sch_Subacc!T15","v":0},{"$f":"[1]S_Sch_Subacc!U15","v":0},{"$f":"SUM(T16:U16)","v":0},{"$f":"[1]S_Sch_Subacc!W15","v":0},{"$f":"[1]S_Sch_Subacc!X15","v":0},{"$f":"SUM(W16:X16)","v":0},{"$f":"[1]S_Sch_Subacc!Z15","v":0},{"$f":"[1]S_Sch_Subacc!AA15","v":0},{"$f":"SUM(Z16:AA16)","v":0},{"$f":"[1]S_Sch_Subacc!AC15","v":0},{"$f":"[1]S_Sch_Subacc!AD15","v":0},{"$f":"SUM(AC16:AD16)","v":0},{"$f":"[1]S_Sch_Subacc!AF15","v":0},{"$f":"[1]S_Sch_Subacc!AG15","v":0},{"$f":"SUM(AF16:AG16)","v":0},{"$f":"[1]S_Sch_Subacc!AI15","v":0},{"$f":"[1]S_Sch_Subacc!AJ15","v":0},{"$f":"SUM(AI16:AJ16)","v":0},{"$f":"[1]S_Sch_Subacc!AL15","v":0},{"$f":"[1]S_Sch_Subacc!AM15","v":0},{"$f":"SUM(AL16:AM16)","v":0},{"$f":"[1]S_Sch_Subacc!AO15","v":0},{"$f":"[1]S_Sch_Subacc!AP15","v":0},{"$f":"SUM(AO16:AP16)","v":0},{"$f":"[1]S_Sch_Subacc!AR15","v":0},{"$f":"[1]S_Sch_Subacc!AS15","v":0},{"$f":"SUM(AR16:AS16)","v":0},{"$f":"[1]S_Sch_Subacc!AU15","v":0},{"$f":"[1]S_Sch_Subacc!AV15","v":0},{"$f":"SUM(AU16:AV16)","v":0},{"$f":"[1]S_Sch_Subacc!AX15","v":0},{"$f":"[1]S_Sch_Subacc!AY15","v":0},{"$f":"SUM(AX16:AY16)","v":0},{"$f":"[1]S_Sch_Subacc!BA15","v":0},{"$f":"[1]S_Sch_Subacc!BB15","v":0},{"$f":"SUM(BA16:BB16)","v":0},{"$f":"[1]S_Sch_Subacc!BD15","v":0},{"$f":"[1]S_Sch_Subacc!BE15","v":0},{"$f":"SUM(BD16:BE16)","v":0},{"$f":"[1]S_Sch_Subacc!BG15","v":0},{"$f":"[1]S_Sch_Subacc!BH15","v":0},{"$f":"SUM(BG16:BH16)","v":0},{"$f":"SUM(E16,H16,K16,N16,Q16,T16,W16,Z16,AC16,AF16,AI16,AL16,AO16,AR16,AU16,AX16,BA16,BD16,BG16)","v":0},0,{"$f":"SUM(BJ16:BK16)","v":0},{"$f":"[1]S_Sch_Subacc!BM15","v":0},{"$f":"[1]S_Sch_Subacc!BN15","v":0},{"$f":"SUM(BM16:BN16)","v":0},{"$f":"[1]S_Sch_Subacc!BP15","v":0},{"$f":"[1]S_Sch_Subacc!BQ15","v":0},{"$f":"SUM(BP16:BQ16)","v":0},{"$f":"[1]S_Sch_Subacc!BS15","v":0},{"$f":"[1]S_Sch_Subacc!BT15","v":0},{"$f":"SUM(BS16:BT16)","v":0},{"$f":"[1]S_Sch_Subacc!BV15","v":0},{"$f":"[1]S_Sch_Subacc!BW15","v":0},{"$f":"SUM(BV16:BW16)","v":0},{"$f":"[1]S_Sch_Subacc!BY15","v":0},{"$f":"[1]S_Sch_Subacc!BZ15","v":0},{"$f":"SUM(BY16:BZ16)","v":0},{"$f":"[1]S_Sch_Subacc!CB15","v":0},{"$f":"[1]S_Sch_Subacc!CC15","v":0},{"$f":"SUM(CB16:CC16)","v":0},{"$f":"[1]S_Sch_Subacc!CE15","v":0},{"$f":"[1]S_Sch_Subacc!CF15","v":0},{"$f":"SUM(CE16:CF16)","v":0},{"$f":"[1]S_Sch_Subacc!CH15","v":0},{"$f":"[1]S_Sch_Subacc!CI15","v":0},{"$f":"SUM(CH16:CI16)","v":0},{"$f":"[1]S_Sch_Subacc!CK15","v":0},{"$f":"[1]S_Sch_Subacc!CL15","v":0},{"$f":"SUM(CK16:CL16)","v":0},{"$f":"[1]S_Sch_Subacc!CN15","v":0},{"$f":"[1]S_Sch_Subacc!CO15","v":0},{"$f":"SUM(CN16:CO16)","v":0},{"$f":"[1]S_Sch_Subacc!CQ15","v":0},{"$f":"[1]S_Sch_Subacc!CR15","v":0},{"$f":"SUM(CQ16:CR16)","v":0},{"$f":"[1]S_Sch_Subacc!CT15","v":0},{"$f":"[1]S_Sch_Subacc!CU15","v":0},{"$f":"SUM(CT16:CU16)","v":0},{"$f":"[1]S_Sch_Subacc!CW15","v":0},{"$f":"[1]S_Sch_Subacc!CX15","v":0},{"$f":"SUM(CW16:CX16)","v":0},{"$f":"[1]S_Sch_Subacc!CZ15","v":0},{"$f":"[1]S_Sch_Subacc!DA15","v":0},{"$f":"SUM(CZ16:DA16)","v":0},{"$f":"[1]S_Sch_Subacc!DC15","v":0},{"$f":"[1]S_Sch_Subacc!DD15","v":0},{"$f":"SUM(DC16:DD16)","v":0},{"$f":"SUM(BM16,BP16,BS16,BV16,BY16,CB16,CE16,CH16,CK16,CN16,CQ16,CT16,CW16,CZ16,DC16)","v":0},0,{"$f":"SUM(DF16:DG16)","v":0},{"$f":"[1]S_Sch_Subacc!DI15","v":0},{"$f":"[1]S_Sch_Subacc!DJ15","v":0},{"$f":"SUM(DI16:DJ16)","v":0},{"$f":"[1]S_Sch_Subacc!DL15","v":0},{"$f":"[1]S_Sch_Subacc!DM15","v":0},{"$f":"SUM(DL16:DM16)","v":0},{"$f":"SUM(DI16,DL16)","v":0},0,{"$f":"SUM(DO16:DP16)","v":0},{"$f":"[1]S_Sch_Subacc!DR15","v":0},{"$f":"[1]S_Sch_Subacc!DS15","v":0},{"$f":"SUM(DR16:DS16)","v":0},{"$f":"[1]S_Sch_Subacc!DU15","v":0},{"$f":"[1]S_Sch_Subacc!DV15","v":0},{"$f":"SUM(DU16:DV16)","v":0},{"$f":"[1]S_Sch_Subacc!DX15","v":0},{"$f":"[1]S_Sch_Subacc!DY15","v":0},{"$f":"SUM(DX16:DY16)","v":0},{"$f":"SUM(DR16,DU16,DX16)","v":0},0,{"$f":"SUM(EA16:EB16)","v":0},{"$f":"SUM(BJ16,DF16,DO16,EA16)","v":0},0,{"$f":"SUM(ED16:EE16)","v":0}]
[2,null,null,null,null,null,{"$f":"SUM(E17:F17)","v":0},null,null,0,null,null,0,null,null,0,null,null,0,null,null,0,null,null,0,null,null,0,null,null,0,null,null,0,null,null,0,null,null,0,null,null,0,null,null,0,null,null,0,null,null,0,null,null,0,null,null,0,null,null,0,0,0,0,null,null,0,null,null,0,null,null,0,null,null,0,null,null,0,null,null,0,null,null,0,null,null,0,null,null,0,null,null,0,null,null,0,null,null,0,null,null,0,null,null,0,null,null,0,0,0,0,null,null,0,null,null,0,0,0,0,null,null,0,null,null,0,null,null,0,0,0,0,0,0,0]
[3,null,null,null,null,null,0,null,null,0,null,null,0,null,null,0,null,null,0,null,null,0,null,null,0,null,null,0,null,null,0,null,null,0,null,null,0,null,null,0,null,null,0,null,null,0,null,null,0,null,null,0,null,null,0,null,null,0,null,null,0,0,0,0,null,null,0,null,null,0,null,null,0,null,null,0,null,null,0,null,null,0,null,null,0,null,null,0,null,null,0,null,null,0,null,null,0,null,null,0,null,null,0,null,null,0,null,null,0,0,0,0,null,null,0,null,null,0,0,0,0,null,null,0,null,null,0,null,null,0,0,0,0,0,0,0]
[4,null,null,null,null,null,0,null,null,0,null,null,0,null,null,0,null,null,0,null,null,0,null,null,0,null,null,0,null,null,0,null,null,0,null,null,0,null,null,0,null,null,0,null,null,0,null,null,0,null,null,0,null,null,0,null,null,0,null,null,0,0,0,0,null,null,0,null,null,0,null,null,0,null,null,0,null,null,0,null,null,0,null,null,0,null,null,0,null,null,0,null,null,0,null,null,0,null,null,0,null,null,0,null,null,0,null,null,0,0,0,0,null,null,0,null,null,0,0,0,0,null,null,0,null,null,0,null,null,0,0,0,0,0,0,0]
[5,null,null,null,null,null,0,null,null,0,null,null,0,null,null,0,null,null,0,null,null,0,null,null,0,null,null,0,null,null,0,null,null,0,null,null,0,null,null,0,null,null,0,null,null,0,null,null,0,null,null,0,null,null,0,null,null,0,null,null,0,0,0,0,null,null,0,null,null,0,null,null,0,null,null,0,null,null,0,null,null,0,null,null,0,null,null,0,null,null,0,null,null,0,null,null,0,null,null,0,null,null,0,null,null,0,null,null,0,0,0,0,null,null,0,null,null,0,0,0,0,null,null,0,null,null,0,null,null,0,0,0,0,0,0,0]
[6,null,null,null,null,null,0,null,null,0,null,null,0,null,null,0,null,null,0,null,null,0,null,null,0,null,null,0,null,null,0,null,null,0,null,null,0,null,null,0,null,null,0,null,null,0,null,null,0,null,null,0,null,null,0,null,null,0,null,null,0,0,0,0,null,null,0,null,null,0,null,null,0,null,null,0,null,null,0,null,null,0,null,null,0,null,null,0,null,null,0,null,null,0,null,null,0,null,null,0,null,null,0,null,null,0,null,null,0,0,0,0,null,null,0,null,null,0,0,0,0,null,null,0,null,null,0,null,null,0,0,0,0,0,0,0]
[7,null,null,null,null,null,0,null,null,0,null,null,0,null,null,0,null,null,0,null,null,0,null,null,0,null,null,0,null,null,0,null,null,0,null,null,0,null,null,0,null,null,0,null,null,0,null,null,0,null,null,0,null,null,0,null,null,0,null,null,0,0,0,0,null,null,0,null,null,0,null,null,0,null,null,0,null,null,0,null,null,0,null,null,0,null,null,0,null,null,0,null,null,0,null,null,0,null,null,0,null,null,0,null,null,0,null,null,0,0,0,0,null,null,0,null,null,0,0,0,0,null,null,0,null,null,0,null,null,0,0,0,0,0,0,0]
[8,null,null,null,null,null,0,null,null,0,null,null,0,null,null,0,null,null,0,null,null,0,null,null,0,null,null,0,null,null,0,null,null,0,null,null,0,null,null,0,null,null,0,null,null,0,null,null,0,null,null,0,null,null,0,null,null,0,null,null,0,0,0,0,null,null,0,null,null,0,null,null,0,null,null,0,null,null,0,null,null,0,null,null,0,null,null,0,null,null,0,null,null,0,null,null,0,null,null,0,null,null,0,null,null,0,null,null,0,0,0,0,null,null,0,null,null,0,0,0,0,null,null,0,null,null,0,null,null,0,0,0,0,0,0,0]
[9,null,null,null,null,null,0,null,null,0,null,null,0,null,null,0,null,null,0,null,null,0,null,null,0,null,null,0,null,null,0,null,null,0,null,null,0,null,null,0,null,null,0,null,null,0,null,null,0,null,null,0,null,null,0,null,null,0,null,null,0,0,0,0,null,null,0,null,null,0,null,null,0,null,null,0,null,null,0,null,null,0,null,null,0,null,null,0,null,null,0,null,null,0,null,null,0,null,null,0,null,null,0,null,null,0,null,null,0,0,0,0,null,null,0,null,null,0,0,0,0,null,null,0,null,null,0,null,null,0,0,0,0,0,0,0]
[10,null,null,null,null,null,0,null,null,0,null,null,0,null,null,0,null,null,0,null,null,0,null,null,0,null,null,0,null,null,0,null,null,0,null,null,0,null,null,0,null,null,0,null,null,0,null,null,0,null,null,0,null,null,0,null,null,0,null,null,0,0,0,0,null,null,0,null,null,0,null,null,0,null,null,0,null,null,0,null,null,0,null,null,0,null,null,0,null,null,0,null,null,0,null,null,0,null,null,0,null,null,0,null,null,0,null,null,0,0,0,0,null,null,0,null,null,0,0,0,0,null,null,0,null,null,0,null,null,0,0,0,0,0,0,0]
[11,null,null,null,null,null,0,null,null,0,null,null,0,null,null,0,null,null,0,null,null,0,null,null,0,null,null,0,null,null,0,null,null,0,null,null,0,null,null,0,null,null,0,null,null,0,null,null,0,null,null,0,null,null,0,null,null,0,null,null,0,0,0,0,null,null,0,null,null,0,null,null,0,null,null,0,null,null,0,null,null,0,null,null,0,null,null,0,null,null,0,null,null,0,null,null,0,null,null,0,null,null,0,null,null,0,null,null,0,0,0,0,null,null,0,null,null,0,0,0,0,null,null,0,null,null,0,null,null,0,0,0,0,0,0,0]
[12,null,null,null,null,null,0,null,null,0,null,null,0,null,null,0,null,null,0,null,null,0,null,null,0,null,null,0,null,null,0,null,null,0,null,null,0,null,null,0,null,null,0,null,null,0,null,null,0,null,null,0,null,null,0,null,null,0,null,null,0,0,0,0,null,null,0,null,null,0,null,null,0,null,null,0,null,null,0,null,null,0,null,null,0,null,null,0,null,null,0,null,null,0,null,null,0,null,null,0,null,null,0,null,null,0,null,null,0,0,0,0,null,null,0,null,null,0,0,0,0,null,null,0,null,null,0,null,null,0,0,0,0,0,0,0]
[13,null,null,null,null,null,0,null,null,0,null,null,0,null,null,0,null,null,0,null,null,0,null,null,0,null,null,0,null,null,0,null,null,0,null,null,0,null,null,0,null,null,0,null,null,0,null,null,0,null,null,0,null,null,0,null,null,0,null,null,0,0,0,0,null,null,0,null,null,0,null,null,0,null,null,0,null,null,0,null,null,0,null,null,0,null,null,0,null,null,0,null,null,0,null,null,0,null,null,0,null,null,0,null,null,0,null,null,0,0,0,0,null,null,0,null,null,0,0,0,0,null,null,0,null,null,0,null,null,0,0,0,0,0,0,0]
[14,null,null,null,null,null,0,null,null,0,null,null,0,null,null,0,null,null,0,null,null,0,null,null,0,null,null,0,null,null,0,null,null,0,null,null,0,null,null,0,null,null,0,null,null,0,null,null,0,null,null,0,null,null,0,null,null,0,null,null,0,0,0,0,null,null,0,null,null,0,null,null,0,null,null,0,null,null,0,null,null,0,null,null,0,null,null,0,null,null,0,null,null,0,null,null,0,null,null,0,null,null,0,null,null,0,null,null,0,0,0,0,null,null,0,null,null,0,0,0,0,null,null,0,null,null,0,null,null,0,0,0,0,0,0,0]
[15,null,null,null,null,null,0,null,null,0,null,null,0,null,null,0,null,null,0,null,null,0,null,null,0,null,null,0,null,null,0,null,null,0,null,null,0,null,null,0,null,null,0,null,null,0,null,null,0,null,null,0,null,null,0,null,null,0,null,null,0,0,0,0,null,null,0,null,null,0,null,null,0,null,null,0,null,null,0,null,null,0,null,null,0,null,null,0,null,null,0,null,null,0,null,null,0,null,null,0,null,null,0,null,null,0,null,null,0,0,0,0,null,null,0,null,null,0,0,0,0,null,null,0,null,null,0,null,null,0,0,0,0,0,0,0]
[16,null,null,null,null,null,0,null,null,0,null,null,0,null,null,0,null,null,0,null,null,0,null,null,0,null,null,0,null,null,0,null,null,0,null,null,0,null,null,0,null,null,0,null,null,0,null,null,0,null,null,0,null,null,0,null,null,0,null,null,0,0,0,0,null,null,0,null,null,0,null,null,0,null,null,0,null,null,0,null,null,0,null,null,0,null,null,0,null,null,0,null,null,0,null,null,0,null,null,0,null,null,0,null,null,0,null,null,0,0,0,0,null,null,0,null,null,0,0,0,0,null,null,0,null,null,0,null,null,0,0,0,0,0,0,0]
[17,null,null,null,null,null,0,null,null,0,null,null,0,null,null,0,null,null,0,null,null,0,null,null,0,null,null,0,null,null,0,null,null,0,null,null,0,null,null,0,null,null,0,null,null,0,null,null,0,null,null,0,null,null,0,null,null,0,null,null,0,0,0,0,null,null,0,null,null,0,null,null,0,null,null,0,null,null,0,null,null,0,null,null,0,null,null,0,null,null,0,null,null,0,null,null,0,null,null,0,null,null,0,null,null,0,null,null,0,0,0,0,null,null,0,null,null,0,0,0,0,null,null,0,null,null,0,null,null,0,0,0,0,0,0,0]
[18,null,null,null,null,null,0,null,null,0,null,null,0,null,null,0,null,null,0,null,null,0,null,null,0,null,null,0,null,null,0,null,null,0,null,null,0,null,null,0,null,null,0,null,null,0,null,null,0,null,null,0,null,null,0,null,null,0,null,null,0,0,0,0,null,null,0,null,null,0,null,null,0,null,null,0,null,null,0,null,null,0,null,null,0,null,null,0,null,null,0,null,null,0,null,null,0,null,null,0,null,null,0,null,null,0,null,null,0,0,0,0,null,null,0,null,null,0,0,0,0,null,null,0,null,null,0,null,null,0,0,0,0,0,0,0]
[19,null,null,null,null,null,0,null,null,0,null,null,0,null,null,0,null,null,0,null,null,0,null,null,0,null,null,0,null,null,0,null,null,0,null,null,0,null,null,0,null,null,0,null,null,0,null,null,0,null,null,0,null,null,0,null,null,0,null,null,0,0,0,0,null,null,0,null,null,0,null,null,0,null,null,0,null,null,0,null,null,0,null,null,0,null,null,0,null,null,0,null,null,0,null,null,0,null,null,0,null,null,0,null,null,0,null,null,0,0,0,0,null,null,0,null,null,0,0,0,0,null,null,0,null,null,0,null,null,0,0,0,0,0,0,0]
[20,null,null,null,null,null,0,null,null,0,null,null,0,null,null,0,null,null,0,null,null,0,null,null,0,null,null,0,null,null,0,null,null,0,null,null,0,null,null,0,null,null,0,null,null,0,null,null,0,null,null,0,null,null,0,null,null,0,null,null,0,0,0,0,null,null,0,null,null,0,null,null,0,null,null,0,null,null,0,null,null,0,null,null,0,null,null,0,null,null,0,null,null,0,null,null,0,null,null,0,null,null,0,null,null,0,null,null,0,0,0,0,null,null,0,null,null,0,0,0,0,null,null,0,null,null,0,null,null,0,0,0,0,0,0,0]
[21,null,null,null,null,null,0,null,null,0,null,null,0,null,null,0,null,null,0,null,null,0,null,null,0,null,null,0,null,null,0,null,null,0,null,null,0,null,null,0,null,null,0,null,null,0,null,null,0,null,null,0,null,null,0,null,null,0,null,null,0,0,0,0,null,null,0,null,null,0,null,null,0,null,null,0,null,null,0,null,null,0,null,null,0,null,null,0,null,null,0,null,null,0,null,null,0,null,null,0,null,null,0,null,null,0,null,null,0,0,0,0,null,null,0,null,null,0,0,0,0,null,null,0,null,null,0,null,null,0,0,0,0,0,0,0]
[22,null,null,null,null,null,0,null,null,0,null,null,0,null,null,0,null,null,0,null,null,0,null,null,0,null,null,0,null,null,0,null,null,0,null,null,0,null,null,0,null,null,0,null,null,0,null,null,0,null,null,0,null,null,0,null,null,0,null,null,0,0,0,0,null,null,0,null,null,0,null,null,0,null,null,0,null,null,0,null,null,0,null,null,0,null,null,0,null,null,0,null,null,0,null,null,0,null,null,0,null,null,0,null,null,0,null,null,0,0,0,0,null,null,0,null,null,0,0,0,0,null,null,0,null,null,0,null,null,0,0,0,0,0,0,0]
[23,null,null,null,null,null,0,null,null,0,null,null,0,null,null,0,null,null,0,null,null,0,null,null,0,null,null,0,null,null,0,null,null,0,null,null,0,null,null,0,null,null,0,null,null,0,null,null,0,null,null,0,null,null,0,null,null,0,null,null,0,0,0,0,null,null,0,null,null,0,null,null,0,null,null,0,null,null,0,null,null,0,null,null,0,null,null,0,null,null,0,null,null,0,null,null,0,null,null,0,null,null,0,null,null,0,null,null,0,0,0,0,null,null,0,null,null,0,0,0,0,null,null,0,null,null,0,null,null,0,0,0,0,0,0,0]
[24,null,null,null,null,null,0,null,null,0,null,null,0,null,null,0,null,null,0,null,null,0,null,null,0,null,null,0,null,null,0,null,null,0,null,null,0,null,null,0,null,null,0,null,null,0,null,null,0,null,null,0,null,null,0,null,null,0,null,null,0,0,0,0,null,null,0,null,null,0,null,null,0,null,null,0,null,null,0,null,null,0,null,null,0,null,null,0,null,null,0,null,null,0,null,null,0,null,null,0,null,null,0,null,null,0,null,null,0,0,0,0,null,null,0,null,null,0,0,0,0,null,null,0,null,null,0,null,null,0,0,0,0,0,0,0]
[25,null,null,null,null,null,0,null,null,0,null,null,0,null,null,0,null,null,0,null,null,0,null,null,0,null,null,0,null,null,0,null,null,0,null,null,0,null,null,0,null,null,0,null,null,0,null,null,0,null,null,0,null,null,0,null,null,0,null,null,0,0,0,0,null,null,0,null,null,0,null,null,0,null,null,0,null,null,0,null,null,0,null,null,0,null,null,0,null,null,0,null,null,0,null,null,0,null,null,0,null,null,0,null,null,0,null,null,0,0,0,0,null,null,0,null,null,0,0,0,0,null,null,0,null,null,0,null,null,0,0,0,0,0,0,0]
[26,null,null,null,null,null,0,null,null,0,null,null,0,null,null,0,null,null,0,null,null,0,null,null,0,null,null,0,null,null,0,null,null,0,null,null,0,null,null,0,null,null,0,null,null,0,null,null,0,null,null,0,null,null,0,null,null,0,null,null,0,0,0,0,null,null,0,null,null,0,null,null,0,null,null,0,null,null,0,null,null,0,null,null,0,null,null,0,null,null,0,null,null,0,null,null,0,null,null,0,null,null,0,null,null,0,null,null,0,0,0,0,null,null,0,null,null,0,0,0,0,null,null,0,null,null,0,null,null,0,0,0,0,0,0,0]
[27,null,null,null,null,null,0,null,null,0,null,null,0,null,null,0,null,null,0,null,null,0,null,null,0,null,null,0,null,null,0,null,null,0,null,null,0,null,null,0,null,null,0,null,null,0,null,null,0,null,null,0,null,null,0,null,null,0,null,null,0,0,0,0,null,null,0,null,null,0,null,null,0,null,null,0,null,null,0,null,null,0,null,null,0,null,null,0,null,null,0,null,null,0,null,null,0,null,null,0,null,null,0,null,null,0,null,null,0,0,0,0,null,null,0,null,null,0,0,0,0,null,null,0,null,null,0,null,null,0,0,0,0,0,0,0]
[28,null,null,null,null,null,0,null,null,0,null,null,0,null,null,0,null,null,0,null,null,0,null,null,0,null,null,0,null,null,0,null,null,0,null,null,0,null,null,0,null,null,0,null,null,0,null,null,0,null,null,0,null,null,0,null,null,0,null,null,0,0,0,0,null,null,0,null,null,0,null,null,0,null,null,0,null,null,0,null,null,0,null,null,0,null,null,0,null,null,0,null,null,0,null,null,0,null,null,0,null,null,0,null,null,0,null,null,0,0,0,0,null,null,0,null,null,0,0,0,0,null,null,0,null,null,0,null,null,0,0,0,0,0,0,0]
[29,null,null,null,null,null,0,null,null,0,null,null,0,null,null,0,null,null,0,null,null,0,null,null,0,null,null,0,null,null,0,null,null,0,null,null,0,null,null,0,null,null,0,null,null,0,null,null,0,null,null,0,null,null,0,null,null,0,null,null,0,0,0,0,null,null,0,null,null,0,null,null,0,null,null,0,null,null,0,null,null,0,null,null,0,null,null,0,null,null,0,null,null,0,null,null,0,null,null,0,null,null,0,null,null,0,null,null,0,0,0,0,null,null,0,null,null,0,0,0,0,null,null,0,null,null,0,null,null,0,0,0,0,0,0,0]
[30,null,null,null,null,null,0,null,null,0,null,null,0,null,null,0,null,null,0,null,null,0,null,null,0,null,null,0,null,null,0,null,null,0,null,null,0,null,null,0,null,null,0,null,null,0,null,null,0,null,null,0,null,null,0,null,null,0,null,null,0,0,0,0,null,null,0,null,null,0,null,null,0,null,null,0,null,null,0,null,null,0,null,null,0,null,null,0,null,null,0,null,null,0,null,null,0,null,null,0,null,null,0,null,null,0,null,null,0,0,0,0,null,null,0,null,null,0,0,0,0,null,null,0,null,null,0,null,null,0,0,0,0,0,0,0]
[31,null,null,null,null,null,0,null,null,0,null,null,0,null,null,0,null,null,0,null,null,0,null,null,0,null,null,0,null,null,0,null,null,0,null,null,0,null,null,0,null,null,0,null,null,0,null,null,0,null,null,0,null,null,0,null,null,0,null,null,0,0,0,0,null,null,0,null,null,0,null,null,0,null,null,0,null,null,0,null,null,0,null,null,0,null,null,0,null,null,0,null,null,0,null,null,0,null,null,0,null,null,0,null,null,0,null,null,0,0,0,0,null,null,0,null,null,0,0,0,0,null,null,0,null,null,0,null,null,0,0,0,0,0,0,0]
[32,null,null,null,null,null,0,null,null,0,null,null,0,null,null,0,null,null,0,null,null,0,null,null,0,null,null,0,null,null,0,null,null,0,null,null,0,null,null,0,null,null,0,null,null,0,null,null,0,null,null,0,null,null,0,null,null,0,null,null,0,0,0,0,null,null,0,null,null,0,null,null,0,null,null,0,null,null,0,null,null,0,null,null,0,null,null,0,null,null,0,null,null,0,null,null,0,null,null,0,null,null,0,null,null,0,null,null,0,0,0,0,null,null,0,null,null,0,0,0,0,null,null,0,null,null,0,null,null,0,0,0,0,0,0,0]
[33,null,null,null,null,null,0,null,null,0,null,null,0,null,null,0,null,null,0,null,null,0,null,null,0,null,null,0,null,null,0,null,null,0,null,null,0,null,null,0,null,null,0,null,null,0,null,null,0,null,null,0,null,null,0,null,null,0,null,null,0,0,0,0,null,null,0,null,null,0,null,null,0,null,null,0,null,null,0,null,null,0,null,null,0,null,null,0,null,null,0,null,null,0,null,null,0,null,null,0,null,null,0,null,null,0,null,null,0,0,0,0,null,null,0,null,null,0,0,0,0,null,null,0,null,null,0,null,null,0,0,0,0,0,0,0]
[34,null,null,null,null,null,0,null,null,0,null,null,0,null,null,0,null,null,0,null,null,0,null,null,0,null,null,0,null,null,0,null,null,0,null,null,0,null,null,0,null,null,0,null,null,0,null,null,0,null,null,0,null,null,0,null,null,0,null,null,0,0,0,0,null,null,0,null,null,0,null,null,0,null,null,0,null,null,0,null,null,0,null,null,0,null,null,0,null,null,0,null,null,0,null,null,0,null,null,0,null,null,0,null,null,0,null,null,0,0,0,0,null,null,0,null,null,0,0,0,0,null,null,0,null,null,0,null,null,0,0,0,0,0,0,0]
[35,null,null,null,null,null,0,null,null,0,null,null,0,null,null,0,null,null,0,null,null,0,null,null,0,null,null,0,null,null,0,null,null,0,null,null,0,null,null,0,null,null,0,null,null,0,null,null,0,null,null,0,null,null,0,null,null,0,null,null,0,0,0,0,null,null,0,null,null,0,null,null,0,null,null,0,null,null,0,null,null,0,null,null,0,null,null,0,null,null,0,null,null,0,null,null,0,null,null,0,null,null,0,null,null,0,null,null,0,0,0,0,null,null,0,null,null,0,0,0,0,null,null,0,null,null,0,null,null,0,0,0,0,0,0,0]
[36,null,null,null,null,null,0,null,null,0,null,null,0,null,null,0,null,null,0,null,null,0,null,null,0,null,null,0,null,null,0,null,null,0,null,null,0,null,null,0,null,null,0,null,null,0,null,null,0,null,null,0,null,null,0,null,null,0,null,null,0,0,0,0,null,null,0,null,null,0,null,null,0,null,null,0,null,null,0,null,null,0,null,null,0,null,null,0,null,null,0,null,null,0,null,null,0,null,null,0,null,null,0,null,null,0,null,null,0,0,0,0,null,null,0,null,null,0,0,0,0,null,null,0,null,null,0,null,null,0,0,0,0,0,0,0]
[37,null,null,null,null,null,0,null,null,0,null,null,0,null,null,0,null,null,0,null,null,0,null,null,0,null,null,0,null,null,0,null,null,0,null,null,0,null,null,0,null,null,0,null,null,0,null,null,0,null,null,0,null,null,0,null,null,0,null,null,0,0,0,0,null,null,0,null,null,0,null,null,0,null,null,0,null,null,0,null,null,0,null,null,0,null,null,0,null,null,0,null,null,0,null,null,0,null,null,0,null,null,0,null,null,0,null,null,0,0,0,0,null,null,0,null,null,0,0,0,0,null,null,0,null,null,0,null,null,0,0,0,0,0,0,0]
[38,null,null,null,null,null,0,null,null,0,null,null,0,null,null,0,null,null,0,null,null,0,null,null,0,null,null,0,null,null,0,null,null,0,null,null,0,null,null,0,null,null,0,null,null,0,null,null,0,null,null,0,null,null,0,null,null,0,null,null,0,0,0,0,null,null,0,null,null,0,null,null,0,null,null,0,null,null,0,null,null,0,null,null,0,null,null,0,null,null,0,null,null,0,null,null,0,null,null,0,null,null,0,null,null,0,null,null,0,0,0,0,null,null,0,null,null,0,0,0,0,null,null,0,null,null,0,null,null,0,0,0,0,0,0,0]
[39,null,null,null,null,null,0,null,null,0,null,null,0,null,null,0,null,null,0,null,null,0,null,null,0,null,null,0,null,null,0,null,null,0,null,null,0,null,null,0,null,null,0,null,null,0,null,null,0,null,null,0,null,null,0,null,null,0,null,null,0,0,0,0,null,null,0,null,null,0,null,null,0,null,null,0,null,null,0,null,null,0,null,null,0,null,null,0,null,null,0,null,null,0,null,null,0,null,null,0,null,null,0,null,null,0,null,null,0,0,0,0,null,null,0,null,null,0,0,0,0,null,null,0,null,null,0,null,null,0,0,0,0,0,0,0]
[40,null,null,null,null,null,0,null,null,0,null,null,0,null,null,0,null,null,0,null,null,0,null,null,0,null,null,0,null,null,0,null,null,0,null,null,0,null,null,0,null,null,0,null,null,0,null,null,0,null,null,0,null,null,0,null,null,0,null,null,0,0,0,0,null,null,0,null,null,0,null,null,0,null,null,0,null,null,0,null,null,0,null,null,0,null,null,0,null,null,0,null,null,0,null,null,0,null,null,0,null,null,0,null,null,0,null,null,0,0,0,0,null,null,0,null,null,0,0,0,0,null,null,0,null,null,0,null,null,0,0,0,0,0,0,0]
[41,null,null,null,null,null,0,null,null,0,null,null,0,null,null,0,null,null,0,null,null,0,null,null,0,null,null,0,null,null,0,null,null,0,null,null,0,null,null,0,null,null,0,null,null,0,null,null,0,null,null,0,null,null,0,null,null,0,null,null,0,0,0,0,null,null,0,null,null,0,null,null,0,null,null,0,null,null,0,null,null,0,null,null,0,null,null,0,null,null,0,null,null,0,null,null,0,null,null,0,null,null,0,null,null,0,null,null,0,0,0,0,null,null,0,null,null,0,0,0,0,null,null,0,null,null,0,null,null,0,0,0,0,0,0,0]
[42,null,null,null,null,null,0,null,null,0,null,null,0,null,null,0,null,null,0,null,null,0,null,null,0,null,null,0,null,null,0,null,null,0,null,null,0,null,null,0,null,null,0,null,null,0,null,null,0,null,null,0,null,null,0,null,null,0,null,null,0,0,0,0,null,null,0,null,null,0,null,null,0,null,null,0,null,null,0,null,null,0,null,null,0,null,null,0,null,null,0,null,null,0,null,null,0,null,null,0,null,null,0,null,null,0,null,null,0,0,0,0,null,null,0,null,null,0,0,0,0,null,null,0,null,null,0,null,null,0,0,0,0,0,0,0]
[43,null,null,null,null,null,0,null,null,0,null,null,0,null,null,0,null,null,0,null,null,0,null,null,0,null,null,0,null,null,0,null,null,0,null,null,0,null,null,0,null,null,0,null,null,0,null,null,0,null,null,0,null,null,0,null,null,0,null,null,0,0,0,0,null,null,0,null,null,0,null,null,0,null,null,0,null,null,0,null,null,0,null,null,0,null,null,0,null,null,0,null,null,0,null,null,0,null,null,0,null,null,0,null,null,0,null,null,0,0,0,0,null,null,0,null,null,0,0,0,0,null,null,0,null,null,0,null,null,0,0,0,0,0,0,0]
[44,null,null,null,null,null,0,null,null,0,null,null,0,null,null,0,null,null,0,null,null,0,null,null,0,null,null,0,null,null,0,null,null,0,null,null,0,null,null,0,null,null,0,null,null,0,null,null,0,null,null,0,null,null,0,null,null,0,null,null,0,0,0,0,null,null,0,null,null,0,null,null,0,null,null,0,null,null,0,null,null,0,null,null,0,null,null,0,null,null,0,null,null,0,null,null,0,null,null,0,null,null,0,null,null,0,null,null,0,0,0,0,null,null,0,null,null,0,0,0,0,null,null,0,null,null,0,null,null,0,0,0,0,0,0,0]
[45,null,null,null,null,null,0,null,null,0,null,null,0,null,null,0,null,null,0,null,null,0,null,null,0,null,null,0,null,null,0,null,null,0,null,null,0,null,null,0,null,null,0,null,null,0,null,null,0,null,null,0,null,null,0,null,null,0,null,null,0,0,0,0,null,null,0,null,null,0,null,null,0,null,null,0,null,null,0,null,null,0,null,null,0,null,null,0,null,null,0,null,null,0,null,null,0,null,null,0,null,null,0,null,null,0,null,null,0,0,0,0,null,null,0,null,null,0,0,0,0,null,null,0,null,null,0,null,null,0,0,0,0,0,0,0]
[46,null,null,null,null,null,0,null,null,0,null,null,0,null,null,0,null,null,0,null,null,0,null,null,0,null,null,0,null,null,0,null,null,0,null,null,0,null,null,0,null,null,0,null,null,0,null,null,0,null,null,0,null,null,0,null,null,0,null,null,0,0,0,0,null,null,0,null,null,0,null,null,0,null,null,0,null,null,0,null,null,0,null,null,0,null,null,0,null,null,0,null,null,0,null,null,0,null,null,0,null,null,0,null,null,0,null,null,0,0,0,0,null,null,0,null,null,0,0,0,0,null,null,0,null,null,0,null,null,0,0,0,0,0,0,0]
[47,null,null,null,null,null,0,null,null,0,null,null,0,null,null,0,null,null,0,null,null,0,null,null,0,null,null,0,null,null,0,null,null,0,null,null,0,null,null,0,null,null,0,null,null,0,null,null,0,null,null,0,null,null,0,null,null,0,null,null,0,0,0,0,null,null,0,null,null,0,null,null,0,null,null,0,null,null,0,null,null,0,null,null,0,null,null,0,null,null,0,null,null,0,null,null,0,null,null,0,null,null,0,null,null,0,null,null,0,0,0,0,null,null,0,null,null,0,0,0,0,null,null,0,null,null,0,null,null,0,0,0,0,0,0,0]
[48,null,null,null,null,null,0,null,null,0,null,null,0,null,null,0,null,null,0,null,null,0,null,null,0,null,null,0,null,null,0,null,null,0,null,null,0,null,null,0,null,null,0,null,null,0,null,null,0,null,null,0,null,null,0,null,null,0,null,null,0,0,0,0,null,null,0,null,null,0,null,null,0,null,null,0,null,null,0,null,null,0,null,null,0,null,null,0,null,null,0,null,null,0,null,null,0,null,null,0,null,null,0,null,null,0,null,null,0,0,0,0,null,null,0,null,null,0,0,0,0,null,null,0,null,null,0,null,null,0,0,0,0,0,0,0]
[49,null,null,null,null,null,0,null,null,0,null,null,0,null,null,0,null,null,0,null,null,0,null,null,0,null,null,0,null,null,0,null,null,0,null,null,0,null,null,0,null,null,0,null,null,0,null,null,0,null,null,0,null,null,0,null,null,0,null,null,0,0,0,0,null,null,0,null,null,0,null,null,0,null,null,0,null,null,0,null,null,0,null,null,0,null,null,0,null,null,0,null,null,0,null,null,0,null,null,0,null,null,0,null,null,0,null,null,0,0,0,0,null,null,0,null,null,0,0,0,0,null,null,0,null,null,0,null,null,0,0,0,0,0,0,0]
[50,null,null,null,null,null,0,null,null,0,null,null,0,null,null,0,null,null,0,null,null,0,null,null,0,null,null,0,null,null,0,null,null,0,null,null,0,null,null,0,null,null,0,null,null,0,null,null,0,null,null,0,null,null,0,null,null,0,null,null,0,0,0,0,null,null,0,null,null,0,null,null,0,null,null,0,null,null,0,null,null,0,null,null,0,null,null,0,null,null,0,null,null,0,null,null,0,null,null,0,null,null,0,null,null,0,null,null,0,0,0,0,null,null,0,null,null,0,0,0,0,null,null,0,null,null,0,null,null,0,0,0,0,0,0,0]
[51,null,null,null,null,null,0,null,null,0,null,null,0,null,null,0,null,null,0,null,null,0,null,null,0,null,null,0,null,null,0,null,null,0,null,null,0,null,null,0,null,null,0,null,null,0,null,null,0,null,null,0,null,null,0,null,null,0,null,null,0,0,0,0,null,null,0,null,null,0,null,null,0,null,null,0,null,null,0,null,null,0,null,null,0,null,null,0,null,null,0,null,null,0,null,null,0,null,null,0,null,null,0,null,null,0,null,null,0,0,0,0,null,null,0,null,null,0,0,0,0,null,null,0,null,null,0,null,null,0,0,0,0,0,0,0]
[52,null,null,null,null,null,0,null,null,0,null,null,0,null,null,0,null,null,0,null,null,0,null,null,0,null,null,0,null,null,0,null,null,0,null,null,0,null,null,0,null,null,0,null,null,0,null,null,0,null,null,0,null,null,0,null,null,0,null,null,0,0,0,0,null,null,0,null,null,0,null,null,0,null,null,0,null,null,0,null,null,0,null,null,0,null,null,0,null,null,0,null,null,0,null,null,0,null,null,0,null,null,0,null,null,0,null,null,0,0,0,0,null,null,0,null,null,0,0,0,0,null,null,0,null,null,0,null,null,0,0,0,0,0,0,0]
[53,null,null,null,null,null,0,null,null,0,null,null,0,null,null,0,null,null,0,null,null,0,null,null,0,null,null,0,null,null,0,null,null,0,null,null,0,null,null,0,null,null,0,null,null,0,null,null,0,null,null,0,null,null,0,null,null,0,null,null,0,0,0,0,null,null,0,null,null,0,null,null,0,null,null,0,null,null,0,null,null,0,null,null,0,null,null,0,null,null,0,null,null,0,null,null,0,null,null,0,null,null,0,null,null,0,null,null,0,0,0,0,null,null,0,null,null,0,0,0,0,null,null,0,null,null,0,null,null,0,0,0,0,0,0,0]
[54,null,null,null,null,null,0,null,null,0,null,null,0,null,null,0,null,null,0,null,null,0,null,null,0,null,null,0,null,null,0,null,null,0,null,null,0,null,null,0,null,null,0,null,null,0,null,null,0,null,null,0,null,null,0,null,null,0,null,null,0,0,0,0,null,null,0,null,null,0,null,null,0,null,null,0,null,null,0,null,null,0,null,null,0,null,null,0,null,null,0,null,null,0,null,null,0,null,null,0,null,null,0,null,null,0,null,null,0,0,0,0,null,null,0,null,null,0,0,0,0,null,null,0,null,null,0,null,null,0,0,0,0,0,0,0]
[55,null,null,null,null,null,0,null,null,0,null,null,0,null,null,0,null,null,0,null,null,0,null,null,0,null,null,0,null,null,0,null,null,0,null,null,0,null,null,0,null,null,0,null,null,0,null,null,0,null,null,0,null,null,0,null,null,0,null,null,0,0,0,0,null,null,0,null,null,0,null,null,0,null,null,0,null,null,0,null,null,0,null,null,0,null,null,0,null,null,0,null,null,0,null,null,0,null,null,0,null,null,0,null,null,0,null,null,0,0,0,0,null,null,0,null,null,0,0,0,0,null,null,0,null,null,0,null,null,0,0,0,0,0,0,0]
[56,null,null,null,null,null,0,null,null,0,null,null,0,null,null,0,null,null,0,null,null,0,null,null,0,null,null,0,null,null,0,null,null,0,null,null,0,null,null,0,null,null,0,null,null,0,null,null,0,null,null,0,null,null,0,null,null,0,null,null,0,0,0,0,null,null,0,null,null,0,null,null,0,null,null,0,null,null,0,null,null,0,null,null,0,null,null,0,null,null,0,null,null,0,null,null,0,null,null,0,null,null,0,null,null,0,null,null,0,0,0,0,null,null,0,null,null,0,0,0,0,null,null,0,null,null,0,null,null,0,0,0,0,0,0,0]
[57,null,null,null,null,null,0,null,null,0,null,null,0,null,null,0,null,null,0,null,null,0,null,null,0,null,null,0,null,null,0,null,null,0,null,null,0,null,null,0,null,null,0,null,null,0,null,null,0,null,null,0,null,null,0,null,null,0,null,null,0,0,0,0,null,null,0,null,null,0,null,null,0,null,null,0,null,null,0,null,null,0,null,null,0,null,null,0,null,null,0,null,null,0,null,null,0,null,null,0,null,null,0,null,null,0,null,null,0,0,0,0,null,null,0,null,null,0,0,0,0,null,null,0,null,null,0,null,null,0,0,0,0,0,0,0]
[58,null,null,null,null,null,0,null,null,0,null,null,0,null,null,0,null,null,0,null,null,0,null,null,0,null,null,0,null,null,0,null,null,0,null,null,0,null,null,0,null,null,0,null,null,0,null,null,0,null,null,0,null,null,0,null,null,0,null,null,0,0,0,0,null,null,0,null,null,0,null,null,0,null,null,0,null,null,0,null,null,0,null,null,0,null,null,0,null,null,0,null,null,0,null,null,0,null,null,0,null,null,0,null,null,0,null,null,0,0,0,0,null,null,0,null,null,0,0,0,0,null,null,0,null,null,0,null,null,0,0,0,0,0,0,0]
[59,null,null,null,null,null,0,null,null,0,null,null,0,null,null,0,null,null,0,null,null,0,null,null,0,null,null,0,null,null,0,null,null,0,null,null,0,null,null,0,null,null,0,null,null,0,null,null,0,null,null,0,null,null,0,null,null,0,null,null,0,0,0,0,null,null,0,null,null,0,null,null,0,null,null,0,null,null,0,null,null,0,null,null,0,null,null,0,null,null,0,null,null,0,null,null,0,null,null,0,null,null,0,null,null,0,null,null,0,0,0,0,null,null,0,null,null,0,0,0,0,null,null,0,null,null,0,null,null,0,0,0,0,0,0,0]
[60,null,null,null,null,null,0,null,null,0,null,null,0,null,null,0,null,null,0,null,null,0,null,null,0,null,null,0,null,null,0,null,null,0,null,null,0,null,null,0,null,null,0,null,null,0,null,null,0,null,null,0,null,null,0,null,null,0,null,null,0,0,0,0,null,null,0,null,null,0,null,null,0,null,null,0,null,null,0,null,null,0,null,null,0,null,null,0,null,null,0,null,null,0,null,null,0,null,null,0,null,null,0,null,null,0,null,null,0,0,0,0,null,null,0,null,null,0,0,0,0,null,null,0,null,null,0,null,null,0,0,0,0,0,0,0]
[61,null,null,null,null,null,0,null,null,0,null,null,0,null,null,0,null,null,0,null,null,0,null,null,0,null,null,0,null,null,0,null,null,0,null,null,0,null,null,0,null,null,0,null,null,0,null,null,0,null,null,0,null,null,0,null,null,0,null,null,0,0,0,0,null,null,0,null,null,0,null,null,0,null,null,0,null,null,0,null,null,0,null,null,0,null,null,0,null,null,0,null,null,0,null,null,0,null,null,0,null,null,0,null,null,0,null,null,0,0,0,0,null,null,0,null,null,0,0,0,0,null,null,0,null,null,0,null,null,0,0,0,0,0,0,0]
[62,null,null,null,null,null,0,null,null,0,null,null,0,null,null,0,null,null,0,null,null,0,null,null,0,null,null,0,null,null,0,null,null,0,null,null,0,null,null,0,null,null,0,null,null,0,null,null,0,null,null,0,null,null,0,null,null,0,null,null,0,0,0,0,null,null,0,null,null,0,null,null,0,null,null,0,null,null,0,null,null,0,null,null,0,null,null,0,null,null,0,null,null,0,null,null,0,null,null,0,null,null,0,null,null,0,null,null,0,0,0,0,null,null,0,null,null,0,0,0,0,null,null,0,null,null,0,null,null,0,0,0,0,0,0,0]
[63,null,null,null,null,null,0,null,null,0,null,null,0,null,null,0,null,null,0,null,null,0,null,null,0,null,null,0,null,null,0,null,null,0,null,null,0,null,null,0,null,null,0,null,null,0,null,null,0,null,null,0,null,null,0,null,null,0,null,null,0,0,0,0,null,null,0,null,null,0,null,null,0,null,null,0,null,null,0,null,null,0,null,null,0,null,null,0,null,null,0,null,null,0,null,null,0,null,null,0,null,null,0,null,null,0,null,null,0,0,0,0,null,null,0,null,null,0,0,0,0,null,null,0,null,null,0,null,null,0,0,0,0,0,0,0]
[64,null,null,null,null,null,0,null,null,0,null,null,0,null,null,0,null,null,0,null,null,0,null,null,0,null,null,0,null,null,0,null,null,0,null,null,0,null,null,0,null,null,0,null,null,0,null,null,0,null,null,0,null,null,0,null,null,0,null,null,0,0,0,0,null,null,0,null,null,0,null,null,0,null,null,0,null,null,0,null,null,0,null,null,0,null,null,0,null,null,0,null,null,0,null,null,0,null,null,0,null,null,0,null,null,0,null,null,0,0,0,0,null,null,0,null,null,0,0,0,0,null,null,0,null,null,0,null,null,0,0,0,0,0,0,0]
[65,null,null,null,null,null,{"$f":"SUM(E80:F80)","v":0},null,null,{"$f":"SUM(H80:I80)","v":0},null,null,{"$f":"SUM(K80:L80)","v":0},null,null,{"$f":"SUM(N80:O80)","v":0},null,null,{"$f":"SUM(Q80:R80)","v":0},null,null,{"$f":"SUM(T80:U80)","v":0},null,null,{"$f":"SUM(W80:X80)","v":0},null,null,{"$f":"SUM(Z80:AA80)","v":0},null,null,{"$f":"SUM(AC80:AD80)","v":0},null,null,{"$f":"SUM(AF80:AG80)","v":0},null,null,{"$f":"SUM(AI80:AJ80)","v":0},null,null,{"$f":"SUM(AL80:AM80)","v":0},null,null,{"$f":"SUM(AO80:AP80)","v":0},null,null,{"$f":"SUM(AR80:AS80)","v":0},null,null,{"$f":"SUM(AU80:AV80)","v":0},null,null,{"$f":"SUM(AX80:AY80)","v":0},null,null,{"$f":"SUM(BA80:BB80)","v":0},null,null,{"$f":"SUM(BD80:BE80)","v":0},null,null,{"$f":"SUM(BG80:BH80)","v":0},{"$f":"SUM(E80,H80,K80,N80,Q80,T80,W80,Z80,AC80,AF80,AI80,AL80,AO80,AR80,AU80,AX80,BA80,BD80,BG80)","v":0},0,{"$f":"SUM(BJ80:BK80)","v":0},null,null,{"$f":"SUM(BM80:BN80)","v":0},null,null,{"$f":"SUM(BP80:BQ80)","v":0},null,null,{"$f":"SUM(BS80:BT80)","v":0},null,null,{"$f":"SUM(BV80:BW80)","v":0},null,null,{"$f":"SUM(BY80:BZ80)","v":0},null,null,{"$f":"SUM(CB80:CC80)","v":0},null,null,{"$f":"SUM(CE80:CF80)","v":0},null,null,{"$f":"SUM(CH80:CI80)","v":0},null,null,{"$f":"SUM(CK80:CL80)","v":0},null,null,{"$f":"SUM(CN80:CO80)","v":0},null,null,{"$f":"SUM(CQ80:CR80)","v":0},null,null,{"$f":"SUM(CT80:CU80)","v":0},null,null,{"$f":"SUM(CW80:CX80)","v":0},null,null,{"$f":"SUM(CZ80:DA80)","v":0},null,null,{"$f":"SUM(DC80:DD80)","v":0},{"$f":"SUM(BM80,BP80,BS80,BV80,BY80,CB80,CE80,CH80,CK80,CN80,CQ80,CT80,CW80,CZ80,DC80)","v":0},0,{"$f":"SUM(DF80:DG80)","v":0},null,null,{"$f":"SUM(DI80:DJ80)","v":0},null,null,{"$f":"SUM(DL80:DM80)","v":0},{"$f":"SUM(DI80,DL80)","v":0},0,{"$f":"SUM(DO80:DP80)","v":0},null,null,{"$f":"SUM(DR80:DS80)","v":0},null,null,{"$f":"SUM(DU80:DV80)","v":0},null,null,{"$f":"SUM(DX80:DY80)","v":0},{"$f":"SUM(DR80,DU80,DX80)","v":0},0,{"$f":"SUM(EA80:EB80)","v":0},{"$f":"SUM(BJ80,DF80,DO80,EA80)","v":0},0,{"$f":"SUM(ED80:EE80)","v":0}]
[66,null,null,null,null,null,0,null,null,0,null,null,0,null,null,0,null,null,0,null,null,0,null,null,0,null,null,0,null,null,0,null,null,0,null,null,0,null,null,0,null,null,0,null,null,0,null,null,0,null,null,0,null,null,0,null,null,0,null,null,0,0,0,0,null,null,0,null,null,0,null,null,0,null,null,0,null,null,0,null,null,0,null,null,0,null,null,0,null,null,0,null,null,0,null,null,0,null,null,0,null,null,0,null,null,0,null,null,0,0,0,0,null,null,0,null,null,0,0,0,0,null,null,0,null,null,0,null,null,0,0,0,0,0,0,0]
[67,null,null,null,null,null,0,null,null,0,null,null,0,null,null,0,null,null,0,null,null,0,null,null,0,null,null,0,null,null,0,null,null,0,null,null,0,null,null,0,null,null,0,null,null,0,null,null,0,null,null,0,null,null,0,null,null,0,null,null,0,0,0,0,null,null,0,null,null,0,null,null,0,null,null,0,null,null,0,null,null,0,null,null,0,null,null,0,null,null,0,null,null,0,null,null,0,null,null,0,null,null,0,null,null,0,null,null,0,0,0,0,null,null,0,null,null,0,0,0,0,null,null,0,null,null,0,null,null,0,0,0,0,0,0,0]
[68,null,null,null,null,null,0,null,null,0,null,null,0,null,null,0,null,null,0,null,null,0,null,null,0,null,null,0,null,null,0,null,null,0,null,null,0,null,null,0,null,null,0,null,null,0,null,null,0,null,null,0,null,null,0,null,null,0,null,null,0,0,0,0,null,null,0,null,null,0,null,null,0,null,null,0,null,null,0,null,null,0,null,null,0,null,null,0,null,null,0,null,null,0,null,null,0,null,null,0,null,null,0,null,null,0,null,null,0,0,0,0,null,null,0,null,null,0,0,0,0,null,null,0,null,null,0,null,null,0,0,0,0,0,0,0]
[69,null,null,null,null,null,0,null,null,0,null,null,0,null,null,0,null,null,0,null,null,0,null,null,0,null,null,0,null,null,0,null,null,0,null,null,0,null,null,0,null,null,0,null,null,0,null,null,0,null,null,0,null,null,0,null,null,0,null,null,0,0,0,0,null,null,0,null,null,0,null,null,0,null,null,0,null,null,0,null,null,0,null,null,0,null,null,0,null,null,0,null,null,0,null,null,0,null,null,0,null,null,0,null,null,0,null,null,0,0,0,0,null,null,0,null,null,0,0,0,0,null,null,0,null,null,0,null,null,0,0,0,0,0,0,0]
[70,null,null,null,null,null,0,null,null,0,null,null,0,null,null,0,null,null,0,null,null,0,null,null,0,null,null,0,null,null,0,null,null,0,null,null,0,null,null,0,null,null,0,null,null,0,null,null,0,null,null,0,null,null,0,null,null,0,null,null,0,0,0,0,null,null,0,null,null,0,null,null,0,null,null,0,null,null,0,null,null,0,null,null,0,null,null,0,null,null,0,null,null,0,null,null,0,null,null,0,null,null,0,null,null,0,null,null,0,0,0,0,null,null,0,null,null,0,0,0,0,null,null,0,null,null,0,null,null,0,0,0,0,0,0,0]
[71,null,null,null,null,null,0,null,null,0,null,null,0,null,null,0,null,null,0,null,null,0,null,null,0,null,null,0,null,null,0,null,null,0,null,null,0,null,null,0,null,null,0,null,null,0,null,null,0,null,null,0,null,null,0,null,null,0,null,null,0,0,0,0,null,null,0,null,null,0,null,null,0,null,null,0,null,null,0,null,null,0,null,null,0,null,null,0,null,null,0,null,null,0,null,null,0,null,null,0,null,null,0,null,null,0,null,null,0,0,0,0,null,null,0,null,null,0,0,0,0,null,null,0,null,null,0,null,null,0,0,0,0,0,0,0]
[72,null,null,null,null,null,0,null,null,0,null,null,0,null,null,0,null,null,0,null,null,0,null,null,0,null,null,0,null,null,0,null,null,0,null,null,0,null,null,0,null,null,0,null,null,0,null,null,0,null,null,0,null,null,0,null,null,0,null,null,0,0,0,0,null,null,0,null,null,0,null,null,0,null,null,0,null,null,0,null,null,0,null,null,0,null,null,0,null,null,0,null,null,0,null,null,0,null,null,0,null,null,0,null,null,0,null,null,0,0,0,0,null,null,0,null,null,0,0,0,0,null,null,0,null,null,0,null,null,0,0,0,0,0,0,0]
[73,null,null,null,null,null,0,null,null,0,null,null,0,null,null,0,null,null,0,null,null,0,null,null,0,null,null,0,null,null,0,null,null,0,null,null,0,null,null,0,null,null,0,null,null,0,null,null,0,null,null,0,null,null,0,null,null,0,null,null,0,0,0,0,null,null,0,null,null,0,null,null,0,null,null,0,null,null,0,null,null,0,null,null,0,null,null,0,null,null,0,null,null,0,null,null,0,null,null,0,null,null,0,null,null,0,null,null,0,0,0,0,null,null,0,null,null,0,0,0,0,null,null,0,null,null,0,null,null,0,0,0,0,0,0,0]
[74,null,null,null,null,null,0,null,null,0,null,null,0,null,null,0,null,null,0,null,null,0,null,null,0,null,null,0,null,null,0,null,null,0,null,null,0,null,null,0,null,null,0,null,null,0,null,null,0,null,null,0,null,null,0,null,null,0,null,null,0,0,0,0,null,null,0,null,null,0,null,null,0,null,null,0,null,null,0,null,null,0,null,null,0,null,null,0,null,null,0,null,null,0,null,null,0,null,null,0,null,null,0,null,null,0,null,null,0,0,0,0,null,null,0,null,null,0,0,0,0,null,null,0,null,null,0,null,null,0,0,0,0,0,0,0]
[75,null,null,null,null,null,0,null,null,0,null,null,0,null,null,0,null,null,0,null,null,0,null,null,0,null,null,0,null,null,0,null,null,0,null,null,0,null,null,0,null,null,0,null,null,0,null,null,0,null,null,0,null,null,0,null,null,0,null,null,0,0,0,0,null,null,0,null,null,0,null,null,0,null,null,0,null,null,0,null,null,0,null,null,0,null,null,0,null,null,0,null,null,0,null,null,0,null,null,0,null,null,0,null,null,0,null,null,0,0,0,0,null,null,0,null,null,0,0,0,0,null,null,0,null,null,0,null,null,0,0,0,0,0,0,0]
[76,null,null,null,null,null,0,null,null,0,null,null,0,null,null,0,null,null,0,null,null,0,null,null,0,null,null,0,null,null,0,null,null,0,null,null,0,null,null,0,null,null,0,null,null,0,null,null,0,null,null,0,null,null,0,null,null,0,null,null,0,0,0,0,null,null,0,null,null,0,null,null,0,null,null,0,null,null,0,null,null,0,null,null,0,null,null,0,null,null,0,null,null,0,null,null,0,null,null,0,null,null,0,null,null,0,null,null,0,0,0,0,null,null,0,null,null,0,0,0,0,null,null,0,null,null,0,null,null,0,0,0,0,0,0,0]
[77,null,null,null,null,null,0,null,null,0,null,null,0,null,null,0,null,null,0,null,null,0,null,null,0,null,null,0,null,null,0,null,null,0,null,null,0,null,null,0,null,null,0,null,null,0,null,null,0,null,null,0,null,null,0,null,null,0,null,null,0,0,0,0,null,null,0,null,null,0,null,null,0,null,null,0,null,null,0,null,null,0,null,null,0,null,null,0,null,null,0,null,null,0,null,null,0,null,null,0,null,null,0,null,null,0,null,null,0,0,0,0,null,null,0,null,null,0,0,0,0,null,null,0,null,null,0,null,null,0,0,0,0,0,0,0]
[78,null,null,null,null,null,0,null,null,0,null,null,0,null,null,0,null,null,0,null,null,0,null,null,0,null,null,0,null,null,0,null,null,0,null,null,0,null,null,0,null,null,0,null,null,0,null,null,0,null,null,0,null,null,0,null,null,0,null,null,0,0,0,0,null,null,0,null,null,0,null,null,0,null,null,0,null,null,0,null,null,0,null,null,0,null,null,0,null,null,0,null,null,0,null,null,0,null,null,0,null,null,0,null,null,0,null,null,0,0,0,0,null,null,0,null,null,0,0,0,0,null,null,0,null,null,0,null,null,0,0,0,0,0,0,0]
[79,null,null,null,null,null,0,null,null,0,null,null,0,null,null,0,null,null,0,null,null,0,null,null,0,null,null,0,null,null,0,null,null,0,null,null,0,null,null,0,null,null,0,null,null,0,null,null,0,null,null,0,null,null,0,null,null,0,null,null,0,0,0,0,null,null,0,null,null,0,null,null,0,null,null,0,null,null,0,null,null,0,null,null,0,null,null,0,null,null,0,null,null,0,null,null,0,null,null,0,null,null,0,null,null,0,null,null,0,0,0,0,null,null,0,null,null,0,0,0,0,null,null,0,null,null,0,null,null,0,0,0,0,0,0,0]
[80,null,null,null,null,null,0,null,null,0,null,null,0,null,null,0,null,null,0,null,null,0,null,null,0,null,null,0,null,null,0,null,null,0,null,null,0,null,null,0,null,null,0,null,null,0,null,null,0,null,null,0,null,null,0,null,null,0,null,null,0,0,0,0,null,null,0,null,null,0,null,null,0,null,null,0,null,null,0,null,null,0,null,null,0,null,null,0,null,null,0,null,null,0,null,null,0,null,null,0,null,null,0,null,null,0,null,null,0,0,0,0,null,null,0,null,null,0,0,0,0,null,null,0,null,null,0,null,null,0,0,0,0,0,0,0]
[81,null,null,null,null,null,0,null,null,0,null,null,0,null,null,0,null,null,0,null,null,0,null,null,0,null,null,0,null,null,0,null,null,0,null,null,0,null,null,0,null,null,0,null,null,0,null,null,0,null,null,0,null,null,0,null,null,0,null,null,0,0,0,0,null,null,0,null,null,0,null,null,0,null,null,0,null,null,0,null,null,0,null,null,0,null,null,0,null,null,0,null,null,0,null,null,0,null,null,0,null,null,0,null,null,0,null,null,0,0,0,0,null,null,0,null,null,0,0,0,0,null,null,0,null,null,0,null,null,0,0,0,0,0,0,0]
[82,null,null,null,null,null,0,null,null,0,null,null,0,null,null,0,null,null,0,null,null,0,null,null,0,null,null,0,null,null,0,null,null,0,null,null,0,null,null,0,null,null,0,null,null,0,null,null,0,null,null,0,null,null,0,null,null,0,null,null,0,0,0,0,null,null,0,null,null,0,null,null,0,null,null,0,null,null,0,null,null,0,null,null,0,null,null,0,null,null,0,null,null,0,null,null,0,null,null,0,null,null,0,null,null,0,null,null,0,0,0,0,null,null,0,null,null,0,0,0,0,null,null,0,null,null,0,null,null,0,0,0,0,0,0,0]
[83,null,null,null,null,null,0,null,null,0,null,null,0,null,null,0,null,null,0,null,null,0,null,null,0,null,null,0,null,null,0,null,null,0,null,null,0,null,null,0,null,null,0,null,null,0,null,null,0,null,null,0,null,null,0,null,null,0,null,null,0,0,0,0,null,null,0,null,null,0,null,null,0,null,null,0,null,null,0,null,null,0,null,null,0,null,null,0,null,null,0,null,null,0,null,null,0,null,null,0,null,null,0,null,null,0,null,null,0,0,0,0,null,null,0,null,null,0,0,0,0,null,null,0,null,null,0,null,null,0,0,0,0,0,0,0]
[84,null,null,null,null,null,0,null,null,0,null,null,0,null,null,0,null,null,0,null,null,0,null,null,0,null,null,0,null,null,0,null,null,0,null,null,0,null,null,0,null,null,0,null,null,0,null,null,0,null,null,0,null,null,0,null,null,0,null,null,0,0,0,0,null,null,0,null,null,0,null,null,0,null,null,0,null,null,0,null,null,0,null,null,0,null,null,0,null,null,0,null,null,0,null,null,0,null,null,0,null,null,0,null,null,0,null,null,0,0,0,0,null,null,0,null,null,0,0,0,0,null,null,0,null,null,0,null,null,0,0,0,0,0,0,0]
[85,null,null,null,null,null,0,null,null,0,null,null,0,null,null,0,null,null,0,null,null,0,null,null,0,null,null,0,null,null,0,null,null,0,null,null,0,null,null,0,null,null,0,null,null,0,null,null,0,null,null,0,null,null,0,null,null,0,null,null,0,0,0,0,null,null,0,null,null,0,null,null,0,null,null,0,null,null,0,null,null,0,null,null,0,null,null,0,null,null,0,null,null,0,null,null,0,null,null,0,null,null,0,null,null,0,null,null,0,0,0,0,null,null,0,null,null,0,0,0,0,null,null,0,null,null,0,null,null,0,0,0,0,0,0,0]
[86,null,null,null,null,null,0,null,null,0,null,null,0,null,null,0,null,null,0,null,null,0,null,null,0,null,null,0,null,null,0,null,null,0,null,null,0,null,null,0,null,null,0,null,null,0,null,null,0,null,null,0,null,null,0,null,null,0,null,null,0,0,0,0,null,null,0,null,null,0,null,null,0,null,null,0,null,null,0,null,null,0,null,null,0,null,null,0,null,null,0,null,null,0,null,null,0,null,null,0,null,null,0,null,null,0,null,null,0,0,0,0,null,null,0,null,null,0,0,0,0,null,null,0,null,null,0,null,null,0,0,0,0,0,0,0]
[87,null,null,null,null,null,0,null,null,0,null,null,0,null,null,0,null,null,0,null,null,0,null,null,0,null,null,0,null,null,0,null,null,0,null,null,0,null,null,0,null,null,0,null,null,0,null,null,0,null,null,0,null,null,0,null,null,0,null,null,0,0,0,0,null,null,0,null,null,0,null,null,0,null,null,0,null,null,0,null,null,0,null,null,0,null,null,0,null,null,0,null,null,0,null,null,0,null,null,0,null,null,0,null,null,0,null,null,0,0,0,0,null,null,0,null,null,0,0,0,0,null,null,0,null,null,0,null,null,0,0,0,0,0,0,0]
[88,null,null,null,null,null,0,null,null,0,null,null,0,null,null,0,null,null,0,null,null,0,null,null,0,null,null,0,null,null,0,null,null,0,null,null,0,null,null,0,null,null,0,null,null,0,null,null,0,null,null,0,null,null,0,null,null,0,null,null,0,0,0,0,null,null,0,null,null,0,null,null,0,null,null,0,null,null,0,null,null,0,null,null,0,null,null,0,null,null,0,null,null,0,null,null,0,null,null,0,null,null,0,null,null,0,null,null,0,0,0,0,null,null,0,null,null,0,0,0,0,null,null,0,null,null,0,null,null,0,0,0,0,0,0,0]
[89,null,null,null,null,null,0,null,null,0,null,null,0,null,null,0,null,null,0,null,null,0,null,null,0,null,null,0,null,null,0,null,null,0,null,null,0,null,null,0,null,null,0,null,null,0,null,null,0,null,null,0,null,null,0,null,null,0,null,null,0,0,0,0,null,null,0,null,null,0,null,null,0,null,null,0,null,null,0,null,null,0,null,null,0,null,null,0,null,null,0,null,null,0,null,null,0,null,null,0,null,null,0,null,null,0,null,null,0,0,0,0,null,null,0,null,null,0,0,0,0,null,null,0,null,null,0,null,null,0,0,0,0,0,0,0]
[90,null,null,null,null,null,0,null,null,0,null,null,0,null,null,0,null,null,0,null,null,0,null,null,0,null,null,0,null,null,0,null,null,0,null,null,0,null,null,0,null,null,0,null,null,0,null,null,0,null,null,0,null,null,0,null,null,0,null,null,0,0,0,0,null,null,0,null,null,0,null,null,0,null,null,0,null,null,0,null,null,0,null,null,0,null,null,0,null,null,0,null,null,0,null,null,0,null,null,0,null,null,0,null,null,0,null,null,0,0,0,0,null,null,0,null,null,0,0,0,0,null,null,0,null,null,0,null,null,0,0,0,0,0,0,0]
[91,null,null,null,null,null,0,null,null,0,null,null,0,null,null,0,null,null,0,null,null,0,null,null,0,null,null,0,null,null,0,null,null,0,null,null,0,null,null,0,null,null,0,null,null,0,null,null,0,null,null,0,null,null,0,null,null,0,null,null,0,0,0,0,null,null,0,null,null,0,null,null,0,null,null,0,null,null,0,null,null,0,null,null,0,null,null,0,null,null,0,null,null,0,null,null,0,null,null,0,null,null,0,null,null,0,null,null,0,0,0,0,null,null,0,null,null,0,0,0,0,null,null,0,null,null,0,null,null,0,0,0,0,0,0,0]
[92,null,null,null,null,null,0,null,null,0,null,null,0,null,null,0,null,null,0,null,null,0,null,null,0,null,null,0,null,null,0,null,null,0,null,null,0,null,null,0,null,null,0,null,null,0,null,null,0,null,null,0,null,null,0,null,null,0,null,null,0,0,0,0,null,null,0,null,null,0,null,null,0,null,null,0,null,null,0,null,null,0,null,null,0,null,null,0,null,null,0,null,null,0,null,null,0,null,null,0,null,null,0,null,null,0,null,null,0,0,0,0,null,null,0,null,null,0,0,0,0,null,null,0,null,null,0,null,null,0,0,0,0,0,0,0]
[93,null,null,null,null,null,0,null,null,0,null,null,0,null,null,0,null,null,0,null,null,0,null,null,0,null,null,0,null,null,0,null,null,0,null,null,0,null,null,0,null,null,0,null,null,0,null,null,0,null,null,0,null,null,0,null,null,0,null,null,0,0,0,0,null,null,0,null,null,0,null,null,0,null,null,0,null,null,0,null,null,0,null,null,0,null,null,0,null,null,0,null,null,0,null,null,0,null,null,0,null,null,0,null,null,0,null,null,0,0,0,0,null,null,0,null,null,0,0,0,0,null,null,0,null,null,0,null,null,0,0,0,0,0,0,0]
[94,null,null,null,null,null,0,null,null,0,null,null,0,null,null,0,null,null,0,null,null,0,null,null,0,null,null,0,null,null,0,null,null,0,null,null,0,null,null,0,null,null,0,null,null,0,null,null,0,null,null,0,null,null,0,null,null,0,null,null,0,0,0,0,null,null,0,null,null,0,null,null,0,null,null,0,null,null,0,null,null,0,null,null,0,null,null,0,null,null,0,null,null,0,null,null,0,null,null,0,null,null,0,null,null,0,null,null,0,0,0,0,null,null,0,null,null,0,0,0,0,null,null,0,null,null,0,null,null,0,0,0,0,0,0,0]
[95,null,null,null,null,null,0,null,null,0,null,null,0,null,null,0,null,null,0,null,null,0,null,null,0,null,null,0,null,null,0,null,null,0,null,null,0,null,null,0,null,null,0,null,null,0,null,null,0,null,null,0,null,null,0,null,null,0,null,null,0,0,0,0,null,null,0,null,null,0,null,null,0,null,null,0,null,null,0,null,null,0,null,null,0,null,null,0,null,null,0,null,null,0,null,null,0,null,null,0,null,null,0,null,null,0,null,null,0,0,0,0,null,null,0,null,null,0,0,0,0,null,null,0,null,null,0,null,null,0,0,0,0,0,0,0]
[96,null,null,null,null,null,0,null,null,0,null,null,0,null,null,0,null,null,0,null,null,0,null,null,0,null,null,0,null,null,0,null,null,0,null,null,0,null,null,0,null,null,0,null,null,0,null,null,0,null,null,0,null,null,0,null,null,0,null,null,0,0,0,0,null,null,0,null,null,0,null,null,0,null,null,0,null,null,0,null,null,0,null,null,0,null,null,0,null,null,0,null,null,0,null,null,0,null,null,0,null,null,0,null,null,0,null,null,0,0,0,0,null,null,0,null,null,0,0,0,0,null,null,0,null,null,0,null,null,0,0,0,0,0,0,0]
[97,null,null,null,null,null,0,null,null,0,null,null,0,null,null,0,null,null,0,null,null,0,null,null,0,null,null,0,null,null,0,null,null,0,null,null,0,null,null,0,null,null,0,null,null,0,null,null,0,null,null,0,null,null,0,null,null,0,null,null,0,0,0,0,null,null,0,null,null,0,null,null,0,null,null,0,null,null,0,null,null,0,null,null,0,null,null,0,null,null,0,null,null,0,null,null,0,null,null,0,null,null,0,null,null,0,null,null,0,0,0,0,null,null,0,null,null,0,0,0,0,null,null,0,null,null,0,null,null,0,0,0,0,0,0,0]
[98,null,null,null,null,null,0,null,null,0,null,null,0,null,null,0,null,null,0,null,null,0,null,null,0,null,null,0,null,null,0,null,null,0,null,null,0,null,null,0,null,null,0,null,null,0,null,null,0,null,null,0,null,null,0,null,null,0,null,null,0,0,0,0,null,null,0,null,null,0,null,null,0,null,null,0,null,null,0,null,null,0,null,null,0,null,null,0,null,null,0,null,null,0,null,null,0,null,null,0,null,null,0,null,null,0,null,null,0,0,0,0,null,null,0,null,null,0,0,0,0,null,null,0,null,null,0,null,null,0,0,0,0,0,0,0]
[99,null,null,null,null,null,0,null,null,0,null,null,0,null,null,0,null,null,0,null,null,0,null,null,0,null,null,0,null,null,0,null,null,0,null,null,0,null,null,0,null,null,0,null,null,0,null,null,0,null,null,0,null,null,0,null,null,0,null,null,0,0,0,0,null,null,0,null,null,0,null,null,0,null,null,0,null,null,0,null,null,0,null,null,0,null,null,0,null,null,0,null,null,0,null,null,0,null,null,0,null,null,0,null,null,0,null,null,0,0,0,0,null,null,0,null,null,0,0,0,0,null,null,0,null,null,0,null,null,0,0,0,0,0,0,0]
[100,null,null,null,null,null,0,null,null,0,null,null,0,null,null,0,null,null,0,null,null,0,null,null,0,null,null,0,null,null,0,null,null,0,null,null,0,null,null,0,null,null,0,null,null,0,null,null,0,null,null,0,null,null,0,null,null,0,null,null,0,0,0,0,null,null,0,null,null,0,null,null,0,null,null,0,null,null,0,null,null,0,null,null,0,null,null,0,null,null,0,null,null,0,null,null,0,null,null,0,null,null,0,null,null,0,null,null,0,0,0,0,null,null,0,null,null,0,0,0,0,null,null,0,null,null,0,null,null,0,0,0,0,0,0,0]

{"sheet":"H_DoE_Subacc","index":4,"n_rows":115,"n_cols":137,"rows_kept":115,"cut":false,"hidden":false,"merged":[[5,0,5,6],[14,0,14,1],[11,109,11,111],[11,112,11,114],[11,46,11,48],[11,16,11,18],[11,19,11,21],[11,22,11,24],[11,49,11,51],[11,52,11,54],[8,0,8,31],[10,2,12,2],[10,0,13,0],[10,1,13,1],[10,3,12,3],[11,61,11,63],[11,64,11,66],[11,67,11,69],[11,70,11,72],[11,73,11,75],[11,124,11,126],[11,130,11,132],[11,121,11,123],[11,115,11,117],[11,118,11,120],[11,43,11,45],[11,10,11,12],[11,13,11,15],[10,133,11,135],[10,136,13,136],[11,76,11,78],[11,79,11,81],[11,82,11,84],[11,85,11,87],[11,88,11,90],[11,91,11,93],[11,94,11,96],[11,97,11,99],[11,100,11,102],[11,103,11,105],[11,106,11,108],[6,0,6,6],[10,64,10,111],[10,112,10,120],[11,127,11,129],[11,37,11,39],[11,34,11,36],[10,121,10,132],[11,55,11,57],[11,58,11,60],[10,4,10,63],[11,4,11,6],[11,7,11,9],[11,25,11,27],[11,28,11,30],[11,31,11,33],[11,40,11,42]]}
[]
[]
[]
[]
[]
[{"$f":"Create!$G$2","v":"ក្រសួងអប់រំ យុវជន និងកីឡា"}]
[{"$f":"Create!$G$3","v":"បំពេញឈ្មោះទីនេះ"},null,null,null,null,null,null,null,null,null,null,null,null,null,null,null,null,null,null,null,null,null,null,null,null,null,null,null,null,null,null,"តារាងលេខ ២"]
[]
[{"$f":"CONCATENATE(\"របាយការណ៍ទូទាត់ចំណាយថវិការបស់វិទ្យាល័យសម្រាប់ថវិកាដំណើរការសាលារៀនប្រចាំត្រីមាសទី\",IF(Create!$G$4=1,\"១\",IF(Create!$G$4=2,\"២\",IF(Create!$G$4=3,\"៣\",\"៤\"))),\" ឆ្នាំ២០១៨\")","v":"របាយការណ៍ទូទាត់ចំណាយថវិការបស់វិទ្យាល័យសម្រាប់ថវិកាដំណើរការសាលារៀនប្រចាំត្រីមាសទី១ ឆ្នាំ២០១៨"}]
[null,null,null,null,null,null,null,null,null,null,null,null,null,null,null,null,null,null,null,null,null,null,null,null,null,null,null,null,null,null,null,null,null,null,null,null,null,null,null,null,null,null,null,null,null,null,null,null,null,null,null,null,null,null,null,null,null,null,null,null,null,null,null,null,null,null,null,null,null,null,null,null,null,null,null,null,null,null,null,null,null,null,null,null,null,null,null,null,null,null,null,null,null,null,null,null,null,null,null,null,null,null,null,null,null,null,null,null,null,null,null,null,null,null,null,null,null,null,null,null,null,null,null,null,null,null,null,null,null,null,null,null,null,null,null,null,"ឯកតាៈ រៀល"]
["ល.រ","ឈ្មោះការិយាល័យអប់រំ យុវជន និងកីឡា\nក្រុង ឬ ស្រុក ឬ ខ័ណ្ឌ","ឥណទាន\nដើមឆ្នាំ","ឥណទាន\nកែតម្រូវ","ជំពូក ៦០",null,null,null,null,null,null,null,null,null,null,null,null,null,null,null,null,null,null,null,null,null,null,null,null,null,null,null,null,null,null,null,null,null,null,null,null,null,null,null,null,null,null,null,null,null,null,null,null,null,null,null,null,null,null,null,null,null,null,null,"ជំពូក ៦១",null,null,null,null,null,null,null,null,null,null,null,null,null,null,null,null,null,null,null,null,null,null,null,null,null,null,null,null,null,null,null,null,null,null,null,null,null,null,null,null,null,null,null,null,null,null,null,"ជំពូក ៦៤",null,null,null,null,null,null,null,null,"ជំពូក ៦២",null,null,null,null,null,null,null,null,null,null,null,"ចំណាយសរុប",null,null,"ផ្សេងៗ"]
[null,null,null,null,60011,null,null,60012,null,null,60013,null,null,60014,null,null,60021,null,null,60022,null,null,60023,null,null,60031,null,null,60032,null,null,60033,null,null,60035,null,null,60041,null,null,60051,null,null,60052,null,null,60053,null,null,60055,null,null,60061,null,null,60062,null,null,60068,null,null,"សរុប",null,null,61011,null,null,61012,null,null,61021,null,null,61051,null,null,61052,null,null,61053,null,null,61054,null,null,61057,null,null,61071,null,null,61081,null,null,61101,null,null,61102,null,null,61103,null,null,61141,null,null,61142,null,null,"សរុប",null,null,64023,null,null,64033,null,null,"សរុប",null,null,62024,null,null,62025,null,null,62028,null,null,"សរុប"]
[null,null,null,null,"បណ្ដាត្រី.មុន","ក្នុងត្រី.","បូកយោង","បណ្ដាត្រី.មុន","ក្នុងត្រី.","បូកយោង","បណ្ដាត្រី.មុន","ក្នុងត្រី.","បូកយោង","បណ្ដាត្រី.មុន","ក្នុងត្រី.","បូកយោង","បណ្ដាត្រី.មុន","ក្នុងត្រី.","បូកយោង","បណ្ដាត្រី.មុន","ក្នុងត្រី.","បូកយោង","បណ្ដាត្រី.មុន","ក្នុងត្រី.","បូកយោង","បណ្ដាត្រី.មុន","ក្នុងត្រី.","បូកយោង","បណ្ដាត្រី.មុន","ក្នុងត្រី.","បូកយោង","បណ្ដាត្រី.មុន","ក្នុងត្រី.","បូកយោង","បណ្ដាត្រី.មុន","ក្នុងត្រី.","បូកយោង","បណ្ដាត្រី.មុន","ក្នុងត្រី.","បូកយោង","បណ្ដាត្រី.មុន","ក្នុងត្រី.","បូកយោង","បណ្ដាត្រី.មុន","ក្នុងត្រី.","បូកយោង","បណ្ដាត្រី.មុន","ក្នុងត្រី.","បូកយោង","បណ្ដាត្រី.មុន","ក្នុងត្រី.","បូកយោង","បណ្ដាត្រី.មុន","ក្នុងត្រី.","បូកយោង","បណ្ដាត្រី.មុន","ក្នុងត្រី.","បូកយោង","បណ្ដាត្រី.មុន","ក្នុងត្រី.","បូកយោង","បណ្ដាត្រី.មុន","ក្នុងត្រី.","បូកយោង","បណ្ដាត្រី.មុន","ក្នុងត្រី.","បូកយោង","បណ្ដាត្រី.មុន","ក្នុងត្រី.","បូកយោង","បណ្ដាត្រី.មុន","ក្នុងត្រី.","បូកយោង","បណ្ដាត្រី.មុន","ក្នុងត្រី.","បូកយោង","បណ្ដាត្រី.មុន","ក្នុងត្រី.","បូកយោង","បណ្ដាត្រី.មុន","ក្នុងត្រី.","បូកយោង","បណ្ដាត្រី.មុន","ក្នុងត្រី.","បូកយោង","បណ្ដាត្រី.មុន","ក្នុងត្រី.","បូកយោង","បណ្ដាត្រី.មុន","ក្នុងត្រី.","បូកយោង","បណ្ដាត្រី.មុន","ក្នុងត្រី.","បូកយោង","បណ្ដាត្រី.មុន","ក្នុងត្រី.","បូកយោង","បណ្ដាត្រី.មុន","ក្នុងត្រី.","បូកយោង","បណ្ដាត្រី.មុន","ក្នុងត្រី.","បូកយោង","បណ្ដាត្រី.មុន","ក្នុងត្រី.","បូកយោង","បណ្ដាត្រី.មុន","ក្នុងត្រី.","បូកយោង","បណ្ដាត្រី.មុន","ក្នុងត្រី.","បូកយោង","បណ្ដាត្រី.មុន","ក្នុងត្រី.","បូកយោង","បណ្ដាត្រី.មុន","ក្នុងត្រី.","បូកយោង","បណ្ដាត្រី.មុន","ក្នុងត្រី.","បូកយោង","បណ្ដាត្រី.មុន","ក្នុងត្រី.","បូកយោង","បណ្ដាត្រី.មុន","ក្នុងត្រី.","បូកយោង","បណ្ដាត្រី.មុន","ក្នុងត្រី.","បូកយោង","បណ្ដាត្រី.មុន","ក្នុងត្រី.","បូកយោង","បណ្ដាត្រី.មុន","ក្នុងត្រី.","បូកយោង"]
[null,null,1,2,3,4,"5=3+4",6,7,"8=6+7",9,10,"11=9+10",12,13,"14=12+13",15,16,"17=15+16",18,19,"20=18+19",21,22,"23=21+22",24,25,"26=24+25",27,28,"29=27+28",30,31,"32=30+31",33,34,"35=33+34",36,37,"38=36+37",39,40,"41=39+40",42,43,"44=42+43",45,46,"47=45+46",48,49,"50=48+49",51,52,"53=51+52",54,55,"56=54+55",57,58,"59=57+58","60=3+6+9+…+57","61=4+7+10+…+58","62=60+61",63,64,"65=63+64",66,67,"68=66+67",69,70,"71=69+70",72,73,"74=72+73",75,76,"77=75+76",78,79,"80=78+79",81,82,"83=81+82",84,85,"86=84+85",87,88,"89=87+88",90,91,"92=90+91",93,94,"95=93+94",96,97,"98=96+97",99,100,"101=99+100",102,103,"104=102+103",105,106,"107=105+106","108=63+66+…+105","109=64+67+…+106","110=108+109",111,112,"113=111+112",114,115,"116=114+115","117=111+114","118=112+115","119=117+118",120,121,"122=120+121",123,124,125,126,127,"128=126+127",129,130,"131=129+130","132=60+108+117+129","133=61+109+118+130","134=132+133"]
["សរុប",null,{"$f":"SUM(C16:C115)","v":0},{"$f":"SUM(D16:D115)","v":0},0,0,{"$f":"SUM(E15:F15)","v":0},0,0,{"$f":"SUM(H15:I15)","v":0},0,0,{"$f":"SUM(K15:L15)","v":0},0,0,{"$f":"SUM(N15:O15)","v":0},0,0,{"$f":"SUM(Q15:R15)","v":0},0,0,{"$f":"SUM(T15:U15)","v":0},0,0,{"$f":"SUM(W15:X15)","v":0},0,0,{"$f":"SUM(Z15:AA15)","v":0},0,0,{"$f":"SUM(AC15:AD15)","v":0},0,0,{"$f":"SUM(AF15:AG15)","v":0},0,0,{"$f":"SUM(AI15:AJ15)","v":0},0,0,{"$f":"SUM(AL15:AM15)","v":0},0,0,{"$f":"SUM(AO15:AP15)","v":0},0,0,{"$f":"SUM(AR15:AS15)","v":0},0,0,{"$f":"SUM(AU15:AV15)","v":0},0,0,{"$f":"SUM(AX15:AY15)","v":0},0,0,{"$f":"SUM(BA15:BB15)","v":0},0,0,{"$f":"SUM(BD15:BE15)","v":0},0,0,{"$f":"SUM(BG15:BH15)","v":0},{"$f":"SUM(E15,H15,K15,N15,Q15,T15,W15,Z15,AC15,AF15,AI15,AL15,AO15,AR15,AU15,AX15,BA15,BD15,BG15)","v":0},{"$f":"SUM(F15,I15,L15,O15,R15,U15,X15,AA15,AD15,AG15,AJ15,AM15,AP15,AS15,AV15,AY15,BB15,BE15,BH15)","v":0},{"$f":"SUM(BJ15:BK15)","v":0},0,0,{"$f":"SUM(BM15:BN15)","v":0},{"$f":"SUM(BP16:BP115)","v":0},0,{"$f":"SUM(BP15:BQ15)","v":0},0,0,{"$f":"SUM(BS15:BT15)","v":0},0,0,{"$f":"SUM(BV15:BW15)","v":0},0,0,{"$f":"SUM(BY15:BZ15)","v":0},0,0,{"$f":"SUM(CB15:CC15)","v":0},0,0,{"$f":"SUM(CE15:CF15)","v":0},0,0,{"$f":"SUM(CH15:CI15)","v":0},0,0,{"$f":"SUM(CK15:CL15)","v":0},0,0,{"$f":"SUM(CN15:CO15)","v":0},0,0,{"$f":"SUM(CQ15:CR15)","v":0},0,0,{"$f":"SUM(CT15:CU15)","v":0},0,0,{"$f":"SUM(CW15:CX15)","v":0},0,0,{"$f":"SUM(CZ15:DA15)","v":0},0,0,{"$f":"SUM(DC15:DD15)","v":0},{"$f":"SUM(BM15,BP15,BS15,BV15,BY15,CB15,CE15,CH15,CK15,CN15,CQ15,CT15,CW15,CZ15,DC15)","v":0},{"$f":"SUM(BN15,BQ15,BT15,BW15,BZ15,CC15,CF15,CI15,CL15,CO15,CR15,CU15,CX15,DA15,DD15)","v":0},{"$f":"SUM(DF15:DG15)","v":0},0,0,{"$f":"SUM(DI15:DJ15)","v":0},0,0,{"$f":"SUM(DL15:DM15)","v":0},{"$f":"SUM(DI15,DL15)","v":0},{"$f":"SUM(DJ15,DM15)","v":0},{"$f":"SUM(DO15:DP15)","v":0},0,0,{"$f":"SUM(DR15:DS15)","v":0},0,0,{"$f":"SUM(DU15:DV15)","v":0},0,0,{"$f":"SUM(DX15:DY15)","v":0},{"$f":"SUM(DR15,DU15,DX15)","v":0},{"$f":"SUM(DS15,DV15,DY15)","v":0},{"$f":"SUM(EA15:EB15)","v":0},{"$f":"SUM(BJ15,DF15,DO15,EA15)","v":0},{"$f":"SUM(BK15,DG15,DP15,EB15)","v":0},{"$f":"SUM(ED15:EE15)","v":0}]
[1,{"$f":"[1]H_Sch_Subacc!A7","v":"ការិយាល័យអប់រំ យុវជន និងកីឡាក្រុងប៉ៃលិន"},{"$f":"[1]H_Sch_Subacc!C15","v":0},{"$f":"[1]H_Sch_Subacc!D15","v":0},{"$f":"[1]H_Sch_Subacc!E15","v":0},{"$f":"[1]H_Sch_Subacc!F15","v":0},{"$f":"SUM(E16:F16)","v":0},{"$f":"[1]H_Sch_Subacc!H15","v":0},{"$f":"[1]H_Sch_Subacc!I15","v":0},{"$f":"SUM(H16:I16)","v":0},{"$f":"[1]H_Sch_Subacc!K15","v":0},{"$f":"[1]H_Sch_Subacc!L15","v":0},{"$f":"SUM(K16:L16)","v":0},{"$f":"[1]H_Sch_Subacc!N15","v":0},{"$f":"[1]H_Sch_Subacc!O15","v":0},{"$f":"SUM(N16:O16)","v":0},{"$f":"[1]H_Sch_Subacc!Q15","v":0},{"$f":"[1]H_Sch_Subacc!R15","v":0},{"$f":"SUM(Q16:R16)","v":0},{"$f":"[1]H_Sch_Subacc!T15","v":0},{"$f":"[1]H_Sch_Subacc!U15","v":0},{"$f":"SUM(T16:U16)","v":0},{"$f":"[1]H_Sch_Subacc!W15","v":0},{"$f":"[1]H_Sch_Subacc!X15","v":0},{"$f":"SUM(W16:X16)","v":0},{"$f":"[1]H_Sch_Subacc!Z15","v":0},{"$f":"[1]H_Sch_Subacc!AA15","v":0},{"$f":"SUM(Z16:AA16)","v":0},{"$f":"[1]H_Sch_Subacc!AC15","v":0},{"$f":"[1]H_Sch_Subacc!AD15","v":0},{"$f":"SUM(AC16:AD16)","v":0},{"$f":"[1]H_Sch_Subacc!AF15","v":0},{"$f":"[1]H_Sch_Subacc!AG15","v":0},{"$f":"SUM(AF16:AG16)","v":0},{"$f":"[1]H_Sch_Subacc!AI15","v":0},{"$f":"[1]H_Sch_Subacc!AJ15","v":0},{"$f":"SUM(AI16:AJ16)","v":0},{"$f":"[1]H_Sch_Subacc!AL15","v":0},{"$f":"[1]H_Sch_Subacc!AM15","v":0},{"$f":"SUM(AL16:AM16)","v":0},{"$f":"[1]H_Sch_Subacc!AO15","v":0},{"$f":"[1]H_Sch_Subacc!AP15","v":0},{"$f":"SUM(AO16:AP16)","v":0},{"$f":"[1]H_Sch_Subacc!AR15","v":0},{"$f":"[1]H_Sch_Subacc!AS15","v":0},{"$f":"SUM(AR16:AS16)","v":0},{"$f":"[1]H_Sch_Subacc!AU15","v":0},{"$f":"[1]H_Sch_Subacc!AV15","v":0},{"$f":"SUM(AU16:AV16)","v":0},{"$f":"[1]H_Sch_Subacc!AX15","v":0},{"$f":"[1]H_Sch_Subacc!AY15","v":0},{"$f":"SUM(AX16:AY16)","v":0},{"$f":"[1]H_Sch_Subacc!BA15","v":0},{"$f":"[1]H_Sch_Subacc!BB15","v":0},{"$f":"SUM(BA16:BB16)","v":0},{"$f":"[1]H_Sch_Subacc!BD15","v":0},{"$f":"[1]H_Sch_Subacc!BE15","v":0},{"$f":"SUM(BD16:BE16)","v":0},{"$f":"[1]H_Sch_Subacc!BG15","v":0},{"$f":"[1]H_Sch_Subacc!BH15","v":0},{"$f":"SUM(BG16:BH16)","v":0},{"$f":"SUM(E16,H16,K16,N16,Q16,T16,W16,Z16,AC16,AF16,AI16,AL16,AO16,AR16,AU16,AX16,BA16,BD16,BG16)","v":0},0,{"$f":"SUM(BJ16:BK16)","v":0},{"$f":"[1]H_Sch_Subacc!BM15","v":0},{"$f":"[1]H_Sch_Subacc!BN15","v":0},{"$f":"SUM(BM16:BN16)","v":0},{"$f":"[1]H_Sch_Subacc!BP15","v":0},{"$f":"[1]H_Sch_Subacc!BQ15","v":0},{"$f":"SUM(BP16:BQ16)","v":0},{"$f":"[1]H_Sch_Subacc!BS15","v":0},{"$f":"[1]H_Sch_Subacc!BT15","v":0},{"$f":"SUM(BS16:BT16)","v":0},{"$f":"[1]H_Sch_Subacc!BV15","v":0},{"$f":"[1]H_Sch_Subacc!BW15","v":0},{"$f":"SUM(BV16:BW16)","v":0},{"$f":"[1]H_Sch_Subacc!BY15","v":0},{"$f":"[1]H_Sch_Subacc!BZ15","v":0},{"$f":"SUM(BY16:BZ16)","v":0},{"$f":"[1]H_Sch_Subacc!CB15","v":0},{"$f":"[1]H_Sch_Subacc!CC15","v":0},{"$f":"SUM(CB16:CC16)","v":0},{"$f":"[1]H_Sch_Subacc!CE15","v":0},{"$f":"[1]H_Sch_Subacc!CF15","v":0},{"$f":"SUM(CE16:CF16)","v":0},{"$f":"[1]H_Sch_Subacc!CH15","v":0},{"$f":"[1]H_Sch_Subacc!CI15","v":0},{"$f":"SUM(CH16:CI16)","v":0},{"$f":"[1]H_Sch_Subacc!CK15","v":0},{"$f":"[1]H_Sch_Subacc!CL15","v":0},{"$f":"SUM(CK16:CL16)","v":0},{"$f":"[1]H_Sch_Subacc!CN15","v":0},{"$f":"[1]H_Sch_Subacc!CO15","v":0},{"$f":"SUM(CN16:CO16)","v":0},{"$f":"[1]H_Sch_Subacc!CQ15","v":0},{"$f":"[1]H_Sch_Subacc!CR15","v":0},{"$f":"SUM(CQ16:CR16)","v":0},{"$f":"[1]H_Sch_Subacc!CT15","v":0},{"$f":"[1]H_Sch_Subacc!CU15","v":0},{"$f":"SUM(CT16:CU16)","v":0},{"$f":"[1]H_Sch_Subacc!CW15","v":0},{"$f":"[1]H_Sch_Subacc!CX15","v":0},{"$f":"SUM(CW16:CX16)","v":0},{"$f":"[1]H_Sch_Subacc!CZ15","v":0},{"$f":"[1]H_Sch_Subacc!DA15","v":0},{"$f":"SUM(CZ16:DA16)","v":0},{"$f":"[1]H_Sch_Subacc!DC15","v":0},{"$f":"[1]H_Sch_Subacc!DD15","v":0},{"$f":"SUM(DC16:DD16)","v":0},{"$f":"SUM(BM16,BP16,BS16,BV16,BY16,CB16,CE16,CH16,CK16,CN16,CQ16,CT16,CW16,CZ16,DC16)","v":0},0,{"$f":"SUM(DF16:DG16)","v":0},{"$f":"[1]H_Sch_Subacc!DI15","v":0},{"$f":"[1]H_Sch_Subacc!DJ15","v":0},{"$f":"SUM(DI16:DJ16)","v":0},{"$f":"[1]H_Sch_Subacc!DL15","v":0},{"$f":"[1]H_Sch_Subacc!DM15","v":0},{"$f":"SUM(DL16:DM16)","v":0},{"$f":"SUM(DI16,DL16)","v":0},0,{"$f":"SUM(DO16:DP16)","v":0},{"$f":"[1]H_Sch_Subacc!DR15","v":0},{"$f":"[1]H_Sch_Subacc!DS15","v":0},{"$f":"SUM(DR16:DS16)","v":0},{"$f":"[1]H_Sch_Subacc!DU15","v":0},{"$f":"[1]H_Sch_Subacc!DV15","v":0},{"$f":"SUM(DU16:DV16)","v":0},{"$f":"[1]H_Sch_Subacc!DX15","v":0},{"$f":"[1]H_Sch_Subacc!DY15","v":0},{"$f":"SUM(DX16:DY16)","v":0},{"$f":"SUM(DR16,DU16,DX16)","v":0},0,{"$f":"SUM(EA16:EB16)","v":0},{"$f":"SUM(BJ16,DF16,DO16,EA16)","v":0},0,{"$f":"SUM(ED16:EE16)","v":0}]
[2,null,null,null,null,null,{"$f":"SUM(E17:F17)","v":0},null,null,0,null,null,0,null,null,0,null,null,0,null,null,0,null,null,0,null,null,0,null,null,0,null,null,0,null,null,0,null,null,0,null,null,0,null,null,0,null,null,0,null,null,0,null,null,0,null,null,0,null,null,0,0,0,0,null,null,0,null,null,0,null,null,0,null,null,0,null,null,0,null,null,0,null,null,0,null,null,0,null,null,0,null,null,0,null,null,0,null,null,0,null,null,0,null,null,0,null,null,0,0,0,0,null,null,0,null,null,0,0,0,0,null,null,0,null,null,0,null,null,0,0,0,0,0,0,0]
[3,null,null,null,null,null,0,null,null,0,null,null,0,null,null,0,null,null,0,null,null,0,null,null,0,null,null,0,null,null,0,null,null,0,null,null,0,null,null,0,null,null,0,null,null,0,null,null,0,null,null,0,null,null,0,null,null,0,null,null,0,0,0,0,null,null,0,null,null,0,null,null,0,null,null,0,null,null,0,null,null,0,null,null,0,null,null,0,null,null,0,null,null,0,null,null,0,null,null,0,null,null,0,null,null,0,null,null,0,0,0,0,null,null,0,null,null,0,0,0,0,null,null,0,null,null,0,null,null,0,0,0,0,0,0,0]
[4,null,null,null,null,null,0,null,null,0,null,null,0,null,null,0,null,null,0,null,null,0,null,null,0,null,null,0,null,null,0,null,null,0,null,null,0,null,null,0,null,null,0,null,null,0,null,null,0,null,null,0,null,null,0,null,null,0,null,null,0,0,0,0,null,null,0,null,null,0,null,null,0,null,null,0,null,null,0,null,null,0,null,null,0,null,null,0,null,null,0,null,null,0,null,null,0,null,null,0,null,null,0,null,null,0,null,null,0,0,0,0,null,null,0,null,null,0,0,0,0,null,null,0,null,null,0,null,null,0,0,0,0,0,0,0]
[5,null,null,null,null,null,0,null,null,0,null,null,0,null,null,0,null,null,0,null,null,0,null,null,0,null,null,0,null,null,0,null,null,0,null,null,0,null,null,0,null,null,0,null,null,0,null,null,0,null,null,0,null,null,0,null,null,0,null,null,0,0,0,0,null,null,0,null,null,0,null,null,0,null,null,0,null,null,0,null,null,0,null,null,0,null,null,0,null,null,0,null,null,0,null,null,0,null,null,0,null,null,0,null,null,0,null,null,0,0,0,0,null,null,0,null,null,0,0,0,0,null,null,0,null,null,0,null,null,0,0,0,0,0,0,0]
[6,null,null,null,null,null,0,null,null,0,null,null,0,null,null,0,null,null,0,null,null,0,null,null,0,null,null,0,null,null,0,null,null,0,null,null,0,null,null,0,null,null,0,null,null,0,null,null,0,null,null,0,null,null,0,null,null,0,null,null,0,0,0,0,null,null,0,null,null,0,null,null,0,null,null,0,null,null,0,null,null,0,null,null,0,null,null,0,null,null,0,null,null,0,null,null,0,null,null,0,null,null,0,null,null,0,null,null,0,0,0,0,null,null,0,null,null,0,0,0,0,null,null,0,null,null,0,null,null,0,0,0,0,0,0,0]
[7,null,null,null,null,null,0,null,null,0,null,null,0,null,null,0,null,null,0,null,null,0,null,null,0,null,null,0,null,null,0,null,null,0,null,null,0,null,null,0,null,null,0,null,null,0,null,null,0,null,null,0,null,null,0,null,null,0,null,null,0,0,0,0,null,null,0,null,null,0,null,null,0,null,null,0,null,null,0,null,null,0,null,null,0,null,null,0,null,null,0,null,null,0,null,null,0,null,null,0,null,null,0,null,null,0,null,null,0,0,0,0,null,null,0,null,null,0,0,0,0,null,null,0,null,null,0,null,null,0,0,0,0,0,0,0]
[8,null,null,null,null,null,0,null,null,0,null,null,0,null,null,0,null,null,0,null,null,0,null,null,0,null,null,0,null,null,0,null,null,0,null,null,0,null,null,0,null,null,0,null,null,0,null,null,0,null,null,0,null,null,0,null,null,0,null,null,0,0,0,0,null,null,0,null,null,0,null,null,0,null,null,0,null,null,0,null,null,0,null,null,0,null,null,0,null,null,0,null,null,0,null,null,0,null,null,0,null,null,0,null,null,0,null,null,0,0,0,0,null,null,0,null,null,0,0,0,0,null,null,0,null,null,0,null,null,0,0,0,0,0,0,0]
[9,null,null,null,null,null,0,null,null,0,null,null,0,null,null,0,null,null,0,null,null,0,null,null,0,null,null,0,null,null,0,null,null,0,null,null,0,null,null,0,null,null,0,null,null,0,null,null,0,null,null,0,null,null,0,null,null,0,null,null,0,0,0,0,null,null,0,null,null,0,null,null,0,null,null,0,null,null,0,null,null,0,null,null,0,null,null,0,null,null,0,null,null,0,null,null,0,null,null,0,null,null,0,null,null,0,null,null,0,0,0,0,null,null,0,null,null,0,0,0,0,null,null,0,null,null,0,null,null,0,0,0,0,0,0,0]
[10,null,null,null,null,null,0,null,null,0,null,null,0,null,null,0,null,null,0,null,null,0,null,null,0,null,null,0,null,null,0,null,null,0,null,null,0,null,null,0,null,null,0,null,null,0,null,null,0,null,null,0,null,null,0,null,null,0,null,null,0,0,0,0,null,null,0,null,null,0,null,null,0,null,null,0,null,null,0,null,null,0,null,null,0,null,null,0,null,null,0,null,null,0,null,null,0,null,null,0,null,null,0,null,null,0,null,null,0,0,0,0,null,null,0,null,null,0,0,0,0,null,null,0,null,null,0,null,null,0,0,0,0,0,0,0]
[11,null,null,null,null,null,0,null,null,0,null,null,0,null,null,0,null,null,0,null,null,0,null,null,0,null,null,0,null,null,0,null,null,0,null,null,0,null,null,0,null,null,0,null,null,0,null,null,0,null,null,0,null,null,0,null,null,0,null,null,0,0,0,0,null,null,0,null,null,0,null,null,0,null,null,0,null,null,0,null,null,0,null,null,0,null,null,0,null,null,0,null,null,0,null,null,0,null,null,0,null,null,0,null,null,0,null,null,0,0,0,0,null,null,0,null,null,0,0,0,0,null,null,0,null,null,0,null,null,0,0,0,0,0,0,0]
[12,null,null,null,null,null,0,null,null,0,null,null,0,null,null,0,null,null,0,null,null,0,null,null,0,null,null,0,null,null,0,null,null,0,null,null,0,null,null,0,null,null,0,null,null,0,null,null,0,null,null,0,null,null,0,null,null,0,null,null,0,0,0,0,null,null,0,null,null,0,null,null,0,null,null,0,null,null,0,null,null,0,null,null,0,null,null,0,null,null,0,null,null,0,null,null,0,null,null,0,null,null,0,null,null,0,null,null,0,0,0,0,null,null,0,null,null,0,0,0,0,null,null,0,null,null,0,null,null,0,0,0,0,0,0,0]
[13,null,null,null,null,null,0,null,null,0,null,null,0,null,null,0,null,null,0,null,null,0,null,null,0,null,null,0,null,null,0,null,null,0,null,null,0,null,null,0,null,null,0,null,null,0,null,null,0,null,null,0,null,null,0,null,null,0,null,null,0,0,0,0,null,null,0,null,null,0,null,null,0,null,null,0,null,null,0,null,null,0,null,null,0,null,null,0,null,null,0,null,null,0,null,null,0,null,null,0,null,null,0,null,null,0,null,null,0,0,0,0,null,null,0,null,null,0,0,0,0,null,null,0,null,null,0,null,null,0,0,0,0,0,0,0]
[14,null,null,null,null,null,0,null,null,0,null,null,0,null,null,0,null,null,0,null,null,0,null,null,0,null,null,0,null,null,0,null,null,0,null,null,0,null,null,0,null,null,0,null,null,0,null,null,0,null,null,0,null,null,0,null,null,0,null,null,0,0,0,0,null,null,0,null,null,0,null,null,0,null,null,0,null,null,0,null,null,0,null,null,0,null,null,0,null,null,0,null,null,0,null,null,0,null,null,0,null,null,0,null,null,0,null,null,0,0,0,0,null,null,0,null,null,0,0,0,0,null,null,0,null,null,0,null,null,0,0,0,0,0,0,0]
[15,null,null,null,null,null,0,null,null,0,null,null,0,null,null,0,null,null,0,null,null,0,null,null,0,null,null,0,null,null,0,null,null,0,null,null,0,null,null,0,null,null,0,null,null,0,null,null,0,null,null,0,null,null,0,null,null,0,null,null,0,0,0,0,null,null,0,null,null,0,null,null,0,null,null,0,null,null,0,null,null,0,null,null,0,null,null,0,null,null,0,null,null,0,null,null,0,null,null,0,null,null,0,null,null,0,null,null,0,0,0,0,null,null,0,null,null,0,0,0,0,null,null,0,null,null,0,null,null,0,0,0,0,0,0,0]
[16,null,null,null,null,null,0,null,null,0,null,null,0,null,null,0,null,null,0,null,null,0,null,null,0,null,null,0,null,null,0,null,null,0,null,null,0,null,null,0,null,null,0,null,null,0,null,null,0,null,null,0,null,null,0,null,null,0,null,null,0,0,0,0,null,null,0,null,null,0,null,null,0,null,null,0,null,null,0,null,null,0,null,null,0,null,null,0,null,null,0,null,null,0,null,null,0,null,null,0,null,null,0,null,null,0,null,null,0,0,0,0,null,null,0,null,null,0,0,0,0,null,null,0,null,null,0,null,null,0,0,0,0,0,0,0]
[17,null,null,null,null,null,0,null,null,0,null,null,0,null,null,0,null,null,0,null,null,0,null,null,0,null,null,0,null,null,0,null,null,0,null,null,0,null,null,0,null,null,0,null,null,0,null,null,0,null,null,0,null,null,0,null,null,0,null,null,0,0,0,0,null,null,0,null,null,0,null,null,0,null,null,0,null,null,0,null,null,0,null,null,0,null,null,0,null,null,0,null,null,0,null,null,0,null,null,0,null,null,0,null,null,0,null,null,0,0,0,0,null,null,0,null,null,0,0,0,0,null,null,0,null,null,0,null,null,0,0,0,0,0,0,0]
[18,null,null,null,null,null,0,null,null,0,null,null,0,null,null,0,null,null,0,null,null,0,null,null,0,null,null,0,null,null,0,null,null,0,null,null,0,null,null,0,null,null,0,null,null,0,null,null,0,null,null,0,null,null,0,null,null,0,null,null,0,0,0,0,null,null,0,null,null,0,null,null,0,null,null,0,null,null,0,null,null,0,null,null,0,null,null,0,null,null,0,null,null,0,null,null,0,null,null,0,null,null,0,null,null,0,null,null,0,0,0,0,null,null,0,null,null,0,0,0,0,null,null,0,null,null,0,null,null,0,0,0,0,0,0,0]
[19,null,null,null,null,null,0,null,null,0,null,null,0,null,null,0,null,null,0,null,null,0,null,null,0,null,null,0,null,null,0,null,null,0,null,null,0,null,null,0,null,null,0,null,null,0,null,null,0,null,null,0,null,null,0,null,null,0,null,null,0,0,0,0,null,null,0,null,null,0,null,null,0,null,null,0,null,null,0,null,null,0,null,null,0,null,null,0,null,null,0,null,null,0,null,null,0,null,null,0,null,null,0,null,null,0,null,null,0,0,0,0,null,null,0,null,null,0,0,0,0,null,null,0,null,null,0,null,null,0,0,0,0,0,0,0]
[20,null,null,null,null,null,0,null,null,0,null,null,0,null,null,0,null,null,0,null,null,0,null,null,0,null,null,0,null,null,0,null,null,0,null,null,0,null,null,0,null,null,0,null,null,0,null,null,0,null,null,0,null,null,0,null,null,0,null,null,0,0,0,0,null,null,0,null,null,0,null,null,0,null,null,0,null,null,0,null,null,0,null,null,0,null,null,0,null,null,0,null,null,0,null,null,0,null,null,0,null,null,0,null,null,0,null,null,0,0,0,0,null,null,0,null,null,0,0,0,0,null,null,0,null,null,0,null,null,0,0,0,0,0,0,0]
[21,null,null,null,null,null,0,null,null,0,null,null,0,null,null,0,null,null,0,null,null,0,null,null,0,null,null,0,null,null,0,null,null,0,null,null,0,null,null,0,null,null,0,null,null,0,null,null,0,null,null,0,null,null,0,null,null,0,null,null,0,0,0,0,null,null,0,null,null,0,null,null,0,null,null,0,null,null,0,null,null,0,null,null,0,null,null,0,null,null,0,null,null,0,null,null,0,null,null,0,null,null,0,null,null,0,null,null,0,0,0,0,null,null,0,null,null,0,0,0,0,null,null,0,null,null,0,null,null,0,0,0,0,0,0,0]
[22,null,null,null,null,null,0,null,null,0,null,null,0,null,null,0,null,null,0,null,null,0,null,null,0,null,null,0,null,null,0,null,null,0,null,null,0,null,null,0,null,null,0,null,null,0,null,null,0,null,null,0,null,null,0,null,null,0,null,null,0,0,0,0,null,null,0,null,null,0,null,null,0,null,null,0,null,null,0,null,null,0,null,null,0,null,null,0,null,null,0,null,null,0,null,null,0,null,null,0,null,null,0,null,null,0,null,null,0,0,0,0,null,null,0,null,null,0,0,0,0,null,null,0,null,null,0,null,null,0,0,0,0,0,0,0]
[23,null,null,null,null,null,0,null,null,0,null,null,0,null,null,0,null,null,0,null,null,0,null,null,0,null,null,0,null,null,0,null,null,0,null,null,0,null,null,0,null,null,0,null,null,0,null,null,0,null,null,0,null,null,0,null,null,0,null,null,0,0,0,0,null,null,0,null,null,0,null,null,0,null,null,0,null,null,0,null,null,0,null,null,0,null,null,0,null,null,0,null,null,0,null,null,0,null,null,0,null,null,0,null,null,0,null,null,0,0,0,0,null,null,0,null,null,0,0,0,0,null,null,0,null,null,0,null,null,0,0,0,0,0,0,0]
[24,null,null,null,null,null,0,null,null,0,null,null,0,null,null,0,null,null,0,null,null,0,null,null,0,null,null,0,null,null,0,null,null,0,null,null,0,null,null,0,null,null,0,null,null,0,null,null,0,null,null,0,null,null,0,null,null,0,null,null,0,0,0,0,null,null,0,null,null,0,null,null,0,null,null,0,null,null,0,null,null,0,null,null,0,null,null,0,null,null,0,null,null,0,null,null,0,null,null,0,null,null,0,null,null,0,null,null,0,0,0,0,null,null,0,null,null,0,0,0,0,null,null,0,null,null,0,null,null,0,0,0,0,0,0,0]
[25,null,null,null,null,null,0,null,null,0,null,null,0,null,null,0,null,null,0,null,null,0,null,null,0,null,null,0,null,null,0,null,null,0,null,null,0,null,null,0,null,null,0,null,null,0,null,null,0,null,null,0,null,null,0,null,null,0,null,null,0,0,0,0,null,null,0,null,null,0,null,null,0,null,null,0,null,null,0,null,null,0,null,null,0,null,null,0,null,null,0,null,null,0,null,null,0,null,null,0,null,null,0,null,null,0,null,null,0,0,0,0,null,null,0,null,null,0,0,0,0,null,null,0,null,null,0,null,null,0,0,0,0,0,0,0]
[26,null,null,null,null,null,0,null,null,0,null,null,0,null,null,0,null,null,0,null,null,0,null,null,0,null,null,0,null,null,0,null,null,0,null,null,0,null,null,0,null,null,0,null,null,0,null,null,0,null,null,0,null,null,0,null,null,0,null,null,0,0,0,0,null,null,0,null,null,0,null,null,0,null,null,0,null,null,0,null,null,0,null,null,0,null,null,0,null,null,0,null,null,0,null,null,0,null,null,0,null,null,0,null,null,0,null,null,0,0,0,0,null,null,0,null,null,0,0,0,0,null,null,0,null,null,0,null,null,0,0,0,0,0,0,0]
[27,null,null,null,null,null,0,null,null,0,null,null,0,null,null,0,null,null,0,null,null,0,null,null,0,null,null,0,null,null,0,null,null,0,null,null,0,null,null,0,null,null,0,null,null,0,null,null,0,null,null,0,null,null,0,null,null,0,null,null,0,0,0,0,null,null,0,null,null,0,null,null,0,null,null,0,null,null,0,null,null,0,null,null,0,null,null,0,null,null,0,null,null,0,null,null,0,null,null,0,null,null,0,null,null,0,null,null,0,0,0,0,null,null,0,null,null,0,0,0,0,null,null,0,null,null,0,null,null,0,0,0,0,0,0,0]
[28,null,null,null,null,null,0,null,null,0,null,null,0,null,null,0,null,null,0,null,null,0,null,null,0,null,null,0,null,null,0,null,null,0,null,null,0,null,null,0,null,null,0,null,null,0,null,null,0,null,null,0,null,null,0,null,null,0,null,null,0,0,0,0,null,null,0,null,null,0,null,null,0,null,null,0,null,null,0,null,null,0,null,null,0,null,null,0,null,null,0,null,null,0,null,null,0,null,null,0,null,null,0,null,null,0,null,null,0,0,0,0,null,null,0,null,null,0,0,0,0,null,null,0,null,null,0,null,null,0,0,0,0,0,0,0]
[29,null,null,null,null,null,0,null,null,0,null,null,0,null,null,0,null,null,0,null,null,0,null,null,0,null,null,0,null,null,0,null,null,0,null,null,0,null,null,0,null,null,0,null,null,0,null,null,0,null,null,0,null,null,0,null,null,0,null,null,0,0,0,0,null,null,0,null,null,0,null,null,0,null,null,0,null,null,0,null,null,0,null,null,0,null,null,0,null,null,0,null,null,0,null,null,0,null,null,0,null,null,0,null,null,0,null,null,0,0,0,0,null,null,0,null,null,0,0,0,0,null,null,0,null,null,0,null,null,0,0,0,0,0,0,0]
[30,null,null,null,null,null,0,null,null,0,null,null,0,null,null,0,null,null,0,null,null,0,null,null,0,null,null,0,null,null,0,null,null,0,null,null,0,null,null,0,null,null,0,null,null,0,null,null,0,null,null,0,null,null,0,null,null,0,null,null,0,0,0,0,null,null,0,null,null,0,null,null,0,null,null,0,null,null,0,null,null,0,null,null,0,null,null,0,null,null,0,null,null,0,null,null,0,null,null,0,null,null,0,null,null,0,null,null,0,0,0,0,null,null,0,null,null,0,0,0,0,null,null,0,null,null,0,null,null,0,0,0,0,0,0,0]
[31,null,null,null,null,null,0,null,null,0,null,null,0,null,null,0,null,null,0,null,null,0,null,null,0,null,null,0,null,null,0,null,null,0,null,null,0,null,null,0,null,null,0,null,null,0,null,null,0,null,null,0,null,null,0,null,null,0,null,null,0,0,0,0,null,null,0,null,null,0,null,null,0,null,null,0,null,null,0,null,null,0,null,null,0,null,null,0,null,null,0,null,null,0,null,null,0,null,null,0,null,null,0,null,null,0,null,null,0,0,0,0,null,null,0,null,null,0,0,0,0,null,null,0,null,null,0,null,null,0,0,0,0,0,0,0]
[32,null,null,null,null,null,0,null,null,0,null,null,0,null,null,0,null,null,0,null,null,0,null,null,0,null,null,0,null,null,0,null,null,0,null,null,0,null,null,0,null,null,0,null,null,0,null,null,0,null,null,0,null,null,0,null,null,0,null,null,0,0,0,0,null,null,0,null,null,0,null,null,0,null,null,0,null,null,0,null,null,0,null,null,0,null,null,0,null,null,0,null,null,0,null,null,0,null,null,0,null,null,0,null,null,0,null,null,0,0,0,0,null,null,0,null,null,0,0,0,0,null,null,0,null,null,0,null,null,0,0,0,0,0,0,0]
[33,null,null,null,null,null,0,null,null,0,null,null,0,null,null,0,null,null,0,null,null,0,null,null,0,null,null,0,null,null,0,null,null,0,null,null,0,null,null,0,null,null,0,null,null,0,null,null,0,null,null,0,null,null,0,null,null,0,null,null,0,0,0,0,null,null,0,null,null,0,null,null,0,null,null,0,null,null,0,null,null,0,null,null,0,null,null,0,null,null,0,null,null,0,null,null,0,null,null,0,null,null,0,null,null,0,null,null,0,0,0,0,null,null,0,null,null,0,0,0,0,null,null,0,null,null,0,null,null,0,0,0,0,0,0,0]
[34,null,null,null,null,null,0,null,null,0,null,null,0,null,null,0,null,null,0,null,null,0,null,null,0,null,null,0,null,null,0,null,null,0,null,null,0,null,null,0,null,null,0,null,null,0,null,null,0,null,null,0,null,null,0,null,null,0,null,null,0,0,0,0,null,null,0,null,null,0,null,null,0,null,null,0,null,null,0,null,null,0,null,null,0,null,null,0,null,null,0,null,null,0,null,null,0,null,null,0,null,null,0,null,null,0,null,null,0,0,0,0,null,null,0,null,null,0,0,0,0,null,null,0,null,null,0,null,null,0,0,0,0,0,0,0]
[35,null,null,null,null,null,0,null,null,0,null,null,0,null,null,0,null,null,0,null,null,0,null,null,0,null,null,0,null,null,0,null,null,0,null,null,0,null,null,0,null,null,0,null,null,0,null,null,0,null,null,0,null,null,0,null,null,0,null,null,0,0,0,0,null,null,0,null,null,0,null,null,0,null,null,0,null,null,0,null,null,0,null,null,0,null,null,0,null,null,0,null,null,0,null,null,0,null,null,0,null,null,0,null,null,0,null,null,0,0,0,0,null,null,0,null,null,0,0,0,0,null,null,0,null,null,0,null,null,0,0,0,0,0,0,0]
[36,null,null,null,null,null,0,null,null,0,null,null,0,null,null,0,null,null,0,null,null,0,null,null,0,null,null,0,null,null,0,null,null,0,null,null,0,null,null,0,null,null,0,null,null,0,null,null,0,null,null,0,null,null,0,null,null,0,null,null,0,0,0,0,null,null,0,null,null,0,null,null,0,null,null,0,null,null,0,null,null,0,null,null,0,null,null,0,null,null,0,null,null,0,null,null,0,null,null,0,null,null,0,null,null,0,null,null,0,0,0,0,null,null,0,null,null,0,0,0,0,null,null,0,null,null,0,null,null,0,0,0,0,0,0,0]
[37,null,null,null,null,null,0,null,null,0,null,null,0,null,null,0,null,null,0,null,null,0,null,null,0,null,null,0,null,null,0,null,null,0,null,null,0,null,null,0,null,null,0,null,null,0,null,null,0,null,null,0,null,null,0,null,null,0,null,null,0,0,0,0,null,null,0,null,null,0,null,null,0,null,null,0,null,null,0,null,null,0,null,null,0,null,null,0,null,null,0,null,null,0,null,null,0,null,null,0,null,null,0,null,null,0,null,null,0,0,0,0,null,null,0,null,null,0,0,0,0,null,null,0,null,null,0,null,null,0,0,0,0,0,0,0]
[38,null,null,null,null,null,0,null,null,0,null,null,0,null,null,0,null,null,0,null,null,0,null,null,0,null,null,0,null,null,0,null,null,0,null,null,0,null,null,0,null,null,0,null,null,0,null,null,0,null,null,0,null,null,0,null,null,0,null,null,0,0,0,0,null,null,0,null,null,0,null,null,0,null,null,0,null,null,0,null,null,0,null,null,0,null,null,0,null,null,0,null,null,0,null,null,0,null,null,0,null,null,0,null,null,0,null,null,0,0,0,0,null,null,0,null,null,0,0,0,0,null,null,0,null,null,0,null,null,0,0,0,0,0,0,0]
[39,null,null,null,null,null,0,null,null,0,null,null,0,null,null,0,null,null,0,null,null,0,null,null,0,null,null,0,null,null,0,null,null,0,null,null,0,null,null,0,null,null,0,null,null,0,null,null,0,null,null,0,null,null,0,null,null,0,null,null,0,0,0,0,null,null,0,null,null,0,null,null,0,null,null,0,null,null,0,null,null,0,null,null,0,null,null,0,null,null,0,null,null,0,null,null,0,null,null,0,null,null,0,null,null,0,null,null,0,0,0,0,null,null,0,null,null,0,0,0,0,null,null,0,null,null,0,null,null,0,0,0,0,0,0,0]
[40,null,null,null,null,null,0,null,null,0,null,null,0,null,null,0,null,null,0,null,null,0,null,null,0,null,null,0,null,null,0,null,null,0,null,null,0,null,null,0,null,null,0,null,null,0,null,null,0,null,null,0,null,null,0,null,null,0,null,null,0,0,0,0,null,null,0,null,null,0,null,null,0,null,null,0,null,null,0,null,null,0,null,null,0,null,null,0,null,null,0,null,null,0,null,null,0,null,null,0,null,null,0,null,null,0,null,null,0,0,0,0,null,null,0,null,null,0,0,0,0,null,null,0,null,null,0,null,null,0,0,0,0,0,0,0]
[41,null,null,null,null,null,0,null,null,0,null,null,0,null,null,0,null,null,0,null,null,0,null,null,0,null,null,0,null,null,0,null,null,0,null,null,0,null,null,0,null,null,0,null,null,0,null,null,0,null,null,0,null,null,0,null,null,0,null,null,0,0,0,0,null,null,0,null,null,0,null,null,0,null,null,0,null,null,0,null,null,0,null,null,0,null,null,0,null,null,0,null,null,0,null,null,0,null,null,0,null,null,0,null,null,0,null,null,0,0,0,0,null,null,0,null,null,0,0,0,0,null,null,0,null,null,0,null,null,0,0,0,0,0,0,0]
[42,null,null,null,null,null,0,null,null,0,null,null,0,null,null,0,null,null,0,null,null,0,null,null,0,null,null,0,null,null,0,null,null,0,null,null,0,null,null,0,null,null,0,null,null,0,null,null,0,null,null,0,null,null,0,null,null,0,null,null,0,0,0,0,null,null,0,null,null,0,null,null,0,null,null,0,null,null,0,null,null,0,null,null,0,null,null,0,null,null,0,null,null,0,null,null,0,null,null,0,null,null,0,null,null,0,null,null,0,0,0,0,null,null,0,null,null,0,0,0,0,null,null,0,null,null,0,null,null,0,0,0,0,0,0,0]
[43,null,null,null,null,null,0,null,null,0,null,null,0,null,null,0,null,null,0,null,null,0,null,null,0,null,null,0,null,null,0,null,null,0,null,null,0,null,null,0,null,null,0,null,null,0,null,null,0,null,null,0,null,null,0,null,null,0,null,null,0,0,0,0,null,null,0,null,null,0,null,null,0,null,null,0,null,null,0,null,null,0,null,null,0,null,null,0,null,null,0,null,null,0,null,null,0,null,null,0,null,null,0,null,null,0,null,null,0,0,0,0,null,null,0,null,null,0,0,0,0,null,null,0,null,null,0,null,null,0,0,0,0,0,0,0]
[44,null,null,null,null,null,0,null,null,0,null,null,0,null,null,0,null,null,0,null,null,0,null,null,0,null,null,0,null,null,0,null,null,0,null,null,0,null,null,0,null,null,0,null,null,0,null,null,0,null,null,0,null,null,0,null,null,0,null,null,0,0,0,0,null,null,0,null,null,0,null,null,0,null,null,0,null,null,0,null,null,0,null,null,0,null,null,0,null,null,0,null,null,0,null,null,0,null,null,0,null,null,0,null,null,0,null,null,0,0,0,0,null,null,0,null,null,0,0,0,0,null,null,0,null,null,0,null,null,0,0,0,0,0,0,0]
[45,null,null,null,null,null,0,null,null,0,null,null,0,null,null,0,null,null,0,null,null,0,null,null,0,null,null,0,null,null,0,null,null,0,null,null,0,null,null,0,null,null,0,null,null,0,null,null,0,null,null,0,null,null,0,null,null,0,null,null,0,0,0,0,null,null,0,null,null,0,null,null,0,null,null,0,null,null,0,null,null,0,null,null,0,null,null,0,null,null,0,null,null,0,null,null,0,null,null,0,null,null,0,null,null,0,null,null,0,0,0,0,null,null,0,null,null,0,0,0,0,null,null,0,null,null,0,null,null,0,0,0,0,0,0,0]
[46,null,null,null,null,null,0,null,null,0,null,null,0,null,null,0,null,null,0,null,null,0,null,null,0,null,null,0,null,null,0,null,null,0,null,null,0,null,null,0,null,null,0,null,null,0,null,null,0,null,null,0,null,null,0,null,null,0,null,null,0,0,0,0,null,null,0,null,null,0,null,null,0,null,null,0,null,null,0,null,null,0,null,null,0,null,null,0,null,null,0,null,null,0,null,null,0,null,null,0,null,null,0,null,null,0,null,null,0,0,0,0,null,null,0,null,null,0,0,0,0,null,null,0,null,null,0,null,null,0,0,0,0,0,0,0]
[47,null,null,null,null,null,0,null,null,0,null,null,0,null,null,0,null,null,0,null,null,0,null,null,0,null,null,0,null,null,0,null,null,0,null,null,0,null,null,0,null,null,0,null,null,0,null,null,0,null,null,0,null,null,0,null,null,0,null,null,0,0,0,0,null,null,0,null,null,0,null,null,0,null,null,0,null,null,0,null,null,0,null,null,0,null,null,0,null,null,0,null,null,0,null,null,0,null,null,0,null,null,0,null,null,0,null,null,0,0,0,0,null,null,0,null,null,0,0,0,0,null,null,0,null,null,0,null,null,0,0,0,0,0,0,0]
[48,null,null,null,null,null,0,null,null,0,null,null,0,null,null,0,null,null,0,null,null,0,null,null,0,null,null,0,null,null,0,null,null,0,null,null,0,null,null,0,null,null,0,null,null,0,null,null,0,null,null,0,null,null,0,null,null,0,null,null,0,0,0,0,null,null,0,null,null,0,null,null,0,null,null,0,null,null,0,null,null,0,null,null,0,null,null,0,null,null,0,null,null,0,null,null,0,null,null,0,null,null,0,null,null,0,null,null,0,0,0,0,null,null,0,null,null,0,0,0,0,null,null,0,null,null,0,null,null,0,0,0,0,0,0,0]
[49,null,null,null,null,null,0,null,null,0,null,null,0,null,null,0,null,null,0,null,null,0,null,null,0,null,null,0,null,null,0,null,null,0,null,null,0,null,null,0,null,null,0,null,null,0,null,null,0,null,null,0,null,null,0,null,null,0,null,null,0,0,0,0,null,null,0,null,null,0,null,null,0,null,null,0,null,null,0,null,null,0,null,null,0,null,null,0,null,null,0,null,null,0,null,null,0,null,null,0,null,null,0,null,null,0,null,null,0,0,0,0,null,null,0,null,null,0,0,0,0,null,null,0,null,null,0,null,null,0,0,0,0,0,0,0]
[50,null,null,null,null,null,0,null,null,0,null,null,0,null,null,0,null,null,0,null,null,0,null,null,0,null,null,0,null,null,0,null,null,0,null,null,0,null,null,0,null,null,0,null,null,0,null,null,0,null,null,0,null,null,0,null,null,0,null,null,0,0,0,0,null,null,0,null,null,0,null,null,0,null,null,0,null,null,0,null,null,0,null,null,0,null,null,0,null,null,0,null,null,0,null,null,0,null,null,0,null,null,0,null,null,0,null,null,0,0,0,0,null,null,0,null,null,0,0,0,0,null,null,0,null,null,0,null,null,0,0,0,0,0,0,0]
[51,null,null,null,null,null,0,null,null,0,null,null,0,null,null,0,null,null,0,null,null,0,null,null,0,null,null,0,null,null,0,null,null,0,null,null,0,null,null,0,null,null,0,null,null,0,null,null,0,null,null,0,null,null,0,null,null,0,null,null,0,0,0,0,null,null,0,null,null,0,null,null,0,null,null,0,null,null,0,null,null,0,null,null,0,null,null,0,null,null,0,null,null,0,null,null,0,null,null,0,null,null,0,null,null,0,null,null,0,0,0,0,null,null,0,null,null,0,0,0,0,null,null,0,null,null,0,null,null,0,0,0,0,0,0,0]
[52,null,null,null,null,null,0,null,null,0,null,null,0,null,null,0,null,null,0,null,null,0,null,null,0,null,null,0,null,null,0,null,null,0,null,null,0,null,null,0,null,null,0,null,null,0,null,null,0,null,null,0,null,null,0,null,null,0,null,null,0,0,0,0,null,null,0,null,null,0,null,null,0,null,null,0,null,null,0,null,null,0,null,null,0,null,null,0,null,null,0,null,null,0,null,null,0,null,null,0,null,null,0,null,null,0,null,null,0,0,0,0,null,null,0,null,null,0,0,0,0,null,null,0,null,null,0,null,null,0,0,0,0,0,0,0]
[53,null,null,null,null,null,0,null,null,0,null,null,0,null,null,0,null,null,0,null,null,0,null,null,0,null,null,0,null,null,0,null,null,0,null,null,0,null,null,0,null,null,0,null,null,0,null,null,0,null,null,0,null,null,0,null,null,0,null,null,0,0,0,0,null,null,0,null,null,0,null,null,0,null,null,0,null,null,0,null,null,0,null,null,0,null,null,0,null,null,0,null,null,0,null,null,0,null,null,0,null,null,0,null,null,0,null,null,0,0,0,0,null,null,0,null,null,0,0,0,0,null,null,0,null,null,0,null,null,0,0,0,0,0,0,0]
[54,null,null,null,null,null,0,null,null,0,null,null,0,null,null,0,null,null,0,null,null,0,null,null,0,null,null,0,null,null,0,null,null,0,null,null,0,null,null,0,null,null,0,null,null,0,null,null,0,null,null,0,null,null,0,null,null,0,null,null,0,0,0,0,null,null,0,null,null,0,null,null,0,null,null,0,null,null,0,null,null,0,null,null,0,null,null,0,null,null,0,null,null,0,null,null,0,null,null,0,null,null,0,null,null,0,null,null,0,0,0,0,null,null,0,null,null,0,0,0,0,null,null,0,null,null,0,null,null,0,0,0,0,0,0,0]
[55,null,null,null,null,null,0,null,null,0,null,null,0,null,null,0,null,null,0,null,null,0,null,null,0,null,null,0,null,null,0,null,null,0,null,null,0,null,null,0,null,null,0,null,null,0,null,null,0,null,null,0,null,null,0,null,null,0,null,null,0,0,0,0,null,null,0,null,null,0,null,null,0,null,null,0,null,null,0,null,null,0,null,null,0,null,null,0,null,null,0,null,null,0,null,null,0,null,null,0,null,null,0,null,null,0,null,null,0,0,0,0,null,null,0,null,null,0,0,0,0,null,null,0,null,null,0,null,null,0,0,0,0,0,0,0]
[56,null,null,null,null,null,0,null,null,0,null,null,0,null,null,0,null,null,0,null,null,0,null,null,0,null,null,0,null,null,0,null,null,0,null,null,0,null,null,0,null,null,0,null,null,0,null,null,0,null,null,0,null,null,0,null,null,0,null,null,0,0,0,0,null,null,0,null,null,0,null,null,0,null,null,0,null,null,0,null,null,0,null,null,0,null,null,0,null,null,0,null,null,0,null,null,0,null,null,0,null,null,0,null,null,0,null,null,0,0,0,0,null,null,0,null,null,0,0,0,0,null,null,0,null,null,0,null,null,0,0,0,0,0,0,0]
[57,null,null,null,null,null,0,null,null,0,null,null,0,null,null,0,null,null,0,null,null,0,null,null,0,null,null,0,null,null,0,null,null,0,null,null,0,null,null,0,null,null,0,null,null,0,null,null,0,null,null,0,null,null,0,null,null,0,null,null,0,0,0,0,null,null,0,null,null,0,null,null,0,null,null,0,null,null,0,null,null,0,null,null,0,null,null,0,null,null,0,null,null,0,null,null,0,null,null,0,null,null,0,null,null,0,null,null,0,0,0,0,null,null,0,null,null,0,0,0,0,null,null,0,null,null,0,null,null,0,0,0,0,0,0,0]
[58,null,null,null,null,null,0,null,null,0,null,null,0,null,null,0,null,null,0,null,null,0,null,null,0,null,null,0,null,null,0,null,null,0,null,null,0,null,null,0,null,null,0,null,null,0,null,null,0,null,null,0,null,null,0,null,null,0,null,null,0,0,0,0,null,null,0,null,null,0,null,null,0,null,null,0,null,null,0,null,null,0,null,null,0,null,null,0,null,null,0,null,null,0,null,null,0,null,null,0,null,null,0,null,null,0,null,null,0,0,0,0,null,null,0,null,null,0,0,0,0,null,null,0,null,null,0,null,null,0,0,0,0,0,0,0]
[59,null,null,null,null,null,0,null,null,0,null,null,0,null,null,0,null,null,0,null,null,0,null,null,0,null,null,0,null,null,0,null,null,0,null,null,0,null,null,0,null,null,0,null,null,0,null,null,0,null,null,0,null,null,0,null,null,0,null,null,0,0,0,0,null,null,0,null,null,0,null,null,0,null,null,0,null,null,0,null,null,0,null,null,0,null,null,0,null,null,0,null,null,0,null,null,0,null,null,0,null,null,0,null,null,0,null,null,0,0,0,0,null,null,0,null,null,0,0,0,0,null,null,0,null,null,0,null,null,0,0,0,0,0,0,0]
[60,null,null,null,null,null,0,null,null,0,null,null,0,null,null,0,null,null,0,null,null,0,null,null,0,null,null,0,null,null,0,null,null,0,null,null,0,null,null,0,null,null,0,null,null,0,null,null,0,null,null,0,null,null,0,null,null,0,null,null,0,0,0,0,null,null,0,null,null,0,null,null,0,null,null,0,null,null,0,null,null,0,null,null,0,null,null,0,null,null,0,null,null,0,null,null,0,null,null,0,null,null,0,null,null,0,null,null,0,0,0,0,null,null,0,null,null,0,0,0,0,null,null,0,null,null,0,null,null,0,0,0,0,0,0,0]
[61,null,null,null,null,null,0,null,null,0,null,null,0,null,null,0,null,null,0,null,null,0,null,null,0,null,null,0,null,null,0,null,null,0,null,null,0,null,null,0,null,null,0,null,null,0,null,null,0,null,null,0,null,null,0,null,null,0,null,null,0,0,0,0,null,null,0,null,null,0,null,null,0,null,null,0,null,null,0,null,null,0,null,null,0,null,null,0,null,null,0,null,null,0,null,null,0,null,null,0,null,null,0,null,null,0,null,null,0,0,0,0,null,null,0,null,null,0,0,0,0,null,null,0,null,null,0,null,null,0,0,0,0,0,0,0]
[62,null,null,null,null,null,0,null,null,0,null,null,0,null,null,0,null,null,0,null,null,0,null,null,0,null,null,0,null,null,0,null,null,0,null,null,0,null,null,0,null,null,0,null,null,0,null,null,0,null,null,0,null,null,0,null,null,0,null,null,0,0,0,0,null,null,0,null,null,0,null,null,0,null,null,0,null,null,0,null,null,0,null,null,0,null,null,0,null,null,0,null,null,0,null,null,0,null,null,0,null,null,0,null,null,0,null,null,0,0,0,0,null,null,0,null,null,0,0,0,0,null,null,0,null,null,0,null,null,0,0,0,0,0,0,0]
[63,null,null,null,null,null,0,null,null,0,null,null,0,null,null,0,null,null,0,null,null,0,null,null,0,null,null,0,null,null,0,null,null,0,null,null,0,null,null,0,null,null,0,null,null,0,null,null,0,null,null,0,null,null,0,null,null,0,null,null,0,0,0,0,null,null,0,null,null,0,null,null,0,null,null,0,null,null,0,null,null,0,null,null,0,null,null,0,null,null,0,null,null,0,null,null,0,null,null,0,null,null,0,null,null,0,null,null,0,0,0,0,null,null,0,null,null,0,0,0,0,null,null,0,null,null,0,null,null,0,0,0,0,0,0,0]
[64,null,null,null,null,null,0,null,null,0,null,null,0,null,null,0,null,null,0,null,null,0,null,null,0,null,null,0,null,null,0,null,null,0,null,null,0,null,null,0,null,null,0,null,null,0,null,null,0,null,null,0,null,null,0,null,null,0,null,null,0,0,0,0,null,null,0,null,null,0,null,null,0,null,null,0,null,null,0,null,null,0,null,null,0,null,null,0,null,null,0,null,null,0,null,null,0,null,null,0,null,null,0,null,null,0,null,null,0,0,0,0,null,null,0,null,null,0,0,0,0,null,null,0,null,null,0,null,null,0,0,0,0,0,0,0]
[65,null,null,null,null,null,{"$f":"SUM(E80:F80)","v":0},null,null,{"$f":"SUM(H80:I80)","v":0},null,null,{"$f":"SUM(K80:L80)","v":0},null,null,{"$f":"SUM(N80:O80)","v":0},null,null,{"$f":"SUM(Q80:R80)","v":0},null,null,{"$f":"SUM(T80:U80)","v":0},null,null,{"$f":"SUM(W80:X80)","v":0},null,null,{"$f":"SUM(Z80:AA80)","v":0},null,null,{"$f":"SUM(AC80:AD80)","v":0},null,null,{"$f":"SUM(AF80:AG80)","v":0},null,null,{"$f":"SUM(AI80:AJ80)","v":0},null,null,{"$f":"SUM(AL80:AM80)","v":0},null,null,{"$f":"SUM(AO80:AP80)","v":0},null,null,{"$f":"SUM(AR80:AS80)","v":0},null,null,{"$f":"SUM(AU80:AV80)","v":0},null,null,{"$f":"SUM(AX80:AY80)","v":0},null,null,{"$f":"SUM(BA80:BB80)","v":0},null,null,{"$f":"SUM(BD80:BE80)","v":0},null,null,{"$f":"SUM(BG80:BH80)","v":0},{"$f":"SUM(E80,H80,K80,N80,Q80,T80,W80,Z80,AC80,AF80,AI80,AL80,AO80,AR80,AU80,AX80,BA80,BD80,BG80)","v":0},0,{"$f":"SUM(BJ80:BK80)","v":0},null,null,{"$f":"SUM(BM80:BN80)","v":0},null,null,{"$f":"SUM(BP80:BQ80)","v":0},null,null,{"$f":"SUM(BS80:BT80)","v":0},null,null,{"$f":"SUM(BV80:BW80)","v":0},null,null,{"$f":"SUM(BY80:BZ80)","v":0},null,null,{"$f":"SUM(CB80:CC80)","v":0},null,null,{"$f":"SUM(CE80:CF80)","v":0},null,null,{"$f":"SUM(CH80:CI80)","v":0},null,null,{"$f":"SUM(CK80:CL80)","v":0},null,null,{"$f":"SUM(CN80:CO80)","v":0},null,null,{"$f":"SUM(CQ80:CR80)","v":0},null,null,{"$f":"SUM(CT80:CU80)","v":0},null,null,{"$f":"SUM(CW80:CX80)","v":0},null,null,{"$f":"SUM(CZ80:DA80)","v":0},null,null,{"$f":"SUM(DC80:DD80)","v":0},{"$f":"SUM(BM80,BP80,BS80,BV80,BY80,CB80,CE80,CH80,CK80,CN80,CQ80,CT80,CW80,CZ80,DC80)","v":0},0,{"$f":"SUM(DF80:DG80)","v":0},null,null,{"$f":"SUM(DI80:DJ80)","v":0},null,null,{"$f":"SUM(DL80:DM80)","v":0},{"$f":"SUM(DI80,DL80)","v":0},0,{"$f":"SUM(DO80:DP80)","v":0},null,null,{"$f":"SUM(DR80:DS80)","v":0},null,null,{"$f":"SUM(DU80:DV80)","v":0},null,null,{"$f":"SUM(DX80:DY80)","v":0},{"$f":"SUM(DR80,DU80,DX80)","v":0},0,{"$f":"SUM(EA80:EB80)","v":0},{"$f":"SUM(BJ80,DF80,DO80,EA80)","v":0},0,{"$f":"SUM(ED80:EE80)","v":0}]
[66,null,null,null,null,null,0,null,null,0,null,null,0,null,null,0,null,null,0,null,null,0,null,null,0,null,null,0,null,null,0,null,null,0,null,null,0,null,null,0,null,null,0,null,null,0,null,null,0,null,null,0,null,null,0,null,null,0,null,null,0,0,0,0,null,null,0,null,null,0,null,null,0,null,null,0,null,null,0,null,null,0,null,null,0,null,null,0,null,null,0,null,null,0,null,null,0,null,null,0,null,null,0,null,null,0,null,null,0,0,0,0,null,null,0,null,null,0,0,0,0,null,null,0,null,null,0,null,null,0,0,0,0,0,0,0]
[67,null,null,null,null,null,0,null,null,0,null,null,0,null,null,0,null,null,0,null,null,0,null,null,0,null,null,0,null,null,0,null,null,0,null,null,0,null,null,0,null,null,0,null,null,0,null,null,0,null,null,0,null,null,0,null,null,0,null,null,0,0,0,0,null,null,0,null,null,0,null,null,0,null,null,0,null,null,0,null,null,0,null,null,0,null,null,0,null,null,0,null,null,0,null,null,0,null,null,0,null,null,0,null,null,0,null,null,0,0,0,0,null,null,0,null,null,0,0,0,0,null,null,0,null,null,0,null,null,0,0,0,0,0,0,0]
[68,null,null,null,null,null,0,null,null,0,null,null,0,null,null,0,null,null,0,null,null,0,null,null,0,null,null,0,null,null,0,null,null,0,null,null,0,null,null,0,null,null,0,null,null,0,null,null,0,null,null,0,null,null,0,null,null,0,null,null,0,0,0,0,null,null,0,null,null,0,null,null,0,null,null,0,null,null,0,null,null,0,null,null,0,null,null,0,null,null,0,null,null,0,null,null,0,null,null,0,null,null,0,null,null,0,null,null,0,0,0,0,null,null,0,null,null,0,0,0,0,null,null,0,null,null,0,null,null,0,0,0,0,0,0,0]
[69,null,null,null,null,null,0,null,null,0,null,null,0,null,null,0,null,null,0,null,null,0,null,null,0,null,null,0,null,null,0,null,null,0,null,null,0,null,null,0,null,null,0,null,null,0,null,null,0,null,null,0,null,null,0,null,null,0,null,null,0,0,0,0,null,null,0,null,null,0,null,null,0,null,null,0,null,null,0,null,null,0,null,null,0,null,null,0,null,null,0,null,null,0,null,null,0,null,null,0,null,null,0,null,null,0,null,null,0,0,0,0,null,null,0,null,null,0,0,0,0,null,null,0,null,null,0,null,null,0,0,0,0,0,0,0]
[70,null,null,null,null,null,0,null,null,0,null,null,0,null,null,0,null,null,0,null,null,0,null,null,0,null,null,0,null,null,0,null,null,0,null,null,0,null,null,0,null,null,0,null,null,0,null,null,0,null,null,0,null,null,0,null,null,0,null,null,0,0,0,0,null,null,0,null,null,0,null,null,0,null,null,0,null,null,0,null,null,0,null,null,0,null,null,0,null,null,0,null,null,0,null,null,0,null,null,0,null,null,0,null,null,0,null,null,0,0,0,0,null,null,0,null,null,0,0,0,0,null,null,0,null,null,0,null,null,0,0,0,0,0,0,0]
[71,null,null,null,null,null,0,null,null,0,null,null,0,null,null,0,null,null,0,null,null,0,null,null,0,null,null,0,null,null,0,null,null,0,null,null,0,null,null,0,null,null,0,null,null,0,null,null,0,null,null,0,null,null,0,null,null,0,null,null,0,0,0,0,null,null,0,null,null,0,null,null,0,null,null,0,null,null,0,null,null,0,null,null,0,null,null,0,null,null,0,null,null,0,null,null,0,null,null,0,null,null,0,null,null,0,null,null,0,0,0,0,null,null,0,null,null,0,0,0,0,null,null,0,null,null,0,null,null,0,0,0,0,0,0,0]
[72,null,null,null,null,null,0,null,null,0,null,null,0,null,null,0,null,null,0,null,null,0,null,null,0,null,null,0,null,null,0,null,null,0,null,null,0,null,null,0,null,null,0,null,null,0,null,null,0,null,null,0,null,null,0,null,null,0,null,null,0,0,0,0,null,null,0,null,null,0,null,null,0,null,null,0,null,null,0,null,null,0,null,null,0,null,null,0,null,null,0,null,null,0,null,null,0,null,null,0,null,null,0,null,null,0,null,null,0,0,0,0,null,null,0,null,null,0,0,0,0,null,null,0,null,null,0,null,null,0,0,0,0,0,0,0]
[73,null,null,null,null,null,0,null,null,0,null,null,0,null,null,0,null,null,0,null,null,0,null,null,0,null,null,0,null,null,0,null,null,0,null,null,0,null,null,0,null,null,0,null,null,0,null,null,0,null,null,0,null,null,0,null,null,0,null,null,0,0,0,0,null,null,0,null,null,0,null,null,0,null,null,0,null,null,0,null,null,0,null,null,0,null,null,0,null,null,0,null,null,0,null,null,0,null,null,0,null,null,0,null,null,0,null,null,0,0,0,0,null,null,0,null,null,0,0,0,0,null,null,0,null,null,0,null,null,0,0,0,0,0,0,0]
[74,null,null,null,null,null,0,null,null,0,null,null,0,null,null,0,null,null,0,null,null,0,null,null,0,null,null,0,null,null,0,null,null,0,null,null,0,null,null,0,null,null,0,null,null,0,null,null,0,null,null,0,null,null,0,null,null,0,null,null,0,0,0,0,null,null,0,null,null,0,null,null,0,null,null,0,null,null,0,null,null,0,null,null,0,null,null,0,null,null,0,null,null,0,null,null,0,null,null,0,null,null,0,null,null,0,null,null,0,0,0,0,null,null,0,null,null,0,0,0,0,null,null,0,null,null,0,null,null,0,0,0,0,0,0,0]
[75,null,null,null,null,null,0,null,null,0,null,null,0,null,null,0,null,null,0,null,null,0,null,null,0,null,null,0,null,null,0,null,null,0,null,null,0,null,null,0,null,null,0,null,null,0,null,null,0,null,null,0,null,null,0,null,null,0,null,null,0,0,0,0,null,null,0,null,null,0,null,null,0,null,null,0,null,null,0,null,null,0,null,null,0,null,null,0,null,null,0,null,null,0,null,null,0,null,null,0,null,null,0,null,null,0,null,null,0,0,0,0,null,null,0,null,null,0,0,0,0,null,null,0,null,null,0,null,null,0,0,0,0,0,0,0]
[76,null,null,null,null,null,0,null,null,0,null,null,0,null,null,0,null,null,0,null,null,0,null,null,0,null,null,0,null,null,0,null,null,0,null,null,0,null,null,0,null,null,0,null,null,0,null,null,0,null,null,0,null,null,0,null,null,0,null,null,0,0,0,0,null,null,0,null,null,0,null,null,0,null,null,0,null,null,0,null,null,0,null,null,0,null,null,0,null,null,0,null,null,0,null,null,0,null,null,0,null,null,0,null,null,0,null,null,0,0,0,0,null,null,0,null,null,0,0,0,0,null,null,0,null,null,0,null,null,0,0,0,0,0,0,0]
[77,null,null,null,null,null,0,null,null,0,null,null,0,null,null,0,null,null,0,null,null,0,null,null,0,null,null,0,null,null,0,null,null,0,null,null,0,null,null,0,null,null,0,null,null,0,null,null,0,null,null,0,null,null,0,null,null,0,null,null,0,0,0,0,null,null,0,null,null,0,null,null,0,null,null,0,null,null,0,null,null,0,null,null,0,null,null,0,null,null,0,null,null,0,null,null,0,null,null,0,null,null,0,null,null,0,null,null,0,0,0,0,null,null,0,null,null,0,0,0,0,null,null,0,null,null,0,null,null,0,0,0,0,0,0,0]
[78,null,null,null,null,null,0,null,null,0,null,null,0,null,null,0,null,null,0,null,null,0,null,null,0,null,null,0,null,null,0,null,null,0,null,null,0,null,null,0,null,null,0,null,null,0,null,null,0,null,null,0,null,null,0,null,null,0,null,null,0,0,0,0,null,null,0,null,null,0,null,null,0,null,null,0,null,null,0,null,null,0,null,null,0,null,null,0,null,null,0,null,null,0,null,null,0,null,null,0,null,null,0,null,null,0,null,null,0,0,0,0,null,null,0,null,null,0,0,0,0,null,null,0,null,null,0,null,null,0,0,0,0,0,0,0]
[79,null,null,null,null,null,0,null,null,0,null,null,0,null,null,0,null,null,0,null,null,0,null,null,0,null,null,0,null,null,0,null,null,0,null,null,0,null,null,0,null,null,0,null,null,0,null,null,0,null,null,0,null,null,0,null,null,0,null,null,0,0,0,0,null,null,0,null,null,0,null,null,0,null,null,0,null,null,0,null,null,0,null,null,0,null,null,0,null,null,0,null,null,0,null,null,0,null,null,0,null,null,0,null,null,0,null,null,0,0,0,0,null,null,0,null,null,0,0,0,0,null,null,0,null,null,0,null,null,0,0,0,0,0,0,0]
[80,null,null,null,null,null,0,null,null,0,null,null,0,null,null,0,null,null,0,null,null,0,null,null,0,null,null,0,null,null,0,null,null,0,null,null,0,null,null,0,null,null,0,null,null,0,null,null,0,null,null,0,null,null,0,null,null,0,null,null,0,0,0,0,null,null,0,null,null,0,null,null,0,null,null,0,null,null,0,null,null,0,null,null,0,null,null,0,null,null,0,null,null,0,null,null,0,null,null,0,null,null,0,null,null,0,null,null,0,0,0,0,null,null,0,null,null,0,0,0,0,null,null,0,null,null,0,null,null,0,0,0,0,0,0,0]
[81,null,null,null,null,null,0,null,null,0,null,null,0,null,null,0,null,null,0,null,null,0,null,null,0,null,null,0,null,null,0,null,null,0,null,null,0,null,null,0,null,null,0,null,null,0,null,null,0,null,null,0,null,null,0,null,null,0,null,null,0,0,0,0,null,null,0,null,null,0,null,null,0,null,null,0,null,null,0,null,null,0,null,null,0,null,null,0,null,null,0,null,null,0,null,null,0,null,null,0,null,null,0,null,null,0,null,null,0,0,0,0,null,null,0,null,null,0,0,0,0,null,null,0,null,null,0,null,null,0,0,0,0,0,0,0]
[82,null,null,null,null,null,0,null,null,0,null,null,0,null,null,0,null,null,0,null,null,0,null,null,0,null,null,0,null,null,0,null,null,0,null,null,0,null,null,0,null,null,0,null,null,0,null,null,0,null,null,0,null,null,0,null,null,0,null,null,0,0,0,0,null,null,0,null,null,0,null,null,0,null,null,0,null,null,0,null,null,0,null,null,0,null,null,0,null,null,0,null,null,0,null,null,0,null,null,0,null,null,0,null,null,0,null,null,0,0,0,0,null,null,0,null,null,0,0,0,0,null,null,0,null,null,0,null,null,0,0,0,0,0,0,0]
[83,null,null,null,null,null,0,null,null,0,null,null,0,null,null,0,null,null,0,null,null,0,null,null,0,null,null,0,null,null,0,null,null,0,null,null,0,null,null,0,null,null,0,null,null,0,null,null,0,null,null,0,null,null,0,null,null,0,null,null,0,0,0,0,null,null,0,null,null,0,null,null,0,null,null,0,null,null,0,null,null,0,null,null,0,null,null,0,null,null,0,null,null,0,null,null,0,null,null,0,null,null,0,null,null,0,null,null,0,0,0,0,null,null,0,null,null,0,0,0,0,null,null,0,null,null,0,null,null,0,0,0,0,0,0,0]
[84,null,null,null,null,null,0,null,null,0,null,null,0,null,null,0,null,null,0,null,null,0,null,null,0,null,null,0,null,null,0,null,null,0,null,null,0,null,null,0,null,null,0,null,null,0,null,null,0,null,null,0,null,null,0,null,null,0,null,null,0,0,0,0,null,null,0,null,null,0,null,null,0,null,null,0,null,null,0,null,null,0,null,null,0,null,null,0,null,null,0,null,null,0,null,null,0,null,null,0,null,null,0,null,null,0,null,null,0,0,0,0,null,null,0,null,null,0,0,0,0,null,null,0,null,null,0,null,null,0,0,0,0,0,0,0]
[85,null,null,null,null,null,0,null,null,0,null,null,0,null,null,0,null,null,0,null,null,0,null,null,0,null,null,0,null,null,0,null,null,0,null,null,0,null,null,0,null,null,0,null,null,0,null,null,0,null,null,0,null,null,0,null,null,0,null,null,0,0,0,0,null,null,0,null,null,0,null,null,0,null,null,0,null,null,0,null,null,0,null,null,0,null,null,0,null,null,0,null,null,0,null,null,0,null,null,0,null,null,0,null,null,0,null,null,0,0,0,0,null,null,0,null,null,0,0,0,0,null,null,0,null,null,0,null,null,0,0,0,0,0,0,0]
[86,null,null,null,null,null,0,null,null,0,null,null,0,null,null,0,null,null,0,null,null,0,null,null,0,null,null,0,null,null,0,null,null,0,null,null,0,null,null,0,null,null,0,null,null,0,null,null,0,null,null,0,null,null,0,null,null,0,null,null,0,0,0,0,null,null,0,null,null,0,null,null,0,null,null,0,null,null,0,null,null,0,null,null,0,null,null,0,null,null,0,null,null,0,null,null,0,null,null,0,null,null,0,null,null,0,null,null,0,0,0,0,null,null,0,null,null,0,0,0,0,null,null,0,null,null,0,null,null,0,0,0,0,0,0,0]
[87,null,null,null,null,null,0,null,null,0,null,null,0,null,null,0,null,null,0,null,null,0,null,null,0,null,null,0,null,null,0,null,null,0,null,null,0,null,null,0,null,null,0,null,null,0,null,null,0,null,null,0,null,null,0,null,null,0,null,null,0,0,0,0,null,null,0,null,null,0,null,null,0,null,null,0,null,null,0,null,null,0,null,null,0,null,null,0,null,null,0,null,null,0,null,null,0,null,null,0,null,null,0,null,null,0,null,null,0,0,0,0,null,null,0,null,null,0,0,0,0,null,null,0,null,null,0,null,null,0,0,0,0,0,0,0]
[88,null,null,null,null,null,0,null,null,0,null,null,0,null,null,0,null,null,0,null,null,0,null,null,0,null,null,0,null,null,0,null,null,0,null,null,0,null,null,0,null,null,0,null,null,0,null,null,0,null,null,0,null,null,0,null,null,0,null,null,0,0,0,0,null,null,0,null,null,0,null,null,0,null,null,0,null,null,0,null,null,0,null,null,0,null,null,0,null,null,0,null,null,0,null,null,0,null,null,0,null,null,0,null,null,0,null,null,0,0,0,0,null,null,0,null,null,0,0,0,0,null,null,0,null,null,0,null,null,0,0,0,0,0,0,0]
[89,null,null,null,null,null,0,null,null,0,null,null,0,null,null,0,null,null,0,null,null,0,null,null,0,null,null,0,null,null,0,null,null,0,null,null,0,null,null,0,null,null,0,null,null,0,null,null,0,null,null,0,null,null,0,null,null,0,null,null,0,0,0,0,null,null,0,null,null,0,null,null,0,null,null,0,null,null,0,null,null,0,null,null,0,null,null,0,null,null,0,null,null,0,null,null,0,null,null,0,null,null,0,null,null,0,null,null,0,0,0,0,null,null,0,null,null,0,0,0,0,null,null,0,null,null,0,null,null,0,0,0,0,0,0,0]
[90,null,null,null,null,null,0,null,null,0,null,null,0,null,null,0,null,null,0,null,null,0,null,null,0,null,null,0,null,null,0,null,null,0,null,null,0,null,null,0,null,null,0,null,null,0,null,null,0,null,null,0,null,null,0,null,null,0,null,null,0,0,0,0,null,null,0,null,null,0,null,null,0,null,null,0,null,null,0,null,null,0,null,null,0,null,null,0,null,null,0,null,null,0,null,null,0,null,null,0,null,null,0,null,null,0,null,null,0,0,0,0,null,null,0,null,null,0,0,0,0,null,null,0,null,null,0,null,null,0,0,0,0,0,0,0]
[91,null,null,null,null,null,0,null,null,0,null,null,0,null,null,0,null,null,0,null,null,0,null,null,0,null,null,0,null,null,0,null,null,0,null,null,0,null,null,0,null,null,0,null,null,0,null,null,0,null,null,0,null,null,0,null,null,0,null,null,0,0,0,0,null,null,0,null,null,0,null,null,0,null,null,0,null,null,0,null,null,0,null,null,0,null,null,0,null,null,0,null,null,0,null,null,0,null,null,0,null,null,0,null,null,0,null,null,0,0,0,0,null,null,0,null,null,0,0,0,0,null,null,0,null,null,0,null,null,0,0,0,0,0,0,0]
[92,null,null,null,null,null,0,null,null,0,null,null,0,null,null,0,null,null,0,null,null,0,null,null,0,null,null,0,null,null,0,null,null,0,null,null,0,null,null,0,null,null,0,null,null,0,null,null,0,null,null,0,null,null,0,null,null,0,null,null,0,0,0,0,null,null,0,null,null,0,null,null,0,null,null,0,null,null,0,null,null,0,null,null,0,null,null,0,null,null,0,null,null,0,null,null,0,null,null,0,null,null,0,null,null,0,null,null,0,0,0,0,null,null,0,null,null,0,0,0,0,null,null,0,null,null,0,null,null,0,0,0,0,0,0,0]
[93,null,null,null,null,null,0,null,null,0,null,null,0,null,null,0,null,null,0,null,null,0,null,null,0,null,null,0,null,null,0,null,null,0,null,null,0,null,null,0,null,null,0,null,null,0,null,null,0,null,null,0,null,null,0,null,null,0,null,null,0,0,0,0,null,null,0,null,null,0,null,null,0,null,null,0,null,null,0,null,null,0,null,null,0,null,null,0,null,null,0,null,null,0,null,null,0,null,null,0,null,null,0,null,null,0,null,null,0,0,0,0,null,null,0,null,null,0,0,0,0,null,null,0,null,null,0,null,null,0,0,0,0,0,0,0]
[94,null,null,null,null,null,0,null,null,0,null,null,0,null,null,0,null,null,0,null,null,0,null,null,0,null,null,0,null,null,0,null,null,0,null,null,0,null,null,0,null,null,0,null,null,0,null,null,0,null,null,0,null,null,0,null,null,0,null,null,0,0,0,0,null,null,0,null,null,0,null,null,0,null,null,0,null,null,0,null,null,0,null,null,0,null,null,0,null,null,0,null,null,0,null,null,0,null,null,0,null,null,0,null,null,0,null,null,0,0,0,0,null,null,0,null,null,0,0,0,0,null,null,0,null,null,0,null,null,0,0,0,0,0,0,0]
[95,null,null,null,null,null,0,null,null,0,null,null,0,null,null,0,null,null,0,null,null,0,null,null,0,null,null,0,null,null,0,null,null,0,null,null,0,null,null,0,null,null,0,null,null,0,null,null,0,null,null,0,null,null,0,null,null,0,null,null,0,0,0,0,null,null,0,null,null,0,null,null,0,null,null,0,null,null,0,null,null,0,null,null,0,null,null,0,null,null,0,null,null,0,null,null,0,null,null,0,null,null,0,null,null,0,null,null,0,0,0,0,null,null,0,null,null,0,0,0,0,null,null,0,null,null,0,null,null,0,0,0,0,0,0,0]
[96,null,null,null,null,null,0,null,null,0,null,null,0,null,null,0,null,null,0,null,null,0,null,null,0,null,null,0,null,null,0,null,null,0,null,null,0,null,null,0,null,null,0,null,null,0,null,null,0,null,null,0,null,null,0,null,null,0,null,null,0,0,0,0,null,null,0,null,null,0,null,null,0,null,null,0,null,null,0,null,null,0,null,null,0,null,null,0,null,null,0,null,null,0,null,null,0,null,null,0,null,null,0,null,null,0,null,null,0,0,0,0,null,null,0,null,null,0,0,0,0,null,null,0,null,null,0,null,null,0,0,0,0,0,0,0]
[97,null,null,null,null,null,0,null,null,0,null,null,0,null,null,0,null,null,0,null,null,0,null,null,0,null,null,0,null,null,0,null,null,0,null,null,0,null,null,0,null,null,0,null,null,0,null,null,0,null,null,0,null,null,0,null,null,0,null,null,0,0,0,0,null,null,0,null,null,0,null,null,0,null,null,0,null,null,0,null,null,0,null,null,0,null,null,0,null,null,0,null,null,0,null,null,0,null,null,0,null,null,0,null,null,0,null,null,0,0,0,0,null,null,0,null,null,0,0,0,0,null,null,0,null,null,0,null,null,0,0,0,0,0,0,0]
[98,null,null,null,null,null,0,null,null,0,null,null,0,null,null,0,null,null,0,null,null,0,null,null,0,null,null,0,null,null,0,null,null,0,null,null,0,null,null,0,null,null,0,null,null,0,null,null,0,null,null,0,null,null,0,null,null,0,null,null,0,0,0,0,null,null,0,null,null,0,null,null,0,null,null,0,null,null,0,null,null,0,null,null,0,null,null,0,null,null,0,null,null,0,null,null,0,null,null,0,null,null,0,null,null,0,null,null,0,0,0,0,null,null,0,null,null,0,0,0,0,null,null,0,null,null,0,null,null,0,0,0,0,0,0,0]
[99,null,null,null,null,null,0,null,null,0,null,null,0,null,null,0,null,null,0,null,null,0,null,null,0,null,null,0,null,null,0,null,null,0,null,null,0,null,null,0,null,null,0,null,null,0,null,null,0,null,null,0,null,null,0,null,null,0,null,null,0,0,0,0,null,null,0,null,null,0,null,null,0,null,null,0,null,null,0,null,null,0,null,null,0,null,null,0,null,null,0,null,null,0,null,null,0,null,null,0,null,null,0,null,null,0,null,null,0,0,0,0,null,null,0,null,null,0,0,0,0,null,null,0,null,null,0,null,null,0,0,0,0,0,0,0]
[100,null,null,null,null,null,0,null,null,0,null,null,0,null,null,0,null,null,0,null,null,0,null,null,0,null,null,0,null,null,0,null,null,0,null,null,0,null,null,0,null,null,0,null,null,0,null,null,0,null,null,0,null,null,0,null,null,0,null,null,0,0,0,0,null,null,0,null,null,0,null,null,0,null,null,0,null,null,0,null,null,0,null,null,0,null,null,0,null,null,0,null,null,0,null,null,0,null,null,0,null,null,0,null,null,0,null,null,0,0,0,0,null,null,0,null,null,0,0,0,0,null,null,0,null,null,0,null,null,0,0,0,0,0,0,0]

{"sheet":"RB_Subacc","index":5,"n_rows":115,"n_cols":137,"rows_kept":115,"cut":false,"hidden":false,"merged":[[5,0,5,7],[14,0,14,1],[11,115,11,117],[11,118,11,120],[11,52,11,54],[11,55,11,57],[11,58,11,60],[11,61,11,63],[11,22,11,24],[11,25,11,27],[10,112,10,120],[8,0,8,31],[10,2,12,2],[11,7,11,9],[11,10,11,12],[10,133,11,135],[10,136,13,136],[11,67,11,69],[11,70,11,72],[11,73,11,75],[11,76,11,78],[11,79,11,81],[11,82,11,84],[11,85,11,87],[11,88,11,90],[11,91,11,93],[11,94,11,96],[11,97,11,99],[11,130,11,132],[11,127,11,129],[10,64,10,111],[10,121,10,132],[11,64,11,66],[11,34,11,36],[11,37,11,39],[11,40,11,42],[11,46,11,48],[11,49,11,51],[11,43,11,45],[11,121,11,123],[11,124,11,126],[11,100,11,102],[11,103,11,105],[11,106,11,108],[11,109,11,111],[11,112,11,114],[6,0,6,7],[10,0,13,0],[10,1,13,1],[10,3,12,3],[10,4,10,63],[11,4,11,6],[11,13,11,15],[11,16,11,18],[11,19,11,21],[11,28,11,30],[11,31,11,33]]}
[]
[]
[null,null,null,null,null,null,null,null,null,null,null,null,null,null,null,null,null,null,null,null,null,null,null,null,null,null,null,null,null,null,null,null,null,null,null,null,null,null,null,null,null,null,null,"        ព្រះរាជាណាចក្រកម្ពុជា"]
[null,null,null,null,null,null,null,null,null,null,null,null,null,null,null,null,null,null,null,null,null,null,null,null,null,null,null,null,null,null,null,null,null,null,null,null,null,null,null,null,null,null,null,"    ជាតិ សាសនា ព្រះមហាក្សត្រ"]
[]
[{"$f":"Create!$G$2","v":"ក្រសួងអប់រំ យុវជន និងកីឡា"}]
[{"$f":"Create!$G$3","v":"បំពេញឈ្មោះទីនេះ"}]
[]
[{"$f":"CONCATENATE(\"របាយការណ៍ទូទាត់ចំណាយថវិការបស់អាគារធនធានសម្រាប់ថវិកាដំណើរការសាលារៀនសាធារណៈប្រចាំត្រីមាសទី\",IF(Create!$G$4=1,\"១\",IF(Create!$G$4=2,\"២\",IF(Create!$G$4=3,\"៣\",\"៤\"))),\" ឆ្នាំ២០១៨\")","v":"របាយការណ៍ទូទាត់ចំណាយថវិការបស់អាគារធនធានសម្រាប់ថវិកាដំណើរការសាលារៀនសាធារណៈប្រចាំត្រីមាសទី១ ឆ្នាំ២០១៨"}]
[null,null,null,null,null,null,null,null,null,null,null,null,null,null,null,null,null,null,null,null,null,null,null,null,null,null,null,null,null,null,null,null,null,null,null,null,null,null,null,null,null,null,null,null,null,null,null,null,null,null,null,null,null,null,null,null,null,null,null,null,null,null,null,null,null,null,null,null,null,null,null,null,null,null,null,null,null,null,null,null,null,null,null,null,null,null,null,null,null,null,null,null,null,null,null,null,null,null,null,null,null,null,null,null,null,null,null,null,null,null,null,null,null,null,null,null,null,null,null,null,null,null,null,null,null,null,null,null,null,null,null,null,null,null,null,null,"ឯកតាៈ រៀល"]
["ល.រ","ឈ្មោះការិយាល័យអប់រំ យុវជន និងកីឡា\nក្រុង ឬ ស្រុក ឬ ខ័ណ្ឌ","ឥណទាន\nដើមឆ្នាំ","ឥណទាន\nកែតម្រូវ","ជំពូក ៦០",null,null,null,null,null,null,null,null,null,null,null,null,null,null,null,null,null,null,null,null,null,null,null,null,null,null,null,null,null,null,null,null,null,null,null,null,null,null,null,null,null,null,null,null,null,null,null,null,null,null,null,null,null,null,null,null,null,null,null,"ជំពូក ៦១",null,null,null,null,null,null,null,null,null,null,null,null,null,null,null,null,null,null,null,null,null,null,null,null,null,null,null,null,null,null,null,null,null,null,null,null,null,null,null,null,null,null,null,null,null,null,null,"ជំពូក ៦៤",null,null,null,null,null,null,null,null,"ជំពូក ៦២",null,null,null,null,null,null,null,null,null,null,null,"ចំណាយសរុប",null,null,"ផ្សេងៗ"]
[null,null,null,null,60011,null,null,60012,null,null,60013,null,null,60014,null,null,60021,null,null,60022,null,null,60023,null,null,60031,null,null,60032,null,null,60033,null,null,60035,null,null,60041,null,null,60051,null,null,60052,null,null,60053,null,null,60055,null,null,60061,null,null,60062,null,null,60068,null,null,"សរុប",null,null,61011,null,null,61012,null,null,61021,null,null,61051,null,null,61052,null,null,61053,null,null,61054,null,null,61057,null,null,61071,null,null,61081,null,null,61101,null,null,61102,null,null,61103,null,null,61141,null,null,61142,null,null,"សរុប",null,null,64023,null,null,64033,null,null,"សរុប",null,null,62024,null,null,62025,null,null,62028,null,null,"សរុប"]
[null,null,null,null,"បណ្ដាត្រី.មុន","ក្នុងត្រី.","បូកយោង","បណ្ដាត្រី.មុន","ក្នុងត្រី.","បូកយោង","បណ្ដាត្រី.មុន","ក្នុងត្រី.","បូកយោង","បណ្ដាត្រី.មុន","ក្នុងត្រី.","បូកយោង","បណ្ដាត្រី.មុន","ក្នុងត្រី.","បូកយោង","បណ្ដាត្រី.មុន","ក្នុងត្រី.","បូកយោង","បណ្ដាត្រី.មុន","ក្នុងត្រី.","បូកយោង","បណ្ដាត្រី.មុន","ក្នុងត្រី.","បូកយោង","បណ្ដាត្រី.មុន","ក្នុងត្រី.","បូកយោង","បណ្ដាត្រី.មុន","ក្នុងត្រី.","បូកយោង","បណ្ដាត្រី.មុន","ក្នុងត្រី.","បូកយោង","បណ្ដាត្រី.មុន","ក្នុងត្រី.","បូកយោង","បណ្ដាត្រី.មុន","ក្នុងត្រី.","បូកយោង","បណ្ដាត្រី.មុន","ក្នុងត្រី.","បូកយោង","បណ្ដាត្រី.មុន","ក្នុងត្រី.","បូកយោង","បណ្ដាត្រី.មុន","ក្នុងត្រី.","បូកយោង","បណ្ដាត្រី.មុន","ក្នុងត្រី.","បូកយោង","បណ្ដាត្រី.មុន","ក្នុងត្រី.","បូកយោង","បណ្ដាត្រី.មុន","ក្នុងត្រី.","បូកយោង","បណ្ដាត្រី.មុន","ក្នុងត្រី.","បូកយោង","បណ្ដាត្រី.មុន","ក្នុងត្រី.","បូកយោង","បណ្ដាត្រី.មុន","ក្នុងត្រី.","បូកយោង","បណ្ដាត្រី.មុន","ក្នុងត្រី.","បូកយោង","បណ្ដាត្រី.មុន","ក្នុងត្រី.","បូកយោង","បណ្ដាត្រី.មុន","ក្នុងត្រី.","បូកយោង","បណ្ដាត្រី.មុន","ក្នុងត្រី.","បូកយោង","បណ្ដាត្រី.មុន","ក្នុងត្រី.","បូកយោង","បណ្ដាត្រី.មុន","ក្នុងត្រី.","បូកយោង","បណ្ដាត្រី.មុន","ក្នុងត្រី.","បូកយោង","បណ្ដាត្រី.មុន","ក្នុងត្រី.","បូកយោង","បណ្ដាត្រី.មុន","ក្នុងត្រី.","បូកយោង","បណ្ដាត្រី.មុន","ក្នុងត្រី.","បូកយោង","បណ្ដាត្រី.មុន","ក្នុងត្រី.","បូកយោង","បណ្ដាត្រី.មុន","ក្នុងត្រី.","បូកយោង","បណ្ដាត្រី.មុន","ក្នុងត្រី.","បូកយោង","បណ្ដាត្រី.មុន","ក្នុងត្រី.","បូកយោង","បណ្ដាត្រី.មុន","ក្នុងត្រី.","បូកយោង","បណ្ដាត្រី.មុន","ក្នុងត្រី.","បូកយោង","បណ្ដាត្រី.មុន","ក្នុងត្រី.","បូកយោង","បណ្ដាត្រី.មុន","ក្នុងត្រី.","បូកយោង","បណ្ដាត្រី.មុន","ក្នុងត្រី.","បូកយោង","បណ្ដាត្រី.មុន","ក្នុងត្រី.","បូកយោង","បណ្ដាត្រី.មុន","ក្នុងត្រី.","បូកយោង","បណ្ដាត្រី.មុន","ក្នុងត្រី.","បូកយោង"]
[null,null,1,2,3,4,"5=3+4",6,7,"8=6+7",9,10,"11=9+10",12,13,"14=12+13",15,16,"17=15+16",18,19,"20=18+19",21,22,"23=21+22",24,25,"26=24+25",27,28,"29=27+28",30,31,"32=30+31",33,34,"35=33+34",36,37,"38=36+37",39,40,"41=39+40",42,43,"44=42+43",45,46,"47=45+46",48,49,"50=48+49",51,52,"53=51+52",54,55,"56=54+55",57,58,"59=57+58","60=3+6+9+…+57","61=4+7+10+…+58","62=60+61",63,64,"65=63+64",66,67,"68=66+67",69,70,"71=69+70",72,73,"74=72+73",75,76,"77=75+76",78,79,"80=78+79",81,82,"83=81+82",84,85,"86=84+85",87,88,"89=87+88",90,91,"92=90+91",93,94,"95=93+94",96,97,"98=96+97",99,100,"101=99+100",102,103,"104=102+103",105,106,"107=105+106","108=63+66+…+105","109=64+67+…+106","110=108+109",111,112,"113=111+112",114,115,"116=114+115","117=111+114","118=112+115","119=117+118",120,121,"122=120+121",123,124,125,126,127,"128=126+127",129,130,"131=129+130","132=60+108+117+129","133=61+109+118+130","134=132+133"]
["សរុប",null,{"$f":"SUM(C16:C115)","v":0},{"$f":"SUM(D16:D115)","v":0},0,0,{"$f":"SUM(E15:F15)","v":0},0,0,{"$f":"SUM(H15:I15)","v":0},0,0,{"$f":"SUM(K15:L15)","v":0},0,0,{"$f":"SUM(N15:O15)","v":0},0,0,{"$f":"SUM(Q15:R15)","v":0},0,0,{"$f":"SUM(T15:U15)","v":0},0,0,{"$f":"SUM(W15:X15)","v":0},0,0,{"$f":"SUM(Z15:AA15)","v":0},0,0,{"$f":"SUM(AC15:AD15)","v":0},0,0,{"$f":"SUM(AF15:AG15)","v":0},0,0,{"$f":"SUM(AI15:AJ15)","v":0},0,0,{"$f":"SUM(AL15:AM15)","v":0},0,0,{"$f":"SUM(AO15:AP15)","v":0},0,0,{"$f":"SUM(AR15:AS15)","v":0},0,0,{"$f":"SUM(AU15:AV15)","v":0},0,0,{"$f":"SUM(AX15:AY15)","v":0},0,0,{"$f":"SUM(BA15:BB15)","v":0},0,0,{"$f":"SUM(BD15:BE15)","v":0},0,0,{"$f":"SUM(BG15:BH15)","v":0},{"$f":"SUM(E15,H15,K15,N15,Q15,T15,W15,Z15,AC15,AF15,AI15,AL15,AO15,AR15,AU15,AX15,BA15,BD15,BG15)","v":0},{"$f":"SUM(F15,I15,L15,O15,R15,U15,X15,AA15,AD15,AG15,AJ15,AM15,AP15,AS15,AV15,AY15,BB15,BE15,BH15)","v":0},{"$f":"SUM(BJ15:BK15)","v":0},0,0,{"$f":"SUM(BM15:BN15)","v":0},{"$f":"SUM(BP16:BP115)","v":0},0,{"$f":"SUM(BP15:BQ15)","v":0},0,0,{"$f":"SUM(BS15:BT15)","v":0},0,0,{"$f":"SUM(BV15:BW15)","v":0},0,0,{"$f":"SUM(BY15:BZ15)","v":0},0,0,{"$f":"SUM(CB15:CC15)","v":0},0,0,{"$f":"SUM(CE15:CF15)","v":0},0,0,{"$f":"SUM(CH15:CI15)","v":0},0,0,{"$f":"SUM(CK15:CL15)","v":0},0,0,{"$f":"SUM(CN15:CO15)","v":0},0,0,{"$f":"SUM(CQ15:CR15)","v":0},0,0,{"$f":"SUM(CT15:CU15)","v":0},0,0,{"$f":"SUM(CW15:CX15)","v":0},0,0,{"$f":"SUM(CZ15:DA15)","v":0},0,0,{"$f":"SUM(DC15:DD15)","v":0},{"$f":"SUM(BM15,BP15,BS15,BV15,BY15,CB15,CE15,CH15,CK15,CN15,CQ15,CT15,CW15,CZ15,DC15)","v":0},{"$f":"SUM(BN15,BQ15,BT15,BW15,BZ15,CC15,CF15,CI15,CL15,CO15,CR15,CU15,CX15,DA15,DD15)","v":0},{"$f":"SUM(DF15:DG15)","v":0},0,0,{"$f":"SUM(DI15:DJ15)","v":0},0,0,{"$f":"SUM(DL15:DM15)","v":0},{"$f":"SUM(DI15,DL15)","v":0},{"$f":"SUM(DJ15,DM15)","v":0},{"$f":"SUM(DO15:DP15)","v":0},0,0,{"$f":"SUM(DR15:DS15)","v":0},0,0,{"$f":"SUM(DU15:DV15)","v":0},0,0,{"$f":"SUM(DX15:DY15)","v":0},{"$f":"SUM(DR15,DU15,DX15)","v":0},{"$f":"SUM(DS15,DV15,DY15)","v":0},{"$f":"SUM(EA15:EB15)","v":0},{"$f":"SUM(BJ15,DF15,DO15,EA15)","v":0},{"$f":"SUM(BK15,DG15,DP15,EB15)","v":0},{"$f":"SUM(ED15:EE15)","v":0}]
[1,{"$f":"[1]RB_Subacc!A7","v":"ការិយាល័យអប់រំ យុវជន និងកីឡាក្រុងប៉ៃលិន"},{"$f":"[1]RB_Subacc!C15","v":0},{"$f":"[1]RB_Subacc!D15","v":0},{"$f":"[1]RB_Subacc!E15","v":0},{"$f":"[1]RB_Subacc!F15","v":0},{"$f":"SUM(E16:F16)","v":0},{"$f":"[1]RB_Subacc!H15","v":0},{"$f":"[1]RB_Subacc!I15","v":0},{"$f":"SUM(H16:I16)","v":0},{"$f":"[1]RB_Subacc!K15","v":0},{"$f":"[1]RB_Subacc!L15","v":0},{"$f":"SUM(K16:L16)","v":0},{"$f":"[1]RB_Subacc!N15","v":0},{"$f":"[1]RB_Subacc!O15","v":0},{"$f":"SUM(N16:O16)","v":0},{"$f":"[1]RB_Subacc!Q15","v":0},{"$f":"[1]RB_Subacc!R15","v":0},{"$f":"SUM(Q16:R16)","v":0},{"$f":"[1]RB_Subacc!T15","v":0},{"$f":"[1]RB_Subacc!U15","v":0},{"$f":"SUM(T16:U16)","v":0},{"$f":"[1]RB_Subacc!W15","v":0},{"$f":"[1]RB_Subacc!X15","v":0},{"$f":"SUM(W16:X16)","v":0},{"$f":"[1]RB_Subacc!Z15","v":0},{"$f":"[1]RB_Subacc!AA15","v":0},{"$f":"SUM(Z16:AA16)","v":0},{"$f":"[1]RB_Subacc!AC15","v":0},{"$f":"[1]RB_Subacc!AD15","v":0},{"$f":"SUM(AC16:AD16)","v":0},{"$f":"[1]RB_Subacc!AF15","v":0},{"$f":"[1]RB_Subacc!AG15","v":0},{"$f":"SUM(AF16:AG16)","v":0},{"$f":"[1]RB_Subacc!AI15","v":0},{"$f":"[1]RB_Subacc!AJ15","v":0},{"$f":"SUM(AI16:AJ16)","v":0},{"$f":"[1]RB_Subacc!AL15","v":0},{"$f":"[1]RB_Subacc!AM15","v":0},{"$f":"SUM(AL16:AM16)","v":0},{"$f":"[1]RB_Subacc!AO15","v":0},{"$f":"[1]RB_Subacc!AP15","v":0},{"$f":"SUM(AO16:AP16)","v":0},{"$f":"[1]RB_Subacc!AR15","v":0},{"$f":"[1]RB_Subacc!AS15","v":0},{"$f":"SUM(AR16:AS16)","v":0},{"$f":"[1]RB_Subacc!AU15","v":0},{"$f":"[1]RB_Subacc!AV15","v":0},{"$f":"SUM(AU16:AV16)","v":0},{"$f":"[1]RB_Subacc!AX15","v":0},{"$f":"[1]RB_Subacc!AY15","v":0},{"$f":"SUM(AX16:AY16)","v":0},{"$f":"[1]RB_Subacc!BA15","v":0},{"$f":"[1]RB_Subacc!BB15","v":0},{"$f":"SUM(BA16:BB16)","v":0},{"$f":"[1]RB_Subacc!BD15","v":0},{"$f":"[1]RB_Subacc!BE15","v":0},{"$f":"SUM(BD16:BE16)","v":0},{"$f":"[1]RB_Subacc!BG15","v":0},{"$f":"[1]RB_Subacc!BH15","v":0},{"$f":"SUM(BG16:BH16)","v":0},{"$f":"SUM(E16,H16,K16,N16,Q16,T16,W16,Z16,AC16,AF16,AI16,AL16,AO16,AR16,AU16,AX16,BA16,BD16,BG16)","v":0},0,{"$f":"SUM(BJ16:BK16)","v":0},{"$f":"[1]RB_Subacc!BM15","v":0},{"$f":"[1]RB_Subacc!BN15","v":0},{"$f":"SUM(BM16:BN16)","v":0},{"$f":"[1]RB_Subacc!BP15","v":0},{"$f":"[1]RB_Subacc!BQ15","v":0},{"$f":"SUM(BP16:BQ16)","v":0},{"$f":"[1]RB_Subacc!BS15","v":0},{"$f":"[1]RB_Subacc!BT15","v":0},{"$f":"SUM(BS16:BT16)","v":0},{"$f":"[1]RB_Subacc!BV15","v":0},{"$f":"[1]RB_Subacc!BW15","v":0},{"$f":"SUM(BV16:BW16)","v":0},{"$f":"[1]RB_Subacc!BY15","v":0},{"$f":"[1]RB_Subacc!BZ15","v":0},{"$f":"SUM(BY16:BZ16)","v":0},{"$f":"[1]RB_Subacc!CB15","v":0},{"$f":"[1]RB_Subacc!CC15","v":0},{"$f":"SUM(CB16:CC16)","v":0},{"$f":"[1]RB_Subacc!CE15","v":0},{"$f":"[1]RB_Subacc!CF15","v":0},{"$f":"SUM(CE16:CF16)","v":0},{"$f":"[1]RB_Subacc!CH15","v":0},{"$f":"[1]RB_Subacc!CI15","v":0},{"$f":"SUM(CH16:CI16)","v":0},{"$f":"[1]RB_Subacc!CK15","v":0},{"$f":"[1]RB_Subacc!CL15","v":0},{"$f":"SUM(CK16:CL16)","v":0},{"$f":"[1]RB_Subacc!CN15","v":0},{"$f":"[1]RB_Subacc!CO15","v":0},{"$f":"SUM(CN16:CO16)","v":0},{"$f":"[1]RB_Subacc!CQ15","v":0},{"$f":"[1]RB_Subacc!CR15","v":0},{"$f":"SUM(CQ16:CR16)","v":0},{"$f":"[1]RB_Subacc!CT15","v":0},{"$f":"[1]RB_Subacc!CU15","v":0},{"$f":"SUM(CT16:CU16)","v":0},{"$f":"[1]RB_Subacc!CW15","v":0},{"$f":"[1]RB_Subacc!CX15","v":0},{"$f":"SUM(CW16:CX16)","v":0},{"$f":"[1]RB_Subacc!CZ15","v":0},{"$f":"[1]RB_Subacc!DA15","v":0},{"$f":"SUM(CZ16:DA16)","v":0},{"$f":"[1]RB_Subacc!DC15","v":0},{"$f":"[1]RB_Subacc!DD15","v":0},{"$f":"SUM(DC16:DD16)","v":0},{"$f":"SUM(BM16,BP16,BS16,BV16,BY16,CB16,CE16,CH16,CK16,CN16,CQ16,CT16,CW16,CZ16,DC16)","v":0},0,{"$f":"SUM(DF16:DG16)","v":0},{"$f":"[1]RB_Subacc!DI15","v":0},{"$f":"[1]RB_Subacc!DJ15","v":0},{"$f":"SUM(DI16:DJ16)","v":0},{"$f":"[1]RB_Subacc!DL15","v":0},{"$f":"[1]RB_Subacc!DM15","v":0},{"$f":"SUM(DL16:DM16)","v":0},{"$f":"SUM(DI16,DL16)","v":0},0,{"$f":"SUM(DO16:DP16)","v":0},{"$f":"[1]RB_Subacc!DR15","v":0},{"$f":"[1]RB_Subacc!DS15","v":0},{"$f":"SUM(DR16:DS16)","v":0},{"$f":"[1]RB_Subacc!DU15","v":0},{"$f":"[1]RB_Subacc!DV15","v":0},{"$f":"SUM(DU16:DV16)","v":0},{"$f":"[1]RB_Subacc!DX15","v":0},{"$f":"[1]RB_Subacc!DY15","v":0},{"$f":"SUM(DX16:DY16)","v":0},{"$f":"SUM(DR16,DU16,DX16)","v":0},0,{"$f":"SUM(EA16:EB16)","v":0},{"$f":"SUM(BJ16,DF16,DO16,EA16)","v":0},0,{"$f":"SUM(ED16:EE16)","v":0}]
[2,null,null,null,null,null,{"$f":"SUM(E17:F17)","v":0},null,null,0,null,null,0,null,null,0,null,null,0,null,null,0,null,null,0,null,null,0,null,null,0,null,null,0,null,null,0,null,null,0,null,null,0,null,null,0,null,null,0,null,null,0,null,null,0,null,null,0,null,null,0,0,0,0,null,null,0,null,null,0,null,null,0,null,null,0,null,null,0,null,null,0,null,null,0,null,null,0,null,null,0,null,null,0,null,null,0,null,null,0,null,null,0,null,null,0,null,null,0,0,0,0,null,null,0,null,null,0,0,0,0,null,null,0,null,null,0,null,null,0,0,0,0,0,0,0]
[3,null,null,null,null,null,0,null,null,0,null,null,0,null,null,0,null,null,0,null,null,0,null,null,0,null,null,0,null,null,0,null,null,0,null,null,0,null,null,0,null,null,0,null,null,0,null,null,0,null,null,0,null,null,0,null,null,0,null,null,0,0,0,0,null,null,0,null,null,0,null,null,0,null,null,0,null,null,0,null,null,0,null,null,0,null,null,0,null,null,0,null,null,0,null,null,0,null,null,0,null,null,0,null,null,0,null,null,0,0,0,0,null,null,0,null,null,0,0,0,0,null,null,0,null,null,0,null,null,0,0,0,0,0,0,0]
[4,null,null,null,null,null,0,null,null,0,null,null,0,null,null,0,null,null,0,null,null,0,null,null,0,null,null,0,null,null,0,null,null,0,null,null,0,null,null,0,null,null,0,null,null,0,null,null,0,null,null,0,null,null,0,null,null,0,null,null,0,0,0,0,null,null,0,null,null,0,null,null,0,null,null,0,null,null,0,null,null,0,null,null,0,null,null,0,null,null,0,null,null,0,null,null,0,null,null,0,null,null,0,null,null,0,null,null,0,0,0,0,null,null,0,null,null,0,0,0,0,null,null,0,null,null,0,null,null,0,0,0,0,0,0,0]
[5,null,null,null,null,null,0,null,null,0,null,null,0,null,null,0,null,null,0,null,null,0,null,null,0,null,null,0,null,null,0,null,null,0,null,null,0,null,null,0,null,null,0,null,null,0,null,null,0,null,null,0,null,null,0,null,null,0,null,null,0,0,0,0,null,null,0,null,null,0,null,null,0,null,null,0,null,null,0,null,null,0,null,null,0,null,null,0,null,null,0,null,null,0,null,null,0,null,null,0,null,null,0,null,null,0,null,null,0,0,0,0,null,null,0,null,null,0,0,0,0,null,null,0,null,null,0,null,null,0,0,0,0,0,0,0]
[6,null,null,null,null,null,0,null,null,0,null,null,0,null,null,0,null,null,0,null,null,0,null,null,0,null,null,0,null,null,0,null,null,0,null,null,0,null,null,0,null,null,0,null,null,0,null,null,0,null,null,0,null,null,0,null,null,0,null,null,0,0,0,0,null,null,0,null,null,0,null,null,0,null,null,0,null,null,0,null,null,0,null,null,0,null,null,0,null,null,0,null,null,0,null,null,0,null,null,0,null,null,0,null,null,0,null,null,0,0,0,0,null,null,0,null,null,0,0,0,0,null,null,0,null,null,0,null,null,0,0,0,0,0,0,0]
[7,null,null,null,null,null,0,null,null,0,null,null,0,null,null,0,null,null,0,null,null,0,null,null,0,null,null,0,null,null,0,null,null,0,null,null,0,null,null,0,null,null,0,null,null,0,null,null,0,null,null,0,null,null,0,null,null,0,null,null,0,0,0,0,null,null,0,null,null,0,null,null,0,null,null,0,null,null,0,null,null,0,null,null,0,null,null,0,null,null,0,null,null,0,null,null,0,null,null,0,null,null,0,null,null,0,null,null,0,0,0,0,null,null,0,null,null,0,0,0,0,null,null,0,null,null,0,null,null,0,0,0,0,0,0,0]
[8,null,null,null,null,null,0,null,null,0,null,null,0,null,null,0,null,null,0,null,null,0,null,null,0,null,null,0,null,null,0,null,null,0,null,null,0,null,null,0,null,null,0,null,null,0,null,null,0,null,null,0,null,null,0,null,null,0,null,null,0,0,0,0,null,null,0,null,null,0,null,null,0,null,null,0,null,null,0,null,null,0,null,null,0,null,null,0,null,null,0,null,null,0,null,null,0,null,null,0,null,null,0,null,null,0,null,null,0,0,0,0,null,null,0,null,null,0,0,0,0,null,null,0,null,null,0,null,null,0,0,0,0,0,0,0]
[9,null,null,null,null,null,0,null,null,0,null,null,0,null,null,0,null,null,0,null,null,0,null,null,0,null,null,0,null,null,0,null,null,0,null,null,0,null,null,0,null,null,0,null,null,0,null,null,0,null,null,0,null,null,0,null,null,0,null,null,0,0,0,0,null,null,0,null,null,0,null,null,0,null,null,0,null,null,0,null,null,0,null,null,0,null,null,0,null,null,0,null,null,0,null,null,0,null,null,0,null,null,0,null,null,0,null,null,0,0,0,0,null,null,0,null,null,0,0,0,0,null,null,0,null,null,0,null,null,0,0,0,0,0,0,0]
[10,null,null,null,null,null,0,null,null,0,null,null,0,null,null,0,null,null,0,null,null,0,null,null,0,null,null,0,null,null,0,null,null,0,null,null,0,null,null,0,null,null,0,null,null,0,null,null,0,null,null,0,null,null,0,null,null,0,null,null,0,0,0,0,null,null,0,null,null,0,null,null,0,null,null,0,null,null,0,null,null,0,null,null,0,null,null,0,null,null,0,null,null,0,null,null,0,null,null,0,null,null,0,null,null,0,null,null,0,0,0,0,null,null,0,null,null,0,0,0,0,null,null,0,null,null,0,null,null,0,0,0,0,0,0,0]
[11,null,null,null,null,null,0,null,null,0,null,null,0,null,null,0,null,null,0,null,null,0,null,null,0,null,null,0,null,null,0,null,null,0,null,null,0,null,null,0,null,null,0,null,null,0,null,null,0,null,null,0,null,null,0,null,null,0,null,null,0,0,0,0,null,null,0,null,null,0,null,null,0,null,null,0,null,null,0,null,null,0,null,null,0,null,null,0,null,null,0,null,null,0,null,null,0,null,null,0,null,null,0,null,null,0,null,null,0,0,0,0,null,null,0,null,null,0,0,0,0,null,null,0,null,null,0,null,null,0,0,0,0,0,0,0]
[12,null,null,null,null,null,0,null,null,0,null,null,0,null,null,0,null,null,0,null,null,0,null,null,0,null,null,0,null,null,0,null,null,0,null,null,0,null,null,0,null,null,0,null,null,0,null,null,0,null,null,0,null,null,0,null,null,0,null,null,0,0,0,0,null,null,0,null,null,0,null,null,0,null,null,0,null,null,0,null,null,0,null,null,0,null,null,0,null,null,0,null,null,0,null,null,0,null,null,0,null,null,0,null,null,0,null,null,0,0,0,0,null,null,0,null,null,0,0,0,0,null,null,0,null,null,0,null,null,0,0,0,0,0,0,0]
[13,null,null,null,null,null,0,null,null,0,null,null,0,null,null,0,null,null,0,null,null,0,null,null,0,null,null,0,null,null,0,null,null,0,null,null,0,null,null,0,null,null,0,null,null,0,null,null,0,null,null,0,null,null,0,null,null,0,null,null,0,0,0,0,null,null,0,null,null,0,null,null,0,null,null,0,null,null,0,null,null,0,null,null,0,null,null,0,null,null,0,null,null,0,null,null,0,null,null,0,null,null,0,null,null,0,null,null,0,0,0,0,null,null,0,null,null,0,0,0,0,null,null,0,null,null,0,null,null,0,0,0,0,0,0,0]
[14,null,null,null,null,null,0,null,null,0,null,null,0,null,null,0,null,null,0,null,null,0,null,null,0,null,null,0,null,null,0,null,null,0,null,null,0,null,null,0,null,null,0,null,null,0,null,null,0,null,null,0,null,null,0,null,null,0,null,null,0,0,0,0,null,null,0,null,null,0,null,null,0,null,null,0,null,null,0,null,null,0,null,null,0,null,null,0,null,null,0,null,null,0,null,null,0,null,null,0,null,null,0,null,null,0,null,null,0,0,0,0,null,null,0,null,null,0,0,0,0,null,null,0,null,null,0,null,null,0,0,0,0,0,0,0]
[15,null,null,null,null,null,0,null,null,0,null,null,0,null,null,0,null,null,0,null,null,0,null,null,0,null,null,0,null,null,0,null,null,0,null,null,0,null,null,0,null,null,0,null,null,0,null,null,0,null,null,0,null,null,0,null,null,0,null,null,0,0,0,0,null,null,0,null,null,0,null,null,0,null,null,0,null,null,0,null,null,0,null,null,0,null,null,0,null,null,0,null,null,0,null,null,0,null,null,0,null,null,0,null,null,0,null,null,0,0,0,0,null,null,0,null,null,0,0,0,0,null,null,0,null,null,0,null,null,0,0,0,0,0,0,0]
[16,null,null,null,null,null,0,null,null,0,null,null,0,null,null,0,null,null,0,null,null,0,null,null,0,null,null,0,null,null,0,null,null,0,null,null,0,null,null,0,null,null,0,null,null,0,null,null,0,null,null,0,null,null,0,null,null,0,null,null,0,0,0,0,null,null,0,null,null,0,null,null,0,null,null,0,null,null,0,null,null,0,null,null,0,null,null,0,null,null,0,null,null,0,null,null,0,null,null,0,null,null,0,null,null,0,null,null,0,0,0,0,null,null,0,null,null,0,0,0,0,null,null,0,null,null,0,null,null,0,0,0,0,0,0,0]
[17,null,null,null,null,null,0,null,null,0,null,null,0,null,null,0,null,null,0,null,null,0,null,null,0,null,null,0,null,null,0,null,null,0,null,null,0,null,null,0,null,null,0,null,null,0,null,null,0,null,null,0,null,null,0,null,null,0,null,null,0,0,0,0,null,null,0,null,null,0,null,null,0,null,null,0,null,null,0,null,null,0,null,null,0,null,null,0,null,null,0,null,null,0,null,null,0,null,null,0,null,null,0,null,null,0,null,null,0,0,0,0,null,null,0,null,null,0,0,0,0,null,null,0,null,null,0,null,null,0,0,0,0,0,0,0]
[18,null,null,null,null,null,0,null,null,0,null,null,0,null,null,0,null,null,0,null,null,0,null,null,0,null,null,0,null,null,0,null,null,0,null,null,0,null,null,0,null,null,0,null,null,0,null,null,0,null,null,0,null,null,0,null,null,0,null,null,0,0,0,0,null,null,0,null,null,0,null,null,0,null,null,0,null,null,0,null,null,0,null,null,0,null,null,0,null,null,0,null,null,0,null,null,0,null,null,0,null,null,0,null,null,0,null,null,0,0,0,0,null,null,0,null,null,0,0,0,0,null,null,0,null,null,0,null,null,0,0,0,0,0,0,0]
[19,null,null,null,null,null,0,null,null,0,null,null,0,null,null,0,null,null,0,null,null,0,null,null,0,null,null,0,null,null,0,null,null,0,null,null,0,null,null,0,null,null,0,null,null,0,null,null,0,null,null,0,null,null,0,null,null,0,null,null,0,0,0,0,null,null,0,null,null,0,null,null,0,null,null,0,null,null,0,null,null,0,null,null,0,null,null,0,null,null,0,null,null,0,null,null,0,null,null,0,null,null,0,null,null,0,null,null,0,0,0,0,null,null,0,null,null,0,0,0,0,null,null,0,null,null,0,null,null,0,0,0,0,0,0,0]
[20,null,null,null,null,null,0,null,null,0,null,null,0,null,null,0,null,null,0,null,null,0,null,null,0,null,null,0,null,null,0,null,null,0,null,null,0,null,null,0,null,null,0,null,null,0,null,null,0,null,null,0,null,null,0,null,null,0,null,null,0,0,0,0,null,null,0,null,null,0,null,null,0,null,null,0,null,null,0,null,null,0,null,null,0,null,null,0,null,null,0,null,null,0,null,null,0,null,null,0,null,null,0,null,null,0,null,null,0,0,0,0,null,null,0,null,null,0,0,0,0,null,null,0,null,null,0,null,null,0,0,0,0,0,0,0]
[21,null,null,null,null,null,0,null,null,0,null,null,0,null,null,0,null,null,0,null,null,0,null,null,0,null,null,0,null,null,0,null,null,0,null,null,0,null,null,0,null,null,0,null,null,0,null,null,0,null,null,0,null,null,0,null,null,0,null,null,0,0,0,0,null,null,0,null,null,0,null,null,0,null,null,0,null,null,0,null,null,0,null,null,0,null,null,0,null,null,0,null,null,0,null,null,0,null,null,0,null,null,0,null,null,0,null,null,0,0,0,0,null,null,0,null,null,0,0,0,0,null,null,0,null,null,0,null,null,0,0,0,0,0,0,0]
[22,null,null,null,null,null,0,null,null,0,null,null,0,null,null,0,null,null,0,null,null,0,null,null,0,null,null,0,null,null,0,null,null,0,null,null,0,null,null,0,null,null,0,null,null,0,null,null,0,null,null,0,null,null,0,null,null,0,null,null,0,0,0,0,null,null,0,null,null,0,null,null,0,null,null,0,null,null,0,null,null,0,null,null,0,null,null,0,null,null,0,null,null,0,null,null,0,null,null,0,null,null,0,null,null,0,null,null,0,0,0,0,null,null,0,null,null,0,0,0,0,null,null,0,null,null,0,null,null,0,0,0,0,0,0,0]
[23,null,null,null,null,null,0,null,null,0,null,null,0,null,null,0,null,null,0,null,null,0,null,null,0,null,null,0,null,null,0,null,null,0,null,null,0,null,null,0,null,null,0,null,null,0,null,null,0,null,null,0,null,null,0,null,null,0,null,null,0,0,0,0,null,null,0,null,null,0,null,null,0,null,null,0,null,null,0,null,null,0,null,null,0,null,null,0,null,null,0,null,null,0,null,null,0,null,null,0,null,null,0,null,null,0,null,null,0,0,0,0,null,null,0,null,null,0,0,0,0,null,null,0,null,null,0,null,null,0,0,0,0,0,0,0]
[24,null,null,null,null,null,0,null,null,0,null,null,0,null,null,0,null,null,0,null,null,0,null,null,0,null,null,0,null,null,0,null,null,0,null,null,0,null,null,0,null,null,0,null,null,0,null,null,0,null,null,0,null,null,0,null,null,0,null,null,0,0,0,0,null,null,0,null,null,0,null,null,0,null,null,0,null,null,0,null,null,0,null,null,0,null,null,0,null,null,0,null,null,0,null,null,0,null,null,0,null,null,0,null,null,0,null,null,0,0,0,0,null,null,0,null,null,0,0,0,0,null,null,0,null,null,0,null,null,0,0,0,0,0,0,0]
[25,null,null,null,null,null,0,null,null,0,null,null,0,null,null,0,null,null,0,null,null,0,null,null,0,null,null,0,null,null,0,null,null,0,null,null,0,null,null,0,null,null,0,null,null,0,null,null,0,null,null,0,null,null,0,null,null,0,null,null,0,0,0,0,null,null,0,null,null,0,null,null,0,null,null,0,null,null,0,null,null,0,null,null,0,null,null,0,null,null,0,null,null,0,null,null,0,null,null,0,null,null,0,null,null,0,null,null,0,0,0,0,null,null,0,null,null,0,0,0,0,null,null,0,null,null,0,null,null,0,0,0,0,0,0,0]
[26,null,null,null,null,null,0,null,null,0,null,null,0,null,null,0,null,null,0,null,null,0,null,null,0,null,null,0,null,null,0,null,null,0,null,null,0,null,null,0,null,null,0,null,null,0,null,null,0,null,null,0,null,null,0,null,null,0,null,null,0,0,0,0,null,null,0,null,null,0,null,null,0,null,null,0,null,null,0,null,null,0,null,null,0,null,null,0,null,null,0,null,null,0,null,null,0,null,null,0,null,null,0,null,null,0,null,null,0,0,0,0,null,null,0,null,null,0,0,0,0,null,null,0,null,null,0,null,null,0,0,0,0,0,0,0]
[27,null,null,null,null,null,0,null,null,0,null,null,0,null,null,0,null,null,0,null,null,0,null,null,0,null,null,0,null,null,0,null,null,0,null,null,0,null,null,0,null,null,0,null,null,0,null,null,0,null,null,0,null,null,0,null,null,0,null,null,0,0,0,0,null,null,0,null,null,0,null,null,0,null,null,0,null,null,0,null,null,0,null,null,0,null,null,0,null,null,0,null,null,0,null,null,0,null,null,0,null,null,0,null,null,0,null,null,0,0,0,0,null,null,0,null,null,0,0,0,0,null,null,0,null,null,0,null,null,0,0,0,0,0,0,0]
[28,null,null,null,null,null,0,null,null,0,null,null,0,null,null,0,null,null,0,null,null,0,null,null,0,null,null,0,null,null,0,null,null,0,null,null,0,null,null,0,null,null,0,null,null,0,null,null,0,null,null,0,null,null,0,null,null,0,null,null,0,0,0,0,null,null,0,null,null,0,null,null,0,null,null,0,null,null,0,null,null,0,null,null,0,null,null,0,null,null,0,null,null,0,null,null,0,null,null,0,null,null,0,null,null,0,null,null,0,0,0,0,null,null,0,null,null,0,0,0,0,null,null,0,null,null,0,null,null,0,0,0,0,0,0,0]
[29,null,null,null,null,null,0,null,null,0,null,null,0,null,null,0,null,null,0,null,null,0,null,null,0,null,null,0,null,null,0,null,null,0,null,null,0,null,null,0,null,null,0,null,null,0,null,null,0,null,null,0,null,null,0,null,null,0,null,null,0,0,0,0,null,null,0,null,null,0,null,null,0,null,null,0,null,null,0,null,null,0,null,null,0,null,null,0,null,null,0,null,null,0,null,null,0,null,null,0,null,null,0,null,null,0,null,null,0,0,0,0,null,null,0,null,null,0,0,0,0,null,null,0,null,null,0,null,null,0,0,0,0,0,0,0]
[30,null,null,null,null,null,0,null,null,0,null,null,0,null,null,0,null,null,0,null,null,0,null,null,0,null,null,0,null,null,0,null,null,0,null,null,0,null,null,0,null,null,0,null,null,0,null,null,0,null,null,0,null,null,0,null,null,0,null,null,0,0,0,0,null,null,0,null,null,0,null,null,0,null,null,0,null,null,0,null,null,0,null,null,0,null,null,0,null,null,0,null,null,0,null,null,0,null,null,0,null,null,0,null,null,0,null,null,0,0,0,0,null,null,0,null,null,0,0,0,0,null,null,0,null,null,0,null,null,0,0,0,0,0,0,0]
[31,null,null,null,null,null,0,null,null,0,null,null,0,null,null,0,null,null,0,null,null,0,null,null,0,null,null,0,null,null,0,null,null,0,null,null,0,null,null,0,null,null,0,null,null,0,null,null,0,null,null,0,null,null,0,null,null,0,null,null,0,0,0,0,null,null,0,null,null,0,null,null,0,null,null,0,null,null,0,null,null,0,null,null,0,null,null,0,null,null,0,null,null,0,null,null,0,null,null,0,null,null,0,null,null,0,null,null,0,0,0,0,null,null,0,null,null,0,0,0,0,null,null,0,null,null,0,null,null,0,0,0,0,0,0,0]
[32,null,null,null,null,null,0,null,null,0,null,null,0,null,null,0,null,null,0,null,null,0,null,null,0,null,null,0,null,null,0,null,null,0,null,null,0,null,null,0,null,null,0,null,null,0,null,null,0,null,null,0,null,null,0,null,null,0,null,null,0,0,0,0,null,null,0,null,null,0,null,null,0,null,null,0,null,null,0,null,null,0,null,null,0,null,null,0,null,null,0,null,null,0,null,null,0,null,null,0,null,null,0,null,null,0,null,null,0,0,0,0,null,null,0,null,null,0,0,0,0,null,null,0,null,null,0,null,null,0,0,0,0,0,0,0]
[33,null,null,null,null,null,0,null,null,0,null,null,0,null,null,0,null,null,0,null,null,0,null,null,0,null,null,0,null,null,0,null,null,0,null,null,0,null,null,0,null,null,0,null,null,0,null,null,0,null,null,0,null,null,0,null,null,0,null,null,0,0,0,0,null,null,0,null,null,0,null,null,0,null,null,0,null,null,0,null,null,0,null,null,0,null,null,0,null,null,0,null,null,0,null,null,0,null,null,0,null,null,0,null,null,0,null,null,0,0,0,0,null,null,0,null,null,0,0,0,0,null,null,0,null,null,0,null,null,0,0,0,0,0,0,0]
[34,null,null,null,null,null,0,null,null,0,null,null,0,null,null,0,null,null,0,null,null,0,null,null,0,null,null,0,null,null,0,null,null,0,null,null,0,null,null,0,null,null,0,null,null,0,null,null,0,null,null,0,null,null,0,null,null,0,null,null,0,0,0,0,null,null,0,null,null,0,null,null,0,null,null,0,null,null,0,null,null,0,null,null,0,null,null,0,null,null,0,null,null,0,null,null,0,null,null,0,null,null,0,null,null,0,null,null,0,0,0,0,null,null,0,null,null,0,0,0,0,null,null,0,null,null,0,null,null,0,0,0,0,0,0,0]
[35,null,null,null,null,null,0,null,null,0,null,null,0,null,null,0,null,null,0,null,null,0,null,null,0,null,null,0,null,null,0,null,null,0,null,null,0,null,null,0,null,null,0,null,null,0,null,null,0,null,null,0,null,null,0,null,null,0,null,null,0,0,0,0,null,null,0,null,null,0,null,null,0,null,null,0,null,null,0,null,null,0,null,null,0,null,null,0,null,null,0,null,null,0,null,null,0,null,null,0,null,null,0,null,null,0,null,null,0,0,0,0,null,null,0,null,null,0,0,0,0,null,null,0,null,null,0,null,null,0,0,0,0,0,0,0]
[36,null,null,null,null,null,0,null,null,0,null,null,0,null,null,0,null,null,0,null,null,0,null,null,0,null,null,0,null,null,0,null,null,0,null,null,0,null,null,0,null,null,0,null,null,0,null,null,0,null,null,0,null,null,0,null,null,0,null,null,0,0,0,0,null,null,0,null,null,0,null,null,0,null,null,0,null,null,0,null,null,0,null,null,0,null,null,0,null,null,0,null,null,0,null,null,0,null,null,0,null,null,0,null,null,0,null,null,0,0,0,0,null,null,0,null,null,0,0,0,0,null,null,0,null,null,0,null,null,0,0,0,0,0,0,0]
[37,null,null,null,null,null,0,null,null,0,null,null,0,null,null,0,null,null,0,null,null,0,null,null,0,null,null,0,null,null,0,null,null,0,null,null,0,null,null,0,null,null,0,null,null,0,null,null,0,null,null,0,null,null,0,null,null,0,null,null,0,0,0,0,null,null,0,null,null,0,null,null,0,null,null,0,null,null,0,null,null,0,null,null,0,null,null,0,null,null,0,null,null,0,null,null,0,null,null,0,null,null,0,null,null,0,null,null,0,0,0,0,null,null,0,null,null,0,0,0,0,null,null,0,null,null,0,null,null,0,0,0,0,0,0,0]
[38,null,null,null,null,null,0,null,null,0,null,null,0,null,null,0,null,null,0,null,null,0,null,null,0,null,null,0,null,null,0,null,null,0,null,null,0,null,null,0,null,null,0,null,null,0,null,null,0,null,null,0,null,null,0,null,null,0,null,null,0,0,0,0,null,null,0,null,null,0,null,null,0,null,null,0,null,null,0,null,null,0,null,null,0,null,null,0,null,null,0,null,null,0,null,null,0,null,null,0,null,null,0,null,null,0,null,null,0,0,0,0,null,null,0,null,null,0,0,0,0,null,null,0,null,null,0,null,null,0,0,0,0,0,0,0]
[39,null,null,null,null,null,0,null,null,0,null,null,0,null,null,0,null,null,0,null,null,0,null,null,0,null,null,0,null,null,0,null,null,0,null,null,0,null,null,0,null,null,0,null,null,0,null,null,0,null,null,0,null,null,0,null,null,0,null,null,0,0,0,0,null,null,0,null,null,0,null,null,0,null,null,0,null,null,0,null,null,0,null,null,0,null,null,0,null,null,0,null,null,0,null,null,0,null,null,0,null,null,0,null,null,0,null,null,0,0,0,0,null,null,0,null,null,0,0,0,0,null,null,0,null,null,0,null,null,0,0,0,0,0,0,0]
[40,null,null,null,null,null,0,null,null,0,null,null,0,null,null,0,null,null,0,null,null,0,null,null,0,null,null,0,null,null,0,null,null,0,null,null,0,null,null,0,null,null,0,null,null,0,null,null,0,null,null,0,null,null,0,null,null,0,null,null,0,0,0,0,null,null,0,null,null,0,null,null,0,null,null,0,null,null,0,null,null,0,null,null,0,null,null,0,null,null,0,null,null,0,null,null,0,null,null,0,null,null,0,null,null,0,null,null,0,0,0,0,null,null,0,null,null,0,0,0,0,null,null,0,null,null,0,null,null,0,0,0,0,0,0,0]
[41,null,null,null,null,null,0,null,null,0,null,null,0,null,null,0,null,null,0,null,null,0,null,null,0,null,null,0,null,null,0,null,null,0,null,null,0,null,null,0,null,null,0,null,null,0,null,null,0,null,null,0,null,null,0,null,null,0,null,null,0,0,0,0,null,null,0,null,null,0,null,null,0,null,null,0,null,null,0,null,null,0,null,null,0,null,null,0,null,null,0,null,null,0,null,null,0,null,null,0,null,null,0,null,null,0,null,null,0,0,0,0,null,null,0,null,null,0,0,0,0,null,null,0,null,null,0,null,null,0,0,0,0,0,0,0]
[42,null,null,null,null,null,0,null,null,0,null,null,0,null,null,0,null,null,0,null,null,0,null,null,0,null,null,0,null,null,0,null,null,0,null,null,0,null,null,0,null,null,0,null,null,0,null,null,0,null,null,0,null,null,0,null,null,0,null,null,0,0,0,0,null,null,0,null,null,0,null,null,0,null,null,0,null,null,0,null,null,0,null,null,0,null,null,0,null,null,0,null,null,0,null,null,0,null,null,0,null,null,0,null,null,0,null,null,0,0,0,0,null,null,0,null,null,0,0,0,0,null,null,0,null,null,0,null,null,0,0,0,0,0,0,0]
[43,null,null,null,null,null,0,null,null,0,null,null,0,null,null,0,null,null,0,null,null,0,null,null,0,null,null,0,null,null,0,null,null,0,null,null,0,null,null,0,null,null,0,null,null,0,null,null,0,null,null,0,null,null,0,null,null,0,null,null,0,0,0,0,null,null,0,null,null,0,null,null,0,null,null,0,null,null,0,null,null,0,null,null,0,null,null,0,null,null,0,null,null,0,null,null,0,null,null,0,null,null,0,null,null,0,null,null,0,0,0,0,null,null,0,null,null,0,0,0,0,null,null,0,null,null,0,null,null,0,0,0,0,0,0,0]
[44,null,null,null,null,null,0,null,null,0,null,null,0,null,null,0,null,null,0,null,null,0,null,null,0,null,null,0,null,null,0,null,null,0,null,null,0,null,null,0,null,null,0,null,null,0,null,null,0,null,null,0,null,null,0,null,null,0,null,null,0,0,0,0,null,null,0,null,null,0,null,null,0,null,null,0,null,null,0,null,null,0,null,null,0,null,null,0,null,null,0,null,null,0,null,null,0,null,null,0,null,null,0,null,null,0,null,null,0,0,0,0,null,null,0,null,null,0,0,0,0,null,null,0,null,null,0,null,null,0,0,0,0,0,0,0]
[45,null,null,null,null,null,0,null,null,0,null,null,0,null,null,0,null,null,0,null,null,0,null,null,0,null,null,0,null,null,0,null,null,0,null,null,0,null,null,0,null,null,0,null,null,0,null,null,0,null,null,0,null,null,0,null,null,0,null,null,0,0,0,0,null,null,0,null,null,0,null,null,0,null,null,0,null,null,0,null,null,0,null,null,0,null,null,0,null,null,0,null,null,0,null,null,0,null,null,0,null,null,0,null,null,0,null,null,0,0,0,0,null,null,0,null,null,0,0,0,0,null,null,0,null,null,0,null,null,0,0,0,0,0,0,0]
[46,null,null,null,null,null,0,null,null,0,null,null,0,null,null,0,null,null,0,null,null,0,null,null,0,null,null,0,null,null,0,null,null,0,null,null,0,null,null,0,null,null,0,null,null,0,null,null,0,null,null,0,null,null,0,null,null,0,null,null,0,0,0,0,null,null,0,null,null,0,null,null,0,null,null,0,null,null,0,null,null,0,null,null,0,null,null,0,null,null,0,null,null,0,null,null,0,null,null,0,null,null,0,null,null,0,null,null,0,0,0,0,null,null,0,null,null,0,0,0,0,null,null,0,null,null,0,null,null,0,0,0,0,0,0,0]
[47,null,null,null,null,null,0,null,null,0,null,null,0,null,null,0,null,null,0,null,null,0,null,null,0,null,null,0,null,null,0,null,null,0,null,null,0,null,null,0,null,null,0,null,null,0,null,null,0,null,null,0,null,null,0,null,null,0,null,null,0,0,0,0,null,null,0,null,null,0,null,null,0,null,null,0,null,null,0,null,null,0,null,null,0,null,null,0,null,null,0,null,null,0,null,null,0,null,null,0,null,null,0,null,null,0,null,null,0,0,0,0,null,null,0,null,null,0,0,0,0,null,null,0,null,null,0,null,null,0,0,0,0,0,0,0]
[48,null,null,null,null,null,0,null,null,0,null,null,0,null,null,0,null,null,0,null,null,0,null,null,0,null,null,0,null,null,0,null,null,0,null,null,0,null,null,0,null,null,0,null,null,0,null,null,0,null,null,0,null,null,0,null,null,0,null,null,0,0,0,0,null,null,0,null,null,0,null,null,0,null,null,0,null,null,0,null,null,0,null,null,0,null,null,0,null,null,0,null,null,0,null,null,0,null,null,0,null,null,0,null,null,0,null,null,0,0,0,0,null,null,0,null,null,0,0,0,0,null,null,0,null,null,0,null,null,0,0,0,0,0,0,0]
[49,null,null,null,null,null,0,null,null,0,null,null,0,null,null,0,null,null,0,null,null,0,null,null,0,null,null,0,null,null,0,null,null,0,null,null,0,null,null,0,null,null,0,null,null,0,null,null,0,null,null,0,null,null,0,null,null,0,null,null,0,0,0,0,null,null,0,null,null,0,null,null,0,null,null,0,null,null,0,null,null,0,null,null,0,null,null,0,null,null,0,null,null,0,null,null,0,null,null,0,null,null,0,null,null,0,null,null,0,0,0,0,null,null,0,null,null,0,0,0,0,null,null,0,null,null,0,null,null,0,0,0,0,0,0,0]
[50,null,null,null,null,null,0,null,null,0,null,null,0,null,null,0,null,null,0,null,null,0,null,null,0,null,null,0,null,null,0,null,null,0,null,null,0,null,null,0,null,null,0,null,null,0,null,null,0,null,null,0,null,null,0,null,null,0,null,null,0,0,0,0,null,null,0,null,null,0,null,null,0,null,null,0,null,null,0,null,null,0,null,null,0,null,null,0,null,null,0,null,null,0,null,null,0,null,null,0,null,null,0,null,null,0,null,null,0,0,0,0,null,null,0,null,null,0,0,0,0,null,null,0,null,null,0,null,null,0,0,0,0,0,0,0]
[51,null,null,null,null,null,0,null,null,0,null,null,0,null,null,0,null,null,0,null,null,0,null,null,0,null,null,0,null,null,0,null,null,0,null,null,0,null,null,0,null,null,0,null,null,0,null,null,0,null,null,0,null,null,0,null,null,0,null,null,0,0,0,0,null,null,0,null,null,0,null,null,0,null,null,0,null,null,0,null,null,0,null,null,0,null,null,0,null,null,0,null,null,0,null,null,0,null,null,0,null,null,0,null,null,0,null,null,0,0,0,0,null,null,0,null,null,0,0,0,0,null,null,0,null,null,0,null,null,0,0,0,0,0,0,0]
[52,null,null,null,null,null,0,null,null,0,null,null,0,null,null,0,null,null,0,null,null,0,null,null,0,null,null,0,null,null,0,null,null,0,null,null,0,null,null,0,null,null,0,null,null,0,null,null,0,null,null,0,null,null,0,null,null,0,null,null,0,0,0,0,null,null,0,null,null,0,null,null,0,null,null,0,null,null,0,null,null,0,null,null,0,null,null,0,null,null,0,null,null,0,null,null,0,null,null,0,null,null,0,null,null,0,null,null,0,0,0,0,null,null,0,null,null,0,0,0,0,null,null,0,null,null,0,null,null,0,0,0,0,0,0,0]
[53,null,null,null,null,null,0,null,null,0,null,null,0,null,null,0,null,null,0,null,null,0,null,null,0,null,null,0,null,null,0,null,null,0,null,null,0,null,null,0,null,null,0,null,null,0,null,null,0,null,null,0,null,null,0,null,null,0,null,null,0,0,0,0,null,null,0,null,null,0,null,null,0,null,null,0,null,null,0,null,null,0,null,null,0,null,null,0,null,null,0,null,null,0,null,null,0,null,null,0,null,null,0,null,null,0,null,null,0,0,0,0,null,null,0,null,null,0,0,0,0,null,null,0,null,null,0,null,null,0,0,0,0,0,0,0]
[54,null,null,null,null,null,0,null,null,0,null,null,0,null,null,0,null,null,0,null,null,0,null,null,0,null,null,0,null,null,0,null,null,0,null,null,0,null,null,0,null,null,0,null,null,0,null,null,0,null,null,0,null,null,0,null,null,0,null,null,0,0,0,0,null,null,0,null,null,0,null,null,0,null,null,0,null,null,0,null,null,0,null,null,0,null,null,0,null,null,0,null,null,0,null,null,0,null,null,0,null,null,0,null,null,0,null,null,0,0,0,0,null,null,0,null,null,0,0,0,0,null,null,0,null,null,0,null,null,0,0,0,0,0,0,0]
[55,null,null,null,null,null,0,null,null,0,null,null,0,null,null,0,null,null,0,null,null,0,null,null,0,null,null,0,null,null,0,null,null,0,null,null,0,null,null,0,null,null,0,null,null,0,null,null,0,null,null,0,null,null,0,null,null,0,null,null,0,0,0,0,null,null,0,null,null,0,null,null,0,null,null,0,null,null,0,null,null,0,null,null,0,null,null,0,null,null,0,null,null,0,null,null,0,null,null,0,null,null,0,null,null,0,null,null,0,0,0,0,null,null,0,null,null,0,0,0,0,null,null,0,null,null,0,null,null,0,0,0,0,0,0,0]
[56,null,null,null,null,null,0,null,null,0,null,null,0,null,null,0,null,null,0,null,null,0,null,null,0,null,null,0,null,null,0,null,null,0,null,null,0,null,null,0,null,null,0,null,null,0,null,null,0,null,null,0,null,null,0,null,null,0,null,null,0,0,0,0,null,null,0,null,null,0,null,null,0,null,null,0,null,null,0,null,null,0,null,null,0,null,null,0,null,null,0,null,null,0,null,null,0,null,null,0,null,null,0,null,null,0,null,null,0,0,0,0,null,null,0,null,null,0,0,0,0,null,null,0,null,null,0,null,null,0,0,0,0,0,0,0]
[57,null,null,null,null,null,0,null,null,0,null,null,0,null,null,0,null,null,0,null,null,0,null,null,0,null,null,0,null,null,0,null,null,0,null,null,0,null,null,0,null,null,0,null,null,0,null,null,0,null,null,0,null,null,0,null,null,0,null,null,0,0,0,0,null,null,0,null,null,0,null,null,0,null,null,0,null,null,0,null,null,0,null,null,0,null,null,0,null,null,0,null,null,0,null,null,0,null,null,0,null,null,0,null,null,0,null,null,0,0,0,0,null,null,0,null,null,0,0,0,0,null,null,0,null,null,0,null,null,0,0,0,0,0,0,0]
[58,null,null,null,null,null,0,null,null,0,null,null,0,null,null,0,null,null,0,null,null,0,null,null,0,null,null,0,null,null,0,null,null,0,null,null,0,null,null,0,null,null,0,null,null,0,null,null,0,null,null,0,null,null,0,null,null,0,null,null,0,0,0,0,null,null,0,null,null,0,null,null,0,null,null,0,null,null,0,null,null,0,null,null,0,null,null,0,null,null,0,null,null,0,null,null,0,null,null,0,null,null,0,null,null,0,null,null,0,0,0,0,null,null,0,null,null,0,0,0,0,null,null,0,null,null,0,null,null,0,0,0,0,0,0,0]
[59,null,null,null,null,null,0,null,null,0,null,null,0,null,null,0,null,null,0,null,null,0,null,null,0,null,null,0,null,null,0,null,null,0,null,null,0,null,null,0,null,null,0,null,null,0,null,null,0,null,null,0,null,null,0,null,null,0,null,null,0,0,0,0,null,null,0,null,null,0,null,null,0,null,null,0,null,null,0,null,null,0,null,null,0,null,null,0,null,null,0,null,null,0,null,null,0,null,null,0,null,null,0,null,null,0,null,null,0,0,0,0,null,null,0,null,null,0,0,0,0,null,null,0,null,null,0,null,null,0,0,0,0,0,0,0]
[60,null,null,null,null,null,0,null,null,0,null,null,0,null,null,0,null,null,0,null,null,0,null,null,0,null,null,0,null,null,0,null,null,0,null,null,0,null,null,0,null,null,0,null,null,0,null,null,0,null,null,0,null,null,0,null,null,0,null,null,0,0,0,0,null,null,0,null,null,0,null,null,0,null,null,0,null,null,0,null,null,0,null,null,0,null,null,0,null,null,0,null,null,0,null,null,0,null,null,0,null,null,0,null,null,0,null,null,0,0,0,0,null,null,0,null,null,0,0,0,0,null,null,0,null,null,0,null,null,0,0,0,0,0,0,0]
[61,null,null,null,null,null,0,null,null,0,null,null,0,null,null,0,null,null,0,null,null,0,null,null,0,null,null,0,null,null,0,null,null,0,null,null,0,null,null,0,null,null,0,null,null,0,null,null,0,null,null,0,null,null,0,null,null,0,null,null,0,0,0,0,null,null,0,null,null,0,null,null,0,null,null,0,null,null,0,null,null,0,null,null,0,null,null,0,null,null,0,null,null,0,null,null,0,null,null,0,null,null,0,null,null,0,null,null,0,0,0,0,null,null,0,null,null,0,0,0,0,null,null,0,null,null,0,null,null,0,0,0,0,0,0,0]
[62,null,null,null,null,null,0,null,null,0,null,null,0,null,null,0,null,null,0,null,null,0,null,null,0,null,null,0,null,null,0,null,null,0,null,null,0,null,null,0,null,null,0,null,null,0,null,null,0,null,null,0,null,null,0,null,null,0,null,null,0,0,0,0,null,null,0,null,null,0,null,null,0,null,null,0,null,null,0,null,null,0,null,null,0,null,null,0,null,null,0,null,null,0,null,null,0,null,null,0,null,null,0,null,null,0,null,null,0,0,0,0,null,null,0,null,null,0,0,0,0,null,null,0,null,null,0,null,null,0,0,0,0,0,0,0]
[63,null,null,null,null,null,0,null,null,0,null,null,0,null,null,0,null,null,0,null,null,0,null,null,0,null,null,0,null,null,0,null,null,0,null,null,0,null,null,0,null,null,0,null,null,0,null,null,0,null,null,0,null,null,0,null,null,0,null,null,0,0,0,0,null,null,0,null,null,0,null,null,0,null,null,0,null,null,0,null,null,0,null,null,0,null,null,0,null,null,0,null,null,0,null,null,0,null,null,0,null,null,0,null,null,0,null,null,0,0,0,0,null,null,0,null,null,0,0,0,0,null,null,0,null,null,0,null,null,0,0,0,0,0,0,0]
[64,null,null,null,null,null,0,null,null,0,null,null,0,null,null,0,null,null,0,null,null,0,null,null,0,null,null,0,null,null,0,null,null,0,null,null,0,null,null,0,null,null,0,null,null,0,null,null,0,null,null,0,null,null,0,null,null,0,null,null,0,0,0,0,null,null,0,null,null,0,null,null,0,null,null,0,null,null,0,null,null,0,null,null,0,null,null,0,null,null,0,null,null,0,null,null,0,null,null,0,null,null,0,null,null,0,null,null,0,0,0,0,null,null,0,null,null,0,0,0,0,null,null,0,null,null,0,null,null,0,0,0,0,0,0,0]
[65,null,null,null,null,null,{"$f":"SUM(E80:F80)","v":0},null,null,{"$f":"SUM(H80:I80)","v":0},null,null,{"$f":"SUM(K80:L80)","v":0},null,null,{"$f":"SUM(N80:O80)","v":0},null,null,{"$f":"SUM(Q80:R80)","v":0},null,null,{"$f":"SUM(T80:U80)","v":0},null,null,{"$f":"SUM(W80:X80)","v":0},null,null,{"$f":"SUM(Z80:AA80)","v":0},null,null,{"$f":"SUM(AC80:AD80)","v":0},null,null,{"$f":"SUM(AF80:AG80)","v":0},null,null,{"$f":"SUM(AI80:AJ80)","v":0},null,null,{"$f":"SUM(AL80:AM80)","v":0},null,null,{"$f":"SUM(AO80:AP80)","v":0},null,null,{"$f":"SUM(AR80:AS80)","v":0},null,null,{"$f":"SUM(AU80:AV80)","v":0},null,null,{"$f":"SUM(AX80:AY80)","v":0},null,null,{"$f":"SUM(BA80:BB80)","v":0},null,null,{"$f":"SUM(BD80:BE80)","v":0},null,null,{"$f":"SUM(BG80:BH80)","v":0},{"$f":"SUM(E80,H80,K80,N80,Q80,T80,W80,Z80,AC80,AF80,AI80,AL80,AO80,AR80,AU80,AX80,BA80,BD80,BG80)","v":0},0,{"$f":"SUM(BJ80:BK80)","v":0},null,null,{"$f":"SUM(BM80:BN80)","v":0},null,null,{"$f":"SUM(BP80:BQ80)","v":0},null,null,{"$f":"SUM(BS80:BT80)","v":0},null,null,{"$f":"SUM(BV80:BW80)","v":0},null,null,{"$f":"SUM(BY80:BZ80)","v":0},null,null,{"$f":"SUM(CB80:CC80)","v":0},null,null,{"$f":"SUM(CE80:CF80)","v":0},null,null,{"$f":"SUM(CH80:CI80)","v":0},null,null,{"$f":"SUM(CK80:CL80)","v":0},null,null,{"$f":"SUM(CN80:CO80)","v":0},null,null,{"$f":"SUM(CQ80:CR80)","v":0},null,null,{"$f":"SUM(CT80:CU80)","v":0},null,null,{"$f":"SUM(CW80:CX80)","v":0},null,null,{"$f":"SUM(CZ80:DA80)","v":0},null,null,{"$f":"SUM(DC80:DD80)","v":0},{"$f":"SUM(BM80,BP80,BS80,BV80,BY80,CB80,CE80,CH80,CK80,CN80,CQ80,CT80,CW80,CZ80,DC80)","v":0},0,{"$f":"SUM(DF80:DG80)","v":0},null,null,{"$f":"SUM(DI80:DJ80)","v":0},null,null,{"$f":"SUM(DL80:DM80)","v":0},{"$f":"SUM(DI80,DL80)","v":0},0,{"$f":"SUM(DO80:DP80)","v":0},null,null,{"$f":"SUM(DR80:DS80)","v":0},null,null,{"$f":"SUM(DU80:DV80)","v":0},null,null,{"$f":"SUM(DX80:DY80)","v":0},{"$f":"SUM(DR80,DU80,DX80)","v":0},0,{"$f":"SUM(EA80:EB80)","v":0},{"$f":"SUM(BJ80,DF80,DO80,EA80)","v":0},0,{"$f":"SUM(ED80:EE80)","v":0}]
[66,null,null,null,null,null,0,null,null,0,null,null,0,null,null,0,null,null,0,null,null,0,null,null,0,null,null,0,null,null,0,null,null,0,null,null,0,null,null,0,null,null,0,null,null,0,null,null,0,null,null,0,null,null,0,null,null,0,null,null,0,0,0,0,null,null,0,null,null,0,null,null,0,null,null,0,null,null,0,null,null,0,null,null,0,null,null,0,null,null,0,null,null,0,null,null,0,null,null,0,null,null,0,null,null,0,null,null,0,0,0,0,null,null,0,null,null,0,0,0,0,null,null,0,null,null,0,null,null,0,0,0,0,0,0,0]
[67,null,null,null,null,null,0,null,null,0,null,null,0,null,null,0,null,null,0,null,null,0,null,null,0,null,null,0,null,null,0,null,null,0,null,null,0,null,null,0,null,null,0,null,null,0,null,null,0,null,null,0,null,null,0,null,null,0,null,null,0,0,0,0,null,null,0,null,null,0,null,null,0,null,null,0,null,null,0,null,null,0,null,null,0,null,null,0,null,null,0,null,null,0,null,null,0,null,null,0,null,null,0,null,null,0,null,null,0,0,0,0,null,null,0,null,null,0,0,0,0,null,null,0,null,null,0,null,null,0,0,0,0,0,0,0]
[68,null,null,null,null,null,0,null,null,0,null,null,0,null,null,0,null,null,0,null,null,0,null,null,0,null,null,0,null,null,0,null,null,0,null,null,0,null,null,0,null,null,0,null,null,0,null,null,0,null,null,0,null,null,0,null,null,0,null,null,0,0,0,0,null,null,0,null,null,0,null,null,0,null,null,0,null,null,0,null,null,0,null,null,0,null,null,0,null,null,0,null,null,0,null,null,0,null,null,0,null,null,0,null,null,0,null,null,0,0,0,0,null,null,0,null,null,0,0,0,0,null,null,0,null,null,0,null,null,0,0,0,0,0,0,0]
[69,null,null,null,null,null,0,null,null,0,null,null,0,null,null,0,null,null,0,null,null,0,null,null,0,null,null,0,null,null,0,null,null,0,null,null,0,null,null,0,null,null,0,null,null,0,null,null,0,null,null,0,null,null,0,null,null,0,null,null,0,0,0,0,null,null,0,null,null,0,null,null,0,null,null,0,null,null,0,null,null,0,null,null,0,null,null,0,null,null,0,null,null,0,null,null,0,null,null,0,null,null,0,null,null,0,null,null,0,0,0,0,null,null,0,null,null,0,0,0,0,null,null,0,null,null,0,null,null,0,0,0,0,0,0,0]
[70,null,null,null,null,null,0,null,null,0,null,null,0,null,null,0,null,null,0,null,null,0,null,null,0,null,null,0,null,null,0,null,null,0,null,null,0,null,null,0,null,null,0,null,null,0,null,null,0,null,null,0,null,null,0,null,null,0,null,null,0,0,0,0,null,null,0,null,null,0,null,null,0,null,null,0,null,null,0,null,null,0,null,null,0,null,null,0,null,null,0,null,null,0,null,null,0,null,null,0,null,null,0,null,null,0,null,null,0,0,0,0,null,null,0,null,null,0,0,0,0,null,null,0,null,null,0,null,null,0,0,0,0,0,0,0]
[71,null,null,null,null,null,0,null,null,0,null,null,0,null,null,0,null,null,0,null,null,0,null,null,0,null,null,0,null,null,0,null,null,0,null,null,0,null,null,0,null,null,0,null,null,0,null,null,0,null,null,0,null,null,0,null,null,0,null,null,0,0,0,0,null,null,0,null,null,0,null,null,0,null,null,0,null,null,0,null,null,0,null,null,0,null,null,0,null,null,0,null,null,0,null,null,0,null,null,0,null,null,0,null,null,0,null,null,0,0,0,0,null,null,0,null,null,0,0,0,0,null,null,0,null,null,0,null,null,0,0,0,0,0,0,0]
[72,null,null,null,null,null,0,null,null,0,null,null,0,null,null,0,null,null,0,null,null,0,null,null,0,null,null,0,null,null,0,null,null,0,null,null,0,null,null,0,null,null,0,null,null,0,null,null,0,null,null,0,null,null,0,null,null,0,null,null,0,0,0,0,null,null,0,null,null,0,null,null,0,null,null,0,null,null,0,null,null,0,null,null,0,null,null,0,null,null,0,null,null,0,null,null,0,null,null,0,null,null,0,null,null,0,null,null,0,0,0,0,null,null,0,null,null,0,0,0,0,null,null,0,null,null,0,null,null,0,0,0,0,0,0,0]
[73,null,null,null,null,null,0,null,null,0,null,null,0,null,null,0,null,null,0,null,null,0,null,null,0,null,null,0,null,null,0,null,null,0,null,null,0,null,null,0,null,null,0,null,null,0,null,null,0,null,null,0,null,null,0,null,null,0,null,null,0,0,0,0,null,null,0,null,null,0,null,null,0,null,null,0,null,null,0,null,null,0,null,null,0,null,null,0,null,null,0,null,null,0,null,null,0,null,null,0,null,null,0,null,null,0,null,null,0,0,0,0,null,null,0,null,null,0,0,0,0,null,null,0,null,null,0,null,null,0,0,0,0,0,0,0]
[74,null,null,null,null,null,0,null,null,0,null,null,0,null,null,0,null,null,0,null,null,0,null,null,0,null,null,0,null,null,0,null,null,0,null,null,0,null,null,0,null,null,0,null,null,0,null,null,0,null,null,0,null,null,0,null,null,0,null,null,0,0,0,0,null,null,0,null,null,0,null,null,0,null,null,0,null,null,0,null,null,0,null,null,0,null,null,0,null,null,0,null,null,0,null,null,0,null,null,0,null,null,0,null,null,0,null,null,0,0,0,0,null,null,0,null,null,0,0,0,0,null,null,0,null,null,0,null,null,0,0,0,0,0,0,0]
[75,null,null,null,null,null,0,null,null,0,null,null,0,null,null,0,null,null,0,null,null,0,null,null,0,null,null,0,null,null,0,null,null,0,null,null,0,null,null,0,null,null,0,null,null,0,null,null,0,null,null,0,null,null,0,null,null,0,null,null,0,0,0,0,null,null,0,null,null,0,null,null,0,null,null,0,null,null,0,null,null,0,null,null,0,null,null,0,null,null,0,null,null,0,null,null,0,null,null,0,null,null,0,null,null,0,null,null,0,0,0,0,null,null,0,null,null,0,0,0,0,null,null,0,null,null,0,null,null,0,0,0,0,0,0,0]
[76,null,null,null,null,null,0,null,null,0,null,null,0,null,null,0,null,null,0,null,null,0,null,null,0,null,null,0,null,null,0,null,null,0,null,null,0,null,null,0,null,null,0,null,null,0,null,null,0,null,null,0,null,null,0,null,null,0,null,null,0,0,0,0,null,null,0,null,null,0,null,null,0,null,null,0,null,null,0,null,null,0,null,null,0,null,null,0,null,null,0,null,null,0,null,null,0,null,null,0,null,null,0,null,null,0,null,null,0,0,0,0,null,null,0,null,null,0,0,0,0,null,null,0,null,null,0,null,null,0,0,0,0,0,0,0]
[77,null,null,null,null,null,0,null,null,0,null,null,0,null,null,0,null,null,0,null,null,0,null,null,0,null,null,0,null,null,0,null,null,0,null,null,0,null,null,0,null,null,0,null,null,0,null,null,0,null,null,0,null,null,0,null,null,0,null,null,0,0,0,0,null,null,0,null,null,0,null,null,0,null,null,0,null,null,0,null,null,0,null,null,0,null,null,0,null,null,0,null,null,0,null,null,0,null,null,0,null,null,0,null,null,0,null,null,0,0,0,0,null,null,0,null,null,0,0,0,0,null,null,0,null,null,0,null,null,0,0,0,0,0,0,0]
[78,null,null,null,null,null,0,null,null,0,null,null,0,null,null,0,null,null,0,null,null,0,null,null,0,null,null,0,null,null,0,null,null,0,null,null,0,null,null,0,null,null,0,null,null,0,null,null,0,null,null,0,null,null,0,null,null,0,null,null,0,0,0,0,null,null,0,null,null,0,null,null,0,null,null,0,null,null,0,null,null,0,null,null,0,null,null,0,null,null,0,null,null,0,null,null,0,null,null,0,null,null,0,null,null,0,null,null,0,0,0,0,null,null,0,null,null,0,0,0,0,null,null,0,null,null,0,null,null,0,0,0,0,0,0,0]
[79,null,null,null,null,null,0,null,null,0,null,null,0,null,null,0,null,null,0,null,null,0,null,null,0,null,null,0,null,null,0,null,null,0,null,null,0,null,null,0,null,null,0,null,null,0,null,null,0,null,null,0,null,null,0,null,null,0,null,null,0,0,0,0,null,null,0,null,null,0,null,null,0,null,null,0,null,null,0,null,null,0,null,null,0,null,null,0,null,null,0,null,null,0,null,null,0,null,null,0,null,null,0,null,null,0,null,null,0,0,0,0,null,null,0,null,null,0,0,0,0,null,null,0,null,null,0,null,null,0,0,0,0,0,0,0]
[80,null,null,null,null,null,0,null,null,0,null,null,0,null,null,0,null,null,0,null,null,0,null,null,0,null,null,0,null,null,0,null,null,0,null,null,0,null,null,0,null,null,0,null,null,0,null,null,0,null,null,0,null,null,0,null,null,0,null,null,0,0,0,0,null,null,0,null,null,0,null,null,0,null,null,0,null,null,0,null,null,0,null,null,0,null,null,0,null,null,0,null,null,0,null,null,0,null,null,0,null,null,0,null,null,0,null,null,0,0,0,0,null,null,0,null,null,0,0,0,0,null,null,0,null,null,0,null,null,0,0,0,0,0,0,0]
[81,null,null,null,null,null,0,null,null,0,null,null,0,null,null,0,null,null,0,null,null,0,null,null,0,null,null,0,null,null,0,null,null,0,null,null,0,null,null,0,null,null,0,null,null,0,null,null,0,null,null,0,null,null,0,null,null,0,null,null,0,0,0,0,null,null,0,null,null,0,null,null,0,null,null,0,null,null,0,null,null,0,null,null,0,null,null,0,null,null,0,null,null,0,null,null,0,null,null,0,null,null,0,null,null,0,null,null,0,0,0,0,null,null,0,null,null,0,0,0,0,null,null,0,null,null,0,null,null,0,0,0,0,0,0,0]
[82,null,null,null,null,null,0,null,null,0,null,null,0,null,null,0,null,null,0,null,null,0,null,null,0,null,null,0,null,null,0,null,null,0,null,null,0,null,null,0,null,null,0,null,null,0,null,null,0,null,null,0,null,null,0,null,null,0,null,null,0,0,0,0,null,null,0,null,null,0,null,null,0,null,null,0,null,null,0,null,null,0,null,null,0,null,null,0,null,null,0,null,null,0,null,null,0,null,null,0,null,null,0,null,null,0,null,null,0,0,0,0,null,null,0,null,null,0,0,0,0,null,null,0,null,null,0,null,null,0,0,0,0,0,0,0]
[83,null,null,null,null,null,0,null,null,0,null,null,0,null,null,0,null,null,0,null,null,0,null,null,0,null,null,0,null,null,0,null,null,0,null,null,0,null,null,0,null,null,0,null,null,0,null,null,0,null,null,0,null,null,0,null,null,0,null,null,0,0,0,0,null,null,0,null,null,0,null,null,0,null,null,0,null,null,0,null,null,0,null,null,0,null,null,0,null,null,0,null,null,0,null,null,0,null,null,0,null,null,0,null,null,0,null,null,0,0,0,0,null,null,0,null,null,0,0,0,0,null,null,0,null,null,0,null,null,0,0,0,0,0,0,0]
[84,null,null,null,null,null,0,null,null,0,null,null,0,null,null,0,null,null,0,null,null,0,null,null,0,null,null,0,null,null,0,null,null,0,null,null,0,null,null,0,null,null,0,null,null,0,null,null,0,null,null,0,null,null,0,null,null,0,null,null,0,0,0,0,null,null,0,null,null,0,null,null,0,null,null,0,null,null,0,null,null,0,null,null,0,null,null,0,null,null,0,null,null,0,null,null,0,null,null,0,null,null,0,null,null,0,null,null,0,0,0,0,null,null,0,null,null,0,0,0,0,null,null,0,null,null,0,null,null,0,0,0,0,0,0,0]
[85,null,null,null,null,null,0,null,null,0,null,null,0,null,null,0,null,null,0,null,null,0,null,null,0,null,null,0,null,null,0,null,null,0,null,null,0,null,null,0,null,null,0,null,null,0,null,null,0,null,null,0,null,null,0,null,null,0,null,null,0,0,0,0,null,null,0,null,null,0,null,null,0,null,null,0,null,null,0,null,null,0,null,null,0,null,null,0,null,null,0,null,null,0,null,null,0,null,null,0,null,null,0,null,null,0,null,null,0,0,0,0,null,null,0,null,null,0,0,0,0,null,null,0,null,null,0,null,null,0,0,0,0,0,0,0]
[86,null,null,null,null,null,0,null,null,0,null,null,0,null,null,0,null,null,0,null,null,0,null,null,0,null,null,0,null,null,0,null,null,0,null,null,0,null,null,0,null,null,0,null,null,0,null,null,0,null,null,0,null,null,0,null,null,0,null,null,0,0,0,0,null,null,0,null,null,0,null,null,0,null,null,0,null,null,0,null,null,0,null,null,0,null,null,0,null,null,0,null,null,0,null,null,0,null,null,0,null,null,0,null,null,0,null,null,0,0,0,0,null,null,0,null,null,0,0,0,0,null,null,0,null,null,0,null,null,0,0,0,0,0,0,0]
[87,null,null,null,null,null,0,null,null,0,null,null,0,null,null,0,null,null,0,null,null,0,null,null,0,null,null,0,null,null,0,null,null,0,null,null,0,null,null,0,null,null,0,null,null,0,null,null,0,null,null,0,null,null,0,null,null,0,null,null,0,0,0,0,null,null,0,null,null,0,null,null,0,null,null,0,null,null,0,null,null,0,null,null,0,null,null,0,null,null,0,null,null,0,null,null,0,null,null,0,null,null,0,null,null,0,null,null,0,0,0,0,null,null,0,null,null,0,0,0,0,null,null,0,null,null,0,null,null,0,0,0,0,0,0,0]
[88,null,null,null,null,null,0,null,null,0,null,null,0,null,null,0,null,null,0,null,null,0,null,null,0,null,null,0,null,null,0,null,null,0,null,null,0,null,null,0,null,null,0,null,null,0,null,null,0,null,null,0,null,null,0,null,null,0,null,null,0,0,0,0,null,null,0,null,null,0,null,null,0,null,null,0,null,null,0,null,null,0,null,null,0,null,null,0,null,null,0,null,null,0,null,null,0,null,null,0,null,null,0,null,null,0,null,null,0,0,0,0,null,null,0,null,null,0,0,0,0,null,null,0,null,null,0,null,null,0,0,0,0,0,0,0]
[89,null,null,null,null,null,0,null,null,0,null,null,0,null,null,0,null,null,0,null,null,0,null,null,0,null,null,0,null,null,0,null,null,0,null,null,0,null,null,0,null,null,0,null,null,0,null,null,0,null,null,0,null,null,0,null,null,0,null,null,0,0,0,0,null,null,0,null,null,0,null,null,0,null,null,0,null,null,0,null,null,0,null,null,0,null,null,0,null,null,0,null,null,0,null,null,0,null,null,0,null,null,0,null,null,0,null,null,0,0,0,0,null,null,0,null,null,0,0,0,0,null,null,0,null,null,0,null,null,0,0,0,0,0,0,0]
[90,null,null,null,null,null,0,null,null,0,null,null,0,null,null,0,null,null,0,null,null,0,null,null,0,null,null,0,null,null,0,null,null,0,null,null,0,null,null,0,null,null,0,null,null,0,null,null,0,null,null,0,null,null,0,null,null,0,null,null,0,0,0,0,null,null,0,null,null,0,null,null,0,null,null,0,null,null,0,null,null,0,null,null,0,null,null,0,null,null,0,null,null,0,null,null,0,null,null,0,null,null,0,null,null,0,null,null,0,0,0,0,null,null,0,null,null,0,0,0,0,null,null,0,null,null,0,null,null,0,0,0,0,0,0,0]
[91,null,null,null,null,null,0,null,null,0,null,null,0,null,null,0,null,null,0,null,null,0,null,null,0,null,null,0,null,null,0,null,null,0,null,null,0,null,null,0,null,null,0,null,null,0,null,null,0,null,null,0,null,null,0,null,null,0,null,null,0,0,0,0,null,null,0,null,null,0,null,null,0,null,null,0,null,null,0,null,null,0,null,null,0,null,null,0,null,null,0,null,null,0,null,null,0,null,null,0,null,null,0,null,null,0,null,null,0,0,0,0,null,null,0,null,null,0,0,0,0,null,null,0,null,null,0,null,null,0,0,0,0,0,0,0]
[92,null,null,null,null,null,0,null,null,0,null,null,0,null,null,0,null,null,0,null,null,0,null,null,0,null,null,0,null,null,0,null,null,0,null,null,0,null,null,0,null,null,0,null,null,0,null,null,0,null,null,0,null,null,0,null,null,0,null,null,0,0,0,0,null,null,0,null,null,0,null,null,0,null,null,0,null,null,0,null,null,0,null,null,0,null,null,0,null,null,0,null,null,0,null,null,0,null,null,0,null,null,0,null,null,0,null,null,0,0,0,0,null,null,0,null,null,0,0,0,0,null,null,0,null,null,0,null,null,0,0,0,0,0,0,0]
[93,null,null,null,null,null,0,null,null,0,null,null,0,null,null,0,null,null,0,null,null,0,null,null,0,null,null,0,null,null,0,null,null,0,null,null,0,null,null,0,null,null,0,null,null,0,null,null,0,null,null,0,null,null,0,null,null,0,null,null,0,0,0,0,null,null,0,null,null,0,null,null,0,null,null,0,null,null,0,null,null,0,null,null,0,null,null,0,null,null,0,null,null,0,null,null,0,null,null,0,null,null,0,null,null,0,null,null,0,0,0,0,null,null,0,null,null,0,0,0,0,null,null,0,null,null,0,null,null,0,0,0,0,0,0,0]
[94,null,null,null,null,null,0,null,null,0,null,null,0,null,null,0,null,null,0,null,null,0,null,null,0,null,null,0,null,null,0,null,null,0,null,null,0,null,null,0,null,null,0,null,null,0,null,null,0,null,null,0,null,null,0,null,null,0,null,null,0,0,0,0,null,null,0,null,null,0,null,null,0,null,null,0,null,null,0,null,null,0,null,null,0,null,null,0,null,null,0,null,null,0,null,null,0,null,null,0,null,null,0,null,null,0,null,null,0,0,0,0,null,null,0,null,null,0,0,0,0,null,null,0,null,null,0,null,null,0,0,0,0,0,0,0]
[95,null,null,null,null,null,0,null,null,0,null,null,0,null,null,0,null,null,0,null,null,0,null,null,0,null,null,0,null,null,0,null,null,0,null,null,0,null,null,0,null,null,0,null,null,0,null,null,0,null,null,0,null,null,0,null,null,0,null,null,0,0,0,0,null,null,0,null,null,0,null,null,0,null,null,0,null,null,0,null,null,0,null,null,0,null,null,0,null,null,0,null,null,0,null,null,0,null,null,0,null,null,0,null,null,0,null,null,0,0,0,0,null,null,0,null,null,0,0,0,0,null,null,0,null,null,0,null,null,0,0,0,0,0,0,0]
[96,null,null,null,null,null,0,null,null,0,null,null,0,null,null,0,null,null,0,null,null,0,null,null,0,null,null,0,null,null,0,null,null,0,null,null,0,null,null,0,null,null,0,null,null,0,null,null,0,null,null,0,null,null,0,null,null,0,null,null,0,0,0,0,null,null,0,null,null,0,null,null,0,null,null,0,null,null,0,null,null,0,null,null,0,null,null,0,null,null,0,null,null,0,null,null,0,null,null,0,null,null,0,null,null,0,null,null,0,0,0,0,null,null,0,null,null,0,0,0,0,null,null,0,null,null,0,null,null,0,0,0,0,0,0,0]
[97,null,null,null,null,null,0,null,null,0,null,null,0,null,null,0,null,null,0,null,null,0,null,null,0,null,null,0,null,null,0,null,null,0,null,null,0,null,null,0,null,null,0,null,null,0,null,null,0,null,null,0,null,null,0,null,null,0,null,null,0,0,0,0,null,null,0,null,null,0,null,null,0,null,null,0,null,null,0,null,null,0,null,null,0,null,null,0,null,null,0,null,null,0,null,null,0,null,null,0,null,null,0,null,null,0,null,null,0,0,0,0,null,null,0,null,null,0,0,0,0,null,null,0,null,null,0,null,null,0,0,0,0,0,0,0]
[98,null,null,null,null,null,0,null,null,0,null,null,0,null,null,0,null,null,0,null,null,0,null,null,0,null,null,0,null,null,0,null,null,0,null,null,0,null,null,0,null,null,0,null,null,0,null,null,0,null,null,0,null,null,0,null,null,0,null,null,0,0,0,0,null,null,0,null,null,0,null,null,0,null,null,0,null,null,0,null,null,0,null,null,0,null,null,0,null,null,0,null,null,0,null,null,0,null,null,0,null,null,0,null,null,0,null,null,0,0,0,0,null,null,0,null,null,0,0,0,0,null,null,0,null,null,0,null,null,0,0,0,0,0,0,0]
[99,null,null,null,null,null,0,null,null,0,null,null,0,null,null,0,null,null,0,null,null,0,null,null,0,null,null,0,null,null,0,null,null,0,null,null,0,null,null,0,null,null,0,null,null,0,null,null,0,null,null,0,null,null,0,null,null,0,null,null,0,0,0,0,null,null,0,null,null,0,null,null,0,null,null,0,null,null,0,null,null,0,null,null,0,null,null,0,null,null,0,null,null,0,null,null,0,null,null,0,null,null,0,null,null,0,null,null,0,0,0,0,null,null,0,null,null,0,0,0,0,null,null,0,null,null,0,null,null,0,0,0,0,0,0,0]
[100,null,null,null,null,null,0,null,null,0,null,null,0,null,null,0,null,null,0,null,null,0,null,null,0,null,null,0,null,null,0,null,null,0,null,null,0,null,null,0,null,null,0,null,null,0,null,null,0,null,null,0,null,null,0,null,null,0,null,null,0,0,0,0,null,null,0,null,null,0,null,null,0,null,null,0,null,null,0,null,null,0,null,null,0,null,null,0,null,null,0,null,null,0,null,null,0,null,null,0,null,null,0,null,null,0,null,null,0,0,0,0,null,null,0,null,null,0,0,0,0,null,null,0,null,null,0,null,null,0,0,0,0,0,0,0]

{"sheet":"T_DoE_Subacc","index":6,"n_rows":115,"n_cols":137,"rows_kept":115,"cut":false,"hidden":false,"merged":[[5,0,5,7],[14,0,14,1],[11,115,11,117],[11,118,11,120],[11,52,11,54],[11,55,11,57],[11,58,11,60],[11,61,11,63],[11,16,11,18],[11,43,11,45],[8,0,8,31],[10,2,12,2],[10,0,13,0],[10,1,13,1],[11,19,11,21],[10,136,13,136],[11,67,11,69],[11,70,11,72],[11,73,11,75],[11,76,11,78],[11,79,11,81],[11,82,11,84],[11,85,11,87],[11,88,11,90],[11,91,11,93],[11,94,11,96],[11,97,11,99],[11,130,11,132],[11,127,11,129],[10,64,10,111],[10,112,10,120],[10,121,10,132],[10,133,11,135],[11,64,11,66],[11,34,11,36],[11,37,11,39],[11,40,11,42],[11,46,11,48],[11,49,11,51],[11,121,11,123],[11,124,11,126],[11,100,11,102],[11,103,11,105],[11,106,11,108],[11,109,11,111],[11,112,11,114],[6,0,6,7],[11,22,11,24],[11,25,11,27],[11,28,11,30],[11,31,11,33],[10,3,12,3],[10,4,10,63],[11,4,11,6],[11,7,11,9],[11,10,11,12],[11,13,11,15]]}
[]
[]
[null,null,null,null,null,null,null,null,null,null,null,null,null,null,null,null,null,null,null,null,null,null,null,null,null,null,null,null,"        ព្រះរាជាណាចក្រកម្ពុជា"]
[null,null,null,null,null,null,null,null,null,null,null,null,null,null,null,null,null,null,null,null,null,null,null,null,null,null,null,null,"    ជាតិ សាសនា ព្រះមហាក្សត្រ"]
[]
[{"$f":"Create!$G$2","v":"ក្រសួងអប់រំ យុវជន និងកីឡា"}]
[{"$f":"Create!$G$3","v":"បំពេញឈ្មោះទីនេះ"},null,null,null,null,null,null,null,null,null,null,null,null,null,null,null,null,null,null,null,null,null,null,null,null,null,null,null,null,null,null,"តារាងលេខ ២"]
[]
[{"$f":"CONCATENATE(\"របាយការណ៍ទូទាត់ចំណាយថវិការបស់វិទ្យាល័យបច្ចេកទេសសម្រាប់ថវិកាដំណើរការសាលារៀនប្រចាំត្រីមាសទី\",IF(Create!$G$7=1,\"១\",IF(Create!$G$7=2,\"២\",IF(Create!$G$7=\"៣\",\"៤\"))),\" ឆ្នាំ២០១៨\")","v":"របាយការណ៍ទូទាត់ចំណាយថវិការបស់វិទ្យាល័យបច្ចេកទេសសម្រាប់ថវិកាដំណើរការសាលារៀនប្រចាំត្រីមាសទីFALSE ឆ្នាំ២០១៨"}]
[null,null,null,null,null,null,null,null,null,null,null,null,null,null,null,null,null,null,null,null,null,null,null,null,null,null,null,null,null,null,null,null,null,null,null,null,null,null,null,null,null,null,null,null,null,null,null,null,null,null,null,null,null,null,null,null,null,null,null,null,null,null,null,null,null,null,null,null,null,null,null,null,null,null,null,null,null,null,null,null,null,null,null,null,null,null,null,null,null,null,null,null,null,null,null,null,null,null,null,null,null,null,null,null,null,null,null,null,null,null,null,null,null,null,null,null,null,null,null,null,null,null,null,null,null,null,null,null,null,null,null,null,null,null,null,null,"ឯកតាៈ រៀល"]
["ល.រ","ឈ្មោះការិយាល័យអប់រំ យុវជន និងកីឡា\nក្រុង ឬ ស្រុក ឬ ខ័ណ្ឌ","ឥណទាន\nដើមឆ្នាំ","ឥណទាន\nកែតម្រូវ","ជំពូក ៦០",null,null,null,null,null,null,null,null,null,null,null,null,null,null,null,null,null,null,null,null,null,null,null,null,null,null,null,null,null,null,null,null,null,null,null,null,null,null,null,null,null,null,null,null,null,null,null,null,null,null,null,null,null,null,null,null,null,null,null,"ជំពូក ៦១",null,null,null,null,null,null,null,null,null,null,null,null,null,null,null,null,null,null,null,null,null,null,null,null,null,null,null,null,null,null,null,null,null,null,null,null,null,null,null,null,null,null,null,null,null,null,null,"ជំពូក ៦៤",null,null,null,null,null,null,null,null,"ជំពូក ៦២",null,null,null,null,null,null,null,null,null,null,null,"ចំណាយសរុប",null,null,"ផ្សេងៗ"]
[null,null,null,null,60011,null,null,60012,null,null,60013,null,null,60014,null,null,60021,null,null,60022,null,null,60023,null,null,60031,null,null,60032,null,null,60033,null,null,60035,null,null,60041,null,null,60051,null,null,60052,null,null,60053,null,null,60055,null,null,60061,null,null,60062,null,null,60068,null,null,"សរុប",null,null,61011,null,null,61012,null,null,61021,null,null,61051,null,null,61052,null,null,61053,null,null,61054,null,null,61057,null,null,61071,null,null,61081,null,null,61101,null,null,61102,null,null,61103,null,null,61141,null,null,61142,null,null,"សរុប",null,null,64023,null,null,64033,null,null,"សរុប",null,null,62024,null,null,62025,null,null,62028,null,null,"សរុប"]
[null,null,null,null,"បណ្ដាត្រី.មុន","ក្នុងត្រី.","បូកយោង","បណ្ដាត្រី.មុន","ក្នុងត្រី.","បូកយោង","បណ្ដាត្រី.មុន","ក្នុងត្រី.","បូកយោង","បណ្ដាត្រី.មុន","ក្នុងត្រី.","បូកយោង","បណ្ដាត្រី.មុន","ក្នុងត្រី.","បូកយោង","បណ្ដាត្រី.មុន","ក្នុងត្រី.","បូកយោង","បណ្ដាត្រី.មុន","ក្នុងត្រី.","បូកយោង","បណ្ដាត្រី.មុន","ក្នុងត្រី.","បូកយោង","បណ្ដាត្រី.មុន","ក្នុងត្រី.","បូកយោង","បណ្ដាត្រី.មុន","ក្នុងត្រី.","បូកយោង","បណ្ដាត្រី.មុន","ក្នុងត្រី.","បូកយោង","បណ្ដាត្រី.មុន","ក្នុងត្រី.","បូកយោង","បណ្ដាត្រី.មុន","ក្នុងត្រី.","បូកយោង","បណ្ដាត្រី.មុន","ក្នុងត្រី.","បូកយោង","បណ្ដាត្រី.មុន","ក្នុងត្រី.","បូកយោង","បណ្ដាត្រី.មុន","ក្នុងត្រី.","បូកយោង","បណ្ដាត្រី.មុន","ក្នុងត្រី.","បូកយោង","បណ្ដាត្រី.មុន","ក្នុងត្រី.","បូកយោង","បណ្ដាត្រី.មុន","ក្នុងត្រី.","បូកយោង","បណ្ដាត្រី.មុន","ក្នុងត្រី.","បូកយោង","បណ្ដាត្រី.មុន","ក្នុងត្រី.","បូកយោង","បណ្ដាត្រី.មុន","ក្នុងត្រី.","បូកយោង","បណ្ដាត្រី.មុន","ក្នុងត្រី.","បូកយោង","បណ្ដាត្រី.មុន","ក្នុងត្រី.","បូកយោង","បណ្ដាត្រី.មុន","ក្នុងត្រី.","បូកយោង","បណ្ដាត្រី.មុន","ក្នុងត្រី.","បូកយោង","បណ្ដាត្រី.មុន","ក្នុងត្រី.","បូកយោង","បណ្ដាត្រី.មុន","ក្នុងត្រី.","បូកយោង","បណ្ដាត្រី.មុន","ក្នុងត្រី.","បូកយោង","បណ្ដាត្រី.មុន","ក្នុងត្រី.","បូកយោង","បណ្ដាត្រី.មុន","ក្នុងត្រី.","បូកយោង","បណ្ដាត្រី.មុន","ក្នុងត្រី.","បូកយោង","បណ្ដាត្រី.មុន","ក្នុងត្រី.","បូកយោង","បណ្ដាត្រី.មុន","ក្នុងត្រី.","បូកយោង","បណ្ដាត្រី.មុន","ក្នុងត្រី.","បូកយោង","បណ្ដាត្រី.មុន","ក្នុងត្រី.","បូកយោង","បណ្ដាត្រី.មុន","ក្នុងត្រី.","បូកយោង","បណ្ដាត្រី.មុន","ក្នុងត្រី.","បូកយោង","បណ្ដាត្រី.មុន","ក្នុងត្រី.","បូកយោង","បណ្ដាត្រី.មុន","ក្នុងត្រី.","បូកយោង","បណ្ដាត្រី.មុន","ក្នុងត្រី.","បូកយោង","បណ្ដាត្រី.មុន","ក្នុងត្រី.","បូកយោង","បណ្ដាត្រី.មុន","ក្នុងត្រី.","បូកយោង","បណ្ដាត្រី.មុន","ក្នុងត្រី.","បូកយោង"]
[null,null,1,2,3,4,"5=3+4",6,7,"8=6+7",9,10,"11=9+10",12,13,"14=12+13",15,16,"17=15+16",18,19,"20=18+19",21,22,"23=21+22",24,25,"26=24+25",27,28,"29=27+28",30,31,"32=30+31",33,34,"35=33+34",36,37,"38=36+37",39,40,"41=39+40",42,43,"44=42+43",45,46,"47=45+46",48,49,"50=48+49",51,52,"53=51+52",54,55,"56=54+55",57,58,"59=57+58","60=3+6+9+…+57","61=4+7+10+…+58","62=60+61",63,64,"65=63+64",66,67,"68=66+67",69,70,"71=69+70",72,73,"74=72+73",75,76,"77=75+76",78,79,"80=78+79",81,82,"83=81+82",84,85,"86=84+85",87,88,"89=87+88",90,91,"92=90+91",93,94,"95=93+94",96,97,"98=96+97",99,100,"101=99+100",102,103,"104=102+103",105,106,"107=105+106","108=63+66+…+105","109=64+67+…+106","110=108+109",111,112,"113=111+112",114,115,"116=114+115","117=111+114","118=112+115","119=117+118",120,121,"122=120+121",123,124,125,126,127,"128=126+127",129,130,"131=129+130","132=60+108+117+129","133=61+109+118+130","134=132+133"]
["សរុប",null,{"$f":"SUM(C16:C115)","v":10},{"$f":"SUM(D16:D115)","v":15},0,0,{"$f":"SUM(E15:F15)","v":0},0,0,{"$f":"SUM(H15:I15)","v":0},0,0,{"$f":"SUM(K15:L15)","v":0},0,0,{"$f":"SUM(N15:O15)","v":0},0,0,{"$f":"SUM(Q15:R15)","v":0},0,0,{"$f":"SUM(T15:U15)","v":0},0,0,{"$f":"SUM(W15:X15)","v":0},0,0,{"$f":"SUM(Z15:AA15)","v":0},0,0,{"$f":"SUM(AC15:AD15)","v":0},0,0,{"$f":"SUM(AF15:AG15)","v":0},0,0,{"$f":"SUM(AI15:AJ15)","v":0},0,0,{"$f":"SUM(AL15:AM15)","v":0},0,0,{"$f":"SUM(AO15:AP15)","v":0},0,0,{"$f":"SUM(AR15:AS15)","v":0},0,0,{"$f":"SUM(AU15:AV15)","v":0},0,0,{"$f":"SUM(AX15:AY15)","v":0},0,0,{"$f":"SUM(BA15:BB15)","v":0},0,0,{"$f":"SUM(BD15:BE15)","v":0},0,0,{"$f":"SUM(BG15:BH15)","v":0},{"$f":"SUM(E15,H15,K15,N15,Q15,T15,W15,Z15,AC15,AF15,AI15,AL15,AO15,AR15,AU15,AX15,BA15,BD15,BG15)","v":0},{"$f":"SUM(F15,I15,L15,O15,R15,U15,X15,AA15,AD15,AG15,AJ15,AM15,AP15,AS15,AV15,AY15,BB15,BE15,BH15)","v":0},{"$f":"SUM(BJ15:BK15)","v":0},0,0,{"$f":"SUM(BM15:BN15)","v":0},{"$f":"SUM(BP16:BP115)","v":0},0,{"$f":"SUM(BP15:BQ15)","v":0},0,0,{"$f":"SUM(BS15:BT15)","v":0},0,0,{"$f":"SUM(BV15:BW15)","v":0},0,0,{"$f":"SUM(BY15:BZ15)","v":0},0,0,{"$f":"SUM(CB15:CC15)","v":0},0,0,{"$f":"SUM(CE15:CF15)","v":0},0,0,{"$f":"SUM(CH15:CI15)","v":0},0,0,{"$f":"SUM(CK15:CL15)","v":0},0,0,{"$f":"SUM(CN15:CO15)","v":0},0,0,{"$f":"SUM(CQ15:CR15)","v":0},0,0,{"$f":"SUM(CT15:CU15)","v":0},0,0,{"$f":"SUM(CW15:CX15)","v":0},0,0,{"$f":"SUM(CZ15:DA15)","v":0},0,0,{"$f":"SUM(DC15:DD15)","v":0},{"$f":"SUM(BM15,BP15,BS15,BV15,BY15,CB15,CE15,CH15,CK15,CN15,CQ15,CT15,CW15,CZ15,DC15)","v":0},{"$f":"SUM(BN15,BQ15,BT15,BW15,BZ15,CC15,CF15,CI15,CL15,CO15,CR15,CU15,CX15,DA15,DD15)","v":0},{"$f":"SUM(DF15:DG15)","v":0},0,0,{"$f":"SUM(DI15:DJ15)","v":0},0,0,{"$f":"SUM(DL15:DM15)","v":0},{"$f":"SUM(DI15,DL15)","v":0},{"$f":"SUM(DJ15,DM15)","v":0},{"$f":"SUM(DO15:DP15)","v":0},0,0,{"$f":"SUM(DR15:DS15)","v":0},0,0,{"$f":"SUM(DU15:DV15)","v":0},0,0,{"$f":"SUM(DX15:DY15)","v":0},{"$f":"SUM(DR15,DU15,DX15)","v":0},{"$f":"SUM(DS15,DV15,DY15)","v":0},{"$f":"SUM(EA15:EB15)","v":0},{"$f":"SUM(BJ15,DF15,DO15,EA15)","v":0},{"$f":"SUM(BK15,DG15,DP15,EB15)","v":0},{"$f":"SUM(ED15:EE15)","v":0}]
[1,{"$f":"[1]T_Sch_Subacc!A7","v":"ការិយាល័យអប់រំ យុវជន និងកីឡាក្រុងប៉ៃលិន"},{"$f":"[1]T_Sch_Subacc!C15","v":10},{"$f":"[1]T_Sch_Subacc!D15","v":15},{"$f":"[1]T_Sch_Subacc!E15","v":0},{"$f":"[1]T_Sch_Subacc!F15","v":0},{"$f":"SUM(E16:F16)","v":0},{"$f":"[1]T_Sch_Subacc!H15","v":0},{"$f":"[1]T_Sch_Subacc!I15","v":0},{"$f":"SUM(H16:I16)","v":0},{"$f":"[1]T_Sch_Subacc!K15","v":0},{"$f":"[1]T_Sch_Subacc!L15","v":0},{"$f":"SUM(K16:L16)","v":0},{"$f":"[1]T_Sch_Subacc!N15","v":0},{"$f":"[1]T_Sch_Subacc!O15","v":0},{"$f":"SUM(N16:O16)","v":0},{"$f":"[1]T_Sch_Subacc!Q15","v":0},{"$f":"[1]T_Sch_Subacc!R15","v":0},{"$f":"SUM(Q16:R16)","v":0},{"$f":"[1]T_Sch_Subacc!T15","v":0},{"$f":"[1]T_Sch_Subacc!U15","v":0},{"$f":"SUM(T16:U16)","v":0},{"$f":"[1]T_Sch_Subacc!W15","v":0},{"$f":"[1]T_Sch_Subacc!X15","v":0},{"$f":"SUM(W16:X16)","v":0},{"$f":"[1]T_Sch_Subacc!Z15","v":0},{"$f":"[1]T_Sch_Subacc!AA15","v":0},{"$f":"SUM(Z16:AA16)","v":0},{"$f":"[1]T_Sch_Subacc!AC15","v":0},{"$f":"[1]T_Sch_Subacc!AD15","v":0},{"$f":"SUM(AC16:AD16)","v":0},{"$f":"[1]T_Sch_Subacc!AF15","v":0},{"$f":"[1]T_Sch_Subacc!AG15","v":0},{"$f":"SUM(AF16:AG16)","v":0},{"$f":"[1]T_Sch_Subacc!AI15","v":0},{"$f":"[1]T_Sch_Subacc!AJ15","v":0},{"$f":"SUM(AI16:AJ16)","v":0},{"$f":"[1]T_Sch_Subacc!AL15","v":0},{"$f":"[1]T_Sch_Subacc!AM15","v":0},{"$f":"SUM(AL16:AM16)","v":0},{"$f":"[1]T_Sch_Subacc!AO15","v":0},{"$f":"[1]T_Sch_Subacc!AP15","v":0},{"$f":"SUM(AO16:AP16)","v":0},{"$f":"[1]T_Sch_Subacc!AR15","v":0},{"$f":"[1]T_Sch_Subacc!AS15","v":0},{"$f":"SUM(AR16:AS16)","v":0},{"$f":"[1]T_Sch_Subacc!AU15","v":0},{"$f":"[1]T_Sch_Subacc!AV15","v":0},{"$f":"SUM(AU16:AV16)","v":0},{"$f":"[1]T_Sch_Subacc!AX15","v":0},{"$f":"[1]T_Sch_Subacc!AY15","v":0},{"$f":"SUM(AX16:AY16)","v":0},{"$f":"[1]T_Sch_Subacc!BA15","v":0},{"$f":"[1]T_Sch_Subacc!BB15","v":0},{"$f":"SUM(BA16:BB16)","v":0},{"$f":"[1]T_Sch_Subacc!BD15","v":0},{"$f":"[1]T_Sch_Subacc!BE15","v":0},{"$f":"SUM(BD16:BE16)","v":0},{"$f":"[1]T_Sch_Subacc!BG15","v":0},{"$f":"[1]T_Sch_Subacc!BH15","v":0},{"$f":"SUM(BG16:BH16)","v":0},{"$f":"SUM(E16,H16,K16,N16,Q16,T16,W16,Z16,AC16,AF16,AI16,AL16,AO16,AR16,AU16,AX16,BA16,BD16,BG16)","v":0},0,{"$f":"SUM(BJ16:BK16)","v":0},{"$f":"[1]T_Sch_Subacc!BM15","v":0},{"$f":"[1]T_Sch_Subacc!BN15","v":0},{"$f":"SUM(BM16:BN16)","v":0},{"$f":"[1]T_Sch_Subacc!BP15","v":0},{"$f":"[1]T_Sch_Subacc!BQ15","v":0},{"$f":"SUM(BP16:BQ16)","v":0},{"$f":"[1]T_Sch_Subacc!BS15","v":0},{"$f":"[1]T_Sch_Subacc!BT15","v":0},{"$f":"SUM(BS16:BT16)","v":0},{"$f":"[1]T_Sch_Subacc!BV15","v":0},{"$f":"[1]T_Sch_Subacc!BW15","v":0},{"$f":"SUM(BV16:BW16)","v":0},{"$f":"[1]T_Sch_Subacc!BY15","v":0},{"$f":"[1]T_Sch_Subacc!BZ15","v":0},{"$f":"SUM(BY16:BZ16)","v":0},{"$f":"[1]T_Sch_Subacc!CB15","v":0},{"$f":"[1]T_Sch_Subacc!CC15","v":0},{"$f":"SUM(CB16:CC16)","v":0},{"$f":"[1]T_Sch_Subacc!CE15","v":0},{"$f":"[1]T_Sch_Subacc!CF15","v":0},{"$f":"SUM(CE16:CF16)","v":0},{"$f":"[1]T_Sch_Subacc!CH15","v":0},{"$f":"[1]T_Sch_Subacc!CI15","v":0},{"$f":"SUM(CH16:CI16)","v":0},{"$f":"[1]T_Sch_Subacc!CK15","v":0},{"$f":"[1]T_Sch_Subacc!CL15","v":0},{"$f":"SUM(CK16:CL16)","v":0},{"$f":"[1]T_Sch_Subacc!CN15","v":0},{"$f":"[1]T_Sch_Subacc!CO15","v":0},{"$f":"SUM(CN16:CO16)","v":0},{"$f":"[1]T_Sch_Subacc!CQ15","v":0},{"$f":"[1]T_Sch_Subacc!CR15","v":0},{"$f":"SUM(CQ16:CR16)","v":0},{"$f":"[1]T_Sch_Subacc!CT15","v":0},{"$f":"[1]T_Sch_Subacc!CU15","v":0},{"$f":"SUM(CT16:CU16)","v":0},{"$f":"[1]T_Sch_Subacc!CW15","v":0},{"$f":"[1]T_Sch_Subacc!CX15","v":0},{"$f":"SUM(CW16:CX16)","v":0},{"$f":"[1]T_Sch_Subacc!CZ15","v":0},{"$f":"[1]T_Sch_Subacc!DA15","v":0},{"$f":"SUM(CZ16:DA16)","v":0},{"$f":"[1]T_Sch_Subacc!DC15","v":0},{"$f":"[1]T_Sch_Subacc!DD15","v":0},{"$f":"SUM(DC16:DD16)","v":0},{"$f":"SUM(BM16,BP16,BS16,BV16,BY16,CB16,CE16,CH16,CK16,CN16,CQ16,CT16,CW16,CZ16,DC16)","v":0},0,{"$f":"SUM(DF16:DG16)","v":0},{"$f":"[1]T_Sch_Subacc!DI15","v":0},{"$f":"[1]T_Sch_Subacc!DJ15","v":0},{"$f":"SUM(DI16:DJ16)","v":0},{"$f":"[1]T_Sch_Subacc!DL15","v":0},{"$f":"[1]T_Sch_Subacc!DM15","v":0},{"$f":"SUM(DL16:DM16)","v":0},{"$f":"SUM(DI16,DL16)","v":0},0,{"$f":"SUM(DO16:DP16)","v":0},{"$f":"[1]T_Sch_Subacc!DR15","v":0},{"$f":"[1]T_Sch_Subacc!DS15","v":0},{"$f":"SUM(DR16:DS16)","v":0},{"$f":"[1]T_Sch_Subacc!DU15","v":0},{"$f":"[1]T_Sch_Subacc!DV15","v":0},{"$f":"SUM(DU16:DV16)","v":0},{"$f":"[1]T_Sch_Subacc!DX15","v":0},{"$f":"[1]T_Sch_Subacc!DY15","v":0},{"$f":"SUM(DX16:DY16)","v":0},{"$f":"SUM(DR16,DU16,DX16)","v":0},0,{"$f":"SUM(EA16:EB16)","v":0},{"$f":"SUM(BJ16,DF16,DO16,EA16)","v":0},0,{"$f":"SUM(ED16:EE16)","v":0}]
[2,null,null,null,null,null,{"$f":"SUM(E17:F17)","v":0},null,null,0,null,null,0,null,null,0,null,null,0,null,null,0,null,null,0,null,null,0,null,null,0,null,null,0,null,null,0,null,null,0,null,null,0,null,null,0,null,null,0,null,null,0,null,null,0,null,null,0,null,null,0,0,0,0,null,null,0,null,null,0,null,null,0,null,null,0,null,null,0,null,null,0,null,null,0,null,null,0,null,null,0,null,null,0,null,null,0,null,null,0,null,null,0,null,null,0,null,null,0,0,0,0,null,null,0,null,null,0,0,0,0,null,null,0,null,null,0,null,null,0,0,0,0,0,0,0]
[3,null,null,null,null,null,0,null,null,0,null,null,0,null,null,0,null,null,0,null,null,0,null,null,0,null,null,0,null,null,0,null,null,0,null,null,0,null,null,0,null,null,0,null,null,0,null,null,0,null,null,0,null,null,0,null,null,0,null,null,0,0,0,0,null,null,0,null,null,0,null,null,0,null,null,0,null,null,0,null,null,0,null,null,0,null,null,0,null,null,0,null,null,0,null,null,0,null,null,0,null,null,0,null,null,0,null,null,0,0,0,0,null,null,0,null,null,0,0,0,0,null,null,0,null,null,0,null,null,0,0,0,0,0,0,0]
[4,null,null,null,null,null,0,null,null,0,null,null,0,null,null,0,null,null,0,null,null,0,null,null,0,null,null,0,null,null,0,null,null,0,null,null,0,null,null,0,null,null,0,null,null,0,null,null,0,null,null,0,null,null,0,null,null,0,null,null,0,0,0,0,null,null,0,null,null,0,null,null,0,null,null,0,null,null,0,null,null,0,null,null,0,null,null,0,null,null,0,null,null,0,null,null,0,null,null,0,null,null,0,null,null,0,null,null,0,0,0,0,null,null,0,null,null,0,0,0,0,null,null,0,null,null,0,null,null,0,0,0,0,0,0,0]
[5,null,null,null,null,null,0,null,null,0,null,null,0,null,null,0,null,null,0,null,null,0,null,null,0,null,null,0,null,null,0,null,null,0,null,null,0,null,null,0,null,null,0,null,null,0,null,null,0,null,null,0,null,null,0,null,null,0,null,null,0,0,0,0,null,null,0,null,null,0,null,null,0,null,null,0,null,null,0,null,null,0,null,null,0,null,null,0,null,null,0,null,null,0,null,null,0,null,null,0,null,null,0,null,null,0,null,null,0,0,0,0,null,null,0,null,null,0,0,0,0,null,null,0,null,null,0,null,null,0,0,0,0,0,0,0]
[6,null,null,null,null,null,0,null,null,0,null,null,0,null,null,0,null,null,0,null,null,0,null,null,0,null,null,0,null,null,0,null,null,0,null,null,0,null,null,0,null,null,0,null,null,0,null,null,0,null,null,0,null,null,0,null,null,0,null,null,0,0,0,0,null,null,0,null,null,0,null,null,0,null,null,0,null,null,0,null,null,0,null,null,0,null,null,0,null,null,0,null,null,0,null,null,0,null,null,0,null,null,0,null,null,0,null,null,0,0,0,0,null,null,0,null,null,0,0,0,0,null,null,0,null,null,0,null,null,0,0,0,0,0,0,0]
[7,null,null,null,null,null,0,null,null,0,null,null,0,null,null,0,null,null,0,null,null,0,null,null,0,null,null,0,null,null,0,null,null,0,null,null,0,null,null,0,null,null,0,null,null,0,null,null,0,null,null,0,null,null,0,null,null,0,null,null,0,0,0,0,null,null,0,null,null,0,null,null,0,null,null,0,null,null,0,null,null,0,null,null,0,null,null,0,null,null,0,null,null,0,null,null,0,null,null,0,null,null,0,null,null,0,null,null,0,0,0,0,null,null,0,null,null,0,0,0,0,null,null,0,null,null,0,null,null,0,0,0,0,0,0,0]
[8,null,null,null,null,null,0,null,null,0,null,null,0,null,null,0,null,null,0,null,null,0,null,null,0,null,null,0,null,null,0,null,null,0,null,null,0,null,null,0,null,null,0,null,null,0,null,null,0,null,null,0,null,null,0,null,null,0,null,null,0,0,0,0,null,null,0,null,null,0,null,null,0,null,null,0,null,null,0,null,null,0,null,null,0,null,null,0,null,null,0,null,null,0,null,null,0,null,null,0,null,null,0,null,null,0,null,null,0,0,0,0,null,null,0,null,null,0,0,0,0,null,null,0,null,null,0,null,null,0,0,0,0,0,0,0]
[9,null,null,null,null,null,0,null,null,0,null,null,0,null,null,0,null,null,0,null,null,0,null,null,0,null,null,0,null,null,0,null,null,0,null,null,0,null,null,0,null,null,0,null,null,0,null,null,0,null,null,0,null,null,0,null,null,0,null,null,0,0,0,0,null,null,0,null,null,0,null,null,0,null,null,0,null,null,0,null,null,0,null,null,0,null,null,0,null,null,0,null,null,0,null,null,0,null,null,0,null,null,0,null,null,0,null,null,0,0,0,0,null,null,0,null,null,0,0,0,0,null,null,0,null,null,0,null,null,0,0,0,0,0,0,0]
[10,null,null,null,null,null,0,null,null,0,null,null,0,null,null,0,null,null,0,null,null,0,null,null,0,null,null,0,null,null,0,null,null,0,null,null,0,null,null,0,null,null,0,null,null,0,null,null,0,null,null,0,null,null,0,null,null,0,null,null,0,0,0,0,null,null,0,null,null,0,null,null,0,null,null,0,null,null,0,null,null,0,null,null,0,null,null,0,null,null,0,null,null,0,null,null,0,null,null,0,null,null,0,null,null,0,null,null,0,0,0,0,null,null,0,null,null,0,0,0,0,null,null,0,null,null,0,null,null,0,0,0,0,0,0,0]
[11,null,null,null,null,null,0,null,null,0,null,null,0,null,null,0,null,null,0,null,null,0,null,null,0,null,null,0,null,null,0,null,null,0,null,null,0,null,null,0,null,null,0,null,null,0,null,null,0,null,null,0,null,null,0,null,null,0,null,null,0,0,0,0,null,null,0,null,null,0,null,null,0,null,null,0,null,null,0,null,null,0,null,null,0,null,null,0,null,null,0,null,null,0,null,null,0,null,null,0,null,null,0,null,null,0,null,null,0,0,0,0,null,null,0,null,null,0,0,0,0,null,null,0,null,null,0,null,null,0,0,0,0,0,0,0]
[12,null,null,null,null,null,0,null,null,0,null,null,0,null,null,0,null,null,0,null,null,0,null,null,0,null,null,0,null,null,0,null,null,0,null,null,0,null,null,0,null,null,0,null,null,0,null,null,0,null,null,0,null,null,0,null,null,0,null,null,0,0,0,0,null,null,0,null,null,0,null,null,0,null,null,0,null,null,0,null,null,0,null,null,0,null,null,0,null,null,0,null,null,0,null,null,0,null,null,0,null,null,0,null,null,0,null,null,0,0,0,0,null,null,0,null,null,0,0,0,0,null,null,0,null,null,0,null,null,0,0,0,0,0,0,0]
[13,null,null,null,null,null,0,null,null,0,null,null,0,null,null,0,null,null,0,null,null,0,null,null,0,null,null,0,null,null,0,null,null,0,null,null,0,null,null,0,null,null,0,null,null,0,null,null,0,null,null,0,null,null,0,null,null,0,null,null,0,0,0,0,null,null,0,null,null,0,null,null,0,null,null,0,null,null,0,null,null,0,null,null,0,null,null,0,null,null,0,null,null,0,null,null,0,null,null,0,null,null,0,null,null,0,null,null,0,0,0,0,null,null,0,null,null,0,0,0,0,null,null,0,null,null,0,null,null,0,0,0,0,0,0,0]
[14,null,null,null,null,null,0,null,null,0,null,null,0,null,null,0,null,null,0,null,null,0,null,null,0,null,null,0,null,null,0,null,null,0,null,null,0,null,null,0,null,null,0,null,null,0,null,null,0,null,null,0,null,null,0,null,null,0,null,null,0,0,0,0,null,null,0,null,null,0,null,null,0,null,null,0,null,null,0,null,null,0,null,null,0,null,null,0,null,null,0,null,null,0,null,null,0,null,null,0,null,null,0,null,null,0,null,null,0,0,0,0,null,null,0,null,null,0,0,0,0,null,null,0,null,null,0,null,null,0,0,0,0,0,0,0]
[15,null,null,null,null,null,0,null,null,0,null,null,0,null,null,0,null,null,0,null,null,0,null,null,0,null,null,0,null,null,0,null,null,0,null,null,0,null,null,0,null,null,0,null,null,0,null,null,0,null,null,0,null,null,0,null,null,0,null,null,0,0,0,0,null,null,0,null,null,0,null,null,0,null,null,0,null,null,0,null,null,0,null,null,0,null,null,0,null,null,0,null,null,0,null,null,0,null,null,0,null,null,0,null,null,0,null,null,0,0,0,0,null,null,0,null,null,0,0,0,0,null,null,0,null,null,0,null,null,0,0,0,0,0,0,0]
[16,null,null,null,null,null,0,null,null,0,null,null,0,null,null,0,null,null,0,null,null,0,null,null,0,null,null,0,null,null,0,null,null,0,null,null,0,null,null,0,null,null,0,null,null,0,null,null,0,null,null,0,null,null,0,null,null,0,null,null,0,0,0,0,null,null,0,null,null,0,null,null,0,null,null,0,null,null,0,null,null,0,null,null,0,null,null,0,null,null,0,null,null,0,null,null,0,null,null,0,null,null,0,null,null,0,null,null,0,0,0,0,null,null,0,null,null,0,0,0,0,null,null,0,null,null,0,null,null,0,0,0,0,0,0,0]
[17,null,null,null,null,null,0,null,null,0,null,null,0,null,null,0,null,null,0,null,null,0,null,null,0,null,null,0,null,null,0,null,null,0,null,null,0,null,null,0,null,null,0,null,null,0,null,null,0,null,null,0,null,null,0,null,null,0,null,null,0,0,0,0,null,null,0,null,null,0,null,null,0,null,null,0,null,null,0,null,null,0,null,null,0,null,null,0,null,null,0,null,null,0,null,null,0,null,null,0,null,null,0,null,null,0,null,null,0,0,0,0,null,null,0,null,null,0,0,0,0,null,null,0,null,null,0,null,null,0,0,0,0,0,0,0]
[18,null,null,null,null,null,0,null,null,0,null,null,0,null,null,0,null,null,0,null,null,0,null,null,0,null,null,0,null,null,0,null,null,0,null,null,0,null,null,0,null,null,0,null,null,0,null,null,0,null,null,0,null,null,0,null,null,0,null,null,0,0,0,0,null,null,0,null,null,0,null,null,0,null,null,0,null,null,0,null,null,0,null,null,0,null,null,0,null,null,0,null,null,0,null,null,0,null,null,0,null,null,0,null,null,0,null,null,0,0,0,0,null,null,0,null,null,0,0,0,0,null,null,0,null,null,0,null,null,0,0,0,0,0,0,0]
[19,null,null,null,null,null,0,null,null,0,null,null,0,null,null,0,null,null,0,null,null,0,null,null,0,null,null,0,null,null,0,null,null,0,null,null,0,null,null,0,null,null,0,null,null,0,null,null,0,null,null,0,null,null,0,null,null,0,null,null,0,0,0,0,null,null,0,null,null,0,null,null,0,null,null,0,null,null,0,null,null,0,null,null,0,null,null,0,null,null,0,null,null,0,null,null,0,null,null,0,null,null,0,null,null,0,null,null,0,0,0,0,null,null,0,null,null,0,0,0,0,null,null,0,null,null,0,null,null,0,0,0,0,0,0,0]
[20,null,null,null,null,null,0,null,null,0,null,null,0,null,null,0,null,null,0,null,null,0,null,null,0,null,null,0,null,null,0,null,null,0,null,null,0,null,null,0,null,null,0,null,null,0,null,null,0,null,null,0,null,null,0,null,null,0,null,null,0,0,0,0,null,null,0,null,null,0,null,null,0,null,null,0,null,null,0,null,null,0,null,null,0,null,null,0,null,null,0,null,null,0,null,null,0,null,null,0,null,null,0,null,null,0,null,null,0,0,0,0,null,null,0,null,null,0,0,0,0,null,null,0,null,null,0,null,null,0,0,0,0,0,0,0]
[21,null,null,null,null,null,0,null,null,0,null,null,0,null,null,0,null,null,0,null,null,0,null,null,0,null,null,0,null,null,0,null,null,0,null,null,0,null,null,0,null,null,0,null,null,0,null,null,0,null,null,0,null,null,0,null,null,0,null,null,0,0,0,0,null,null,0,null,null,0,null,null,0,null,null,0,null,null,0,null,null,0,null,null,0,null,null,0,null,null,0,null,null,0,null,null,0,null,null,0,null,null,0,null,null,0,null,null,0,0,0,0,null,null,0,null,null,0,0,0,0,null,null,0,null,null,0,null,null,0,0,0,0,0,0,0]
[22,null,null,null,null,null,0,null,null,0,null,null,0,null,null,0,null,null,0,null,null,0,null,null,0,null,null,0,null,null,0,null,null,0,null,null,0,null,null,0,null,null,0,null,null,0,null,null,0,null,null,0,null,null,0,null,null,0,null,null,0,0,0,0,null,null,0,null,null,0,null,null,0,null,null,0,null,null,0,null,null,0,null,null,0,null,null,0,null,null,0,null,null,0,null,null,0,null,null,0,null,null,0,null,null,0,null,null,0,0,0,0,null,null,0,null,null,0,0,0,0,null,null,0,null,null,0,null,null,0,0,0,0,0,0,0]
[23,null,null,null,null,null,0,null,null,0,null,null,0,null,null,0,null,null,0,null,null,0,null,null,0,null,null,0,null,null,0,null,null,0,null,null,0,null,null,0,null,null,0,null,null,0,null,null,0,null,null,0,null,null,0,null,null,0,null,null,0,0,0,0,null,null,0,null,null,0,null,null,0,null,null,0,null,null,0,null,null,0,null,null,0,null,null,0,null,null,0,null,null,0,null,null,0,null,null,0,null,null,0,null,null,0,null,null,0,0,0,0,null,null,0,null,null,0,0,0,0,null,null,0,null,null,0,null,null,0,0,0,0,0,0,0]
[24,null,null,null,null,null,0,null,null,0,null,null,0,null,null,0,null,null,0,null,null,0,null,null,0,null,null,0,null,null,0,null,null,0,null,null,0,null,null,0,null,null,0,null,null,0,null,null,0,null,null,0,null,null,0,null,null,0,null,null,0,0,0,0,null,null,0,null,null,0,null,null,0,null,null,0,null,null,0,null,null,0,null,null,0,null,null,0,null,null,0,null,null,0,null,null,0,null,null,0,null,null,0,null,null,0,null,null,0,0,0,0,null,null,0,null,null,0,0,0,0,null,null,0,null,null,0,null,null,0,0,0,0,0,0,0]
[25,null,null,null,null,null,0,null,null,0,null,null,0,null,null,0,null,null,0,null,null,0,null,null,0,null,null,0,null,null,0,null,null,0,null,null,0,null,null,0,null,null,0,null,null,0,null,null,0,null,null,0,null,null,0,null,null,0,null,null,0,0,0,0,null,null,0,null,null,0,null,null,0,null,null,0,null,null,0,null,null,0,null,null,0,null,null,0,null,null,0,null,null,0,null,null,0,null,null,0,null,null,0,null,null,0,null,null,0,0,0,0,null,null,0,null,null,0,0,0,0,null,null,0,null,null,0,null,null,0,0,0,0,0,0,0]
[26,null,null,null,null,null,0,null,null,0,null,null,0,null,null,0,null,null,0,null,null,0,null,null,0,null,null,0,null,null,0,null,null,0,null,null,0,null,null,0,null,null,0,null,null,0,null,null,0,null,null,0,null,null,0,null,null,0,null,null,0,0,0,0,null,null,0,null,null,0,null,null,0,null,null,0,null,null,0,null,null,0,null,null,0,null,null,0,null,null,0,null,null,0,null,null,0,null,null,0,null,null,0,null,null,0,null,null,0,0,0,0,null,null,0,null,null,0,0,0,0,null,null,0,null,null,0,null,null,0,0,0,0,0,0,0]
[27,null,null,null,null,null,0,null,null,0,null,null,0,null,null,0,null,null,0,null,null,0,null,null,0,null,null,0,null,null,0,null,null,0,null,null,0,null,null,0,null,null,0,null,null,0,null,null,0,null,null,0,null,null,0,null,null,0,null,null,0,0,0,0,null,null,0,null,null,0,null,null,0,null,null,0,null,null,0,null,null,0,null,null,0,null,null,0,null,null,0,null,null,0,null,null,0,null,null,0,null,null,0,null,null,0,null,null,0,0,0,0,null,null,0,null,null,0,0,0,0,null,null,0,null,null,0,null,null,0,0,0,0,0,0,0]
[28,null,null,null,null,null,0,null,null,0,null,null,0,null,null,0,null,null,0,null,null,0,null,null,0,null,null,0,null,null,0,null,null,0,null,null,0,null,null,0,null,null,0,null,null,0,null,null,0,null,null,0,null,null,0,null,null,0,null,null,0,0,0,0,null,null,0,null,null,0,null,null,0,null,null,0,null,null,0,null,null,0,null,null,0,null,null,0,null,null,0,null,null,0,null,null,0,null,null,0,null,null,0,null,null,0,null,null,0,0,0,0,null,null,0,null,null,0,0,0,0,null,null,0,null,null,0,null,null,0,0,0,0,0,0,0]
[29,null,null,null,null,null,0,null,null,0,null,null,0,null,null,0,null,null,0,null,null,0,null,null,0,null,null,0,null,null,0,null,null,0,null,null,0,null,null,0,null,null,0,null,null,0,null,null,0,null,null,0,null,null,0,null,null,0,null,null,0,0,0,0,null,null,0,null,null,0,null,null,0,null,null,0,null,null,0,null,null,0,null,null,0,null,null,0,null,null,0,null,null,0,null,null,0,null,null,0,null,null,0,null,null,0,null,null,0,0,0,0,null,null,0,null,null,0,0,0,0,null,null,0,null,null,0,null,null,0,0,0,0,0,0,0]
[30,null,null,null,null,null,0,null,null,0,null,null,0,null,null,0,null,null,0,null,null,0,null,null,0,null,null,0,null,null,0,null,null,0,null,null,0,null,null,0,null,null,0,null,null,0,null,null,0,null,null,0,null,null,0,null,null,0,null,null,0,0,0,0,null,null,0,null,null,0,null,null,0,null,null,0,null,null,0,null,null,0,null,null,0,null,null,0,null,null,0,null,null,0,null,null,0,null,null,0,null,null,0,null,null,0,null,null,0,0,0,0,null,null,0,null,null,0,0,0,0,null,null,0,null,null,0,null,null,0,0,0,0,0,0,0]
[31,null,null,null,null,null,0,null,null,0,null,null,0,null,null,0,null,null,0,null,null,0,null,null,0,null,null,0,null,null,0,null,null,0,null,null,0,null,null,0,null,null,0,null,null,0,null,null,0,null,null,0,null,null,0,null,null,0,null,null,0,0,0,0,null,null,0,null,null,0,null,null,0,null,null,0,null,null,0,null,null,0,null,null,0,null,null,0,null,null,0,null,null,0,null,null,0,null,null,0,null,null,0,null,null,0,null,null,0,0,0,0,null,null,0,null,null,0,0,0,0,null,null,0,null,null,0,null,null,0,0,0,0,0,0,0]
[32,null,null,null,null,null,0,null,null,0,null,null,0,null,null,0,null,null,0,null,null,0,null,null,0,null,null,0,null,null,0,null,null,0,null,null,0,null,null,0,null,null,0,null,null,0,null,null,0,null,null,0,null,null,0,null,null,0,null,null,0,0,0,0,null,null,0,null,null,0,null,null,0,null,null,0,null,null,0,null,null,0,null,null,0,null,null,0,null,null,0,null,null,0,null,null,0,null,null,0,null,null,0,null,null,0,null,null,0,0,0,0,null,null,0,null,null,0,0,0,0,null,null,0,null,null,0,null,null,0,0,0,0,0,0,0]
[33,null,null,null,null,null,0,null,null,0,null,null,0,null,null,0,null,null,0,null,null,0,null,null,0,null,null,0,null,null,0,null,null,0,null,null,0,null,null,0,null,null,0,null,null,0,null,null,0,null,null,0,null,null,0,null,null,0,null,null,0,0,0,0,null,null,0,null,null,0,null,null,0,null,null,0,null,null,0,null,null,0,null,null,0,null,null,0,null,null,0,null,null,0,null,null,0,null,null,0,null,null,0,null,null,0,null,null,0,0,0,0,null,null,0,null,null,0,0,0,0,null,null,0,null,null,0,null,null,0,0,0,0,0,0,0]
[34,null,null,null,null,null,0,null,null,0,null,null,0,null,null,0,null,null,0,null,null,0,null,null,0,null,null,0,null,null,0,null,null,0,null,null,0,null,null,0,null,null,0,null,null,0,null,null,0,null,null,0,null,null,0,null,null,0,null,null,0,0,0,0,null,null,0,null,null,0,null,null,0,null,null,0,null,null,0,null,null,0,null,null,0,null,null,0,null,null,0,null,null,0,null,null,0,null,null,0,null,null,0,null,null,0,null,null,0,0,0,0,null,null,0,null,null,0,0,0,0,null,null,0,null,null,0,null,null,0,0,0,0,0,0,0]
[35,null,null,null,null,null,0,null,null,0,null,null,0,null,null,0,null,null,0,null,null,0,null,null,0,null,null,0,null,null,0,null,null,0,null,null,0,null,null,0,null,null,0,null,null,0,null,null,0,null,null,0,null,null,0,null,null,0,null,null,0,0,0,0,null,null,0,null,null,0,null,null,0,null,null,0,null,null,0,null,null,0,null,null,0,null,null,0,null,null,0,null,null,0,null,null,0,null,null,0,null,null,0,null,null,0,null,null,0,0,0,0,null,null,0,null,null,0,0,0,0,null,null,0,null,null,0,null,null,0,0,0,0,0,0,0]
[36,null,null,null,null,null,0,null,null,0,null,null,0,null,null,0,null,null,0,null,null,0,null,null,0,null,null,0,null,null,0,null,null,0,null,null,0,null,null,0,null,null,0,null,null,0,null,null,0,null,null,0,null,null,0,null,null,0,null,null,0,0,0,0,null,null,0,null,null,0,null,null,0,null,null,0,null,null,0,null,null,0,null,null,0,null,null,0,null,null,0,null,null,0,null,null,0,null,null,0,null,null,0,null,null,0,null,null,0,0,0,0,null,null,0,null,null,0,0,0,0,null,null,0,null,null,0,null,null,0,0,0,0,0,0,0]
[37,null,null,null,null,null,0,null,null,0,null,null,0,null,null,0,null,null,0,null,null,0,null,null,0,null,null,0,null,null,0,null,null,0,null,null,0,null,null,0,null,null,0,null,null,0,null,null,0,null,null,0,null,null,0,null,null,0,null,null,0,0,0,0,null,null,0,null,null,0,null,null,0,null,null,0,null,null,0,null,null,0,null,null,0,null,null,0,null,null,0,null,null,0,null,null,0,null,null,0,null,null,0,null,null,0,null,null,0,0,0,0,null,null,0,null,null,0,0,0,0,null,null,0,null,null,0,null,null,0,0,0,0,0,0,0]
[38,null,null,null,null,null,0,null,null,0,null,null,0,null,null,0,null,null,0,null,null,0,null,null,0,null,null,0,null,null,0,null,null,0,null,null,0,null,null,0,null,null,0,null,null,0,null,null,0,null,null,0,null,null,0,null,null,0,null,null,0,0,0,0,null,null,0,null,null,0,null,null,0,null,null,0,null,null,0,null,null,0,null,null,0,null,null,0,null,null,0,null,null,0,null,null,0,null,null,0,null,null,0,null,null,0,null,null,0,0,0,0,null,null,0,null,null,0,0,0,0,null,null,0,null,null,0,null,null,0,0,0,0,0,0,0]
[39,null,null,null,null,null,0,null,null,0,null,null,0,null,null,0,null,null,0,null,null,0,null,null,0,null,null,0,null,null,0,null,null,0,null,null,0,null,null,0,null,null,0,null,null,0,null,null,0,null,null,0,null,null,0,null,null,0,null,null,0,0,0,0,null,null,0,null,null,0,null,null,0,null,null,0,null,null,0,null,null,0,null,null,0,null,null,0,null,null,0,null,null,0,null,null,0,null,null,0,null,null,0,null,null,0,null,null,0,0,0,0,null,null,0,null,null,0,0,0,0,null,null,0,null,null,0,null,null,0,0,0,0,0,0,0]
[40,null,null,null,null,null,0,null,null,0,null,null,0,null,null,0,null,null,0,null,null,0,null,null,0,null,null,0,null,null,0,null,null,0,null,null,0,null,null,0,null,null,0,null,null,0,null,null,0,null,null,0,null,null,0,null,null,0,null,null,0,0,0,0,null,null,0,null,null,0,null,null,0,null,null,0,null,null,0,null,null,0,null,null,0,null,null,0,null,null,0,null,null,0,null,null,0,null,null,0,null,null,0,null,null,0,null,null,0,0,0,0,null,null,0,null,null,0,0,0,0,null,null,0,null,null,0,null,null,0,0,0,0,0,0,0]
[41,null,null,null,null,null,0,null,null,0,null,null,0,null,null,0,null,null,0,null,null,0,null,null,0,null,null,0,null,null,0,null,null,0,null,null,0,null,null,0,null,null,0,null,null,0,null,null,0,null,null,0,null,null,0,null,null,0,null,null,0,0,0,0,null,null,0,null,null,0,null,null,0,null,null,0,null,null,0,null,null,0,null,null,0,null,null,0,null,null,0,null,null,0,null,null,0,null,null,0,null,null,0,null,null,0,null,null,0,0,0,0,null,null,0,null,null,0,0,0,0,null,null,0,null,null,0,null,null,0,0,0,0,0,0,0]
[42,null,null,null,null,null,0,null,null,0,null,null,0,null,null,0,null,null,0,null,null,0,null,null,0,null,null,0,null,null,0,null,null,0,null,null,0,null,null,0,null,null,0,null,null,0,null,null,0,null,null,0,null,null,0,null,null,0,null,null,0,0,0,0,null,null,0,null,null,0,null,null,0,null,null,0,null,null,0,null,null,0,null,null,0,null,null,0,null,null,0,null,null,0,null,null,0,null,null,0,null,null,0,null,null,0,null,null,0,0,0,0,null,null,0,null,null,0,0,0,0,null,null,0,null,null,0,null,null,0,0,0,0,0,0,0]
[43,null,null,null,null,null,0,null,null,0,null,null,0,null,null,0,null,null,0,null,null,0,null,null,0,null,null,0,null,null,0,null,null,0,null,null,0,null,null,0,null,null,0,null,null,0,null,null,0,null,null,0,null,null,0,null,null,0,null,null,0,0,0,0,null,null,0,null,null,0,null,null,0,null,null,0,null,null,0,null,null,0,null,null,0,null,null,0,null,null,0,null,null,0,null,null,0,null,null,0,null,null,0,null,null,0,null,null,0,0,0,0,null,null,0,null,null,0,0,0,0,null,null,0,null,null,0,null,null,0,0,0,0,0,0,0]
[44,null,null,null,null,null,0,null,null,0,null,null,0,null,null,0,null,null,0,null,null,0,null,null,0,null,null,0,null,null,0,null,null,0,null,null,0,null,null,0,null,null,0,null,null,0,null,null,0,null,null,0,null,null,0,null,null,0,null,null,0,0,0,0,null,null,0,null,null,0,null,null,0,null,null,0,null,null,0,null,null,0,null,null,0,null,null,0,null,null,0,null,null,0,null,null,0,null,null,0,null,null,0,null,null,0,null,null,0,0,0,0,null,null,0,null,null,0,0,0,0,null,null,0,null,null,0,null,null,0,0,0,0,0,0,0]
[45,null,null,null,null,null,0,null,null,0,null,null,0,null,null,0,null,null,0,null,null,0,null,null,0,null,null,0,null,null,0,null,null,0,null,null,0,null,null,0,null,null,0,null,null,0,null,null,0,null,null,0,null,null,0,null,null,0,null,null,0,0,0,0,null,null,0,null,null,0,null,null,0,null,null,0,null,null,0,null,null,0,null,null,0,null,null,0,null,null,0,null,null,0,null,null,0,null,null,0,null,null,0,null,null,0,null,null,0,0,0,0,null,null,0,null,null,0,0,0,0,null,null,0,null,null,0,null,null,0,0,0,0,0,0,0]
[46,null,null,null,null,null,0,null,null,0,null,null,0,null,null,0,null,null,0,null,null,0,null,null,0,null,null,0,null,null,0,null,null,0,null,null,0,null,null,0,null,null,0,null,null,0,null,null,0,null,null,0,null,null,0,null,null,0,null,null,0,0,0,0,null,null,0,null,null,0,null,null,0,null,null,0,null,null,0,null,null,0,null,null,0,null,null,0,null,null,0,null,null,0,null,null,0,null,null,0,null,null,0,null,null,0,null,null,0,0,0,0,null,null,0,null,null,0,0,0,0,null,null,0,null,null,0,null,null,0,0,0,0,0,0,0]
[47,null,null,null,null,null,0,null,null,0,null,null,0,null,null,0,null,null,0,null,null,0,null,null,0,null,null,0,null,null,0,null,null,0,null,null,0,null,null,0,null,null,0,null,null,0,null,null,0,null,null,0,null,null,0,null,null,0,null,null,0,0,0,0,null,null,0,null,null,0,null,null,0,null,null,0,null,null,0,null,null,0,null,null,0,null,null,0,null,null,0,null,null,0,null,null,0,null,null,0,null,null,0,null,null,0,null,null,0,0,0,0,null,null,0,null,null,0,0,0,0,null,null,0,null,null,0,null,null,0,0,0,0,0,0,0]
[48,null,null,null,null,null,0,null,null,0,null,null,0,null,null,0,null,null,0,null,null,0,null,null,0,null,null,0,null,null,0,null,null,0,null,null,0,null,null,0,null,null,0,null,null,0,null,null,0,null,null,0,null,null,0,null,null,0,null,null,0,0,0,0,null,null,0,null,null,0,null,null,0,null,null,0,null,null,0,null,null,0,null,null,0,null,null,0,null,null,0,null,null,0,null,null,0,null,null,0,null,null,0,null,null,0,null,null,0,0,0,0,null,null,0,null,null,0,0,0,0,null,null,0,null,null,0,null,null,0,0,0,0,0,0,0]
[49,null,null,null,null,null,0,null,null,0,null,null,0,null,null,0,null,null,0,null,null,0,null,null,0,null,null,0,null,null,0,null,null,0,null,null,0,null,null,0,null,null,0,null,null,0,null,null,0,null,null,0,null,null,0,null,null,0,null,null,0,0,0,0,null,null,0,null,null,0,null,null,0,null,null,0,null,null,0,null,null,0,null,null,0,null,null,0,null,null,0,null,null,0,null,null,0,null,null,0,null,null,0,null,null,0,null,null,0,0,0,0,null,null,0,null,null,0,0,0,0,null,null,0,null,null,0,null,null,0,0,0,0,0,0,0]
[50,null,null,null,null,null,0,null,null,0,null,null,0,null,null,0,null,null,0,null,null,0,null,null,0,null,null,0,null,null,0,null,null,0,null,null,0,null,null,0,null,null,0,null,null,0,null,null,0,null,null,0,null,null,0,null,null,0,null,null,0,0,0,0,null,null,0,null,null,0,null,null,0,null,null,0,null,null,0,null,null,0,null,null,0,null,null,0,null,null,0,null,null,0,null,null,0,null,null,0,null,null,0,null,null,0,null,null,0,0,0,0,null,null,0,null,null,0,0,0,0,null,null,0,null,null,0,null,null,0,0,0,0,0,0,0]
[51,null,null,null,null,null,0,null,null,0,null,null,0,null,null,0,null,null,0,null,null,0,null,null,0,null,null,0,null,null,0,null,null,0,null,null,0,null,null,0,null,null,0,null,null,0,null,null,0,null,null,0,null,null,0,null,null,0,null,null,0,0,0,0,null,null,0,null,null,0,null,null,0,null,null,0,null,null,0,null,null,0,null,null,0,null,null,0,null,null,0,null,null,0,null,null,0,null,null,0,null,null,0,null,null,0,null,null,0,0,0,0,null,null,0,null,null,0,0,0,0,null,null,0,null,null,0,null,null,0,0,0,0,0,0,0]
[52,null,null,null,null,null,0,null,null,0,null,null,0,null,null,0,null,null,0,null,null,0,null,null,0,null,null,0,null,null,0,null,null,0,null,null,0,null,null,0,null,null,0,null,null,0,null,null,0,null,null,0,null,null,0,null,null,0,null,null,0,0,0,0,null,null,0,null,null,0,null,null,0,null,null,0,null,null,0,null,null,0,null,null,0,null,null,0,null,null,0,null,null,0,null,null,0,null,null,0,null,null,0,null,null,0,null,null,0,0,0,0,null,null,0,null,null,0,0,0,0,null,null,0,null,null,0,null,null,0,0,0,0,0,0,0]
[53,null,null,null,null,null,0,null,null,0,null,null,0,null,null,0,null,null,0,null,null,0,null,null,0,null,null,0,null,null,0,null,null,0,null,null,0,null,null,0,null,null,0,null,null,0,null,null,0,null,null,0,null,null,0,null,null,0,null,null,0,0,0,0,null,null,0,null,null,0,null,null,0,null,null,0,null,null,0,null,null,0,null,null,0,null,null,0,null,null,0,null,null,0,null,null,0,null,null,0,null,null,0,null,null,0,null,null,0,0,0,0,null,null,0,null,null,0,0,0,0,null,null,0,null,null,0,null,null,0,0,0,0,0,0,0]
[54,null,null,null,null,null,0,null,null,0,null,null,0,null,null,0,null,null,0,null,null,0,null,null,0,null,null,0,null,null,0,null,null,0,null,null,0,null,null,0,null,null,0,null,null,0,null,null,0,null,null,0,null,null,0,null,null,0,null,null,0,0,0,0,null,null,0,null,null,0,null,null,0,null,null,0,null,null,0,null,null,0,null,null,0,null,null,0,null,null,0,null,null,0,null,null,0,null,null,0,null,null,0,null,null,0,null,null,0,0,0,0,null,null,0,null,null,0,0,0,0,null,null,0,null,null,0,null,null,0,0,0,0,0,0,0]
[55,null,null,null,null,null,0,null,null,0,null,null,0,null,null,0,null,null,0,null,null,0,null,null,0,null,null,0,null,null,0,null,null,0,null,null,0,null,null,0,null,null,0,null,null,0,null,null,0,null,null,0,null,null,0,null,null,0,null,null,0,0,0,0,null,null,0,null,null,0,null,null,0,null,null,0,null,null,0,null,null,0,null,null,0,null,null,0,null,null,0,null,null,0,null,null,0,null,null,0,null,null,0,null,null,0,null,null,0,0,0,0,null,null,0,null,null,0,0,0,0,null,null,0,null,null,0,null,null,0,0,0,0,0,0,0]
[56,null,null,null,null,null,0,null,null,0,null,null,0,null,null,0,null,null,0,null,null,0,null,null,0,null,null,0,null,null,0,null,null,0,null,null,0,null,null,0,null,null,0,null,null,0,null,null,0,null,null,0,null,null,0,null,null,0,null,null,0,0,0,0,null,null,0,null,null,0,null,null,0,null,null,0,null,null,0,null,null,0,null,null,0,null,null,0,null,null,0,null,null,0,null,null,0,null,null,0,null,null,0,null,null,0,null,null,0,0,0,0,null,null,0,null,null,0,0,0,0,null,null,0,null,null,0,null,null,0,0,0,0,0,0,0]
[57,null,null,null,null,null,0,null,null,0,null,null,0,null,null,0,null,null,0,null,null,0,null,null,0,null,null,0,null,null,0,null,null,0,null,null,0,null,null,0,null,null,0,null,null,0,null,null,0,null,null,0,null,null,0,null,null,0,null,null,0,0,0,0,null,null,0,null,null,0,null,null,0,null,null,0,null,null,0,null,null,0,null,null,0,null,null,0,null,null,0,null,null,0,null,null,0,null,null,0,null,null,0,null,null,0,null,null,0,0,0,0,null,null,0,null,null,0,0,0,0,null,null,0,null,null,0,null,null,0,0,0,0,0,0,0]
[58,null,null,null,null,null,0,null,null,0,null,null,0,null,null,0,null,null,0,null,null,0,null,null,0,null,null,0,null,null,0,null,null,0,null,null,0,null,null,0,null,null,0,null,null,0,null,null,0,null,null,0,null,null,0,null,null,0,null,null,0,0,0,0,null,null,0,null,null,0,null,null,0,null,null,0,null,null,0,null,null,0,null,null,0,null,null,0,null,null,0,null,null,0,null,null,0,null,null,0,null,null,0,null,null,0,null,null,0,0,0,0,null,null,0,null,null,0,0,0,0,null,null,0,null,null,0,null,null,0,0,0,0,0,0,0]
[59,null,null,null,null,null,0,null,null,0,null,null,0,null,null,0,null,null,0,null,null,0,null,null,0,null,null,0,null,null,0,null,null,0,null,null,0,null,null,0,null,null,0,null,null,0,null,null,0,null,null,0,null,null,0,null,null,0,null,null,0,0,0,0,null,null,0,null,null,0,null,null,0,null,null,0,null,null,0,null,null,0,null,null,0,null,null,0,null,null,0,null,null,0,null,null,0,null,null,0,null,null,0,null,null,0,null,null,0,0,0,0,null,null,0,null,null,0,0,0,0,null,null,0,null,null,0,null,null,0,0,0,0,0,0,0]
[60,null,null,null,null,null,0,null,null,0,null,null,0,null,null,0,null,null,0,null,null,0,null,null,0,null,null,0,null,null,0,null,null,0,null,null,0,null,null,0,null,null,0,null,null,0,null,null,0,null,null,0,null,null,0,null,null,0,null,null,0,0,0,0,null,null,0,null,null,0,null,null,0,null,null,0,null,null,0,null,null,0,null,null,0,null,null,0,null,null,0,null,null,0,null,null,0,null,null,0,null,null,0,null,null,0,null,null,0,0,0,0,null,null,0,null,null,0,0,0,0,null,null,0,null,null,0,null,null,0,0,0,0,0,0,0]
[61,null,null,null,null,null,0,null,null,0,null,null,0,null,null,0,null,null,0,null,null,0,null,null,0,null,null,0,null,null,0,null,null,0,null,null,0,null,null,0,null,null,0,null,null,0,null,null,0,null,null,0,null,null,0,null,null,0,null,null,0,0,0,0,null,null,0,null,null,0,null,null,0,null,null,0,null,null,0,null,null,0,null,null,0,null,null,0,null,null,0,null,null,0,null,null,0,null,null,0,null,null,0,null,null,0,null,null,0,0,0,0,null,null,0,null,null,0,0,0,0,null,null,0,null,null,0,null,null,0,0,0,0,0,0,0]
[62,null,null,null,null,null,0,null,null,0,null,null,0,null,null,0,null,null,0,null,null,0,null,null,0,null,null,0,null,null,0,null,null,0,null,null,0,null,null,0,null,null,0,null,null,0,null,null,0,null,null,0,null,null,0,null,null,0,null,null,0,0,0,0,null,null,0,null,null,0,null,null,0,null,null,0,null,null,0,null,null,0,null,null,0,null,null,0,null,null,0,null,null,0,null,null,0,null,null,0,null,null,0,null,null,0,null,null,0,0,0,0,null,null,0,null,null,0,0,0,0,null,null,0,null,null,0,null,null,0,0,0,0,0,0,0]
[63,null,null,null,null,null,0,null,null,0,null,null,0,null,null,0,null,null,0,null,null,0,null,null,0,null,null,0,null,null,0,null,null,0,null,null,0,null,null,0,null,null,0,null,null,0,null,null,0,null,null,0,null,null,0,null,null,0,null,null,0,0,0,0,null,null,0,null,null,0,null,null,0,null,null,0,null,null,0,null,null,0,null,null,0,null,null,0,null,null,0,null,null,0,null,null,0,null,null,0,null,null,0,null,null,0,null,null,0,0,0,0,null,null,0,null,null,0,0,0,0,null,null,0,null,null,0,null,null,0,0,0,0,0,0,0]
[64,null,null,null,null,null,0,null,null,0,null,null,0,null,null,0,null,null,0,null,null,0,null,null,0,null,null,0,null,null,0,null,null,0,null,null,0,null,null,0,null,null,0,null,null,0,null,null,0,null,null,0,null,null,0,null,null,0,null,null,0,0,0,0,null,null,0,null,null,0,null,null,0,null,null,0,null,null,0,null,null,0,null,null,0,null,null,0,null,null,0,null,null,0,null,null,0,null,null,0,null,null,0,null,null,0,null,null,0,0,0,0,null,null,0,null,null,0,0,0,0,null,null,0,null,null,0,null,null,0,0,0,0,0,0,0]
[65,null,null,null,null,null,{"$f":"SUM(E80:F80)","v":0},null,null,{"$f":"SUM(H80:I80)","v":0},null,null,{"$f":"SUM(K80:L80)","v":0},null,null,{"$f":"SUM(N80:O80)","v":0},null,null,{"$f":"SUM(Q80:R80)","v":0},null,null,{"$f":"SUM(T80:U80)","v":0},null,null,{"$f":"SUM(W80:X80)","v":0},null,null,{"$f":"SUM(Z80:AA80)","v":0},null,null,{"$f":"SUM(AC80:AD80)","v":0},null,null,{"$f":"SUM(AF80:AG80)","v":0},null,null,{"$f":"SUM(AI80:AJ80)","v":0},null,null,{"$f":"SUM(AL80:AM80)","v":0},null,null,{"$f":"SUM(AO80:AP80)","v":0},null,null,{"$f":"SUM(AR80:AS80)","v":0},null,null,{"$f":"SUM(AU80:AV80)","v":0},null,null,{"$f":"SUM(AX80:AY80)","v":0},null,null,{"$f":"SUM(BA80:BB80)","v":0},null,null,{"$f":"SUM(BD80:BE80)","v":0},null,null,{"$f":"SUM(BG80:BH80)","v":0},{"$f":"SUM(E80,H80,K80,N80,Q80,T80,W80,Z80,AC80,AF80,AI80,AL80,AO80,AR80,AU80,AX80,BA80,BD80,BG80)","v":0},0,{"$f":"SUM(BJ80:BK80)","v":0},null,null,{"$f":"SUM(BM80:BN80)","v":0},null,null,{"$f":"SUM(BP80:BQ80)","v":0},null,null,{"$f":"SUM(BS80:BT80)","v":0},null,null,{"$f":"SUM(BV80:BW80)","v":0},null,null,{"$f":"SUM(BY80:BZ80)","v":0},null,null,{"$f":"SUM(CB80:CC80)","v":0},null,null,{"$f":"SUM(CE80:CF80)","v":0},null,null,{"$f":"SUM(CH80:CI80)","v":0},null,null,{"$f":"SUM(CK80:CL80)","v":0},null,null,{"$f":"SUM(CN80:CO80)","v":0},null,null,{"$f":"SUM(CQ80:CR80)","v":0},null,null,{"$f":"SUM(CT80:CU80)","v":0},null,null,{"$f":"SUM(CW80:CX80)","v":0},null,null,{"$f":"SUM(CZ80:DA80)","v":0},null,null,{"$f":"SUM(DC80:DD80)","v":0},{"$f":"SUM(BM80,BP80,BS80,BV80,BY80,CB80,CE80,CH80,CK80,CN80,CQ80,CT80,CW80,CZ80,DC80)","v":0},0,{"$f":"SUM(DF80:DG80)","v":0},null,null,{"$f":"SUM(DI80:DJ80)","v":0},null,null,{"$f":"SUM(DL80:DM80)","v":0},{"$f":"SUM(DI80,DL80)","v":0},0,{"$f":"SUM(DO80:DP80)","v":0},null,null,{"$f":"SUM(DR80:DS80)","v":0},null,null,{"$f":"SUM(DU80:DV80)","v":0},null,null,{"$f":"SUM(DX80:DY80)","v":0},{"$f":"SUM(DR80,DU80,DX80)","v":0},0,{"$f":"SUM(EA80:EB80)","v":0},{"$f":"SUM(BJ80,DF80,DO80,EA80)","v":0},0,{"$f":"SUM(ED80:EE80)","v":0}]
[66,null,null,null,null,null,0,null,null,0,null,null,0,null,null,0,null,null,0,null,null,0,null,null,0,null,null,0,null,null,0,null,null,0,null,null,0,null,null,0,null,null,0,null,null,0,null,null,0,null,null,0,null,null,0,null,null,0,null,null,0,0,0,0,null,null,0,null,null,0,null,null,0,null,null,0,null,null,0,null,null,0,null,null,0,null,null,0,null,null,0,null,null,0,null,null,0,null,null,0,null,null,0,null,null,0,null,null,0,0,0,0,null,null,0,null,null,0,0,0,0,null,null,0,null,null,0,null,null,0,0,0,0,0,0,0]
[67,null,null,null,null,null,0,null,null,0,null,null,0,null,null,0,null,null,0,null,null,0,null,null,0,null,null,0,null,null,0,null,null,0,null,null,0,null,null,0,null,null,0,null,null,0,null,null,0,null,null,0,null,null,0,null,null,0,null,null,0,0,0,0,null,null,0,null,null,0,null,null,0,null,null,0,null,null,0,null,null,0,null,null,0,null,null,0,null,null,0,null,null,0,null,null,0,null,null,0,null,null,0,null,null,0,null,null,0,0,0,0,null,null,0,null,null,0,0,0,0,null,null,0,null,null,0,null,null,0,0,0,0,0,0,0]
[68,null,null,null,null,null,0,null,null,0,null,null,0,null,null,0,null,null,0,null,null,0,null,null,0,null,null,0,null,null,0,null,null,0,null,null,0,null,null,0,null,null,0,null,null,0,null,null,0,null,null,0,null,null,0,null,null,0,null,null,0,0,0,0,null,null,0,null,null,0,null,null,0,null,null,0,null,null,0,null,null,0,null,null,0,null,null,0,null,null,0,null,null,0,null,null,0,null,null,0,null,null,0,null,null,0,null,null,0,0,0,0,null,null,0,null,null,0,0,0,0,null,null,0,null,null,0,null,null,0,0,0,0,0,0,0]
[69,null,null,null,null,null,0,null,null,0,null,null,0,null,null,0,null,null,0,null,null,0,null,null,0,null,null,0,null,null,0,null,null,0,null,null,0,null,null,0,null,null,0,null,null,0,null,null,0,null,null,0,null,null,0,null,null,0,null,null,0,0,0,0,null,null,0,null,null,0,null,null,0,null,null,0,null,null,0,null,null,0,null,null,0,null,null,0,null,null,0,null,null,0,null,null,0,null,null,0,null,null,0,null,null,0,null,null,0,0,0,0,null,null,0,null,null,0,0,0,0,null,null,0,null,null,0,null,null,0,0,0,0,0,0,0]
[70,null,null,null,null,null,0,null,null,0,null,null,0,null,null,0,null,null,0,null,null,0,null,null,0,null,null,0,null,null,0,null,null,0,null,null,0,null,null,0,null,null,0,null,null,0,null,null,0,null,null,0,null,null,0,null,null,0,null,null,0,0,0,0,null,null,0,null,null,0,null,null,0,null,null,0,null,null,0,null,null,0,null,null,0,null,null,0,null,null,0,null,null,0,null,null,0,null,null,0,null,null,0,null,null,0,null,null,0,0,0,0,null,null,0,null,null,0,0,0,0,null,null,0,null,null,0,null,null,0,0,0,0,0,0,0]
[71,null,null,null,null,null,0,null,null,0,null,null,0,null,null,0,null,null,0,null,null,0,null,null,0,null,null,0,null,null,0,null,null,0,null,null,0,null,null,0,null,null,0,null,null,0,null,null,0,null,null,0,null,null,0,null,null,0,null,null,0,0,0,0,null,null,0,null,null,0,null,null,0,null,null,0,null,null,0,null,null,0,null,null,0,null,null,0,null,null,0,null,null,0,null,null,0,null,null,0,null,null,0,null,null,0,null,null,0,0,0,0,null,null,0,null,null,0,0,0,0,null,null,0,null,null,0,null,null,0,0,0,0,0,0,0]
[72,null,null,null,null,null,0,null,null,0,null,null,0,null,null,0,null,null,0,null,null,0,null,null,0,null,null,0,null,null,0,null,null,0,null,null,0,null,null,0,null,null,0,null,null,0,null,null,0,null,null,0,null,null,0,null,null,0,null,null,0,0,0,0,null,null,0,null,null,0,null,null,0,null,null,0,null,null,0,null,null,0,null,null,0,null,null,0,null,null,0,null,null,0,null,null,0,null,null,0,null,null,0,null,null,0,null,null,0,0,0,0,null,null,0,null,null,0,0,0,0,null,null,0,null,null,0,null,null,0,0,0,0,0,0,0]
[73,null,null,null,null,null,0,null,null,0,null,null,0,null,null,0,null,null,0,null,null,0,null,null,0,null,null,0,null,null,0,null,null,0,null,null,0,null,null,0,null,null,0,null,null,0,null,null,0,null,null,0,null,null,0,null,null,0,null,null,0,0,0,0,null,null,0,null,null,0,null,null,0,null,null,0,null,null,0,null,null,0,null,null,0,null,null,0,null,null,0,null,null,0,null,null,0,null,null,0,null,null,0,null,null,0,null,null,0,0,0,0,null,null,0,null,null,0,0,0,0,null,null,0,null,null,0,null,null,0,0,0,0,0,0,0]
[74,null,null,null,null,null,0,null,null,0,null,null,0,null,null,0,null,null,0,null,null,0,null,null,0,null,null,0,null,null,0,null,null,0,null,null,0,null,null,0,null,null,0,null,null,0,null,null,0,null,null,0,null,null,0,null,null,0,null,null,0,0,0,0,null,null,0,null,null,0,null,null,0,null,null,0,null,null,0,null,null,0,null,null,0,null,null,0,null,null,0,null,null,0,null,null,0,null,null,0,null,null,0,null,null,0,null,null,0,0,0,0,null,null,0,null,null,0,0,0,0,null,null,0,null,null,0,null,null,0,0,0,0,0,0,0]
[75,null,null,null,null,null,0,null,null,0,null,null,0,null,null,0,null,null,0,null,null,0,null,null,0,null,null,0,null,null,0,null,null,0,null,null,0,null,null,0,null,null,0,null,null,0,null,null,0,null,null,0,null,null,0,null,null,0,null,null,0,0,0,0,null,null,0,null,null,0,null,null,0,null,null,0,null,null,0,null,null,0,null,null,0,null,null,0,null,null,0,null,null,0,null,null,0,null,null,0,null,null,0,null,null,0,null,null,0,0,0,0,null,null,0,null,null,0,0,0,0,null,null,0,null,null,0,null,null,0,0,0,0,0,0,0]
[76,null,null,null,null,null,0,null,null,0,null,null,0,null,null,0,null,null,0,null,null,0,null,null,0,null,null,0,null,null,0,null,null,0,null,null,0,null,null,0,null,null,0,null,null,0,null,null,0,null,null,0,null,null,0,null,null,0,null,null,0,0,0,0,null,null,0,null,null,0,null,null,0,null,null,0,null,null,0,null,null,0,null,null,0,null,null,0,null,null,0,null,null,0,null,null,0,null,null,0,null,null,0,null,null,0,null,null,0,0,0,0,null,null,0,null,null,0,0,0,0,null,null,0,null,null,0,null,null,0,0,0,0,0,0,0]
[77,null,null,null,null,null,0,null,null,0,null,null,0,null,null,0,null,null,0,null,null,0,null,null,0,null,null,0,null,null,0,null,null,0,null,null,0,null,null,0,null,null,0,null,null,0,null,null,0,null,null,0,null,null,0,null,null,0,null,null,0,0,0,0,null,null,0,null,null,0,null,null,0,null,null,0,null,null,0,null,null,0,null,null,0,null,null,0,null,null,0,null,null,0,null,null,0,null,null,0,null,null,0,null,null,0,null,null,0,0,0,0,null,null,0,null,null,0,0,0,0,null,null,0,null,null,0,null,null,0,0,0,0,0,0,0]
[78,null,null,null,null,null,0,null,null,0,null,null,0,null,null,0,null,null,0,null,null,0,null,null,0,null,null,0,null,null,0,null,null,0,null,null,0,null,null,0,null,null,0,null,null,0,null,null,0,null,null,0,null,null,0,null,null,0,null,null,0,0,0,0,null,null,0,null,null,0,null,null,0,null,null,0,null,null,0,null,null,0,null,null,0,null,null,0,null,null,0,null,null,0,null,null,0,null,null,0,null,null,0,null,null,0,null,null,0,0,0,0,null,null,0,null,null,0,0,0,0,null,null,0,null,null,0,null,null,0,0,0,0,0,0,0]
[79,null,null,null,null,null,0,null,null,0,null,null,0,null,null,0,null,null,0,null,null,0,null,null,0,null,null,0,null,null,0,null,null,0,null,null,0,null,null,0,null,null,0,null,null,0,null,null,0,null,null,0,null,null,0,null,null,0,null,null,0,0,0,0,null,null,0,null,null,0,null,null,0,null,null,0,null,null,0,null,null,0,null,null,0,null,null,0,null,null,0,null,null,0,null,null,0,null,null,0,null,null,0,null,null,0,null,null,0,0,0,0,null,null,0,null,null,0,0,0,0,null,null,0,null,null,0,null,null,0,0,0,0,0,0,0]
[80,null,null,null,null,null,0,null,null,0,null,null,0,null,null,0,null,null,0,null,null,0,null,null,0,null,null,0,null,null,0,null,null,0,null,null,0,null,null,0,null,null,0,null,null,0,null,null,0,null,null,0,null,null,0,null,null,0,null,null,0,0,0,0,null,null,0,null,null,0,null,null,0,null,null,0,null,null,0,null,null,0,null,null,0,null,null,0,null,null,0,null,null,0,null,null,0,null,null,0,null,null,0,null,null,0,null,null,0,0,0,0,null,null,0,null,null,0,0,0,0,null,null,0,null,null,0,null,null,0,0,0,0,0,0,0]
[81,null,null,null,null,null,0,null,null,0,null,null,0,null,null,0,null,null,0,null,null,0,null,null,0,null,null,0,null,null,0,null,null,0,null,null,0,null,null,0,null,null,0,null,null,0,null,null,0,null,null,0,null,null,0,null,null,0,null,null,0,0,0,0,null,null,0,null,null,0,null,null,0,null,null,0,null,null,0,null,null,0,null,null,0,null,null,0,null,null,0,null,null,0,null,null,0,null,null,0,null,null,0,null,null,0,null,null,0,0,0,0,null,null,0,null,null,0,0,0,0,null,null,0,null,null,0,null,null,0,0,0,0,0,0,0]
[82,null,null,null,null,null,0,null,null,0,null,null,0,null,null,0,null,null,0,null,null,0,null,null,0,null,null,0,null,null,0,null,null,0,null,null,0,null,null,0,null,null,0,null,null,0,null,null,0,null,null,0,null,null,0,null,null,0,null,null,0,0,0,0,null,null,0,null,null,0,null,null,0,null,null,0,null,null,0,null,null,0,null,null,0,null,null,0,null,null,0,null,null,0,null,null,0,null,null,0,null,null,0,null,null,0,null,null,0,0,0,0,null,null,0,null,null,0,0,0,0,null,null,0,null,null,0,null,null,0,0,0,0,0,0,0]
[83,null,null,null,null,null,0,null,null,0,null,null,0,null,null,0,null,null,0,null,null,0,null,null,0,null,null,0,null,null,0,null,null,0,null,null,0,null,null,0,null,null,0,null,null,0,null,null,0,null,null,0,null,null,0,null,null,0,null,null,0,0,0,0,null,null,0,null,null,0,null,null,0,null,null,0,null,null,0,null,null,0,null,null,0,null,null,0,null,null,0,null,null,0,null,null,0,null,null,0,null,null,0,null,null,0,null,null,0,0,0,0,null,null,0,null,null,0,0,0,0,null,null,0,null,null,0,null,null,0,0,0,0,0,0,0]
[84,null,null,null,null,null,0,null,null,0,null,null,0,null,null,0,null,null,0,null,null,0,null,null,0,null,null,0,null,null,0,null,null,0,null,null,0,null,null,0,null,null,0,null,null,0,null,null,0,null,null,0,null,null,0,null,null,0,null,null,0,0,0,0,null,null,0,null,null,0,null,null,0,null,null,0,null,null,0,null,null,0,null,null,0,null,null,0,null,null,0,null,null,0,null,null,0,null,null,0,null,null,0,null,null,0,null,null,0,0,0,0,null,null,0,null,null,0,0,0,0,null,null,0,null,null,0,null,null,0,0,0,0,0,0,0]
[85,null,null,null,null,null,0,null,null,0,null,null,0,null,null,0,null,null,0,null,null,0,null,null,0,null,null,0,null,null,0,null,null,0,null,null,0,null,null,0,null,null,0,null,null,0,null,null,0,null,null,0,null,null,0,null,null,0,null,null,0,0,0,0,null,null,0,null,null,0,null,null,0,null,null,0,null,null,0,null,null,0,null,null,0,null,null,0,null,null,0,null,null,0,null,null,0,null,null,0,null,null,0,null,null,0,null,null,0,0,0,0,null,null,0,null,null,0,0,0,0,null,null,0,null,null,0,null,null,0,0,0,0,0,0,0]
[86,null,null,null,null,null,0,null,null,0,null,null,0,null,null,0,null,null,0,null,null,0,null,null,0,null,null,0,null,null,0,null,null,0,null,null,0,null,null,0,null,null,0,null,null,0,null,null,0,null,null,0,null,null,0,null,null,0,null,null,0,0,0,0,null,null,0,null,null,0,null,null,0,null,null,0,null,null,0,null,null,0,null,null,0,null,null,0,null,null,0,null,null,0,null,null,0,null,null,0,null,null,0,null,null,0,null,null,0,0,0,0,null,null,0,null,null,0,0,0,0,null,null,0,null,null,0,null,null,0,0,0,0,0,0,0]
[87,null,null,null,null,null,0,null,null,0,null,null,0,null,null,0,null,null,0,null,null,0,null,null,0,null,null,0,null,null,0,null,null,0,null,null,0,null,null,0,null,null,0,null,null,0,null,null,0,null,null,0,null,null,0,null,null,0,null,null,0,0,0,0,null,null,0,null,null,0,null,null,0,null,null,0,null,null,0,null,null,0,null,null,0,null,null,0,null,null,0,null,null,0,null,null,0,null,null,0,null,null,0,null,null,0,null,null,0,0,0,0,null,null,0,null,null,0,0,0,0,null,null,0,null,null,0,null,null,0,0,0,0,0,0,0]
[88,null,null,null,null,null,0,null,null,0,null,null,0,null,null,0,null,null,0,null,null,0,null,null,0,null,null,0,null,null,0,null,null,0,null,null,0,null,null,0,null,null,0,null,null,0,null,null,0,null,null,0,null,null,0,null,null,0,null,null,0,0,0,0,null,null,0,null,null,0,null,null,0,null,null,0,null,null,0,null,null,0,null,null,0,null,null,0,null,null,0,null,null,0,null,null,0,null,null,0,null,null,0,null,null,0,null,null,0,0,0,0,null,null,0,null,null,0,0,0,0,null,null,0,null,null,0,null,null,0,0,0,0,0,0,0]
[89,null,null,null,null,null,0,null,null,0,null,null,0,null,null,0,null,null,0,null,null,0,null,null,0,null,null,0,null,null,0,null,null,0,null,null,0,null,null,0,null,null,0,null,null,0,null,null,0,null,null,0,null,null,0,null,null,0,null,null,0,0,0,0,null,null,0,null,null,0,null,null,0,null,null,0,null,null,0,null,null,0,null,null,0,null,null,0,null,null,0,null,null,0,null,null,0,null,null,0,null,null,0,null,null,0,null,null,0,0,0,0,null,null,0,null,null,0,0,0,0,null,null,0,null,null,0,null,null,0,0,0,0,0,0,0]
[90,null,null,null,null,null,0,null,null,0,null,null,0,null,null,0,null,null,0,null,null,0,null,null,0,null,null,0,null,null,0,null,null,0,null,null,0,null,null,0,null,null,0,null,null,0,null,null,0,null,null,0,null,null,0,null,null,0,null,null,0,0,0,0,null,null,0,null,null,0,null,null,0,null,null,0,null,null,0,null,null,0,null,null,0,null,null,0,null,null,0,null,null,0,null,null,0,null,null,0,null,null,0,null,null,0,null,null,0,0,0,0,null,null,0,null,null,0,0,0,0,null,null,0,null,null,0,null,null,0,0,0,0,0,0,0]
[91,null,null,null,null,null,0,null,null,0,null,null,0,null,null,0,null,null,0,null,null,0,null,null,0,null,null,0,null,null,0,null,null,0,null,null,0,null,null,0,null,null,0,null,null,0,null,null,0,null,null,0,null,null,0,null,null,0,null,null,0,0,0,0,null,null,0,null,null,0,null,null,0,null,null,0,null,null,0,null,null,0,null,null,0,null,null,0,null,null,0,null,null,0,null,null,0,null,null,0,null,null,0,null,null,0,null,null,0,0,0,0,null,null,0,null,null,0,0,0,0,null,null,0,null,null,0,null,null,0,0,0,0,0,0,0]
[92,null,null,null,null,null,0,null,null,0,null,null,0,null,null,0,null,null,0,null,null,0,null,null,0,null,null,0,null,null,0,null,null,0,null,null,0,null,null,0,null,null,0,null,null,0,null,null,0,null,null,0,null,null,0,null,null,0,null,null,0,0,0,0,null,null,0,null,null,0,null,null,0,null,null,0,null,null,0,null,null,0,null,null,0,null,null,0,null,null,0,null,null,0,null,null,0,null,null,0,null,null,0,null,null,0,null,null,0,0,0,0,null,null,0,null,null,0,0,0,0,null,null,0,null,null,0,null,null,0,0,0,0,0,0,0]
[93,null,null,null,null,null,0,null,null,0,null,null,0,null,null,0,null,null,0,null,null,0,null,null,0,null,null,0,null,null,0,null,null,0,null,null,0,null,null,0,null,null,0,null,null,0,null,null,0,null,null,0,null,null,0,null,null,0,null,null,0,0,0,0,null,null,0,null,null,0,null,null,0,null,null,0,null,null,0,null,null,0,null,null,0,null,null,0,null,null,0,null,null,0,null,null,0,null,null,0,null,null,0,null,null,0,null,null,0,0,0,0,null,null,0,null,null,0,0,0,0,null,null,0,null,null,0,null,null,0,0,0,0,0,0,0]
[94,null,null,null,null,null,0,null,null,0,null,null,0,null,null,0,null,null,0,null,null,0,null,null,0,null,null,0,null,null,0,null,null,0,null,null,0,null,null,0,null,null,0,null,null,0,null,null,0,null,null,0,null,null,0,null,null,0,null,null,0,0,0,0,null,null,0,null,null,0,null,null,0,null,null,0,null,null,0,null,null,0,null,null,0,null,null,0,null,null,0,null,null,0,null,null,0,null,null,0,null,null,0,null,null,0,null,null,0,0,0,0,null,null,0,null,null,0,0,0,0,null,null,0,null,null,0,null,null,0,0,0,0,0,0,0]
[95,null,null,null,null,null,0,null,null,0,null,null,0,null,null,0,null,null,0,null,null,0,null,null,0,null,null,0,null,null,0,null,null,0,null,null,0,null,null,0,null,null,0,null,null,0,null,null,0,null,null,0,null,null,0,null,null,0,null,null,0,0,0,0,null,null,0,null,null,0,null,null,0,null,null,0,null,null,0,null,null,0,null,null,0,null,null,0,null,null,0,null,null,0,null,null,0,null,null,0,null,null,0,null,null,0,null,null,0,0,0,0,null,null,0,null,null,0,0,0,0,null,null,0,null,null,0,null,null,0,0,0,0,0,0,0]
[96,null,null,null,null,null,0,null,null,0,null,null,0,null,null,0,null,null,0,null,null,0,null,null,0,null,null,0,null,null,0,null,null,0,null,null,0,null,null,0,null,null,0,null,null,0,null,null,0,null,null,0,null,null,0,null,null,0,null,null,0,0,0,0,null,null,0,null,null,0,null,null,0,null,null,0,null,null,0,null,null,0,null,null,0,null,null,0,null,null,0,null,null,0,null,null,0,null,null,0,null,null,0,null,null,0,null,null,0,0,0,0,null,null,0,null,null,0,0,0,0,null,null,0,null,null,0,null,null,0,0,0,0,0,0,0]
[97,null,null,null,null,null,0,null,null,0,null,null,0,null,null,0,null,null,0,null,null,0,null,null,0,null,null,0,null,null,0,null,null,0,null,null,0,null,null,0,null,null,0,null,null,0,null,null,0,null,null,0,null,null,0,null,null,0,null,null,0,0,0,0,null,null,0,null,null,0,null,null,0,null,null,0,null,null,0,null,null,0,null,null,0,null,null,0,null,null,0,null,null,0,null,null,0,null,null,0,null,null,0,null,null,0,null,null,0,0,0,0,null,null,0,null,null,0,0,0,0,null,null,0,null,null,0,null,null,0,0,0,0,0,0,0]
[98,null,null,null,null,null,0,null,null,0,null,null,0,null,null,0,null,null,0,null,null,0,null,null,0,null,null,0,null,null,0,null,null,0,null,null,0,null,null,0,null,null,0,null,null,0,null,null,0,null,null,0,null,null,0,null,null,0,null,null,0,0,0,0,null,null,0,null,null,0,null,null,0,null,null,0,null,null,0,null,null,0,null,null,0,null,null,0,null,null,0,null,null,0,null,null,0,null,null,0,null,null,0,null,null,0,null,null,0,0,0,0,null,null,0,null,null,0,0,0,0,null,null,0,null,null,0,null,null,0,0,0,0,0,0,0]
[99,null,null,null,null,null,0,null,null,0,null,null,0,null,null,0,null,null,0,null,null,0,null,null,0,null,null,0,null,null,0,null,null,0,null,null,0,null,null,0,null,null,0,null,null,0,null,null,0,null,null,0,null,null,0,null,null,0,null,null,0,0,0,0,null,null,0,null,null,0,null,null,0,null,null,0,null,null,0,null,null,0,null,null,0,null,null,0,null,null,0,null,null,0,null,null,0,null,null,0,null,null,0,null,null,0,null,null,0,0,0,0,null,null,0,null,null,0,0,0,0,null,null,0,null,null,0,null,null,0,0,0,0,0,0,0]
[100,null,null,null,null,null,0,null,null,0,null,null,0,null,null,0,null,null,0,null,null,0,null,null,0,null,null,0,null,null,0,null,null,0,null,null,0,null,null,0,null,null,0,null,null,0,null,null,0,null,null,0,null,null,0,null,null,0,null,null,0,0,0,0,null,null,0,null,null,0,null,null,0,null,null,0,null,null,0,null,null,0,null,null,0,null,null,0,null,null,0,null,null,0,null,null,0,null,null,0,null,null,0,null,null,0,null,null,0,0,0,0,null,null,0,null,null,0,0,0,0,null,null,0,null,null,0,null,null,0,0,0,0,0,0,0]

{"sheet":"DoE_Subacc_Total","index":7,"n_rows":21,"n_cols":138,"rows_kept":21,"cut":false,"hidden":false,"merged":[[5,0,5,6],[10,133,11,136],[11,43,11,45],[8,0,8,31],[10,2,12,2],[11,19,11,21],[11,22,11,24],[11,25,11,27],[11,28,11,30],[11,31,11,33],[10,64,10,111],[10,112,10,120],[10,121,10,132],[11,55,11,57],[11,58,11,60],[14,0,14,1],[10,0,13,0],[10,1,13,1],[10,3,12,3],[10,4,10,63],[11,4,11,6],[11,7,11,9],[11,10,11,12],[11,13,11,15],[11,16,11,18],[11,34,11,36],[11,37,11,39],[11,40,11,42],[11,46,11,48],[11,49,11,51],[11,52,11,54],[10,137,13,137],[11,64,11,66],[11,67,11,69],[11,70,11,72],[11,73,11,75],[11,76,11,78],[11,79,11,81],[11,82,11,84],[11,85,11,87],[11,88,11,90],[11,91,11,93],[11,94,11,96],[11,109,11,111],[11,127,11,129],[11,130,11,132],[11,112,11,114],[6,0,6,6],[11,115,11,117],[11,118,11,120],[11,121,11,123],[11,124,11,126],[11,61,11,63],[11,97,11,99],[11,100,11,102],[11,103,11,105],[11,106,11,108]]}
[]
[]
[]
[]
[]
[{"$f":"Create!$G$2","v":"ក្រសួងអប់រំ យុវជន និងកីឡា"}]
[{"$f":"Create!$G$3","v":"បំពេញឈ្មោះទីនេះ"}]
[]
[{"$f":"CONCATENATE(\"របាយការណ៍ទូទាត់ចំណាយថវិកាដំណើរការសាលារៀនប្រចាំត្រីមាសទី\",IF(Create!$G$4=1,\"១\",IF(Create!$G$4=2,\"២\",IF(Create!$G$4=3,\"៣\",\"៤\"))),\" ឆ្នាំ២០១៨\")","v":"របាយការណ៍ទូទាត់ចំណាយថវិកាដំណើរការសាលារៀនប្រចាំត្រីមាសទី១ ឆ្នាំ២០១៨"}]
[null,null,null,null,null,null,null,null,null,null,null,null,null,null,null,null,null,null,null,null,null,null,null,null,null,null,null,null,null,null,null,"ឯកតាៈ រៀល"]
["ល.រ","ឈ្មោះការិយាល័យអប់រំ យុវជន និងកីឡា\nក្រុង ឬ ស្រុក ឬ ខ័ណ្ឌ","ឥណទាន\nដើមឆ្នាំ","ឥណទាន\nកែតម្រូវ","ជំពូក ៦០",null,null,null,null,null,null,null,null,null,null,null,null,null,null,null,null,null,null,null,null,null,null,null,null,null,null,null,null,null,null,null,null,null,null,null,null,null,null,null,null,null,null,null,null,null,null,null,null,null,null,null,null,null,null,null,null,null,null,null,"ជំពូក ៦១",null,null,null,null,null,null,null,null,null,null,null,null,null,null,null,null,null,null,null,null,null,null,null,null,null,null,null,null,null,null,null,null,null,null,null,null,null,null,null,null,null,null,null,null,null,null,null,"ជំពូក ៦៤",null,null,null,null,null,null,null,null,"ជំពូក ៦២",null,null,null,null,null,null,null,null,null,null,null,"ចំណាយសរុប",null,null,null,"ផ្សេងៗ"]
[null,null,null,null,60011,null,null,60012,null,null,60013,null,null,60014,null,null,60021,null,null,60022,null,null,60023,null,null,60031,null,null,60032,null,null,60033,null,null,60035,null,null,60041,null,null,60051,null,null,60052,null,null,60053,null,null,60055,null,null,60061,null,null,60062,null,null,60068,null,null,"សរុប",null,null,61011,null,null,61012,null,null,61021,null,null,61051,null,null,61052,null,null,61053,null,null,61054,null,null,61057,null,null,61071,null,null,61081,null,null,61101,null,null,61102,null,null,61103,null,null,61141,null,null,61142,null,null,"សរុប",null,null,64023,null,null,64033,null,null,"សរុប",null,null,62024,null,null,62025,null,null,62028,null,null,"សរុប"]
[null,null,null,null,"បណ្ដាត្រី.មុន","ក្នុងត្រី.","បូកយោង","បណ្ដាត្រី.មុន","ក្នុងត្រី.","បូកយោង","បណ្ដាត្រី.មុន","ក្នុងត្រី.","បូកយោង","បណ្ដាត្រី.មុន","ក្នុងត្រី.","បូកយោង","បណ្ដាត្រី.មុន","ក្នុងត្រី.","បូកយោង","បណ្ដាត្រី.មុន","ក្នុងត្រី.","បូកយោង","បណ្ដាត្រី.មុន","ក្នុងត្រី.","បូកយោង","បណ្ដាត្រី.មុន","ក្នុងត្រី.","បូកយោង","បណ្ដាត្រី.មុន","ក្នុងត្រី.","បូកយោង","បណ្ដាត្រី.មុន","ក្នុងត្រី.","បូកយោង","បណ្ដាត្រី.មុន","ក្នុងត្រី.","បូកយោង","បណ្ដាត្រី.មុន","ក្នុងត្រី.","បូកយោង","បណ្ដាត្រី.មុន","ក្នុងត្រី.","បូកយោង","បណ្ដាត្រី.មុន","ក្នុងត្រី.","បូកយោង","បណ្ដាត្រី.មុន","ក្នុងត្រី.","បូកយោង","បណ្ដាត្រី.មុន","ក្នុងត្រី.","បូកយោង","បណ្ដាត្រី.មុន","ក្នុងត្រី.","បូកយោង","បណ្ដាត្រី.មុន","ក្នុងត្រី.","បូកយោង","បណ្ដាត្រី.មុន","ក្នុងត្រី.","បូកយោង","បណ្ដាត្រី.មុន","ក្នុងត្រី.","បូកយោង","បណ្ដាត្រី.មុន","ក្នុងត្រី.","បូកយោង","បណ្ដាត្រី.មុន","ក្នុងត្រី.","បូកយោង","បណ្ដាត្រី.មុន","ក្នុងត្រី.","បូកយោង","បណ្ដាត្រី.មុន","ក្នុងត្រី.","បូកយោង","បណ្ដាត្រី.មុន","ក្នុងត្រី.","បូកយោង","បណ្ដាត្រី.មុន","ក្នុងត្រី.","បូកយោង","បណ្ដាត្រី.មុន","ក្នុងត្រី.","បូកយោង","បណ្ដាត្រី.មុន","ក្នុងត្រី.","បូកយោង","បណ្ដាត្រី.មុន","ក្នុងត្រី.","បូកយោង","បណ្ដាត្រី.មុន","ក្នុងត្រី.","បូកយោង","បណ្ដាត្រី.មុន","ក្នុងត្រី.","បូកយោង","បណ្ដាត្រី.មុន","ក្នុងត្រី.","បូកយោង","បណ្ដាត្រី.មុន","ក្នុងត្រី.","បូកយោង","បណ្ដាត្រី.មុន","ក្នុងត្រី.","បូកយោង","បណ្ដាត្រី.មុន","ក្នុងត្រី.","បូកយោង","បណ្ដាត្រី.មុន","ក្នុងត្រី.","បូកយោង","បណ្ដាត្រី.មុន","ក្នុងត្រី.","បូកយោង","បណ្ដាត្រី.មុន","ក្នុងត្រី.","បូកយោង","បណ្ដាត្រី.មុន","ក្នុងត្រី.","បូកយោង","បណ្ដាត្រី.មុន","ក្នុងត្រី.","បូកយោង","បណ្ដាត្រី.មុន","ក្នុងត្រី.","បូកយោង","បណ្ដាត្រី.មុន","ក្នុងត្រី.","បូកយោង","បណ្ដាត្រី.មុន","ក្នុងត្រី.","បូកយោង","បណ្ដាត្រី.មុន","ក្នុងត្រី.","បូកយោង","%"]
[null,null,1,2,3,4,"5=3+4",6,7,"8=6+7",9,10,"11=9+10",12,13,"14=12+13",15,16,"17=15+16",18,19,"20=18+19",21,22,"23=21+22",24,25,"26=24+25",27,28,"29=27+28",30,31,"32=30+31",33,34,"35=33+34",36,37,"38=36+37",39,40,"41=39+40",42,43,"44=42+43",45,46,"47=45+46",48,49,"50=48+49",51,52,"53=51+52",54,55,"56=54+55",57,58,"59=57+58","60=3+6+9+…+57","61=4+7+10+…+58","62=60+61",63,64,"65=63+64",66,67,"68=66+67",69,70,"71=69+70",72,73,"74=72+73",75,76,"77=75+76",78,79,"80=78+79",81,82,"83=81+82",84,85,"86=84+85",87,88,"89=87+88",90,91,"92=90+91",93,94,"95=93+94",96,97,"98=96+97",99,100,"101=99+100",102,103,"104=102+103",105,106,"107=105+106","108=63+66+…+105","109=64+67+…+106","110=108+109",111,112,"113=111+112",114,115,"116=114+115","117=111+114","118=112+115","119=117+118",120,121,"122=120+121",123,124,125,126,127,"128=126+127",129,130,"131=129+130","132=60+108+117+129","133=61+109+118+130","134=132+133","135=134/2"]
["សរុប",null,{"$f":"SUM(C16:C21)","v":40},{"$f":"SUM(D16:D21)","v":60},0,{"$f":"SUM(F16:F21)","v":0},{"$f":"SUM(G16:G21)","v":0},0,0,0,0,0,0,0,0,0,0,0,0,0,0,0,0,0,0,0,0,0,0,0,0,0,0,0,0,0,0,0,0,0,0,0,0,0,0,0,0,0,0,0,0,0,0,0,0,0,0,0,0,0,0,0,0,0,0,0,0,{"$f":"SUM(BP16:BP21)","v":0},0,0,0,0,0,0,0,0,0,0,0,0,0,0,0,0,0,0,0,0,0,0,0,0,0,0,0,0,0,0,0,0,0,0,0,0,0,0,0,0,0,0,0,0,0,0,0,0,0,0,0,0,0,0,0,0,0,0,0,0,0,0,0,{"$f":"SUM(EB16:EB21)","v":0},0,0,0,0,{"$f":"EF15/D15","v":0}]
[1,"សាលាមត្តេយ្យសិក្សា",{"$f":"E_DoE_Subacc!C15","v":10},{"$f":"E_DoE_Subacc!D15","v":15},{"$f":"E_DoE_Subacc!E15","v":0},{"$f":"E_DoE_Subacc!F15","v":0},{"$f":"E_DoE_Subacc!G15","v":0},{"$f":"E_DoE_Subacc!H15","v":0},{"$f":"E_DoE_Subacc!I15","v":0},{"$f":"E_DoE_Subacc!J15","v":0},{"$f":"E_DoE_Subacc!K15","v":0},{"$f":"E_DoE_Subacc!L15","v":0},{"$f":"E_DoE_Subacc!M15","v":0},{"$f":"E_DoE_Subacc!N15","v":0},{"$f":"E_DoE_Subacc!O15","v":0},{"$f":"E_DoE_Subacc!P15","v":0},{"$f":"E_DoE_Subacc!Q15","v":0},{"$f":"E_DoE_Subacc!R15","v":0},{"$f":"E_DoE_Subacc!S15","v":0},{"$f":"E_DoE_Subacc!T15","v":0},{"$f":"E_DoE_Subacc!U15","v":0},{"$f":"E_DoE_Subacc!V15","v":0},{"$f":"E_DoE_Subacc!W15","v":0},{"$f":"E_DoE_Subacc!X15","v":0},{"$f":"E_DoE_Subacc!Y15","v":0},{"$f":"E_DoE_Subacc!Z15","v":0},{"$f":"E_DoE_Subacc!AA15","v":0},{"$f":"E_DoE_Subacc!AB15","v":0},{"$f":"E_DoE_Subacc!AC15","v":0},{"$f":"E_DoE_Subacc!AD15","v":0},{"$f":"E_DoE_Subacc!AE15","v":0},{"$f":"E_DoE_Subacc!AF15","v":0},{"$f":"E_DoE_Subacc!AG15","v":0},{"$f":"E_DoE_Subacc!AH15","v":0},{"$f":"E_DoE_Subacc!AI15","v":0},{"$f":"E_DoE_Subacc!AJ15","v":0},{"$f":"E_DoE_Subacc!AK15","v":0},{"$f":"E_DoE_Subacc!AL15","v":0},{"$f":"E_DoE_Subacc!AM15","v":0},{"$f":"E_DoE_Subacc!AN15","v":0},{"$f":"E_DoE_Subacc!AO15","v":0},{"$f":"E_DoE_Subacc!AP15","v":0},{"$f":"E_DoE_Subacc!AQ15","v":0},{"$f":"E_DoE_Subacc!AR15","v":0},{"$f":"E_DoE_Subacc!AS15","v":0},{"$f":"E_DoE_Subacc!AT15","v":0},{"$f":"E_DoE_Subacc!AU15","v":0},{"$f":"E_DoE_Subacc!AV15","v":0},{"$f":"E_DoE_Subacc!AW15","v":0},{"$f":"E_DoE_Subacc!AX15","v":0},{"$f":"E_DoE_Subacc!AY15","v":0},{"$f":"E_DoE_Subacc!AZ15","v":0},{"$f":"E_DoE_Subacc!BA15","v":0},{"$f":"E_DoE_Subacc!BB15","v":0},{"$f":"E_DoE_Subacc!BC15","v":0},{"$f":"E_DoE_Subacc!BD15","v":0},{"$f":"E_DoE_Subacc!BE15","v":0},{"$f":"E_DoE_Subacc!BF15","v":0},{"$f":"E_DoE_Subacc!BG15","v":0},{"$f":"E_DoE_Subacc!BH15","v":0},{"$f":"E_DoE_Subacc!BI15","v":0},{"$f":"E_DoE_Subacc!BJ15","v":0},{"$f":"E_DoE_Subacc!BK15","v":0},{"$f":"E_DoE_Subacc!BL15","v":0},{"$f":"E_DoE_Subacc!BM15","v":0},{"$f":"E_DoE_Subacc!BN15","v":0},{"$f":"E_DoE_Subacc!BO15","v":0},{"$f":"E_DoE_Subacc!BP15","v":0},{"$f":"E_DoE_Subacc!BQ15","v":0},{"$f":"E_DoE_Subacc!BR15","v":0},{"$f":"E_DoE_Subacc!BS15","v":0},{"$f":"E_DoE_Subacc!BT15","v":0},{"$f":"E_DoE_Subacc!BU15","v":0},{"$f":"E_DoE_Subacc!BV15","v":0},{"$f":"E_DoE_Subacc!BW15","v":0},{"$f":"E_DoE_Subacc!BX15","v":0},{"$f":"E_DoE_Subacc!BY15","v":0},{"$f":"E_DoE_Subacc!BZ15","v":0},{"$f":"E_DoE_Subacc!CA15","v":0},{"$f":"E_DoE_Subacc!CB15","v":0},{"$f":"E_DoE_Subacc!CC15","v":0},{"$f":"E_DoE_Subacc!CD15","v":0},{"$f":"E_DoE_Subacc!CE15","v":0},{"$f":"E_DoE_Subacc!CF15","v":0},{"$f":"E_DoE_Subacc!CG15","v":0},{"$f":"E_DoE_Subacc!CH15","v":0},{"$f":"E_DoE_Subacc!CI15","v":0},{"$f":"E_DoE_Subacc!CJ15","v":0},{"$f":"E_DoE_Subacc!CK15","v":0},{"$f":"E_DoE_Subacc!CL15","v":0},{"$f":"E_DoE_Subacc!CM15","v":0},{"$f":"E_DoE_Subacc!CN15","v":0},{"$f":"E_DoE_Subacc!CO15","v":0},{"$f":"E_DoE_Subacc!CP15","v":0},{"$f":"E_DoE_Subacc!CQ15","v":0},{"$f":"E_DoE_Subacc!CR15","v":0},{"$f":"E_DoE_Subacc!CS15","v":0},{"$f":"E_DoE_Subacc!CT15","v":0},{"$f":"E_DoE_Subacc!CU15","v":0},{"$f":"E_DoE_Subacc!CV15","v":0},{"$f":"E_DoE_Subacc!CW15","v":0},{"$f":"E_DoE_Subacc!CX15","v":0},{"$f":"E_DoE_Subacc!CY15","v":0},{"$f":"E_DoE_Subacc!CZ15","v":0},{"$f":"E_DoE_Subacc!DA15","v":0},{"$f":"E_DoE_Subacc!DB15","v":0},{"$f":"E_DoE_Subacc!DC15","v":0},{"$f":"E_DoE_Subacc!DD15","v":0},{"$f":"E_DoE_Subacc!DE15","v":0},{"$f":"E_DoE_Subacc!DF15","v":0},{"$f":"E_DoE_Subacc!DG15","v":0},{"$f":"E_DoE_Subacc!DH15","v":0},{"$f":"E_DoE_Subacc!DI15","v":0},{"$f":"E_DoE_Subacc!DJ15","v":0},{"$f":"E_DoE_Subacc!DK15","v":0},{"$f":"E_DoE_Subacc!DL15","v":0},{"$f":"E_DoE_Subacc!DM15","v":0},{"$f":"E_DoE_Subacc!DN15","v":0},{"$f":"E_DoE_Subacc!DO15","v":0},{"$f":"E_DoE_Subacc!DP15","v":0},{"$f":"E_DoE_Subacc!DQ15","v":0},{"$f":"E_DoE_Subacc!DR15","v":0},{"$f":"E_DoE_Subacc!DS15","v":0},{"$f":"E_DoE_Subacc!DT15","v":0},{"$f":"E_DoE_Subacc!DU15","v":0},{"$f":"E_DoE_Subacc!DV15","v":0},{"$f":"E_DoE_Subacc!DW15","v":0},{"$f":"E_DoE_Subacc!DX15","v":0},{"$f":"E_DoE_Subacc!DY15","v":0},{"$f":"E_DoE_Subacc!DZ15","v":0},{"$f":"E_DoE_Subacc!EA15","v":0},{"$f":"E_DoE_Subacc!EB15","v":0},{"$f":"E_DoE_Subacc!EC15","v":0},{"$f":"E_DoE_Subacc!ED15","v":0},{"$f":"E_DoE_Subacc!EE15","v":0},{"$f":"E_DoE_Subacc!EF15","v":0},{"$f":"EF16/D16","v":0}]
[2,"សាលាបឋមសិក្សា",{"$f":"P_DoE_Subacc!C15","v":10},{"$f":"P_DoE_Subacc!D15","v":15},{"$f":"P_DoE_Subacc!E15","v":0},{"$f":"P_DoE_Subacc!F15","v":0},{"$f":"P_DoE_Subacc!G15","v":0},{"$f":"P_DoE_Subacc!H15","v":0},{"$f":"P_DoE_Subacc!I15","v":0},{"$f":"P_DoE_Subacc!J15","v":0},{"$f":"P_DoE_Subacc!K15","v":0},{"$f":"P_DoE_Subacc!L15","v":0},{"$f":"P_DoE_Subacc!M15","v":0},{"$f":"P_DoE_Subacc!N15","v":0},{"$f":"P_DoE_Subacc!O15","v":0},{"$f":"P_DoE_Subacc!P15","v":0},{"$f":"P_DoE_Subacc!Q15","v":0},{"$f":"P_DoE_Subacc!R15","v":0},{"$f":"P_DoE_Subacc!S15","v":0},{"$f":"P_DoE_Subacc!T15","v":0},{"$f":"P_DoE_Subacc!U15","v":0},{"$f":"P_DoE_Subacc!V15","v":0},{"$f":"P_DoE_Subacc!W15","v":0},{"$f":"P_DoE_Subacc!X15","v":0},{"$f":"P_DoE_Subacc!Y15","v":0},{"$f":"P_DoE_Subacc!Z15","v":0},{"$f":"P_DoE_Subacc!AA15","v":0},{"$f":"P_DoE_Subacc!AB15","v":0},{"$f":"P_DoE_Subacc!AC15","v":0},{"$f":"P_DoE_Subacc!AD15","v":0},{"$f":"P_DoE_Subacc!AE15","v":0},{"$f":"P_DoE_Subacc!AF15","v":0},{"$f":"P_DoE_Subacc!AG15","v":0},{"$f":"P_DoE_Subacc!AH15","v":0},{"$f":"P_DoE_Subacc!AI15","v":0},{"$f":"P_DoE_Subacc!AJ15","v":0},{"$f":"P_DoE_Subacc!AK15","v":0},{"$f":"P_DoE_Subacc!AL15","v":0},{"$f":"P_DoE_Subacc!AM15","v":0},{"$f":"P_DoE_Subacc!AN15","v":0},{"$f":"P_DoE_Subacc!AO15","v":0},{"$f":"P_DoE_Subacc!AP15","v":0},{"$f":"P_DoE_Subacc!AQ15","v":0},{"$f":"P_DoE_Subacc!AR15","v":0},{"$f":"P_DoE_Subacc!AS15","v":0},{"$f":"P_DoE_Subacc!AT15","v":0},{"$f":"P_DoE_Subacc!AU15","v":0},{"$f":"P_DoE_Subacc!AV15","v":0},{"$f":"P_DoE_Subacc!AW15","v":0},{"$f":"P_DoE_Subacc!AX15","v":0},{"$f":"P_DoE_Subacc!AY15","v":0},{"$f":"P_DoE_Subacc!AZ15","v":0},{"$f":"P_DoE_Subacc!BA15","v":0},{"$f":"P_DoE_Subacc!BB15","v":0},{"$f":"P_DoE_Subacc!BC15","v":0},{"$f":"P_DoE_Subacc!BD15","v":0},{"$f":"P_DoE_Subacc!BE15","v":0},{"$f":"P_DoE_Subacc!BF15","v":0},{"$f":"P_DoE_Subacc!BG15","v":0},{"$f":"P_DoE_Subacc!BH15","v":0},{"$f":"P_DoE_Subacc!BI15","v":0},{"$f":"P_DoE_Subacc!BJ15","v":0},{"$f":"P_DoE_Subacc!BK15","v":0},{"$f":"P_DoE_Subacc!BL15","v":0},{"$f":"P_DoE_Subacc!BM15","v":0},{"$f":"P_DoE_Subacc!BN15","v":0},{"$f":"P_DoE_Subacc!BO15","v":0},{"$f":"P_DoE_Subacc!BP15","v":0},{"$f":"P_DoE_Subacc!BQ15","v":0},{"$f":"P_DoE_Subacc!BR15","v":0},{"$f":"P_DoE_Subacc!BS15","v":0},{"$f":"P_DoE_Subacc!BT15","v":0},{"$f":"P_DoE_Subacc!BU15","v":0},{"$f":"P_DoE_Subacc!BV15","v":0},{"$f":"P_DoE_Subacc!BW15","v":0},{"$f":"P_DoE_Subacc!BX15","v":0},{"$f":"P_DoE_Subacc!BY15","v":0},{"$f":"P_DoE_Subacc!BZ15","v":0},{"$f":"P_DoE_Subacc!CA15","v":0},{"$f":"P_DoE_Subacc!CB15","v":0},{"$f":"P_DoE_Subacc!CC15","v":0},{"$f":"P_DoE_Subacc!CD15","v":0},{"$f":"P_DoE_Subacc!CE15","v":0},{"$f":"P_DoE_Subacc!CF15","v":0},{"$f":"P_DoE_Subacc!CG15","v":0},{"$f":"P_DoE_Subacc!CH15","v":0},{"$f":"P_DoE_Subacc!CI15","v":0},{"$f":"P_DoE_Subacc!CJ15","v":0},{"$f":"P_DoE_Subacc!CK15","v":0},{"$f":"P_DoE_Subacc!CL15","v":0},{"$f":"P_DoE_Subacc!CM15","v":0},{"$f":"P_DoE_Subacc!CN15","v":0},{"$f":"P_DoE_Subacc!CO15","v":0},{"$f":"P_DoE_Subacc!CP15","v":0},{"$f":"P_DoE_Subacc!CQ15","v":0},{"$f":"P_DoE_Subacc!CR15","v":0},{"$f":"P_DoE_Subacc!CS15","v":0},{"$f":"P_DoE_Subacc!CT15","v":0},{"$f":"P_DoE_Subacc!CU15","v":0},{"$f":"P_DoE_Subacc!CV15","v":0},{"$f":"P_DoE_Subacc!CW15","v":0},{"$f":"P_DoE_Subacc!CX15","v":0},{"$f":"P_DoE_Subacc!CY15","v":0},{"$f":"P_DoE_Subacc!CZ15","v":0},{"$f":"P_DoE_Subacc!DA15","v":0},{"$f":"P_DoE_Subacc!DB15","v":0},{"$f":"P_DoE_Subacc!DC15","v":0},{"$f":"P_DoE_Subacc!DD15","v":0},{"$f":"P_DoE_Subacc!DE15","v":0},{"$f":"P_DoE_Subacc!DF15","v":0},{"$f":"P_DoE_Subacc!DG15","v":0},{"$f":"P_DoE_Subacc!DH15","v":0},{"$f":"P_DoE_Subacc!DI15","v":0},{"$f":"P_DoE_Subacc!DJ15","v":0},{"$f":"P_DoE_Subacc!DK15","v":0},{"$f":"P_DoE_Subacc!DL15","v":0},{"$f":"P_DoE_Subacc!DM15","v":0},{"$f":"P_DoE_Subacc!DN15","v":0},{"$f":"P_DoE_Subacc!DO15","v":0},{"$f":"P_DoE_Subacc!DP15","v":0},{"$f":"P_DoE_Subacc!DQ15","v":0},{"$f":"P_DoE_Subacc!DR15","v":0},{"$f":"P_DoE_Subacc!DS15","v":0},{"$f":"P_DoE_Subacc!DT15","v":0},{"$f":"P_DoE_Subacc!DU15","v":0},{"$f":"P_DoE_Subacc!DV15","v":0},{"$f":"P_DoE_Subacc!DW15","v":0},{"$f":"P_DoE_Subacc!DX15","v":0},{"$f":"P_DoE_Subacc!DY15","v":0},{"$f":"P_DoE_Subacc!DZ15","v":0},{"$f":"P_DoE_Subacc!EA15","v":0},{"$f":"P_DoE_Subacc!EB15","v":0},{"$f":"P_DoE_Subacc!EC15","v":0},{"$f":"P_DoE_Subacc!ED15","v":0},{"$f":"P_DoE_Subacc!EE15","v":0},{"$f":"P_DoE_Subacc!EF15","v":0},0]
[3,"អនុវិទ្យាល័យ",{"$f":"S_DoE_Subacc!C15","v":10},{"$f":"S_DoE_Subacc!D15","v":15},{"$f":"S_DoE_Subacc!E15","v":0},{"$f":"S_DoE_Subacc!F15","v":0},{"$f":"S_DoE_Subacc!G15","v":0},{"$f":"S_DoE_Subacc!H15","v":0},{"$f":"S_DoE_Subacc!I15","v":0},{"$f":"S_DoE_Subacc!J15","v":0},{"$f":"S_DoE_Subacc!K15","v":0},{"$f":"S_DoE_Subacc!L15","v":0},{"$f":"S_DoE_Subacc!M15","v":0},{"$f":"S_DoE_Subacc!N15","v":0},{"$f":"S_DoE_Subacc!O15","v":0},{"$f":"S_DoE_Subacc!P15","v":0},{"$f":"S_DoE_Subacc!Q15","v":0},{"$f":"S_DoE_Subacc!R15","v":0},{"$f":"S_DoE_Subacc!S15","v":0},{"$f":"S_DoE_Subacc!T15","v":0},{"$f":"S_DoE_Subacc!U15","v":0},{"$f":"S_DoE_Subacc!V15","v":0},{"$f":"S_DoE_Subacc!W15","v":0},{"$f":"S_DoE_Subacc!X15","v":0},{"$f":"S_DoE_Subacc!Y15","v":0},{"$f":"S_DoE_Subacc!Z15","v":0},{"$f":"S_DoE_Subacc!AA15","v":0},{"$f":"S_DoE_Subacc!AB15","v":0},{"$f":"S_DoE_Subacc!AC15","v":0},{"$f":"S_DoE_Subacc!AD15","v":0},{"$f":"S_DoE_Subacc!AE15","v":0},{"$f":"S_DoE_Subacc!AF15","v":0},{"$f":"S_DoE_Subacc!AG15","v":0},{"$f":"S_DoE_Subacc!AH15","v":0},{"$f":"S_DoE_Subacc!AI15","v":0},{"$f":"S_DoE_Subacc!AJ15","v":0},{"$f":"S_DoE_Subacc!AK15","v":0},{"$f":"S_DoE_Subacc!AL15","v":0},{"$f":"S_DoE_Subacc!AM15","v":0},{"$f":"S_DoE_Subacc!AN15","v":0},{"$f":"S_DoE_Subacc!AO15","v":0},{"$f":"S_DoE_Subacc!AP15","v":0},{"$f":"S_DoE_Subacc!AQ15","v":0},{"$f":"S_DoE_Subacc!AR15","v":0},{"$f":"S_DoE_Subacc!AS15","v":0},{"$f":"S_DoE_Subacc!AT15","v":0},{"$f":"S_DoE_Subacc!AU15","v":0},{"$f":"S_DoE_Subacc!AV15","v":0},{"$f":"S_DoE_Subacc!AW15","v":0},{"$f":"S_DoE_Subacc!AX15","v":0},{"$f":"S_DoE_Subacc!AY15","v":0},{"$f":"S_DoE_Subacc!AZ15","v":0},{"$f":"S_DoE_Subacc!BA15","v":0},{"$f":"S_DoE_Subacc!BB15","v":0},{"$f":"S_DoE_Subacc!BC15","v":0},{"$f":"S_DoE_Subacc!BD15","v":0},{"$f":"S_DoE_Subacc!BE15","v":0},{"$f":"S_DoE_Subacc!BF15","v":0},{"$f":"S_DoE_Subacc!BG15","v":0},{"$f":"S_DoE_Subacc!BH15","v":0},{"$f":"S_DoE_Subacc!BI15","v":0},{"$f":"S_DoE_Subacc!BJ15","v":0},{"$f":"S_DoE_Subacc!BK15","v":0},{"$f":"S_DoE_Subacc!BL15","v":0},{"$f":"S_DoE_Subacc!BM15","v":0},{"$f":"S_DoE_Subacc!BN15","v":0},{"$f":"S_DoE_Subacc!BO15","v":0},{"$f":"S_DoE_Subacc!BP15","v":0},{"$f":"S_DoE_Subacc!BQ15","v":0},{"$f":"S_DoE_Subacc!BR15","v":0},{"$f":"S_DoE_Subacc!BS15","v":0},{"$f":"S_DoE_Subacc!BT15","v":0},{"$f":"S_DoE_Subacc!BU15","v":0},{"$f":"S_DoE_Subacc!BV15","v":0},{"$f":"S_DoE_Subacc!BW15","v":0},{"$f":"S_DoE_Subacc!BX15","v":0},{"$f":"S_DoE_Subacc!BY15","v":0},{"$f":"S_DoE_Subacc!BZ15","v":0},{"$f":"S_DoE_Subacc!CA15","v":0},{"$f":"S_DoE_Subacc!CB15","v":0},{"$f":"S_DoE_Subacc!CC15","v":0},{"$f":"S_DoE_Subacc!CD15","v":0},{"$f":"S_DoE_Subacc!CE15","v":0},{"$f":"S_DoE_Subacc!CF15","v":0},{"$f":"S_DoE_Subacc!CG15","v":0},{"$f":"S_DoE_Subacc!CH15","v":0},{"$f":"S_DoE_Subacc!CI15","v":0},{"$f":"S_DoE_Subacc!CJ15","v":0},{"$f":"S_DoE_Subacc!CK15","v":0},{"$f":"S_DoE_Subacc!CL15","v":0},{"$f":"S_DoE_Subacc!CM15","v":0},{"$f":"S_DoE_Subacc!CN15","v":0},{"$f":"S_DoE_Subacc!CO15","v":0},{"$f":"S_DoE_Subacc!CP15","v":0},{"$f":"S_DoE_Subacc!CQ15","v":0},{"$f":"S_DoE_Subacc!CR15","v":0},{"$f":"S_DoE_Subacc!CS15","v":0},{"$f":"S_DoE_Subacc!CT15","v":0},{"$f":"S_DoE_Subacc!CU15","v":0},{"$f":"S_DoE_Subacc!CV15","v":0},{"$f":"S_DoE_Subacc!CW15","v":0},{"$f":"S_DoE_Subacc!CX15","v":0},{"$f":"S_DoE_Subacc!CY15","v":0},{"$f":"S_DoE_Subacc!CZ15","v":0},{"$f":"S_DoE_Subacc!DA15","v":0},{"$f":"S_DoE_Subacc!DB15","v":0},{"$f":"S_DoE_Subacc!DC15","v":0},{"$f":"S_DoE_Subacc!DD15","v":0},{"$f":"S_DoE_Subacc!DE15","v":0},{"$f":"S_DoE_Subacc!DF15","v":0},{"$f":"S_DoE_Subacc!DG15","v":0},{"$f":"S_DoE_Subacc!DH15","v":0},{"$f":"S_DoE_Subacc!DI15","v":0},{"$f":"S_DoE_Subacc!DJ15","v":0},{"$f":"S_DoE_Subacc!DK15","v":0},{"$f":"S_DoE_Subacc!DL15","v":0},{"$f":"S_DoE_Subacc!DM15","v":0},{"$f":"S_DoE_Subacc!DN15","v":0},{"$f":"S_DoE_Subacc!DO15","v":0},{"$f":"S_DoE_Subacc!DP15","v":0},{"$f":"S_DoE_Subacc!DQ15","v":0},{"$f":"S_DoE_Subacc!DR15","v":0},{"$f":"S_DoE_Subacc!DS15","v":0},{"$f":"S_DoE_Subacc!DT15","v":0},{"$f":"S_DoE_Subacc!DU15","v":0},{"$f":"S_DoE_Subacc!DV15","v":0},{"$f":"S_DoE_Subacc!DW15","v":0},{"$f":"S_DoE_Subacc!DX15","v":0},{"$f":"S_DoE_Subacc!DY15","v":0},{"$f":"S_DoE_Subacc!DZ15","v":0},{"$f":"S_DoE_Subacc!EA15","v":0},{"$f":"S_DoE_Subacc!EB15","v":0},{"$f":"S_DoE_Subacc!EC15","v":0},{"$f":"S_DoE_Subacc!ED15","v":0},{"$f":"S_DoE_Subacc!EE15","v":0},{"$f":"S_DoE_Subacc!EF15","v":0},0]
[4,"វិទ្យាល័យ",{"$f":"H_DoE_Subacc!C15","v":0},{"$f":"H_DoE_Subacc!D15","v":0},{"$f":"H_DoE_Subacc!E15","v":0},{"$f":"H_DoE_Subacc!F15","v":0},{"$f":"H_DoE_Subacc!G15","v":0},{"$f":"H_DoE_Subacc!H15","v":0},{"$f":"H_DoE_Subacc!I15","v":0},{"$f":"H_DoE_Subacc!J15","v":0},{"$f":"H_DoE_Subacc!K15","v":0},{"$f":"H_DoE_Subacc!L15","v":0},{"$f":"H_DoE_Subacc!M15","v":0},{"$f":"H_DoE_Subacc!N15","v":0},{"$f":"H_DoE_Subacc!O15","v":0},{"$f":"H_DoE_Subacc!P15","v":0},{"$f":"H_DoE_Subacc!Q15","v":0},{"$f":"H_DoE_Subacc!R15","v":0},{"$f":"H_DoE_Subacc!S15","v":0},{"$f":"H_DoE_Subacc!T15","v":0},{"$f":"H_DoE_Subacc!U15","v":0},{"$f":"H_DoE_Subacc!V15","v":0},{"$f":"H_DoE_Subacc!W15","v":0},{"$f":"H_DoE_Subacc!X15","v":0},{"$f":"H_DoE_Subacc!Y15","v":0},{"$f":"H_DoE_Subacc!Z15","v":0},{"$f":"H_DoE_Subacc!AA15","v":0},{"$f":"H_DoE_Subacc!AB15","v":0},{"$f":"H_DoE_Subacc!AC15","v":0},{"$f":"H_DoE_Subacc!AD15","v":0},{"$f":"H_DoE_Subacc!AE15","v":0},{"$f":"H_DoE_Subacc!AF15","v":0},{"$f":"H_DoE_Subacc!AG15","v":0},{"$f":"H_DoE_Subacc!AH15","v":0},{"$f":"H_DoE_Subacc!AI15","v":0},{"$f":"H_DoE_Subacc!AJ15","v":0},{"$f":"H_DoE_Subacc!AK15","v":0},{"$f":"H_DoE_Subacc!AL15","v":0},{"$f":"H_DoE_Subacc!AM15","v":0},{"$f":"H_DoE_Subacc!AN15","v":0},{"$f":"H_DoE_Subacc!AO15","v":0},{"$f":"H_DoE_Subacc!AP15","v":0},{"$f":"H_DoE_Subacc!AQ15","v":0},{"$f":"H_DoE_Subacc!AR15","v":0},{"$f":"H_DoE_Subacc!AS15","v":0},{"$f":"H_DoE_Subacc!AT15","v":0},{"$f":"H_DoE_Subacc!AU15","v":0},{"$f":"H_DoE_Subacc!AV15","v":0},{"$f":"H_DoE_Subacc!AW15","v":0},{"$f":"H_DoE_Subacc!AX15","v":0},{"$f":"H_DoE_Subacc!AY15","v":0},{"$f":"H_DoE_Subacc!AZ15","v":0},{"$f":"H_DoE_Subacc!BA15","v":0},{"$f":"H_DoE_Subacc!BB15","v":0},{"$f":"H_DoE_Subacc!BC15","v":0},{"$f":"H_DoE_Subacc!BD15","v":0},{"$f":"H_DoE_Subacc!BE15","v":0},{"$f":"H_DoE_Subacc!BF15","v":0},{"$f":"H_DoE_Subacc!BG15","v":0},{"$f":"H_DoE_Subacc!BH15","v":0},{"$f":"H_DoE_Subacc!BI15","v":0},{"$f":"H_DoE_Subacc!BJ15","v":0},{"$f":"H_DoE_Subacc!BK15","v":0},{"$f":"H_DoE_Subacc!BL15","v":0},{"$f":"H_DoE_Subacc!BM15","v":0},{"$f":"H_DoE_Subacc!BN15","v":0},{"$f":"H_DoE_Subacc!BO15","v":0},{"$f":"H_DoE_Subacc!BP15","v":0},{"$f":"H_DoE_Subacc!BQ15","v":0},{"$f":"H_DoE_Subacc!BR15","v":0},{"$f":"H_DoE_Subacc!BS15","v":0},{"$f":"H_DoE_Subacc!BT15","v":0},{"$f":"H_DoE_Subacc!BU15","v":0},{"$f":"H_DoE_Subacc!BV15","v":0},{"$f":"H_DoE_Subacc!BW15","v":0},{"$f":"H_DoE_Subacc!BX15","v":0},{"$f":"H_DoE_Subacc!BY15","v":0},{"$f":"H_DoE_Subacc!BZ15","v":0},{"$f":"H_DoE_Subacc!CA15","v":0},{"$f":"H_DoE_Subacc!CB15","v":0},{"$f":"H_DoE_Subacc!CC15","v":0},{"$f":"H_DoE_Subacc!CD15","v":0},{"$f":"H_DoE_Subacc!CE15","v":0},{"$f":"H_DoE_Subacc!CF15","v":0},{"$f":"H_DoE_Subacc!CG15","v":0},{"$f":"H_DoE_Subacc!CH15","v":0},{"$f":"H_DoE_Subacc!CI15","v":0},{"$f":"H_DoE_Subacc!CJ15","v":0},{"$f":"H_DoE_Subacc!CK15","v":0},{"$f":"H_DoE_Subacc!CL15","v":0},{"$f":"H_DoE_Subacc!CM15","v":0},{"$f":"H_DoE_Subacc!CN15","v":0},{"$f":"H_DoE_Subacc!CO15","v":0},{"$f":"H_DoE_Subacc!CP15","v":0},{"$f":"H_DoE_Subacc!CQ15","v":0},{"$f":"H_DoE_Subacc!CR15","v":0},{"$f":"H_DoE_Subacc!CS15","v":0},{"$f":"H_DoE_Subacc!CT15","v":0},{"$f":"H_DoE_Subacc!CU15","v":0},{"$f":"H_DoE_Subacc!CV15","v":0},{"$f":"H_DoE_Subacc!CW15","v":0},{"$f":"H_DoE_Subacc!CX15","v":0},{"$f":"H_DoE_Subacc!CY15","v":0},{"$f":"H_DoE_Subacc!CZ15","v":0},{"$f":"H_DoE_Subacc!DA15","v":0},{"$f":"H_DoE_Subacc!DB15","v":0},{"$f":"H_DoE_Subacc!DC15","v":0},{"$f":"H_DoE_Subacc!DD15","v":0},{"$f":"H_DoE_Subacc!DE15","v":0},{"$f":"H_DoE_Subacc!DF15","v":0},{"$f":"H_DoE_Subacc!DG15","v":0},{"$f":"H_DoE_Subacc!DH15","v":0},{"$f":"H_DoE_Subacc!DI15","v":0},{"$f":"H_DoE_Subacc!DJ15","v":0},{"$f":"H_DoE_Subacc!DK15","v":0},{"$f":"H_DoE_Subacc!DL15","v":0},{"$f":"H_DoE_Subacc!DM15","v":0},{"$f":"H_DoE_Subacc!DN15","v":0},{"$f":"H_DoE_Subacc!DO15","v":0},{"$f":"H_DoE_Subacc!DP15","v":0},{"$f":"H_DoE_Subacc!DQ15","v":0},{"$f":"H_DoE_Subacc!DR15","v":0},{"$f":"H_DoE_Subacc!DS15","v":0},{"$f":"H_DoE_Subacc!DT15","v":0},{"$f":"H_DoE_Subacc!DU15","v":0},{"$f":"H_DoE_Subacc!DV15","v":0},{"$f":"H_DoE_Subacc!DW15","v":0},{"$f":"H_DoE_Subacc!DX15","v":0},{"$f":"H_DoE_Subacc!DY15","v":0},{"$f":"H_DoE_Subacc!DZ15","v":0},{"$f":"H_DoE_Subacc!EA15","v":0},{"$f":"H_DoE_Subacc!EB15","v":0},{"$f":"H_DoE_Subacc!EC15","v":0},{"$f":"H_DoE_Subacc!ED15","v":0},{"$f":"H_DoE_Subacc!EE15","v":0},{"$f":"H_DoE_Subacc!EF15","v":0},{"$error":"#DIV/0!"}]
[5,"អាគារធនធាន",{"$f":"RB_Subacc!C15","v":0},{"$f":"RB_Subacc!D15","v":0},{"$f":"RB_Subacc!E15","v":0},{"$f":"RB_Subacc!F15","v":0},{"$f":"RB_Subacc!G15","v":0},{"$f":"RB_Subacc!H15","v":0},{"$f":"RB_Subacc!I15","v":0},{"$f":"RB_Subacc!J15","v":0},{"$f":"RB_Subacc!K15","v":0},{"$f":"RB_Subacc!L15","v":0},{"$f":"RB_Subacc!M15","v":0},{"$f":"RB_Subacc!N15","v":0},{"$f":"RB_Subacc!O15","v":0},{"$f":"RB_Subacc!P15","v":0},{"$f":"RB_Subacc!Q15","v":0},{"$f":"RB_Subacc!R15","v":0},{"$f":"RB_Subacc!S15","v":0},{"$f":"RB_Subacc!T15","v":0},{"$f":"RB_Subacc!U15","v":0},{"$f":"RB_Subacc!V15","v":0},{"$f":"RB_Subacc!W15","v":0},{"$f":"RB_Subacc!X15","v":0},{"$f":"RB_Subacc!Y15","v":0},{"$f":"RB_Subacc!Z15","v":0},{"$f":"RB_Subacc!AA15","v":0},{"$f":"RB_Subacc!AB15","v":0},{"$f":"RB_Subacc!AC15","v":0},{"$f":"RB_Subacc!AD15","v":0},{"$f":"RB_Subacc!AE15","v":0},{"$f":"RB_Subacc!AF15","v":0},{"$f":"RB_Subacc!AG15","v":0},{"$f":"RB_Subacc!AH15","v":0},{"$f":"RB_Subacc!AI15","v":0},{"$f":"RB_Subacc!AJ15","v":0},{"$f":"RB_Subacc!AK15","v":0},{"$f":"RB_Subacc!AL15","v":0},{"$f":"RB_Subacc!AM15","v":0},{"$f":"RB_Subacc!AN15","v":0},{"$f":"RB_Subacc!AO15","v":0},{"$f":"RB_Subacc!AP15","v":0},{"$f":"RB_Subacc!AQ15","v":0},{"$f":"RB_Subacc!AR15","v":0},{"$f":"RB_Subacc!AS15","v":0},{"$f":"RB_Subacc!AT15","v":0},{"$f":"RB_Subacc!AU15","v":0},{"$f":"RB_Subacc!AV15","v":0},{"$f":"RB_Subacc!AW15","v":0},{"$f":"RB_Subacc!AX15","v":0},{"$f":"RB_Subacc!AY15","v":0},{"$f":"RB_Subacc!AZ15","v":0},{"$f":"RB_Subacc!BA15","v":0},{"$f":"RB_Subacc!BB15","v":0},{"$f":"RB_Subacc!BC15","v":0},{"$f":"RB_Subacc!BD15","v":0},{"$f":"RB_Subacc!BE15","v":0},{"$f":"RB_Subacc!BF15","v":0},{"$f":"RB_Subacc!BG15","v":0},{"$f":"RB_Subacc!BH15","v":0},{"$f":"RB_Subacc!BI15","v":0},{"$f":"RB_Subacc!BJ15","v":0},{"$f":"RB_Subacc!BK15","v":0},{"$f":"RB_Subacc!BL15","v":0},{"$f":"RB_Subacc!BM15","v":0},{"$f":"RB_Subacc!BN15","v":0},{"$f":"RB_Subacc!BO15","v":0},{"$f":"RB_Subacc!BP15","v":0},{"$f":"RB_Subacc!BQ15","v":0},{"$f":"RB_Subacc!BR15","v":0},{"$f":"RB_Subacc!BS15","v":0},{"$f":"RB_Subacc!BT15","v":0},{"$f":"RB_Subacc!BU15","v":0},{"$f":"RB_Subacc!BV15","v":0},{"$f":"RB_Subacc!BW15","v":0},{"$f":"RB_Subacc!BX15","v":0},{"$f":"RB_Subacc!BY15","v":0},{"$f":"RB_Subacc!BZ15","v":0},{"$f":"RB_Subacc!CA15","v":0},{"$f":"RB_Subacc!CB15","v":0},{"$f":"RB_Subacc!CC15","v":0},{"$f":"RB_Subacc!CD15","v":0},{"$f":"RB_Subacc!CE15","v":0},{"$f":"RB_Subacc!CF15","v":0},{"$f":"RB_Subacc!CG15","v":0},{"$f":"RB_Subacc!CH15","v":0},{"$f":"RB_Subacc!CI15","v":0},{"$f":"RB_Subacc!CJ15","v":0},{"$f":"RB_Subacc!CK15","v":0},{"$f":"RB_Subacc!CL15","v":0},{"$f":"RB_Subacc!CM15","v":0},{"$f":"RB_Subacc!CN15","v":0},{"$f":"RB_Subacc!CO15","v":0},{"$f":"RB_Subacc!CP15","v":0},{"$f":"RB_Subacc!CQ15","v":0},{"$f":"RB_Subacc!CR15","v":0},{"$f":"RB_Subacc!CS15","v":0},{"$f":"RB_Subacc!CT15","v":0},{"$f":"RB_Subacc!CU15","v":0},{"$f":"RB_Subacc!CV15","v":0},{"$f":"RB_Subacc!CW15","v":0},{"$f":"RB_Subacc!CX15","v":0},{"$f":"RB_Subacc!CY15","v":0},{"$f":"RB_Subacc!CZ15","v":0},{"$f":"RB_Subacc!DA15","v":0},{"$f":"RB_Subacc!DB15","v":0},{"$f":"RB_Subacc!DC15","v":0},{"$f":"RB_Subacc!DD15","v":0},{"$f":"RB_Subacc!DE15","v":0},{"$f":"RB_Subacc!DF15","v":0},{"$f":"RB_Subacc!DG15","v":0},{"$f":"RB_Subacc!DH15","v":0},{"$f":"RB_Subacc!DI15","v":0},{"$f":"RB_Subacc!DJ15","v":0},{"$f":"RB_Subacc!DK15","v":0},{"$f":"RB_Subacc!DL15","v":0},{"$f":"RB_Subacc!DM15","v":0},{"$f":"RB_Subacc!DN15","v":0},{"$f":"RB_Subacc!DO15","v":0},{"$f":"RB_Subacc!DP15","v":0},{"$f":"RB_Subacc!DQ15","v":0},{"$f":"RB_Subacc!DR15","v":0},{"$f":"RB_Subacc!DS15","v":0},{"$f":"RB_Subacc!DT15","v":0},{"$f":"RB_Subacc!DU15","v":0},{"$f":"RB_Subacc!DV15","v":0},{"$f":"RB_Subacc!DW15","v":0},{"$f":"RB_Subacc!DX15","v":0},{"$f":"RB_Subacc!DY15","v":0},{"$f":"RB_Subacc!DZ15","v":0},{"$f":"RB_Subacc!EA15","v":0},{"$f":"RB_Subacc!EB15","v":0},{"$f":"RB_Subacc!EC15","v":0},{"$f":"RB_Subacc!ED15","v":0},{"$f":"RB_Subacc!EE15","v":0},{"$f":"RB_Subacc!EF15","v":0},{"$error":"#DIV/0!"}]
[6,"វិទ្យាល័យបច្ចេកទេស",{"$f":"T_DoE_Subacc!C15","v":10},{"$f":"T_DoE_Subacc!D15","v":15},{"$f":"T_DoE_Subacc!E15","v":0},{"$f":"T_DoE_Subacc!F15","v":0},{"$f":"T_DoE_Subacc!G15","v":0},{"$f":"T_DoE_Subacc!H15","v":0},{"$f":"T_DoE_Subacc!I15","v":0},{"$f":"T_DoE_Subacc!J15","v":0},{"$f":"T_DoE_Subacc!K15","v":0},{"$f":"T_DoE_Subacc!L15","v":0},{"$f":"T_DoE_Subacc!M15","v":0},{"$f":"T_DoE_Subacc!N15","v":0},{"$f":"T_DoE_Subacc!O15","v":0},{"$f":"T_DoE_Subacc!P15","v":0},{"$f":"T_DoE_Subacc!Q15","v":0},{"$f":"T_DoE_Subacc!R15","v":0},{"$f":"T_DoE_Subacc!S15","v":0},{"$f":"T_DoE_Subacc!T15","v":0},{"$f":"T_DoE_Subacc!U15","v":0},{"$f":"T_DoE_Subacc!V15","v":0},{"$f":"T_DoE_Subacc!W15","v":0},{"$f":"T_DoE_Subacc!X15","v":0},{"$f":"T_DoE_Subacc!Y15","v":0},{"$f":"T_DoE_Subacc!Z15","v":0},{"$f":"T_DoE_Subacc!AA15","v":0},{"$f":"T_DoE_Subacc!AB15","v":0},{"$f":"T_DoE_Subacc!AC15","v":0},{"$f":"T_DoE_Subacc!AD15","v":0},{"$f":"T_DoE_Subacc!AE15","v":0},{"$f":"T_DoE_Subacc!AF15","v":0},{"$f":"T_DoE_Subacc!AG15","v":0},{"$f":"T_DoE_Subacc!AH15","v":0},{"$f":"T_DoE_Subacc!AI15","v":0},{"$f":"T_DoE_Subacc!AJ15","v":0},{"$f":"T_DoE_Subacc!AK15","v":0},{"$f":"T_DoE_Subacc!AL15","v":0},{"$f":"T_DoE_Subacc!AM15","v":0},{"$f":"T_DoE_Subacc!AN15","v":0},{"$f":"T_DoE_Subacc!AO15","v":0},{"$f":"T_DoE_Subacc!AP15","v":0},{"$f":"T_DoE_Subacc!AQ15","v":0},{"$f":"T_DoE_Subacc!AR15","v":0},{"$f":"T_DoE_Subacc!AS15","v":0},{"$f":"T_DoE_Subacc!AT15","v":0},{"$f":"T_DoE_Subacc!AU15","v":0},{"$f":"T_DoE_Subacc!AV15","v":0},{"$f":"T_DoE_Subacc!AW15","v":0},{"$f":"T_DoE_Subacc!AX15","v":0},{"$f":"T_DoE_Subacc!AY15","v":0},{"$f":"T_DoE_Subacc!AZ15","v":0},{"$f":"T_DoE_Subacc!BA15","v":0},{"$f":"T_DoE_Subacc!BB15","v":0},{"$f":"T_DoE_Subacc!BC15","v":0},{"$f":"T_DoE_Subacc!BD15","v":0},{"$f":"T_DoE_Subacc!BE15","v":0},{"$f":"T_DoE_Subacc!BF15","v":0},{"$f":"T_DoE_Subacc!BG15","v":0},{"$f":"T_DoE_Subacc!BH15","v":0},{"$f":"T_DoE_Subacc!BI15","v":0},{"$f":"T_DoE_Subacc!BJ15","v":0},{"$f":"T_DoE_Subacc!BK15","v":0},{"$f":"T_DoE_Subacc!BL15","v":0},{"$f":"T_DoE_Subacc!BM15","v":0},{"$f":"T_DoE_Subacc!BN15","v":0},{"$f":"T_DoE_Subacc!BO15","v":0},{"$f":"T_DoE_Subacc!BP15","v":0},{"$f":"T_DoE_Subacc!BQ15","v":0},{"$f":"T_DoE_Subacc!BR15","v":0},{"$f":"T_DoE_Subacc!BS15","v":0},{"$f":"T_DoE_Subacc!BT15","v":0},{"$f":"T_DoE_Subacc!BU15","v":0},{"$f":"T_DoE_Subacc!BV15","v":0},{"$f":"T_DoE_Subacc!BW15","v":0},{"$f":"T_DoE_Subacc!BX15","v":0},{"$f":"T_DoE_Subacc!BY15","v":0},{"$f":"T_DoE_Subacc!BZ15","v":0},{"$f":"T_DoE_Subacc!CA15","v":0},{"$f":"T_DoE_Subacc!CB15","v":0},{"$f":"T_DoE_Subacc!CC15","v":0},{"$f":"T_DoE_Subacc!CD15","v":0},{"$f":"T_DoE_Subacc!CE15","v":0},{"$f":"T_DoE_Subacc!CF15","v":0},{"$f":"T_DoE_Subacc!CG15","v":0},{"$f":"T_DoE_Subacc!CH15","v":0},{"$f":"T_DoE_Subacc!CI15","v":0},{"$f":"T_DoE_Subacc!CJ15","v":0},{"$f":"T_DoE_Subacc!CK15","v":0},{"$f":"T_DoE_Subacc!CL15","v":0},{"$f":"T_DoE_Subacc!CM15","v":0},{"$f":"T_DoE_Subacc!CN15","v":0},{"$f":"T_DoE_Subacc!CO15","v":0},{"$f":"T_DoE_Subacc!CP15","v":0},{"$f":"T_DoE_Subacc!CQ15","v":0},{"$f":"T_DoE_Subacc!CR15","v":0},{"$f":"T_DoE_Subacc!CS15","v":0},{"$f":"T_DoE_Subacc!CT15","v":0},{"$f":"T_DoE_Subacc!CU15","v":0},{"$f":"T_DoE_Subacc!CV15","v":0},{"$f":"T_DoE_Subacc!CW15","v":0},{"$f":"T_DoE_Subacc!CX15","v":0},{"$f":"T_DoE_Subacc!CY15","v":0},{"$f":"T_DoE_Subacc!CZ15","v":0},{"$f":"T_DoE_Subacc!DA15","v":0},{"$f":"T_DoE_Subacc!DB15","v":0},{"$f":"T_DoE_Subacc!DC15","v":0},{"$f":"T_DoE_Subacc!DD15","v":0},{"$f":"T_DoE_Subacc!DE15","v":0},{"$f":"T_DoE_Subacc!DF15","v":0},{"$f":"T_DoE_Subacc!DG15","v":0},{"$f":"T_DoE_Subacc!DH15","v":0},{"$f":"T_DoE_Subacc!DI15","v":0},{"$f":"T_DoE_Subacc!DJ15","v":0},{"$f":"T_DoE_Subacc!DK15","v":0},{"$f":"T_DoE_Subacc!DL15","v":0},{"$f":"T_DoE_Subacc!DM15","v":0},{"$f":"T_DoE_Subacc!DN15","v":0},{"$f":"T_DoE_Subacc!DO15","v":0},{"$f":"T_DoE_Subacc!DP15","v":0},{"$f":"T_DoE_Subacc!DQ15","v":0},{"$f":"T_DoE_Subacc!DR15","v":0},{"$f":"T_DoE_Subacc!DS15","v":0},{"$f":"T_DoE_Subacc!DT15","v":0},{"$f":"T_DoE_Subacc!DU15","v":0},{"$f":"T_DoE_Subacc!DV15","v":0},{"$f":"T_DoE_Subacc!DW15","v":0},{"$f":"T_DoE_Subacc!DX15","v":0},{"$f":"T_DoE_Subacc!DY15","v":0},{"$f":"T_DoE_Subacc!DZ15","v":0},{"$f":"T_DoE_Subacc!EA15","v":0},{"$f":"T_DoE_Subacc!EB15","v":0},{"$f":"T_DoE_Subacc!EC15","v":0},{"$f":"T_DoE_Subacc!ED15","v":0},{"$f":"T_DoE_Subacc!EE15","v":0},{"$f":"T_DoE_Subacc!EF15","v":0},0]

{"sheet":"Create","index":8,"n_rows":16,"n_cols":7,"rows_kept":16,"cut":false,"hidden":false,"merged":[[15,0,15,14],[3,0,3,5],[3,7,3,14],[0,0,0,14],[1,0,1,5],[1,6,1,14],[2,0,2,5],[2,6,2,14]]}
["សូមបំពេញព័ត៌មាន៖"]
["ឈ្មោះក្រសួង",null,null,null,null,null,"ក្រសួងអប់រំ យុវជន និងកីឡា"]
["ឈ្មោះមន្ទីរអប់រំ យុវជន និងកីឡា",null,null,null,null,null,"បំពេញឈ្មោះទីនេះ"]
["សូមជ្រើសរើសរបាយការណ៍ប្រចាំត្រីមាសទី៖",null,null,null,null,null,1]
[]
[]
[{"$f":"CONCATENATE(\"សូមចុចលើប៊ូតុង ដើម្បីបង្កើតរបាយការណ៍អនុវត្តថវិកាតាមអនុគណនីប្រចាំត្រីមាសទី\",IF($G$4=1,\"១\",IF($G$4=2,\"២\",IF($G$4=3,\"៣\",\"៤\"))),\" ៖\")","v":"សូមចុចលើប៊ូតុង ដើម្បីបង្កើតរបាយការណ៍អនុវត្តថវិកាតាមអនុគណនីប្រចាំត្រីមាសទី១ ៖"}]
[]
[]
[{"$f":"CONCATENATE(\"សូមចុចលើប៊ូតុង ដើម្បីបង្កើតរបាយការណ៍អនុវត្តថវិកាតាមមុខសញ្ញាចំណាយប្រចាំត្រីមាសទី\",IF($G$4=1,\"១\",IF($G$4=2,\"២\",IF($G$4=3,\"៣\",\"៤\"))),\" ៖\")","v":"សូមចុចលើប៊ូតុង ដើម្បីបង្កើតរបាយការណ៍អនុវត្តថវិកាតាមមុខសញ្ញាចំណាយប្រចាំត្រីមាសទី១ ៖"}]
[]
[]
[{"$f":"CONCATENATE(\"សូមចុចលើប៊ូតុង ដើម្បីបង្កើតរបាយការណ៍អនុវត្តថវិកាដៃគូ សហគមន៍ និងសប្បុរសជនប្រចាំត្រីមាសទី\",IF($G$4=1,\"១\",IF($G$4=2,\"២\",IF($G$4=3,\"៣\",\"៤\"))),\" ៖\")","v":"សូមចុចលើប៊ូតុង ដើម្បីបង្កើតរបាយការណ៍អនុវត្តថវិកាដៃគូ សហគមន៍ និងសប្បុរសជនប្រចាំត្រីមាសទី១ ៖"}]
[]
[]
["បញ្ជាក់៖ អ្នកប្រើប្រាស់ត្រូវចុចលើប៊ូតុងទាំងបីខាងលើ ដើម្បីទទួលបានរបាយការណ៍ពេញលេញ។"]

{"sheet":"Subactivies","index":9,"n_rows":79,"n_cols":23,"rows_kept":79,"cut":false,"hidden":false,"merged":[[2,0,2,7],[3,0,3,7],[7,22,8,22],[5,0,5,22],[7,0,10,0],[7,1,10,1],[7,2,10,2],[7,3,10,3],[8,18,8,20],[8,15,8,17],[8,12,8,14],[8,9,8,11],[8,21,9,21],[7,18,7,21],[78,1,78,3],[8,6,8,8],[12,1,12,3],[71,1,71,3],[72,1,72,3],[73,1,73,3],[74,1,74,3],[7,4,9,4],[7,5,9,5],[7,6,7,17],[75,1,75,3],[76,1,76,3],[77,1,77,3],[11,0,11,3]]}
[]
[]
[{"$f":"Create!G2","v":"ក្រសួងអប់រំ យុវជន និងកីឡា"}]
[{"$f":"Create!G3","v":"បំពេញឈ្មោះទីនេះ"}]
[]
[{"$f":"CONCATENATE(\"របាយការណ៍ចំណាយថវិកាតាមសកម្មភាពប្រចាំត្រីមាសទី \",IF(Create!$G$4=1,\"១\",IF(Create!$G$4=2,\"២\",IF(Create!$G$4=3,\"៣\",\"៤\"))),\" ឆ្នាំ២០១៨\")","v":"របាយការណ៍ចំណាយថវិកាតាមសកម្មភាពប្រចាំត្រីមាសទី ១ ឆ្នាំ២០១៨"}]
[null,null,null,null,null,null,null,null,null,null,null,null,null,null,null,null,null,null,null,null,null,null,"ឯកតា៖ រៀល"]
["ជំពូក","គណនី","អនុគណនី","បរិយាយ","ឥណទានដើមឆ្នាំ","ឥណទានកែតម្រូវ","សកម្មភាព",null,null,null,null,null,null,null,null,null,null,null,"ចំណាយសរុប",null,null,null,"ឥណទាននៅសល់"]
[null,null,null,null,null,null,"សកម្មភាពទី១",null,null,"សកម្មភាពទី២",null,null,"សកម្មភាពទី៣",null,null,"សកម្មភាពទី៦",null,null,"សាច់ប្រាក់",null,null,"ភាគរយ"]
[null,null,null,null,null,null,"បណ្ដាត្រីមាសមុន","ក្នុងត្រីមាស","បូកយោង","បណ្ដាត្រីមាសមុន","ក្នុងត្រីមាស","បូកយោង","បណ្ដាត្រីមាសមុន","ក្នុងត្រីមាស","បូកយោង","បណ្ដាត្រីមាសមុន","ក្នុងត្រីមាស","បូកយោង","បណ្ដាត្រីមាសមុន","ក្នុងត្រីមាស","បូកយោង"]
[null,null,null,null,1,2,"3",4,5,"6",7,8,"9",10,11,"6",9,10,"7",11,12,"8",13]
["សរុប(I+II+III+IV)",null,null,null,{"$f":"SUM(E13,E72,E78,E79)","v":40},{"$f":"SUM(F13,F72,F78,F79)","v":60},0,0,0,0,0,0,0,0,0,0,0,0,0,0,0,{"$f":"U12/F12","v":0},{"$f":"SUM(W13,W72,W78,W79)","v":60}]
["I","សរុបថវិការដ្ឋ",null,null,{"$f":"SUM(E14,E40,E63,E67)","v":40},{"$f":"SUM(F14,F40,F63,F67)","v":60},0,0,0,0,0,0,0,0,0,0,0,0,0,0,0,{"$f":"U13/F13","v":0},{"$f":"SUM(W14,W40,W63,W67)","v":60}]
[60,null,null,"ការទិញ",{"$f":"SUM(E15,E20,E24,E29,E31,E36)","v":40},{"$f":"SUM(F15,F20,F24,F29,F31,F36)","v":60},0,0,0,0,0,0,0,0,0,0,0,0,0,0,0,0,{"$f":"SUM(W15,W20,W24,W29,W31,W36)","v":60}]
[null,6001,null,"សម្ភារៈផ្គត់ផ្គង់ថែទាំ",{"$f":"SUM(E16:E19)","v":40},{"$f":"SUM(F16:F19)","v":60},0,0,0,0,0,0,0,0,0,0,0,0,0,0,0,0,{"$f":"SUM(W16:W19)","v":60}]
[null,null,60011,"សម្ភារៈផ្គត់ផ្គង់សម្អាត​និងអនាម័យ ",{"$f":"Sch_Annual_Total!E15","v":40},{"$f":"Sch_Annual_Total!F15","v":60},{"$f":"E_DoE_Subacc!E15","v":0},{"$f":"E_DoE_Subacc!F15","v":0},{"$f":"SUM(G16:H16)","v":0},{"$f":"P_DoE_Subacc!E15","v":0},{"$f":"P_DoE_Subacc!F15","v":0},{"$f":"SUM(J16:K16)","v":0},{"$f":"SUM(S_DoE_Subacc!E15,H_DoE_Subacc!E15,RB_Subacc!E15)","v":0},{"$f":"SUM(S_DoE_Subacc!F15,H_DoE_Subacc!F15,RB_Subacc!F15)","v":0},{"$f":"SUM(M16:N16)","v":0},{"$f":"T_DoE_Subacc!E15","v":0},{"$f":"T_DoE_Subacc!F15","v":0},{"$f":"SUM(P16:Q16)","v":0},{"$f":"SUM(G16,J16,M16,P16)","v":0},{"$f":"SUM(H16,K16,N16,Q16)","v":0},{"$f":"SUM(I16,L16,O16,R16)","v":0},0,{"$f":"F16-U16","v":60}]
[null,null,60012,"សម្ភារៈផ្គត់ផ្គង់សម្រាប់​ថែទាំអគារ ប្រាសាទ និងសំណង់ផ្សេងៗ",{"$f":"Sch_Annual_Total!G15","v":0},{"$f":"Sch_Annual_Total!H15","v":0},{"$f":"E_DoE_Subacc!H15","v":0},{"$f":"E_DoE_Subacc!I15","v":0},0,{"$f":"P_DoE_Subacc!H15","v":0},{"$f":"P_DoE_Subacc!I15","v":0},0,{"$f":"SUM(S_DoE_Subacc!H15,H_DoE_Subacc!H15,RB_Subacc!H15)","v":0},{"$f":"SUM(S_DoE_Subacc!I15,H_DoE_Subacc!I15,RB_Subacc!I15)","v":0},0,{"$f":"T_DoE_Subacc!H15","v":0},{"$f":"T_DoE_Subacc!I15","v":0},0,{"$f":"SUM(G17,J17,M17,P17)","v":0},0,0,{"$error":"#DIV/0!"},{"$f":"F17-U17","v":0}]
[null,null,60013,"សម្ភារផ្គត់ផ្គង់សម្រាប់​ថែទាំផ្លូវថ្នល់ ស្ពាន និងលូ",{"$f":"Sch_Annual_Total!I15","v":0},{"$f":"Sch_Annual_Total!J15","v":0},{"$f":"E_DoE_Subacc!K15","v":0},{"$f":"E_DoE_Subacc!L15","v":0},0,{"$f":"P_DoE_Subacc!K15","v":0},{"$f":"P_DoE_Subacc!L15","v":0},0,{"$f":"SUM(S_DoE_Subacc!K15,H_DoE_Subacc!K15,RB_Subacc!K15)","v":0},{"$f":"SUM(S_DoE_Subacc!L15,H_DoE_Subacc!L15,RB_Subacc!L15)","v":0},0,{"$f":"T_DoE_Subacc!K15","v":0},{"$f":"T_DoE_Subacc!L15","v":0},0,0,0,0,{"$error":"#DIV/0!"},0]
[null,null,60014,"សម្ភារផ្គត់ផ្គង់សម្រាប់​ថែទាំសម្ភារឧបករណ៍",{"$f":"Sch_Annual_Total!K15","v":0},{"$f":"Sch_Annual_Total!L15","v":0},{"$f":"E_DoE_Subacc!N15","v":0},{"$f":"E_DoE_Subacc!O15","v":0},0,{"$f":"P_DoE_Subacc!N15","v":0},{"$f":"P_DoE_Subacc!O15","v":0},0,{"$f":"SUM(S_DoE_Subacc!N15,H_DoE_Subacc!N15,RB_Subacc!N15)","v":0},{"$f":"SUM(S_DoE_Subacc!O15,H_DoE_Subacc!O15,RB_Subacc!O15)","v":0},0,{"$f":"T_DoE_Subacc!N15","v":0},{"$f":"T_DoE_Subacc!O15","v":0},0,0,0,0,{"$error":"#DIV/0!"},0]
[null,6002,null,"សម្ភារៈផ្គត់ផ្គង់ផ្នែករដ្ឋបាល",{"$f":"SUM(E21:E23)","v":0},{"$f":"SUM(F21:F23)","v":0},0,0,0,0,0,0,0,0,0,0,0,0,{"$f":"SUM(S21:S23)","v":0},{"$f":"SUM(T21:T23)","v":0},0,{"$error":"#DIV/0!"},{"$f":"SUM(W21:W23)","v":0}]
[null,null,60021,"សម្ភារៈការិយាល័យនិងការបោះពុម្ព",{"$f":"Sch_Annual_Total!M15","v":0},{"$f":"Sch_Annual_Total!N15","v":0},{"$f":"E_DoE_Subacc!Q15","v":0},{"$f":"E_DoE_Subacc!R15","v":0},0,{"$f":"P_DoE_Subacc!Q15","v":0},{"$f":"P_DoE_Subacc!R15","v":0},0,{"$f":"SUM(S_DoE_Subacc!Q15,H_DoE_Subacc!Q15,RB_Subacc!Q15)","v":0},{"$f":"SUM(S_DoE_Subacc!R15,H_DoE_Subacc!R15,RB_Subacc!R15)","v":0},0,{"$f":"T_DoE_Subacc!Q15","v":0},{"$f":"T_DoE_Subacc!R15","v":0},0,{"$f":"SUM(G21,J21,M21,P21)","v":0},0,0,{"$error":"#DIV/0!"},{"$f":"F21-U21","v":0}]
[null,null,60022,"សៀវភៅមើល និងឯកសារ",{"$f":"Sch_Annual_Total!O15","v":0},{"$f":"Sch_Annual_Total!P15","v":0},{"$f":"E_DoE_Subacc!T15","v":0},{"$f":"E_DoE_Subacc!U15","v":0},0,{"$f":"P_DoE_Subacc!T15","v":0},{"$f":"P_DoE_Subacc!U15","v":0},0,{"$f":"SUM(S_DoE_Subacc!T15,H_DoE_Subacc!T15,RB_Subacc!T15)","v":0},{"$f":"SUM(S_DoE_Subacc!U15,H_DoE_Subacc!U15,RB_Subacc!U15)","v":0},0,{"$f":"T_DoE_Subacc!T15","v":0},{"$f":"T_DoE_Subacc!U15","v":0},0,0,0,0,{"$error":"#DIV/0!"},0]
[null,null,60023,"ការបោះពុម្ភ",{"$f":"Sch_Annual_Total!Q15","v":0},{"$f":"Sch_Annual_Total!R15","v":0},{"$f":"E_DoE_Subacc!W15","v":0},{"$f":"E_DoE_Subacc!X15","v":0},0,{"$f":"P_DoE_Subacc!W15","v":0},{"$f":"P_DoE_Subacc!X15","v":0},0,{"$f":"SUM(S_DoE_Subacc!W15,H_DoE_Subacc!W15,RB_Subacc!W15)","v":0},{"$f":"SUM(S_DoE_Subacc!X15,H_DoE_Subacc!X15,RB_Subacc!X15)","v":0},0,{"$f":"T_DoE_Subacc!W15","v":0},{"$f":"T_DoE_Subacc!X15","v":0},0,0,0,0,{"$error":"#DIV/0!"},0]
[null,6003,null,"ស្បៀងអាហារ និងផលិតផលកសិកម្ម",{"$f":"SUM(E25:E28)","v":0},{"$f":"SUM(F25:F28)","v":0},0,0,0,0,0,0,0,0,0,0,0,0,0,0,0,{"$error":"#DIV/0!"},0]
[null,null,60031,"ស្បៀង",0,{"$f":"Sch_Annual_Total!T15","v":0},{"$f":"E_DoE_Subacc!Z15","v":0},{"$f":"E_DoE_Subacc!AA15","v":0},0,{"$f":"P_DoE_Subacc!Z15","v":0},{"$f":"P_DoE_Subacc!AA15","v":0},0,{"$f":"SUM(S_DoE_Subacc!Z15,H_DoE_Subacc!Z15,RB_Subacc!Z15)","v":0},{"$f":"SUM(S_DoE_Subacc!AA15,H_DoE_Subacc!AA15,RB_Subacc!AA15)","v":0},0,{"$f":"T_DoE_Subacc!Z15","v":0},{"$f":"T_DoE_Subacc!AA15","v":0},0,{"$f":"SUM(G25,J25,M25,P25)","v":0},0,0,{"$error":"#DIV/0!"},{"$f":"F25-U25","v":0}]
[null,null,60032,"ចំណីសត្វ",0,{"$f":"Sch_Annual_Total!V15","v":0},{"$f":"E_DoE_Subacc!AC15","v":0},{"$f":"E_DoE_Subacc!AD15","v":0},0,{"$f":"P_DoE_Subacc!AC15","v":0},{"$f":"P_DoE_Subacc!AD15","v":0},0,{"$f":"SUM(S_DoE_Subacc!AC15,H_DoE_Subacc!AC15,RB_Subacc!AC15)","v":0},{"$f":"SUM(S_DoE_Subacc!AD15,H_DoE_Subacc!AD15,RB_Subacc!AD15)","v":0},0,{"$f":"T_DoE_Subacc!AC15","v":0},{"$f":"T_DoE_Subacc!AD15","v":0},0,0,0,0,{"$error":"#DIV/0!"},0]
[null,null,60033,"ពូជ និងកូនរុក្ខជាតិ",0,{"$f":"Sch_Annual_Total!X15","v":0},{"$f":"E_DoE_Subacc!AF15","v":0},{"$f":"E_DoE_Subacc!AG15","v":0},0,{"$f":"P_DoE_Subacc!AF15","v":0},{"$f":"P_DoE_Subacc!AG15","v":0},0,{"$f":"SUM(S_DoE_Subacc!AF15,H_DoE_Subacc!AF15,RB_Subacc!AF15)","v":0},{"$f":"SUM(S_DoE_Subacc!AG15,H_DoE_Subacc!AG15,RB_Subacc!AG15)","v":0},0,{"$f":"T_DoE_Subacc!AF15","v":0},{"$f":"T_DoE_Subacc!AG15","v":0},0,0,0,0,{"$error":"#DIV/0!"},0]
[null,null,60035,"ពូជសត្វ",0,{"$f":"Sch_Annual_Total!Z15","v":0},{"$f":"E_DoE_Subacc!AI15","v":0},{"$f":"E_DoE_Subacc!AJ15","v":0},0,{"$f":"P_DoE_Subacc!AI15","v":0},{"$f":"P_DoE_Subacc!AJ15","v":0},0,{"$f":"SUM(S_DoE_Subacc!AI15,H_DoE_Subacc!AI15,RB_Subacc!AI15)","v":0},{"$f":"SUM(S_DoE_Subacc!AJ15,H_DoE_Subacc!AJ15,RB_Subacc!AJ15)","v":0},0,{"$f":"T_DoE_Subacc!AI15","v":0},{"$f":"T_DoE_Subacc!AJ15","v":0},0,0,0,0,{"$error":"#DIV/0!"},0]
[null,6004,null,"សំលៀកបំពាក់ និងការតុបតែង",{"$f":"SUM(E30)","v":0},{"$f":"SUM(F30)","v":0},0,0,0,0,0,0,0,0,0,0,0,0,0,0,0,{"$error":"#DIV/0!"},0]
[null,null,60041,"ឯកសណ្ឋាន",0,{"$f":"Sch_Annual_Total!AB15","v":0},{"$f":"E_DoE_Subacc!AL15","v":0},{"$f":"E_DoE_Subacc!AM15","v":0},0,{"$f":"P_DoE_Subacc!AL15","v":0},{"$f":"P_DoE_Subacc!AM15","v":0},0,{"$f":"SUM(S_DoE_Subacc!AL15,H_DoE_Subacc!AL15,RB_Subacc!AL15)","v":0},{"$f":"SUM(S_DoE_Subacc!AM15,H_DoE_Subacc!AM15,RB_Subacc!AM15)","v":0},0,{"$f":"T_DoE_Subacc!AL15","v":0},{"$f":"T_DoE_Subacc!AM15","v":0},0,{"$f":"SUM(G30,J30,M30,P30)","v":0},0,0,{"$error":"#DIV/0!"},{"$f":"F30-U30","v":0}]
[null,6005,null,"សម្ភារៈតូចតាច សង្ហារឹម និងសម្ភារៈបរិក្ខារ",{"$f":"SUM(E32:E35)","v":0},{"$f":"SUM(F32:F35)","v":0},0,0,0,0,0,0,0,0,0,0,0,0,0,0,0,{"$error":"#DIV/0!"},0]
[null,null,60051,"សម្ភារនិងបរិក្ខារបច្ចេកទេសមិនមែនព័ត៌មានវិទ្យា",0,{"$f":"Sch_Annual_Total!AD15","v":0},{"$f":"E_DoE_Subacc!AO15","v":0},{"$f":"E_DoE_Subacc!AP15","v":0},0,{"$f":"P_DoE_Subacc!AO15","v":0},{"$f":"P_DoE_Subacc!AP15","v":0},0,{"$f":"SUM(S_DoE_Subacc!AO15,H_DoE_Subacc!AO15,RB_Subacc!AO15)","v":0},{"$f":"SUM(S_DoE_Subacc!AP15,H_DoE_Subacc!AP15,RB_Subacc!AP15)","v":0},0,{"$f":"T_DoE_Subacc!AO15","v":0},{"$f":"T_DoE_Subacc!AP15","v":0},0,{"$f":"SUM(G32,J32,M32,P32)","v":0},0,0,{"$error":"#DIV/0!"},{"$f":"F32-U32","v":0}]
[null,null,60052,"សង្ហារឹម",0,{"$f":"Sch_Annual_Total!AF15","v":0},{"$f":"E_DoE_Subacc!AR15","v":0},{"$f":"E_DoE_Subacc!AS15","v":0},0,{"$f":"P_DoE_Subacc!AR15","v":0},{"$f":"P_DoE_Subacc!AS15","v":0},0,{"$f":"SUM(S_DoE_Subacc!AR15,H_DoE_Subacc!AR15,RB_Subacc!AR15)","v":0},{"$f":"SUM(S_DoE_Subacc!AS15,H_DoE_Subacc!AS15,RB_Subacc!AS15)","v":0},0,{"$f":"T_DoE_Subacc!AR15","v":0},{"$f":"T_DoE_Subacc!AS15","v":0},0,0,0,0,{"$error":"#DIV/0!"},0]
[null,null,60053,"សម្ភារៈប្រើប្រាស់",0,{"$f":"Sch_Annual_Total!AH15","v":0},{"$f":"E_DoE_Subacc!AU15","v":0},{"$f":"E_DoE_Subacc!AV15","v":0},0,{"$f":"P_DoE_Subacc!AU15","v":0},{"$f":"P_DoE_Subacc!AV15","v":0},0,{"$f":"SUM(S_DoE_Subacc!AU15,H_DoE_Subacc!AU15,RB_Subacc!AU15)","v":0},{"$f":"SUM(S_DoE_Subacc!AV15,H_DoE_Subacc!AV15,RB_Subacc!AV15)","v":0},0,{"$f":"T_DoE_Subacc!AU15","v":0},{"$f":"T_DoE_Subacc!AV15","v":0},0,0,0,0,{"$error":"#DIV/0!"},0]
[null,null,60055,"សម្ភារនិងបរិក្ខារបច្ចេកទេសព័ត៌មានវិទ្យា",0,{"$f":"Sch_Annual_Total!AJ15","v":0},{"$f":"E_DoE_Subacc!AX15","v":0},{"$f":"E_DoE_Subacc!AY15","v":0},0,{"$f":"P_DoE_Subacc!AX15","v":0},{"$f":"P_DoE_Subacc!AY15","v":0},0,{"$f":"SUM(S_DoE_Subacc!AX15,H_DoE_Subacc!AX15,RB_Subacc!AX15)","v":0},{"$f":"SUM(S_DoE_Subacc!AY15,H_DoE_Subacc!AY15,RB_Subacc!AY15)","v":0},0,{"$f":"T_DoE_Subacc!AX15","v":0},{"$f":"T_DoE_Subacc!AY15","v":0},0,0,0,0,{"$error":"#DIV/0!"},0]
[null,6006,null,"ថាមពលនិងទឹក",{"$f":"SUM(E37:E39)","v":0},{"$f":"SUM(F37:F39)","v":0},0,0,0,0,0,0,0,0,0,0,0,0,0,0,0,{"$error":"#DIV/0!"},0]
[null,null,60061,"អគ្គិសនី",0,{"$f":"Sch_Annual_Total!AL15","v":0},{"$f":"E_DoE_Subacc!BA15","v":0},{"$f":"E_DoE_Subacc!BB15","v":0},0,{"$f":"P_DoE_Subacc!BA15","v":0},{"$f":"P_DoE_Subacc!BB15","v":0},0,{"$f":"SUM(S_DoE_Subacc!BA15,H_DoE_Subacc!BA15,RB_Subacc!BA15)","v":0},{"$f":"SUM(S_DoE_Subacc!BB15,H_DoE_Subacc!BB15,RB_Subacc!BB15)","v":0},0,{"$f":"T_DoE_Subacc!BA15","v":0},{"$f":"T_DoE_Subacc!BB15","v":0},0,{"$f":"SUM(G37,J37,M37,P37)","v":0},0,0,{"$error":"#DIV/0!"},{"$f":"F37-U37","v":0}]
[null,null,60062,"ទឹក",0,{"$f":"Sch_Annual_Total!AN15","v":0},{"$f":"E_DoE_Subacc!BD15","v":0},{"$f":"E_DoE_Subacc!BE15","v":0},0,{"$f":"P_DoE_Subacc!BD15","v":0},{"$f":"P_DoE_Subacc!BE15","v":0},0,{"$f":"SUM(S_DoE_Subacc!BD15,H_DoE_Subacc!BD15,RB_Subacc!BD15)","v":0},{"$f":"SUM(S_DoE_Subacc!BE15,H_DoE_Subacc!BE15,RB_Subacc!BE15)","v":0},0,{"$f":"T_DoE_Subacc!BD15","v":0},{"$f":"T_DoE_Subacc!BE15","v":0},0,0,0,0,{"$error":"#DIV/0!"},0]
[null,null,60068,"ផ្សេងៗ",0,{"$f":"Sch_Annual_Total!AP15","v":0},{"$f":"E_DoE_Subacc!BG15","v":0},{"$f":"E_DoE_Subacc!BH15","v":0},0,{"$f":"P_DoE_Subacc!BG15","v":0},{"$f":"P_DoE_Subacc!BH15","v":0},0,{"$f":"SUM(S_DoE_Subacc!BG15,H_DoE_Subacc!BG15,RB_Subacc!BG15)","v":0},{"$f":"SUM(S_DoE_Subacc!BH15,H_DoE_Subacc!BH15,RB_Subacc!BH15)","v":0},0,{"$f":"T_DoE_Subacc!BG15","v":0},{"$f":"T_DoE_Subacc!BH15","v":0},0,0,0,0,{"$error":"#DIV/0!"},0]
[61,null,null,"សេវាកម្ម",{"$f":"SUM(E41,E44,E46,E52,E54,E56,E60)","v":0},{"$f":"SUM(F41,F44,F46,F52,F54,F56,F60)","v":0},0,0,0,0,0,0,0,0,0,0,0,0,0,0,0,{"$error":"#DIV/0!"},0]
[null,6101,null,"កិច្ចសន្យានៃការផ្តល់សេវាជាមួយសហគ្រាស",{"$f":"SUM(E42:E43)","v":0},{"$f":"SUM(F42:F43)","v":0},0,0,0,0,0,0,0,0,0,0,0,0,0,0,0,{"$error":"#DIV/0!"},0]
[null,null,61011,"សេវាអនាម័យ",0,{"$f":"Sch_Annual_Total!AR15","v":0},{"$f":"E_DoE_Subacc!BM15","v":0},{"$f":"E_DoE_Subacc!BN15","v":0},0,{"$f":"P_DoE_Subacc!BM15","v":0},{"$f":"P_DoE_Subacc!BN15","v":0},0,{"$f":"SUM(S_DoE_Subacc!BM15,H_DoE_Subacc!BM15,RB_Subacc!BM15)","v":0},{"$f":"SUM(S_DoE_Subacc!BN15,H_DoE_Subacc!BN15,RB_Subacc!BN15)","v":0},0,{"$f":"T_DoE_Subacc!BM15","v":0},{"$f":"T_DoE_Subacc!BN15","v":0},0,{"$f":"SUM(G42,J42,M42,P42)","v":0},0,0,{"$error":"#DIV/0!"},{"$f":"F42-U42","v":0}]
[null,null,61012,"សេវារដ្ឋបាល",0,{"$f":"Sch_Annual_Total!AT15","v":0},{"$f":"E_DoE_Subacc!BP15","v":0},{"$f":"E_DoE_Subacc!BQ15","v":0},0,{"$f":"P_DoE_Subacc!BS15","v":0},{"$f":"P_DoE_Subacc!BT15","v":0},0,{"$f":"SUM(S_DoE_Subacc!BP15,H_DoE_Subacc!BP15,RB_Subacc!BP15)","v":0},{"$f":"SUM(S_DoE_Subacc!BQ15,H_DoE_Subacc!BQ15,RB_Subacc!BQ15)","v":0},0,{"$f":"T_DoE_Subacc!BP15","v":0},{"$f":"T_DoE_Subacc!BQ15","v":0},0,0,0,0,{"$error":"#DIV/0!"},0]
[null,6102,null,"ការជួលមធ្យោបាយដឹកជញ្ជូន",{"$f":"SUM(E45)","v":0},{"$f":"SUM(F45)","v":0},0,0,0,0,0,0,0,0,0,0,0,0,0,0,0,{"$error":"#DIV/0!"},0]
[null,null,61021,"ការជួលមធ្យោបាយដឹកជញ្ជូន",0,{"$f":"Sch_Annual_Total!AV15","v":0},{"$f":"E_DoE_Subacc!BS15","v":0},{"$f":"E_DoE_Subacc!BT15","v":0},0,{"$f":"P_DoE_Subacc!BS15","v":0},{"$f":"P_DoE_Subacc!BT15","v":0},0,{"$f":"SUM(S_DoE_Subacc!BS15,H_DoE_Subacc!BS15,RB_Subacc!BS15)","v":0},{"$f":"SUM(S_DoE_Subacc!BT15,H_DoE_Subacc!BT15,RB_Subacc!BT15)","v":0},0,{"$f":"T_DoE_Subacc!BS15","v":0},{"$f":"T_DoE_Subacc!BT15","v":0},0,{"$f":"SUM(G45,J45,M45,P45)","v":0},0,0,{"$error":"#DIV/0!"},{"$f":"F45-U45","v":0}]
[null,6105,null,"ការថែទាំនិងជួសជុល",{"$f":"SUM(E47:E51)","v":0},{"$f":"SUM(F47:F51)","v":0},0,0,0,0,0,0,0,0,0,0,0,0,0,0,0,{"$error":"#DIV/0!"},0]
[null,null,61051,"ការថែទាំដីធ្លី សួនច្បារ ព្រៃឈើ តំបន់ឆ្នេរ និងដែននេសាទ",0,{"$f":"Sch_Annual_Total!AX15","v":0},{"$f":"E_DoE_Subacc!BV15","v":0},{"$f":"E_DoE_Subacc!BW15","v":0},0,{"$f":"P_DoE_Subacc!BV15","v":0},{"$f":"P_DoE_Subacc!BW15","v":0},0,{"$f":"SUM(S_DoE_Subacc!BV15,H_DoE_Subacc!BV15,RB_Subacc!BV15)","v":0},{"$f":"SUM(S_DoE_Subacc!BW15,H_DoE_Subacc!BW15,RB_Subacc!BW15)","v":0},0,{"$f":"T_DoE_Subacc!BV15","v":0},{"$f":"T_DoE_Subacc!BW15","v":0},0,{"$f":"SUM(G47,J47,M47,P47)","v":0},0,0,{"$error":"#DIV/0!"},{"$f":"F47-U47","v":0}]
[null,null,61052,"ការថែទាំ ជួសជុលអគារផ្សេងៗ និងប្រាសាទ",0,{"$f":"Sch_Annual_Total!AZ15","v":0},{"$f":"E_DoE_Subacc!BY15","v":0},{"$f":"E_DoE_Subacc!BZ15","v":0},0,{"$f":"P_DoE_Subacc!BY15","v":0},{"$f":"P_DoE_Subacc!BZ15","v":0},0,{"$f":"SUM(S_DoE_Subacc!BY15,H_DoE_Subacc!BY15,RB_Subacc!BY15)","v":0},{"$f":"SUM(S_DoE_Subacc!BZ15,H_DoE_Subacc!BZ15,RB_Subacc!BZ15)","v":0},0,{"$f":"T_DoE_Subacc!BY15","v":0},{"$f":"T_DoE_Subacc!BZ15","v":0},0,0,0,0,{"$error":"#DIV/0!"},0]
[null,null,61053,"ការថែទាំនិងជួសជុលផ្លូវ ផ្លូវលំ ស្ពាន ​និងលូ",0,{"$f":"Sch_Annual_Total!BB15","v":0},{"$f":"E_DoE_Subacc!CB15","v":0},{"$f":"E_DoE_Subacc!CC15","v":0},0,{"$f":"P_DoE_Subacc!CB15","v":0},{"$f":"P_DoE_Subacc!CC15","v":0},0,{"$f":"SUM(S_DoE_Subacc!CB15,H_DoE_Subacc!CB15,RB_Subacc!CB15)","v":0},{"$f":"SUM(S_DoE_Subacc!CC15,H_DoE_Subacc!CC15,RB_Subacc!CC15)","v":0},0,{"$f":"T_DoE_Subacc!CB15","v":0},{"$f":"T_DoE_Subacc!CC15","v":0},0,0,0,0,{"$error":"#DIV/0!"},0]
[null,null,61054,"ការថែទាំបណ្តាញផ្សេងៗ",0,{"$f":"Sch_Annual_Total!BD15","v":0},{"$f":"E_DoE_Subacc!CE15","v":0},{"$f":"E_DoE_Subacc!CF15","v":0},0,{"$f":"P_DoE_Subacc!CE15","v":0},{"$f":"P_DoE_Subacc!CF15","v":0},0,{"$f":"SUM(S_DoE_Subacc!CE15,H_DoE_Subacc!CE15,RB_Subacc!CE15)","v":0},{"$f":"SUM(S_DoE_Subacc!CF15,H_DoE_Subacc!CF15,RB_Subacc!CF15)","v":0},0,{"$f":"T_DoE_Subacc!CE15","v":0},{"$f":"T_DoE_Subacc!CF15","v":0},0,0,0,0,{"$error":"#DIV/0!"},0]
[null,null,61057,"ការថែទាំនិងជួសជុលសម្ភារៈ និងឧបករណ៍បច្ចេកទេស",0,{"$f":"Sch_Annual_Total!BF15","v":0},{"$f":"E_DoE_Subacc!CH15","v":0},{"$f":"E_DoE_Subacc!CI15","v":0},0,{"$f":"P_DoE_Subacc!CH15","v":0},{"$f":"P_DoE_Subacc!CI15","v":0},0,{"$f":"SUM(S_DoE_Subacc!CH15,H_DoE_Subacc!CH15,RB_Subacc!CH15)","v":0},{"$f":"SUM(S_DoE_Subacc!CI15,H_DoE_Subacc!CI15,RB_Subacc!CI15)","v":0},0,{"$f":"T_DoE_Subacc!CH15","v":0},{"$f":"T_DoE_Subacc!CI15","v":0},0,0,0,0,{"$error":"#DIV/0!"},0]
[null,6107,null,"សោហ៊ុយសិក្សាពិសោធន៍, សោហ៊ុយនៃការប្រើប្រាស់សេវា, សោហ៊ុយនៃការប្រើប្រាស់\nសិទ្ធិនិង​សំណងផ្សេងៗ",{"$f":"SUM(E53)","v":0},{"$f":"SUM(F53)","v":0},0,0,0,0,0,0,0,0,0,0,0,0,0,0,0,{"$error":"#DIV/0!"},0]
[null,null,61071,"សោហ៊ុយសិក្សាពិសោធន៍",0,{"$f":"Sch_Annual_Total!BH15","v":0},{"$f":"E_DoE_Subacc!CK15","v":0},{"$f":"E_DoE_Subacc!CL15","v":0},0,{"$f":"P_DoE_Subacc!CK15","v":0},{"$f":"P_DoE_Subacc!CL15","v":0},0,{"$f":"SUM(S_DoE_Subacc!CK15,H_DoE_Subacc!CK15,RB_Subacc!CK15)","v":0},{"$f":"SUM(S_DoE_Subacc!CL15,H_DoE_Subacc!CL15,RB_Subacc!CL15)","v":0},0,{"$f":"T_DoE_Subacc!CK15","v":0},{"$f":"T_DoE_Subacc!CL15","v":0},0,{"$f":"SUM(G53,J53,M53,P53)","v":0},0,0,{"$error":"#DIV/0!"},{"$f":"F53-U53","v":0}]
[null,6108,null,"សោហ៊ុយដឹកជញ្ជូន",{"$f":"SUM(E55)","v":0},{"$f":"SUM(F55)","v":0},0,0,0,0,0,0,0,0,0,0,0,0,0,0,0,{"$error":"#DIV/0!"},0]
[null,null,61081,"សម្ភារ​ និងទំនិញ",0,{"$f":"Sch_Annual_Total!BJ15","v":0},{"$f":"E_DoE_Subacc!CN15","v":0},{"$f":"E_DoE_Subacc!CO15","v":0},0,{"$f":"P_DoE_Subacc!CN15","v":0},{"$f":"P_DoE_Subacc!CO15","v":0},0,{"$f":"SUM(S_DoE_Subacc!CN15,H_DoE_Subacc!CN15,RB_Subacc!CN15)","v":0},{"$f":"SUM(S_DoE_Subacc!CO15,H_DoE_Subacc!CO15,RB_Subacc!CO15)","v":0},0,{"$f":"T_DoE_Subacc!CN15","v":0},{"$f":"T_DoE_Subacc!CO15","v":0},0,{"$f":"SUM(G55,J55,M55,P55)","v":0},0,0,{"$error":"#DIV/0!"},{"$f":"F55-U55","v":0}]
[null,6110,null,"ទំនាក់ទំនងសាធារណៈ និងផ្សព្វផ្សាយ",{"$f":"SUM(E57:E59)","v":0},{"$f":"SUM(F57:F59)","v":0},0,0,0,0,0,0,0,0,0,0,0,0,0,0,0,{"$error":"#DIV/0!"},0]
[null,null,61101,"សោហ៊ុយទទួលភ្ញៀវជាតិ",0,{"$f":"Sch_Annual_Total!BL15","v":0},{"$f":"E_DoE_Subacc!CQ15","v":0},{"$f":"E_DoE_Subacc!CR15","v":0},0,{"$f":"P_DoE_Subacc!CT15","v":0},{"$f":"P_DoE_Subacc!CU15","v":0},0,{"$f":"SUM(S_DoE_Subacc!CQ15,H_DoE_Subacc!CQ15,RB_Subacc!CQ15)","v":0},{"$f":"SUM(S_DoE_Subacc!CR15,H_DoE_Subacc!CR15,RB_Subacc!CR15)","v":0},0,{"$f":"T_DoE_Subacc!CQ15","v":0},{"$f":"T_DoE_Subacc!CR15","v":0},0,{"$f":"SUM(G57,J57,M57,P57)","v":0},0,0,{"$error":"#DIV/0!"},{"$f":"F57-U57","v":0}]
[null,null,61102,"សោហ៊ុយទទួលភ្ញៀវបរទេស",0,{"$f":"Sch_Annual_Total!BN15","v":0},{"$f":"E_DoE_Subacc!CT15","v":0},{"$f":"E_DoE_Subacc!CU15","v":0},0,{"$f":"P_DoE_Subacc!CT15","v":0},{"$f":"P_DoE_Subacc!CU15","v":0},0,{"$f":"SUM(S_DoE_Subacc!CT15,H_DoE_Subacc!CT15,RB_Subacc!CT15)","v":0},{"$f":"SUM(S_DoE_Subacc!CU15,H_DoE_Subacc!CU15,RB_Subacc!CU15)","v":0},0,{"$f":"T_DoE_Subacc!CT15","v":0},{"$f":"T_DoE_Subacc!CU15","v":0},0,0,0,0,{"$error":"#DIV/0!"},0]
[null,null,61103,"ប្រជុំ សិក្ខាសាលា និងសន្និសីទ",0,{"$f":"Sch_Annual_Total!BP15","v":0},{"$f":"E_DoE_Subacc!CW15","v":0},{"$f":"E_DoE_Subacc!CX15","v":0},0,{"$f":"P_DoE_Subacc!CW15","v":0},{"$f":"P_DoE_Subacc!CX15","v":0},0,{"$f":"SUM(S_DoE_Subacc!CW15,H_DoE_Subacc!CW15,RB_Subacc!CW15)","v":0},{"$f":"SUM(S_DoE_Subacc!CX15,H_DoE_Subacc!CX15,RB_Subacc!CX15)","v":0},0,{"$f":"T_DoE_Subacc!CW15","v":0},{"$f":"T_DoE_Subacc!CX15","v":0},0,0,0,0,{"$error":"#DIV/0!"},0]
[null,6114,null,"សោហ៊ុយប្រៃសណីយ៍ និងទូរគមនាគមន៍",{"$f":"SUM(E61:E62)","v":0},{"$f":"SUM(F61:F62)","v":0},0,0,0,0,0,0,0,0,0,0,0,0,0,0,0,{"$error":"#DIV/0!"},0]
[null,null,61141,"សោហ៊ុយប្រៃសណីយ៍",0,{"$f":"Sch_Annual_Total!BR15","v":0},{"$f":"E_DoE_Subacc!CZ15","v":0},{"$f":"E_DoE_Subacc!DA15","v":0},0,{"$f":"P_DoE_Subacc!CZ15","v":0},{"$f":"P_DoE_Subacc!DA15","v":0},0,{"$f":"SUM(S_DoE_Subacc!CZ15,H_DoE_Subacc!CZ15,RB_Subacc!CZ15)","v":0},{"$f":"SUM(S_DoE_Subacc!DA15,H_DoE_Subacc!DA15,RB_Subacc!DA15)","v":0},0,{"$f":"T_DoE_Subacc!CZ15","v":0},{"$f":"T_DoE_Subacc!DA15","v":0},0,{"$f":"SUM(G61,J61,M61,P61)","v":0},0,0,{"$error":"#DIV/0!"},{"$f":"F61-U61","v":0}]
[null,null,61142,"សោហ៊ុយទូរគមនាគមន៍",0,{"$f":"Sch_Annual_Total!BT15","v":0},{"$f":"E_DoE_Subacc!DC15","v":0},{"$f":"E_DoE_Subacc!DD15","v":0},0,{"$f":"P_DoE_Subacc!DC15","v":0},{"$f":"P_DoE_Subacc!DD15","v":0},0,{"$f":"SUM(S_DoE_Subacc!DC15,H_DoE_Subacc!DC15,RB_Subacc!DC15)","v":0},{"$f":"SUM(S_DoE_Subacc!DD15,H_DoE_Subacc!DD15,RB_Subacc!DD15)","v":0},0,{"$f":"T_DoE_Subacc!DC15","v":0},{"$f":"T_DoE_Subacc!DD15","v":0},0,0,0,0,{"$error":"#DIV/0!"},0]
[64,null,null,"បន្ទុកបុគ្គលិក",{"$f":"SUM(E64)","v":0},{"$f":"SUM(F64)","v":0},0,0,0,0,0,0,0,0,0,0,0,0,0,0,0,{"$error":"#DIV/0!"},0]
[null,6402,null,"លាភការនិងប្រាក់បំណាច់ បុគ្គលិកក្របខ័ណ្ឌអចិន្ត្រៃយ៍",{"$f":"SUM(E65:E66)","v":0},{"$f":"SUM(F65:F66)","v":0},0,0,0,0,0,0,0,0,0,0,0,0,0,0,0,{"$error":"#DIV/0!"},0]
[null,null,64023,"ប្រាក់បំណាច់ម៉ោងបន្ថែម",0,{"$f":"Sch_Annual_Total!BV15","v":0},{"$f":"E_DoE_Subacc!DI15","v":0},{"$f":"E_DoE_Subacc!DJ15","v":0},0,{"$f":"P_DoE_Subacc!DI15","v":0},{"$f":"P_DoE_Subacc!DJ15","v":0},0,{"$f":"SUM(S_DoE_Subacc!DI15,H_DoE_Subacc!DI15,RB_Subacc!DI15)","v":0},{"$f":"SUM(S_DoE_Subacc!DJ15,H_DoE_Subacc!DJ15,RB_Subacc!DJ15)","v":0},0,{"$f":"T_DoE_Subacc!DI15","v":0},{"$f":"T_DoE_Subacc!DJ15","v":0},0,{"$f":"SUM(G65,J65,M65,P65)","v":0},0,0,{"$error":"#DIV/0!"},{"$f":"F65-U65","v":0}]
[null,null,64033,"រង្វាន់​",0,{"$f":"Sch_Annual_Total!BX15","v":0},{"$f":"E_DoE_Subacc!DL15","v":0},{"$f":"E_DoE_Subacc!DM15","v":0},0,{"$f":"P_DoE_Subacc!DL15","v":0},{"$f":"P_DoE_Subacc!DM15","v":0},0,{"$f":"SUM(S_DoE_Subacc!DL15,H_DoE_Subacc!DL15,RB_Subacc!DL15)","v":0},{"$f":"SUM(S_DoE_Subacc!DM15,H_DoE_Subacc!DM15,RB_Subacc!DM15)","v":0},0,{"$f":"T_DoE_Subacc!DL15","v":0},{"$f":"T_DoE_Subacc!DM15","v":0},0,0,0,0,{"$error":"#DIV/0!"},0]
[62,null,null,"អត្ថប្រយោជន៍សង្គម",{"$f":"SUM(E68)","v":0},{"$f":"SUM(F68)","v":0},0,0,0,0,0,0,0,0,0,0,0,0,0,0,0,{"$error":"#DIV/0!"},0]
[null,6202,null,"ជំនួយសង្គមដល់ប្រជាពលរដ្ឋ",{"$f":"SUM(E69:E71)","v":0},{"$f":"SUM(F69:F71)","v":0},0,0,0,0,0,0,0,0,0,0,0,0,0,0,0,{"$error":"#DIV/0!"},0]
[null,null,62024,"ជួយជនរងគ្រោះដោយគ្រោះធម្មជាតិ",0,{"$f":"Sch_Annual_Total!BZ15","v":0},{"$f":"E_DoE_Subacc!DR15","v":0},{"$f":"E_DoE_Subacc!DS15","v":0},0,{"$f":"P_DoE_Subacc!DR15","v":0},{"$f":"P_DoE_Subacc!DS15","v":0},0,{"$f":"SUM(S_DoE_Subacc!DR15,H_DoE_Subacc!DR15,RB_Subacc!DR15)","v":0},{"$f":"SUM(S_DoE_Subacc!DS15,H_DoE_Subacc!DS15,RB_Subacc!DS15)","v":0},0,{"$f":"T_DoE_Subacc!DR15","v":0},{"$f":"T_DoE_Subacc!DS15","v":0},0,{"$f":"SUM(G69,J69,M69,P69)","v":0},0,0,{"$error":"#DIV/0!"},{"$f":"F69-U69","v":0}]
[null,null,62025,"អាហារូបករណ៍សម្រាប់​ការសិក្សា-ស្រាវជ្រាវក្នុងប្រទេស",0,{"$f":"Sch_Annual_Total!CB15","v":0},{"$f":"E_DoE_Subacc!DU15","v":0},{"$f":"E_DoE_Subacc!DV15","v":0},0,{"$f":"P_DoE_Subacc!DU15","v":0},{"$f":"P_DoE_Subacc!DV15","v":0},0,{"$f":"SUM(S_DoE_Subacc!DU15,H_DoE_Subacc!DU15,RB_Subacc!DU15)","v":0},{"$f":"SUM(S_DoE_Subacc!DV15,H_DoE_Subacc!DV15,RB_Subacc!DV15)","v":0},0,{"$f":"T_DoE_Subacc!DU15","v":0},{"$f":"T_DoE_Subacc!DV15","v":0},0,0,0,0,{"$error":"#DIV/0!"},0]
[null,null,62028,"ជំនួយសង្គមផ្សេងៗទៀត",0,{"$f":"Sch_Annual_Total!CD15","v":0},{"$f":"E_DoE_Subacc!DX15","v":0},{"$f":"E_DoE_Subacc!DY15","v":0},0,{"$f":"P_DoE_Subacc!DX15","v":0},{"$f":"P_DoE_Subacc!DY15","v":0},0,{"$f":"SUM(S_DoE_Subacc!DX15,H_DoE_Subacc!DX15,RB_Subacc!DX15)","v":0},{"$f":"SUM(S_DoE_Subacc!DY15,H_DoE_Subacc!DY15,RB_Subacc!DY15)","v":0},0,{"$f":"T_DoE_Subacc!DX15","v":0},{"$f":"T_DoE_Subacc!DY15","v":0},0,0,0,0,{"$error":"#DIV/0!"},0]
["II","សរុបថវិកាដៃគូ",null,null,{"$f":"SUM(E73:E77)","v":0},{"$f":"SUM(F73:F77)","v":0},0,0,0,0,0,0,0,0,0,0,0,0,0,0,0,{"$error":"#DIV/0!"},0]
[1,"ធនាគារពិភពលោក(The World Bank)",null,null,0,null,{"$f":"E_DoE_Others!G11","v":0},{"$f":"E_DoE_Others!H11","v":0},0,{"$f":"P_DoE_Others!E11","v":0},{"$f":"P_DoE_Others!F11","v":0},0,{"$f":"SUM(S_DoE_Others!E11,H_DoE_Others!E11,RB_DoE_Others!E11)","v":0},{"$f":"SUM(S_DoE_Others!F11,H_DoE_Others!F11,RB_DoE_Others!F11)","v":0},0,{"$f":"T_DoE_Others!E11","v":0},{"$f":"T_DoE_Others!F11","v":0},0,{"$f":"SUM(G73,J73,M73,P73)","v":0},0,0,{"$error":"#DIV/0!"},0]
[2,"អង្គការយូនីសេហ្វ(UNICEF)",null,null,0,null,{"$f":"E_DoE_Others!L11","v":0},{"$f":"E_DoE_Others!M11","v":0},0,{"$f":"P_DoE_Others!H11","v":0},{"$f":"P_DoE_Others!I11","v":0},0,{"$f":"SUM(S_DoE_Others!H11,H_DoE_Others!H11,RB_DoE_Others!H11)","v":0},{"$f":"SUM(S_DoE_Others!I11,H_DoE_Others!I11,RB_DoE_Others!I11)","v":0},0,{"$f":"T_DoE_Others!H11","v":0},{"$f":"T_DoE_Others!I11","v":0},0,0,0,0,{"$error":"#DIV/0!"},0]
[3,"ធនាគារអភិវឌ្ឍន៍អាស៊ី(ADB)",null,null,0,null,{"$f":"E_DoE_Others!Q11","v":0},{"$f":"E_DoE_Others!R11","v":0},0,{"$f":"P_DoE_Others!K11","v":0},{"$f":"P_DoE_Others!L11","v":0},0,{"$f":"SUM(S_DoE_Others!K11,H_DoE_Others!K11,RB_DoE_Others!K11)","v":0},{"$f":"SUM(S_DoE_Others!L11,H_DoE_Others!L11,RB_DoE_Others!L11)","v":0},0,{"$f":"T_DoE_Others!K11","v":0},{"$f":"T_DoE_Others!L11","v":0},0,0,0,0,{"$error":"#DIV/0!"},0]
[4,"ជំនួសពីប្រទេសស៊ុយអ៊ែត(SWEDEN)",null,null,0,null,{"$f":"E_DoE_Others!V11","v":0},{"$f":"E_DoE_Others!W11","v":0},0,{"$f":"P_DoE_Others!N11","v":0},{"$f":"P_DoE_Others!O11","v":0},0,{"$f":"SUM(S_DoE_Others!N11,H_DoE_Others!N11,RB_DoE_Others!N11)","v":0},{"$f":"SUM(S_DoE_Others!O11,H_DoE_Others!O11,RB_DoE_Others!O11)","v":0},0,{"$f":"T_DoE_Others!N11","v":0},{"$f":"T_DoE_Others!O11","v":0},0,0,0,0,{"$error":"#DIV/0!"},0]
[5,"ជំនួយពីដៃគូផ្សេងៗ(Others)",null,null,0,null,{"$f":"E_DoE_Others!AA11","v":0},{"$f":"E_DoE_Others!AB11","v":0},{"$f":"SUM(G77:H77)","v":0},{"$f":"P_DoE_Others!Q11","v":0},{"$f":"P_DoE_Others!R11","v":0},{"$f":"SUM(J77:K77)","v":0},{"$f":"SUM(S_DoE_Others!Q11,H_DoE_Others!Q11,RB_DoE_Others!Q11)","v":0},{"$f":"SUM(S_DoE_Others!R11,H_DoE_Others!R11,RB_DoE_Others!R11)","v":0},{"$f":"SUM(M77:N77)","v":0},{"$f":"T_DoE_Others!Q11","v":0},{"$f":"T_DoE_Others!R11","v":0},0,0,0,0,{"$f":"U77/F77","v":{"$error":"#DIV/0!"}},0]
["III","ថវិកាសហគមន៍",null,null,0,null,{"$f":"E_DoE_Others!AK11","v":0},{"$f":"E_DoE_Others!AL11","v":0},0,{"$f":"P_DoE_Others!W11","v":0},{"$f":"P_DoE_Others!X11","v":0},0,{"$f":"SUM(S_DoE_Others!W11,H_DoE_Others!W11,RB_DoE_Others!W11)","v":0},{"$f":"SUM(S_DoE_Others!X11,H_DoE_Others!X11,RB_DoE_Others!X11)","v":0},0,{"$f":"T_DoE_Others!W11","v":0},{"$f":"T_DoE_Others!X11","v":0},0,0,0,0,{"$error":"#DIV/0!"},0]
["IV","ថវិកាសប្បុរសជន",null,null,0,null,{"$f":"E_DoE_Others!AP11","v":0},{"$f":"E_DoE_Others!AQ11","v":0},0,{"$f":"P_DoE_Others!Z11","v":0},{"$f":"P_DoE_Others!AA11","v":0},0,{"$f":"SUM(S_DoE_Others!Z11,H_DoE_Others!Z11,RB_DoE_Others!Z11)","v":0},{"$f":"SUM(S_DoE_Others!AA11,H_DoE_Others!AA11,RB_DoE_Others!AA11)","v":0},0,{"$f":"T_DoE_Others!Z11","v":0},{"$f":"T_DoE_Others!AA11","v":0},0,0,0,0,{"$error":"#DIV/0!"},0]

{"sheet":"Summary_Subacc","index":10,"n_rows":81,"n_cols":11,"rows_kept":81,"cut":false,"hidden":false,"merged":[[3,7,3,8],[5,0,5,3],[6,0,6,3],[8,0,8,10],[9,8,9,10],[10,10,11,10],[14,1,14,3],[73,1,73,3],[74,1,74,3],[75,1,75,3],[13,0,13,3],[10,0,12,0],[10,1,12,1],[10,2,12,2],[10,3,12,3],[10,4,11,4],[10,5,11,5],[10,6,10,9],[76,1,76,3],[77,1,77,3],[78,1,78,3],[79,1,79,3],[80,1,80,3]]}
[]
[]
[]
[]
[]
[{"$f":"Create!G2","v":"ក្រសួងអប់រំ យុវជន និងកីឡា"}]
[{"$f":"Create!G3","v":"បំពេញឈ្មោះទីនេះ"}]
[]
[{"$f":"CONCATENATE(\"របាយការណ៍នៃការអនុវត្តថវិកាតាមចំណាត់ថ្នាក់សេដ្ឋកិច្ចនៃមាតិកាថវិកាប្រចាំត្រីមាសទី \",IF(Create!$G$4=1,\"១\",IF(Create!$G$4=2,\"២\",IF(Create!$G$4=3,\"៣\",\"៤\"))),\" ឆ្នាំ២០១៨\")","v":"របាយការណ៍នៃការអនុវត្តថវិកាតាមចំណាត់ថ្នាក់សេដ្ឋកិច្ចនៃមាតិកាថវិកាប្រចាំត្រីមាសទី ១ ឆ្នាំ២០១៨"}]
[null,null,null,null,null,null,null,null,"ឯកតា៖ រៀល"]
["ជំពូក","គណនី","អនុគណនី","បរិយាយ","ឥណទាន\nដើមឆ្នាំ","ឥណទានកែតម្រូវ","ចំណាយ",null,null,null,"ឥណទាននៅសល់"]
[null,null,null,null,null,null,"បណ្ដាត្រីមាសមុន","ក្នុងត្រីមាស","បូកយោង","%"]
[null,null,null,null,1,2,"3","4","5=3+4","6=5/2","7=2-5"]
["សរុប(I+II+III+IV)",null,null,null,{"$f":"SUM(E15,E74,E80,E81)","v":40},{"$f":"SUM(F15,F74,F80,F81)","v":60},0,0,{"$f":"SUM(I15,I74,I80,I81)","v":0},{"$f":"I14/F14","v":0},{"$f":"SUM(K15,K74,K80,K81)","v":60}]
["I","សរុបថវិការដ្ឋ",null,null,{"$f":"SUM(E16,E42,E65,E69)","v":40},{"$f":"SUM(F16,F42,F65,F69)","v":60},0,0,{"$f":"SUM(I16,I42,I65,I69)","v":0},{"$f":"I15/F15","v":0},60]
[60,null,null,"ការទិញ",{"$f":"SUM(E17,E22,E26,E31,E33,E38)","v":40},{"$f":"SUM(F17,F22,F26,F31,F33,F38)","v":60},0,0,0,0,60]
[null,6001,null,"សម្ភារៈផ្គត់ផ្គង់ថែទាំ",{"$f":"SUM(E18:E21)","v":40},{"$f":"SUM(F18:F21)","v":60},{"$f":"SUM(G18:G21)","v":0},{"$f":"SUM(H18:H21)","v":0},{"$f":"SUM(I18:I21)","v":0},0,60]
[null,null,60011,"សម្ភារៈផ្គត់ផ្គង់សម្អាត​និងអនាម័យ ",{"$f":"Subactivies!E16","v":40},{"$f":"Subactivies!F16","v":60},{"$f":"Subactivies!S16","v":0},{"$f":"Subactivies!T16","v":0},{"$f":"SUM(G18:H18)","v":0},0,{"$f":"F18-I18","v":60}]
[null,null,60012,"សម្ភារៈផ្គត់ផ្គង់សម្រាប់​ថែទាំអគារ ប្រាសាទ និងសំណង់ផ្សេងៗ",{"$f":"Subactivies!E17","v":0},{"$f":"Subactivies!F17","v":0},{"$f":"Subactivies!S17","v":0},{"$f":"Subactivies!T17","v":0},{"$f":"SUM(G19:H19)","v":0},{"$error":"#DIV/0!"},{"$f":"F19-I19","v":0}]
[null,null,60013,"សម្ភារផ្គត់ផ្គង់សម្រាប់​ថែទាំផ្លូវថ្នល់ ស្ពាន និងលូ",{"$f":"Subactivies!E18","v":0},{"$f":"Subactivies!F18","v":0},{"$f":"Subactivies!S18","v":0},{"$f":"Subactivies!T18","v":0},0,{"$error":"#DIV/0!"},0]
[null,null,60014,"សម្ភារផ្គត់ផ្គង់សម្រាប់​ថែទាំសម្ភារឧបករណ៍",{"$f":"Subactivies!E19","v":0},{"$f":"Subactivies!F19","v":0},{"$f":"Subactivies!S19","v":0},{"$f":"Subactivies!T19","v":0},0,{"$error":"#DIV/0!"},0]
[null,6002,null,"សម្ភារៈផ្គត់ផ្គង់ផ្នែករដ្ឋបាល",{"$f":"SUM(E23:E25)","v":0},{"$f":"SUM(F23:F25)","v":0},0,0,0,{"$error":"#DIV/0!"},0]
[null,null,60021,"សម្ភារៈការិយាល័យនិងការបោះពុម្ព",{"$f":"Subactivies!E21","v":0},{"$f":"Subactivies!F21","v":0},{"$f":"Subactivies!S21","v":0},{"$f":"Subactivies!T21","v":0},0,{"$error":"#DIV/0!"},0]
[null,null,60022,"សៀវភៅមើល និងឯកសារ",{"$f":"Subactivies!E22","v":0},{"$f":"Subactivies!F22","v":0},{"$f":"Subactivies!S22","v":0},{"$f":"Subactivies!T22","v":0},0,{"$error":"#DIV/0!"},0]
[null,null,60023,"ការបោះពុម្ភ",{"$f":"Subactivies!E23","v":0},{"$f":"Subactivies!F23","v":0},{"$f":"Subactivies!S23","v":0},{"$f":"Subactivies!T23","v":0},0,{"$error":"#DIV/0!"},0]
[null,6003,null,"ស្បៀងអាហារ និងផលិតផលកសិកម្ម",{"$f":"SUM(E27:E30)","v":0},{"$f":"SUM(F27:F30)","v":0},0,0,0,{"$error":"#DIV/0!"},0]
[null,null,60031,"ស្បៀង",{"$f":"Subactivies!E25","v":0},{"$f":"Subactivies!F25","v":0},{"$f":"Subactivies!S25","v":0},{"$f":"Subactivies!T25","v":0},0,{"$error":"#DIV/0!"},0]
[null,null,60032,"ចំណីសត្វ",{"$f":"Subactivies!E26","v":0},{"$f":"Subactivies!F26","v":0},{"$f":"Subactivies!S26","v":0},{"$f":"Subactivies!T26","v":0},0,{"$error":"#DIV/0!"},0]
[null,null,60033,"ពូជ និងកូនរុក្ខជាតិ",{"$f":"Subactivies!E27","v":0},{"$f":"Subactivies!F27","v":0},{"$f":"Subactivies!S27","v":0},{"$f":"Subactivies!T27","v":0},0,{"$error":"#DIV/0!"},0]
[null,null,60035,"ពូជសត្វ",{"$f":"Subactivies!E28","v":0},{"$f":"Subactivies!F28","v":0},{"$f":"Subactivies!S28","v":0},{"$f":"Subactivies!T28","v":0},0,{"$error":"#DIV/0!"},0]
[null,6004,null,"សំលៀកបំពាក់ និងការតុបតែង",{"$f":"SUM(E32)","v":0},{"$f":"SUM(F32)","v":0},0,0,0,{"$error":"#DIV/0!"},0]
[null,null,60041,"ឯកសណ្ឋាន",{"$f":"Subactivies!E30","v":0},{"$f":"Subactivies!F30","v":0},{"$f":"Subactivies!S30","v":0},{"$f":"Subactivies!T30","v":0},0,{"$error":"#DIV/0!"},0]
[null,6005,null,"សម្ភារៈតូចតាច សង្ហារឹម និងសម្ភារៈបរិក្ខារ",{"$f":"SUM(E34:E37)","v":0},{"$f":"SUM(F34:F37)","v":0},0,0,0,{"$error":"#DIV/0!"},0]
[null,null,60051,"សម្ភារនិងបរិក្ខារបច្ចេកទេសមិនមែនព័ត៌មានវិទ្យា",{"$f":"Subactivies!E32","v":0},{"$f":"Subactivies!F32","v":0},{"$f":"Subactivies!S32","v":0},{"$f":"Subactivies!T32","v":0},0,{"$error":"#DIV/0!"},0]
[null,null,60052,"សង្ហារឹម",{"$f":"Subactivies!E33","v":0},{"$f":"Subactivies!F33","v":0},{"$f":"Subactivies!S33","v":0},{"$f":"Subactivies!T33","v":0},0,{"$error":"#DIV/0!"},0]
[null,null,60053,"សម្ភារៈប្រើប្រាស់",{"$f":"Subactivies!E34","v":0},{"$f":"Subactivies!F34","v":0},{"$f":"Subactivies!S34","v":0},{"$f":"Subactivies!T34","v":0},0,{"$error":"#DIV/0!"},0]
[null,null,60055,"សម្ភារនិងបរិក្ខារបច្ចេកទេសព័ត៌មានវិទ្យា",{"$f":"Subactivies!E35","v":0},{"$f":"Subactivies!F35","v":0},{"$f":"Subactivies!S35","v":0},{"$f":"Subactivies!T35","v":0},0,{"$error":"#DIV/0!"},0]
[null,6006,null,"ថាមពលនិងទឹក",{"$f":"SUM(E39:E41)","v":0},{"$f":"SUM(F39:F41)","v":0},0,0,0,{"$error":"#DIV/0!"},0]
[null,null,60061,"អគ្គិសនី",{"$f":"Subactivies!E37","v":0},{"$f":"Subactivies!F37","v":0},{"$f":"Subactivies!S37","v":0},{"$f":"Subactivies!T37","v":0},0,{"$error":"#DIV/0!"},0]
[null,null,60062,"ទឹក",{"$f":"Subactivies!E38","v":0},{"$f":"Subactivies!F38","v":0},{"$f":"Subactivies!S38","v":0},{"$f":"Subactivies!T38","v":0},0,{"$error":"#DIV/0!"},0]
[null,null,60068,"ផ្សេងៗ",{"$f":"Subactivies!E39","v":0},{"$f":"Subactivies!F39","v":0},{"$f":"Subactivies!S39","v":0},{"$f":"Subactivies!T39","v":0},0,{"$error":"#DIV/0!"},0]
[61,null,null,"សេវាកម្ម",{"$f":"SUM(E43,E46,E48,E54,E56,E58,E62)","v":0},{"$f":"SUM(F43,F46,F48,F54,F56,F58,F62)","v":0},0,0,0,{"$error":"#DIV/0!"},0]
[null,6101,null,"កិច្ចសន្យានៃការផ្តល់សេវាជាមួយសហគ្រាស",{"$f":"SUM(E44:E45)","v":0},{"$f":"SUM(F44:F45)","v":0},0,0,0,{"$error":"#DIV/0!"},0]
[null,null,61011,"សេវាអនាម័យ",{"$f":"Subactivies!E42","v":0},{"$f":"Subactivies!F42","v":0},{"$f":"Subactivies!S42","v":0},{"$f":"Subactivies!T42","v":0},0,{"$error":"#DIV/0!"},0]
[null,null,61012,"សេវារដ្ឋបាល",{"$f":"Subactivies!E43","v":0},{"$f":"Subactivies!F43","v":0},{"$f":"Subactivies!S43","v":0},{"$f":"Subactivies!T43","v":0},0,{"$error":"#DIV/0!"},0]
[null,6102,null,"ការជួលមធ្យោបាយដឹកជញ្ជូន",{"$f":"SUM(E47)","v":0},{"$f":"SUM(F47)","v":0},0,0,0,{"$error":"#DIV/0!"},0]
[null,null,61021,"ការជួលមធ្យោបាយដឹកជញ្ជូន",{"$f":"Subactivies!E45","v":0},{"$f":"Subactivies!F45","v":0},{"$f":"Subactivies!S45","v":0},{"$f":"Subactivies!T45","v":0},0,{"$error":"#DIV/0!"},0]
[null,6105,null,"ការថែទាំនិងជួសជុល",{"$f":"SUM(E49:E53)","v":0},{"$f":"SUM(F49:F53)","v":0},0,0,0,{"$error":"#DIV/0!"},0]
[null,null,61051,"ការថែទាំដីធ្លី សួនច្បារ ព្រៃឈើ តំបន់ឆ្នេរ និងដែននេសាទ",{"$f":"Subactivies!E47","v":0},{"$f":"Subactivies!F47","v":0},{"$f":"Subactivies!S47","v":0},{"$f":"Subactivies!T47","v":0},0,{"$error":"#DIV/0!"},0]
[null,null,61052,"ការថែទាំ ជួសជុលអគារផ្សេងៗ និងប្រាសាទ",{"$f":"Subactivies!E48","v":0},{"$f":"Subactivies!F48","v":0},{"$f":"Subactivies!S48","v":0},{"$f":"Subactivies!T48","v":0},0,{"$error":"#DIV/0!"},0]
[null,null,61053,"ការថែទាំនិងជួសជុលផ្លូវ ផ្លូវលំ ស្ពាន ​និងលូ",{"$f":"Subactivies!E49","v":0},{"$f":"Subactivies!F49","v":0},{"$f":"Subactivies!S49","v":0},{"$f":"Subactivies!T49","v":0},0,{"$error":"#DIV/0!"},0]
[null,null,61054,"ការថែទាំបណ្តាញផ្សេងៗ",{"$f":"Subactivies!E50","v":0},{"$f":"Subactivies!F50","v":0},{"$f":"Subactivies!S50","v":0},{"$f":"Subactivies!T50","v":0},0,{"$error":"#DIV/0!"},0]
[null,null,61057,"ការថែទាំនិងជួសជុលសម្ភារៈ និងឧបករណ៍បច្ចេកទេស",{"$f":"Subactivies!E51","v":0},{"$f":"Subactivies!F51","v":0},{"$f":"Subactivies!S51","v":0},{"$f":"Subactivies!T51","v":0},0,{"$error":"#DIV/0!"},0]
[null,6107,null,"សោហ៊ុយសិក្សាពិសោធន៍, សោហ៊ុយនៃការប្រើប្រាស់សេវា, សោហ៊ុយនៃការប្រើប្រាស់\nសិទ្ធិនិង​សំណងផ្សេងៗ",{"$f":"SUM(E55)","v":0},{"$f":"SUM(F55)","v":0},0,0,0,{"$error":"#DIV/0!"},0]
[null,null,61071,"សោហ៊ុយសិក្សាពិសោធន៍",{"$f":"Subactivies!E53","v":0},{"$f":"Subactivies!F53","v":0},{"$f":"Subactivies!S53","v":0},{"$f":"Subactivies!T53","v":0},0,{"$error":"#DIV/0!"},0]
[null,6108,null,"សោហ៊ុយដឹកជញ្ជូន",{"$f":"SUM(E57)","v":0},{"$f":"SUM(F57)","v":0},0,0,0,{"$error":"#DIV/0!"},0]
[null,null,61081,"សម្ភារ​ និងទំនិញ",{"$f":"Subactivies!E55","v":0},{"$f":"Subactivies!F55","v":0},{"$f":"Subactivies!S55","v":0},{"$f":"Subactivies!T55","v":0},0,{"$error":"#DIV/0!"},0]
[null,6110,null,"ទំនាក់ទំនងសាធារណៈ និងផ្សព្វផ្សាយ",{"$f":"SUM(E59:E61)","v":0},{"$f":"SUM(F59:F61)","v":0},0,0,0,{"$error":"#DIV/0!"},0]
[null,null,61101,"សោហ៊ុយទទួលភ្ញៀវជាតិ",{"$f":"Subactivies!E57","v":0},{"$f":"Subactivies!F57","v":0},{"$f":"Subactivies!S57","v":0},{"$f":"Subactivies!T57","v":0},0,{"$error":"#DIV/0!"},0]
[null,null,61102,"សោហ៊ុយទទួលភ្ញៀវបរទេស",{"$f":"Subactivies!E58","v":0},{"$f":"Subactivies!F58","v":0},{"$f":"Subactivies!S58","v":0},{"$f":"Subactivies!T58","v":0},0,{"$error":"#DIV/0!"},0]
[null,null,61103,"ប្រជុំ សិក្ខាសាលា និងសន្និសីទ",{"$f":"Subactivies!E59","v":0},{"$f":"Subactivies!F59","v":0},{"$f":"Subactivies!S59","v":0},{"$f":"Subactivies!T59","v":0},0,{"$error":"#DIV/0!"},0]
[null,6114,null,"សោហ៊ុយប្រៃសណីយ៍ និងទូរគមនាគមន៍",{"$f":"SUM(E63:E64)","v":0},{"$f":"SUM(F63:F64)","v":0},0,0,0,{"$error":"#DIV/0!"},0]
[null,null,61141,"សោហ៊ុយប្រៃសណីយ៍",{"$f":"Subactivies!E61","v":0},{"$f":"Subactivies!F61","v":0},{"$f":"Subactivies!S61","v":0},{"$f":"Subactivies!T61","v":0},0,{"$error":"#DIV/0!"},0]
[null,null,61142,"សោហ៊ុយទូរគមនាគមន៍",{"$f":"Subactivies!E62","v":0},{"$f":"Subactivies!F62","v":0},{"$f":"Subactivies!S62","v":0},{"$f":"Subactivies!T62","v":0},0,{"$error":"#DIV/0!"},0]
[64,null,null,"បន្ទុកបុគ្គលិក",{"$f":"SUM(E66)","v":0},{"$f":"SUM(F66)","v":0},0,0,0,{"$error":"#DIV/0!"},0]
[null,6402,null,"លាភការនិងប្រាក់បំណាច់ បុគ្គលិកក្របខ័ណ្ឌអចិន្ត្រៃយ៍",{"$f":"SUM(E67:E68)","v":0},{"$f":"SUM(F67:F68)","v":0},0,0,0,{"$error":"#DIV/0!"},0]
[null,null,64023,"ប្រាក់បំណាច់ម៉ោងបន្ថែម",{"$f":"Subactivies!E65","v":0},{"$f":"Subactivies!F65","v":0},{"$f":"Subactivies!S65","v":0},{"$f":"Subactivies!T65","v":0},0,{"$error":"#DIV/0!"},0]
[null,null,64033,"រង្វាន់​",{"$f":"Subactivies!E66","v":0},{"$f":"Subactivies!F66","v":0},{"$f":"Subactivies!S66","v":0},{"$f":"Subactivies!T66","v":0},0,{"$error":"#DIV/0!"},0]
[62,null,null,"អត្ថប្រយោជន៍សង្គម",{"$f":"SUM(E70)","v":0},{"$f":"SUM(F70)","v":0},0,0,0,{"$error":"#DIV/0!"},0]
[null,6202,null,"ជំនួយសង្គមដល់ប្រជាពលរដ្ឋ",{"$f":"SUM(E71:E73)","v":0},{"$f":"SUM(F71:F73)","v":0},0,0,0,{"$error":"#DIV/0!"},0]
[null,null,62024,"ជួយជនរងគ្រោះដោយគ្រោះធម្មជាតិ",{"$f":"Subactivies!E69","v":0},{"$f":"Subactivies!F69","v":0},{"$f":"Subactivies!S69","v":0},{"$f":"Subactivies!T69","v":0},0,{"$error":"#DIV/0!"},0]
[null,null,62025,"អាហារូបករណ៍សម្រាប់​ការសិក្សា-ស្រាវជ្រាវក្នុងប្រទេស",{"$f":"Subactivies!E70","v":0},{"$f":"Subactivies!F70","v":0},{"$f":"Subactivies!S70","v":0},{"$f":"Subactivies!T70","v":0},0,{"$error":"#DIV/0!"},0]
[null,null,62028,"ជំនួយសង្គមផ្សេងៗទៀត",{"$f":"Subactivies!E71","v":0},{"$f":"Subactivies!F71","v":0},{"$f":"Subactivies!S71","v":0},{"$f":"Subactivies!T71","v":0},0,{"$error":"#DIV/0!"},0]
["II","សរុបថវិកាដៃគូ",null,null,{"$f":"SUM(E75:E79)","v":0},{"$f":"SUM(F75:F79)","v":0},0,0,0,{"$error":"#DIV/0!"},0]
[1,"ធនាគារពិភពលោក(The World Bank)",null,null,{"$f":"Subactivies!E73","v":0},{"$f":"Subactivies!F73","v":0},{"$f":"Subactivies!S73","v":0},{"$f":"Subactivies!T73","v":0},0,{"$error":"#DIV/0!"},0]
[2,"អង្គការយូនីសេហ្វ(UNICEF)",null,null,{"$f":"Subactivies!E74","v":0},{"$f":"Subactivies!F74","v":0},{"$f":"Subactivies!S74","v":0},{"$f":"Subactivies!T74","v":0},0,{"$error":"#DIV/0!"},0]
[3,"ធនាគារអភិវឌ្ឍន៍អាស៊ី(ADB)",null,null,{"$f":"Subactivies!E75","v":0},{"$f":"Subactivies!F75","v":0},{"$f":"Subactivies!S75","v":0},{"$f":"Subactivies!T75","v":0},0,{"$error":"#DIV/0!"},0]
[4,"ជំនួសពីប្រទេសស៊ុយអ៊ែត(SWEDEN)",null,null,{"$f":"Subactivies!E76","v":0},{"$f":"Subactivies!F76","v":0},{"$f":"Subactivies!S76","v":0},{"$f":"Subactivies!T76","v":0},0,{"$error":"#DIV/0!"},0]
[5,"ជំនួយពីដៃគូផ្សេងៗ(Others)",null,null,{"$f":"Subactivies!E77","v":0},{"$f":"Subactivies!F77","v":0},{"$f":"Subactivies!S77","v":0},{"$f":"Subactivies!T77","v":0},0,{"$f":"I79/F79","v":{"$error":"#DIV/0!"}},0]
["III","ថវិកាសហគមន៍",null,null,{"$f":"Subactivies!E78","v":0},{"$f":"Subactivies!F78","v":0},{"$f":"Subactivies!S78","v":0},{"$f":"Subactivies!T78","v":0},0,{"$error":"#DIV/0!"},0]
["IV","ថវិកាសប្បុរសជន",null,null,{"$f":"Subactivies!E79","v":0},{"$f":"Subactivies!F79","v":0},{"$f":"Subactivies!S79","v":0},{"$f":"Subactivies!T79","v":0},0,{"$error":"#DIV/0!"},0]

{"sheet":"E_DoE_Types","index":11,"n_rows":111,"n_cols":39,"rows_kept":111,"cut":false,"hidden":false,"merged":[[1,0,1,4],[2,0,2,4],[4,0,4,15],[6,0,9,0],[6,1,9,1],[6,2,8,2],[6,3,8,3],[6,34,7,37],[6,38,8,38],[7,4,7,6],[7,7,7,9],[7,10,7,12],[7,13,7,15],[7,16,7,18],[7,19,7,21],[7,22,7,24],[10,0,10,1],[7,25,7,27],[7,28,7,30],[7,31,7,33],[6,4,6,33]]}
[]
[{"$f":"Create!G2","v":"ក្រសួងអប់រំ យុវជន និងកីឡា"}]
[{"$f":"Create!G3","v":"បំពេញឈ្មោះទីនេះ"}]
[]
[{"$f":"CONCATENATE(\"របាយការណ៍ចំណាយថវិការបស់មតេ្តយ្យសិក្សាតាមមុខសញ្ញាចំណាយប្រចាំត្រីមាសទី \",IF(Create!$G$4=1,\"១\",IF(Create!$G$4=2,\"២\",IF(Create!$G$4=3,\"៣\",\"៤\"))),\" ឆ្នាំ២០១៨\")","v":"របាយការណ៍ចំណាយថវិការបស់មតេ្តយ្យសិក្សាតាមមុខសញ្ញាចំណាយប្រចាំត្រីមាសទី ១ ឆ្នាំ២០១៨"}]
[]
["ល.រ","ឈ្មោះការិយាល័យអប់រំ យុវជន និងកីឡា\nក្រុង ឬ ស្រុក ឬ ខ័ណ្ឌ","ឥណទានដើមឆ្នាំ","ឥណទានកែតម្រូវ","មុខសញ្ញាចំណាយ",null,null,null,null,null,null,null,null,null,null,null,null,null,null,null,null,null,null,null,null,null,null,null,null,null,null,null,null,null,"សរុបចំណាយ",null,null,null,"ឥណទាននៅសល់"]
[null,null,null,null,"១.សម្ភារមូលដ្ឋាន ",null,null,"២.ការកែលម្អបរិស្ថាន សាលា និងថ្នាក់រៀន",null,null,"៣.ការជួសជុលតូច (សង្ហារឹម បណ្ណាល័យ និងបរិក្ខារអេឡិចត្រូនិច)",null,null,"៤.ការទិញសៀវភៅអានដាក់ក្នុងបណ្ណាល័យ",null,null,"៥.បំណិនជីវិត (កីឡា សិល្បៈ រោងជាង គេហវិជ្ជា និងកសិកម្ម) ",null,null,"៦.ចំណាយសម្រាប់ទឹកស្អាត និងអនាម័យ",null,null,"៧.ចំណាយទូទាត់ថ្លៃប្រើបា្រស់ថាមពលអគ្គិសនី និងទឹក",null,null,"៨.ការរៀបចំឯកសារធ្វើតេស្ត និងសម្ភារផ្សេងៗសម្រាប់ប្រឡងឆមាស",null,null,"៩.ចលនាបីល្អ (សិស្សល្អ មិត្តល្អ កូនល្អ) របស់ក្រុមប្រឹក្សាយុវជន",null,null,"១០.ចំណាយផ្សេងៗ"]
[null,null,null,null,"បណ្ដាត្រីមាសមុន","ក្នុងត្រីមាស","បូកយោង","បណ្ដាត្រីមាសមុន","ក្នុងត្រីមាស","បូកយោង","បណ្ដាត្រីមាសមុន","ក្នុងត្រីមាស","បូកយោង","បណ្ដាត្រីមាសមុន","ក្នុងត្រីមាស","បូកយោង","បណ្ដាត្រីមាសមុន","ក្នុងត្រីមាស","បូកយោង","បណ្ដាលត្រីមាសមុន","ក្នុងត្រីមាស","បូកយោង","បណ្ដាត្រីមាសមុន","ក្នុងត្រីមាស","បូកយោង","បណ្ដាត្រីមាសមុន","ក្នុងត្រីមាស","បូកយោង","បណ្ដាត្រីមាស","ក្នុងត្រីមាស","បូកយោង","បណ្ដាត្រីមាសមុន","ក្នុងត្រីមាស","បូកយោង","បណ្ដាត្រីមាសមុន","ក្នុងត្រីមាស","បូកយោង","%"]
[null,null,1,2,3,4,"5=3+4",6,7,"8=6+7",9,10,"11=9+10",12,13,"14=12+13","15","16","17=15+16","18","19","20=18+19","21","22","23=21+22","24","25","26=24+25","27","28","29=27+28","30","31","32=30+31","33","34","35=33+34","36=35/2","37=2-35"]
["សរុប",null,{"$f":"SUM(C12:C111)","v":10},{"$f":"SUM(D12:D111)","v":15},{"$f":"SUM(E12:E111)","v":0},0,{"$f":"SUM(E11:F11)","v":0},0,0,{"$f":"SUM(H11:I11)","v":0},0,0,{"$f":"SUM(K11:L11)","v":0},0,0,{"$f":"SUM(N11:O11)","v":0},0,0,{"$f":"SUM(Q11:R11)","v":0},0,0,{"$f":"SUM(T11:U11)","v":0},0,0,{"$f":"SUM(W11:X11)","v":0},0,0,{"$f":"SUM(Z11:AA11)","v":0},0,0,{"$f":"SUM(AC11:AD11)","v":0},0,0,{"$f":"SUM(AF11:AG11)","v":0},{"$f":"SUM(E11,H11,K11,N11,Q11,T11,W11,Z11,AC11,AF11)","v":0},{"$f":"SUM(F11,I11,L11,O11,R11,U11,X11,AA11,AD11,AG11)","v":0},{"$f":"SUM(AI11:AJ11)","v":0},{"$f":"AK11/D11","v":0},{"$f":"D11-AK11","v":15}]
[1,{"$f":"[1]E_Sch_Types!A3","v":"ការិយាល័យអប់រំ យុវជន និងកីឡាក្រុងប៉ៃលិន"},{"$f":"[1]E_Sch_Types!C11","v":10},{"$f":"[1]E_Sch_Types!D11","v":15},{"$f":"[1]E_Sch_Types!E11","v":0},{"$f":"[1]E_Sch_Types!F11","v":0},{"$f":"SUM(E12:F12)","v":0},{"$f":"[1]E_Sch_Types!H11","v":0},{"$f":"[1]E_Sch_Types!I11","v":0},0,{"$f":"[1]E_Sch_Types!K11","v":0},{"$f":"[1]E_Sch_Types!L11","v":0},0,{"$f":"[1]E_Sch_Types!N11","v":0},{"$f":"[1]E_Sch_Types!O11","v":0},0,{"$f":"[1]E_Sch_Types!Q11","v":0},{"$f":"[1]E_Sch_Types!R11","v":0},0,{"$f":"[1]E_Sch_Types!T11","v":0},{"$f":"[1]E_Sch_Types!U11","v":0},0,{"$f":"[1]E_Sch_Types!W11","v":0},{"$f":"[1]E_Sch_Types!X11","v":0},0,{"$f":"[1]E_Sch_Types!Z11","v":0},{"$f":"[1]E_Sch_Types!AA11","v":0},0,{"$f":"[1]E_Sch_Types!AC11","v":0},{"$f":"[1]E_Sch_Types!AD11","v":0},0,{"$f":"[1]E_Sch_Types!AF11","v":0},{"$f":"[1]E_Sch_Types!AG11","v":0},0,{"$f":"SUM(E12,H12,K12,N12,Q12,T12,W12,Z12,AC12,AF12)","v":0},{"$f":"SUM(F12,I12,L12,O12,R12,U12,X12,AA12,AD12,AG12)","v":0},{"$f":"SUM(AI12:AJ12)","v":0},{"$f":"AK12/D12","v":0},{"$f":"D12-AK12","v":15}]
[2,null,null,null,null,null,0,null,null,0,null,null,0,null,null,0,null,null,0,null,null,0,null,null,0,null,null,0,null,null,0,null,null,0,0,0,0,{"$error":"#DIV/0!"},0]
[3,null,null,null,null,null,0,null,null,0,null,null,0,null,null,0,null,null,0,null,null,0,null,null,0,null,null,0,null,null,0,null,null,0,0,0,0,{"$error":"#DIV/0!"},0]
[4,null,null,null,null,null,0,null,null,0,null,null,0,null,null,0,null,null,0,null,null,0,null,null,0,null,null,0,null,null,0,null,null,0,0,0,0,{"$error":"#DIV/0!"},0]
[5,null,null,null,null,null,0,null,null,0,null,null,0,null,null,0,null,null,0,null,null,0,null,null,0,null,null,0,null,null,0,null,null,0,0,0,0,{"$error":"#DIV/0!"},0]
[6,null,null,null,null,null,0,null,null,0,null,null,0,null,null,0,null,null,0,null,null,0,null,null,0,null,null,0,null,null,0,null,null,0,0,0,0,{"$error":"#DIV/0!"},0]
[7,null,null,null,null,null,0,null,null,0,null,null,0,null,null,0,null,null,0,null,null,0,null,null,0,null,null,0,null,null,0,null,null,0,0,0,0,{"$error":"#DIV/0!"},0]
[8,null,null,null,null,null,0,null,null,0,null,null,0,null,null,0,null,null,0,null,null,0,null,null,0,null,null,0,null,null,0,null,null,0,0,0,0,{"$error":"#DIV/0!"},0]
[9,null,null,null,null,null,0,null,null,0,null,null,0,null,null,0,null,null,0,null,null,0,null,null,0,null,null,0,null,null,0,null,null,0,0,0,0,{"$error":"#DIV/0!"},0]
[10,null,null,null,null,null,0,null,null,0,null,null,0,null,null,0,null,null,0,null,null,0,null,null,0,null,null,0,null,null,0,null,null,0,0,0,0,{"$error":"#DIV/0!"},0]
[11,null,null,null,null,null,0,null,null,0,null,null,0,null,null,0,null,null,0,null,null,0,null,null,0,null,null,0,null,null,0,null,null,0,0,0,0,{"$error":"#DIV/0!"},0]
[12,null,null,null,null,null,0,null,null,0,null,null,0,null,null,0,null,null,0,null,null,0,null,null,0,null,null,0,null,null,0,null,null,0,0,0,0,{"$error":"#DIV/0!"},0]
[13,null,null,null,null,null,0,null,null,0,null,null,0,null,null,0,null,null,0,null,null,0,null,null,0,null,null,0,null,null,0,null,null,0,0,0,0,{"$error":"#DIV/0!"},0]
[14,null,null,null,null,null,0,null,null,0,null,null,0,null,null,0,null,null,0,null,null,0,null,null,0,null,null,0,null,null,0,null,null,0,0,0,0,{"$error":"#DIV/0!"},0]
[15,null,null,null,null,null,0,null,null,0,null,null,0,null,null,0,null,null,0,null,null,0,null,null,0,null,null,0,null,null,0,null,null,0,0,0,0,{"$error":"#DIV/0!"},0]
[16,null,null,null,null,null,0,null,null,0,null,null,0,null,null,0,null,null,0,null,null,0,null,null,0,null,null,0,null,null,0,null,null,0,0,0,0,{"$error":"#DIV/0!"},0]
[17,null,null,null,null,null,0,null,null,0,null,null,0,null,null,0,null,null,0,null,null,0,null,null,0,null,null,0,null,null,0,null,null,0,0,0,0,{"$error":"#DIV/0!"},0]
[18,null,null,null,null,null,0,null,null,0,null,null,0,null,null,0,null,null,0,null,null,0,null,null,0,null,null,0,null,null,0,null,null,0,0,0,0,{"$error":"#DIV/0!"},0]
[19,null,null,null,null,null,0,null,null,0,null,null,0,null,null,0,null,null,0,null,null,0,null,null,0,null,null,0,null,null,0,null,null,0,0,0,0,{"$error":"#DIV/0!"},0]
[20,null,null,null,null,null,0,null,null,0,null,null,0,null,null,0,null,null,0,null,null,0,null,null,0,null,null,0,null,null,0,null,null,0,0,0,0,{"$error":"#DIV/0!"},0]
[21,null,null,null,null,null,0,null,null,0,null,null,0,null,null,0,null,null,0,null,null,0,null,null,0,null,null,0,null,null,0,null,null,0,0,0,0,{"$error":"#DIV/0!"},0]
[22,null,null,null,null,null,0,null,null,0,null,null,0,null,null,0,null,null,0,null,null,0,null,null,0,null,null,0,null,null,0,null,null,0,0,0,0,{"$error":"#DIV/0!"},0]
[23,null,null,null,null,null,0,null,null,0,null,null,0,null,null,0,null,null,0,null,null,0,null,null,0,null,null,0,null,null,0,null,null,0,0,0,0,{"$error":"#DIV/0!"},0]
[24,null,null,null,null,null,0,null,null,0,null,null,0,null,null,0,null,null,0,null,null,0,null,null,0,null,null,0,null,null,0,null,null,0,0,0,0,{"$error":"#DIV/0!"},0]
[25,null,null,null,null,null,0,null,null,0,null,null,0,null,null,0,null,null,0,null,null,0,null,null,0,null,null,0,null,null,0,null,null,0,0,0,0,{"$error":"#DIV/0!"},0]
[26,null,null,null,null,null,0,null,null,0,null,null,0,null,null,0,null,null,0,null,null,0,null,null,0,null,null,0,null,null,0,null,null,0,0,0,0,{"$error":"#DIV/0!"},0]
[27,null,null,null,null,null,0,null,null,0,null,null,0,null,null,0,null,null,0,null,null,0,null,null,0,null,null,0,null,null,0,null,null,0,0,0,0,{"$error":"#DIV/0!"},0]
[28,null,null,null,null,null,0,null,null,0,null,null,0,null,null,0,null,null,0,null,null,0,null,null,0,null,null,0,null,null,0,null,null,0,0,0,0,{"$error":"#DIV/0!"},0]
[29,null,null,null,null,null,0,null,null,0,null,null,0,null,null,0,null,null,0,null,null,0,null,null,0,null,null,0,null,null,0,null,null,0,0,0,0,{"$error":"#DIV/0!"},0]
[30,null,null,null,null,null,0,null,null,0,null,null,0,null,null,0,null,null,0,null,null,0,null,null,0,null,null,0,null,null,0,null,null,0,0,0,0,{"$error":"#DIV/0!"},0]
[31,null,null,null,null,null,0,null,null,0,null,null,0,null,null,0,null,null,0,null,null,0,null,null,0,null,null,0,null,null,0,null,null,0,0,0,0,{"$error":"#DIV/0!"},0]
[32,null,null,null,null,null,0,null,null,0,null,null,0,null,null,0,null,null,0,null,null,0,null,null,0,null,null,0,null,null,0,null,null,0,0,0,0,{"$error":"#DIV/0!"},0]
[33,null,null,null,null,null,0,null,null,0,null,null,0,null,null,0,null,null,0,null,null,0,null,null,0,null,null,0,null,null,0,null,null,0,0,0,0,{"$error":"#DIV/0!"},0]
[34,null,null,null,null,null,0,null,null,0,null,null,0,null,null,0,null,null,0,null,null,0,null,null,0,null,null,0,null,null,0,null,null,0,0,0,0,{"$error":"#DIV/0!"},0]
[35,null,null,null,null,null,0,null,null,0,null,null,0,null,null,0,null,null,0,null,null,0,null,null,0,null,null,0,null,null,0,null,null,0,0,0,0,{"$error":"#DIV/0!"},0]
[36,null,null,null,null,null,0,null,null,0,null,null,0,null,null,0,null,null,0,null,null,0,null,null,0,null,null,0,null,null,0,null,null,0,0,0,0,{"$error":"#DIV/0!"},0]
[37,null,null,null,null,null,0,null,null,0,null,null,0,null,null,0,null,null,0,null,null,0,null,null,0,null,null,0,null,null,0,null,null,0,0,0,0,{"$error":"#DIV/0!"},0]
[38,null,null,null,null,null,0,null,null,0,null,null,0,null,null,0,null,null,0,null,null,0,null,null,0,null,null,0,null,null,0,null,null,0,0,0,0,{"$error":"#DIV/0!"},0]
[39,null,null,null,null,null,0,null,null,0,null,null,0,null,null,0,null,null,0,null,null,0,null,null,0,null,null,0,null,null,0,null,null,0,0,0,0,{"$error":"#DIV/0!"},0]
[40,null,null,null,null,null,0,null,null,0,null,null,0,null,null,0,null,null,0,null,null,0,null,null,0,null,null,0,null,null,0,null,null,0,0,0,0,{"$error":"#DIV/0!"},0]
[41,null,null,null,null,null,0,null,null,0,null,null,0,null,null,0,null,null,0,null,null,0,null,null,0,null,null,0,null,null,0,null,null,0,0,0,0,{"$error":"#DIV/0!"},0]
[42,null,null,null,null,null,0,null,null,0,null,null,0,null,null,0,null,null,0,null,null,0,null,null,0,null,null,0,null,null,0,null,null,0,0,0,0,{"$error":"#DIV/0!"},0]
[43,null,null,null,null,null,0,null,null,0,null,null,0,null,null,0,null,null,0,null,null,0,null,null,0,null,null,0,null,null,0,null,null,0,0,0,0,{"$error":"#DIV/0!"},0]
[44,null,null,null,null,null,0,null,null,0,null,null,0,null,null,0,null,null,0,null,null,0,null,null,0,null,null,0,null,null,0,null,null,0,0,0,0,{"$error":"#DIV/0!"},0]
[45,null,null,null,null,null,0,null,null,0,null,null,0,null,null,0,null,null,0,null,null,0,null,null,0,null,null,0,null,null,0,null,null,0,0,0,0,{"$error":"#DIV/0!"},0]
[46,null,null,null,null,null,0,null,null,0,null,null,0,null,null,0,null,null,0,null,null,0,null,null,0,null,null,0,null,null,0,null,null,0,0,0,0,{"$error":"#DIV/0!"},0]
[47,null,null,null,null,null,0,null,null,0,null,null,0,null,null,0,null,null,0,null,null,0,null,null,0,null,null,0,null,null,0,null,null,0,0,0,0,{"$error":"#DIV/0!"},0]
[48,null,null,null,null,null,0,null,null,0,null,null,0,null,null,0,null,null,0,null,null,0,null,null,0,null,null,0,null,null,0,null,null,0,0,0,0,{"$error":"#DIV/0!"},0]
[49,null,null,null,null,null,0,null,null,0,null,null,0,null,null,0,null,null,0,null,null,0,null,null,0,null,null,0,null,null,0,null,null,0,0,0,0,{"$error":"#DIV/0!"},0]
[50,null,null,null,null,null,0,null,null,0,null,null,0,null,null,0,null,null,0,null,null,0,null,null,0,null,null,0,null,null,0,null,null,0,0,0,0,{"$error":"#DIV/0!"},0]
[51,null,null,null,null,null,0,null,null,0,null,null,0,null,null,0,null,null,0,null,null,0,null,null,0,null,null,0,null,null,0,null,null,0,0,0,0,{"$error":"#DIV/0!"},0]
[52,null,null,null,null,null,0,null,null,0,null,null,0,null,null,0,null,null,0,null,null,0,null,null,0,null,null,0,null,null,0,null,null,0,0,0,0,{"$error":"#DIV/0!"},0]
[53,null,null,null,null,null,0,null,null,0,null,null,0,null,null,0,null,null,0,null,null,0,null,null,0,null,null,0,null,null,0,null,null,0,0,0,0,{"$error":"#DIV/0!"},0]
[54,null,null,null,null,null,0,null,null,0,null,null,0,null,null,0,null,null,0,null,null,0,null,null,0,null,null,0,null,null,0,null,null,0,0,0,0,{"$error":"#DIV/0!"},0]
[55,null,null,null,null,null,0,null,null,0,null,null,0,null,null,0,null,null,0,null,null,0,null,null,0,null,null,0,null,null,0,null,null,0,0,0,0,{"$error":"#DIV/0!"},0]
[56,null,null,null,null,null,0,null,null,0,null,null,0,null,null,0,null,null,0,null,null,0,null,null,0,null,null,0,null,null,0,null,null,0,0,0,0,{"$error":"#DIV/0!"},0]
[57,null,null,null,null,null,0,null,null,0,null,null,0,null,null,0,null,null,0,null,null,0,null,null,0,null,null,0,null,null,0,null,null,0,0,0,0,{"$error":"#DIV/0!"},0]
[58,null,null,null,null,null,0,null,null,0,null,null,0,null,null,0,null,null,0,null,null,0,null,null,0,null,null,0,null,null,0,null,null,0,0,0,0,{"$error":"#DIV/0!"},0]
[59,null,null,null,null,null,0,null,null,0,null,null,0,null,null,0,null,null,0,null,null,0,null,null,0,null,null,0,null,null,0,null,null,0,0,0,0,{"$error":"#DIV/0!"},0]
[60,null,null,null,null,null,0,null,null,0,null,null,0,null,null,0,null,null,0,null,null,0,null,null,0,null,null,0,null,null,0,null,null,0,0,0,0,{"$error":"#DIV/0!"},0]
[61,null,null,null,null,null,0,null,null,0,null,null,0,null,null,0,null,null,0,null,null,0,null,null,0,null,null,0,null,null,0,null,null,0,0,0,0,{"$error":"#DIV/0!"},0]
[62,null,null,null,null,null,0,null,null,0,null,null,0,null,null,0,null,null,0,null,null,0,null,null,0,null,null,0,null,null,0,null,null,0,0,0,0,{"$error":"#DIV/0!"},0]
[63,null,null,null,null,null,0,null,null,0,null,null,0,null,null,0,null,null,0,null,null,0,null,null,0,null,null,0,null,null,0,null,null,0,0,0,0,{"$error":"#DIV/0!"},0]
[64,null,null,null,null,null,0,null,null,{"$f":"SUM(H75:I75)","v":0},null,null,{"$f":"SUM(K75:L75)","v":0},null,null,{"$f":"SUM(N75:O75)","v":0},null,null,{"$f":"SUM(Q75:R75)","v":0},null,null,{"$f":"SUM(T75:U75)","v":0},null,null,{"$f":"SUM(W75:X75)","v":0},null,null,{"$f":"SUM(Z75:AA75)","v":0},null,null,{"$f":"SUM(AC75:AD75)","v":0},null,null,{"$f":"SUM(AF75:AG75)","v":0},0,0,0,{"$error":"#DIV/0!"},0]
[65,null,null,null,null,null,{"$f":"SUM(E76:F76)","v":0},null,null,0,null,null,0,null,null,0,null,null,0,null,null,0,null,null,0,null,null,0,null,null,0,null,null,0,{"$f":"SUM(E76,H76,K76,N76,Q76,T76,W76,Z76,AC76,AF76)","v":0},{"$f":"SUM(F76,I76,L76,O76,R76,U76,X76,AA76,AD76,AG76)","v":0},{"$f":"SUM(AI76:AJ76)","v":0},{"$f":"AK76/D76","v":{"$error":"#DIV/0!"}},{"$f":"D76-AK76","v":0}]
[66,null,null,null,null,null,0,null,null,0,null,null,0,null,null,0,null,null,0,null,null,0,null,null,0,null,null,0,null,null,0,null,null,0,0,0,0,{"$error":"#DIV/0!"},0]
[67,null,null,null,null,null,0,null,null,0,null,null,0,null,null,0,null,null,0,null,null,0,null,null,0,null,null,0,null,null,0,null,null,0,0,0,0,{"$error":"#DIV/0!"},0]
[68,null,null,null,null,null,0,null,null,0,null,null,0,null,null,0,null,null,0,null,null,0,null,null,0,null,null,0,null,null,0,null,null,0,0,0,0,{"$error":"#DIV/0!"},0]
[69,null,null,null,null,null,0,null,null,0,null,null,0,null,null,0,null,null,0,null,null,0,null,null,0,null,null,0,null,null,0,null,null,0,0,0,0,{"$error":"#DIV/0!"},0]
[70,null,null,null,null,null,0,null,null,0,null,null,0,null,null,0,null,null,0,null,null,0,null,null,0,null,null,0,null,null,0,null,null,0,0,0,0,{"$error":"#DIV/0!"},0]
[71,null,null,null,null,null,0,null,null,0,null,null,0,null,null,0,null,null,0,null,null,0,null,null,0,null,null,0,null,null,0,null,null,0,0,0,0,{"$error":"#DIV/0!"},0]
[72,null,null,null,null,null,0,null,null,0,null,null,0,null,null,0,null,null,0,null,null,0,null,null,0,null,null,0,null,null,0,null,null,0,0,0,0,{"$error":"#DIV/0!"},0]
[73,null,null,null,null,null,0,null,null,0,null,null,0,null,null,0,null,null,0,null,null,0,null,null,0,null,null,0,null,null,0,null,null,0,0,0,0,{"$error":"#DIV/0!"},0]
[74,null,null,null,null,null,0,null,null,0,null,null,0,null,null,0,null,null,0,null,null,0,null,null,0,null,null,0,null,null,0,null,null,0,0,0,0,{"$error":"#DIV/0!"},0]
[75,null,null,null,null,null,0,null,null,0,null,null,0,null,null,0,null,null,0,null,null,0,null,null,0,null,null,0,null,null,0,null,null,0,0,0,0,{"$error":"#DIV/0!"},0]
[76,null,null,null,null,null,0,null,null,0,null,null,0,null,null,0,null,null,0,null,null,0,null,null,0,null,null,0,null,null,0,null,null,0,0,0,0,{"$error":"#DIV/0!"},0]
[77,null,null,null,null,null,0,null,null,0,null,null,0,null,null,0,null,null,0,null,null,0,null,null,0,null,null,0,null,null,0,null,null,0,0,0,0,{"$error":"#DIV/0!"},0]
[78,null,null,null,null,null,0,null,null,0,null,null,0,null,null,0,null,null,0,null,null,0,null,null,0,null,null,0,null,null,0,null,null,0,0,0,0,{"$error":"#DIV/0!"},0]
[79,null,null,null,null,null,0,null,null,0,null,null,0,null,null,0,null,null,0,null,null,0,null,null,0,null,null,0,null,null,0,null,null,0,0,0,0,{"$error":"#DIV/0!"},0]
[80,null,null,null,null,null,0,null,null,0,null,null,0,null,null,0,null,null,0,null,null,0,null,null,0,null,null,0,null,null,0,null,null,0,0,0,0,{"$error":"#DIV/0!"},0]
[81,null,null,null,null,null,0,null,null,0,null,null,0,null,null,0,null,null,0,null,null,0,null,null,0,null,null,0,null,null,0,null,null,0,0,0,0,{"$error":"#DIV/0!"},0]
[82,null,null,null,null,null,0,null,null,0,null,null,0,null,null,0,null,null,0,null,null,0,null,null,0,null,null,0,null,null,0,null,null,0,0,0,0,{"$error":"#DIV/0!"},0]
[83,null,null,null,null,null,0,null,null,0,null,null,0,null,null,0,null,null,0,null,null,0,null,null,0,null,null,0,null,null,0,null,null,0,0,0,0,{"$error":"#DIV/0!"},0]
[84,null,null,null,null,null,0,null,null,0,null,null,0,null,null,0,null,null,0,null,null,0,null,null,0,null,null,0,null,null,0,null,null,0,0,0,0,{"$error":"#DIV/0!"},0]
[85,null,null,null,null,null,0,null,null,0,null,null,0,null,null,0,null,null,0,null,null,0,null,null,0,null,null,0,null,null,0,null,null,0,0,0,0,{"$error":"#DIV/0!"},0]
[86,null,null,null,null,null,0,null,null,0,null,null,0,null,null,0,null,null,0,null,null,0,null,null,0,null,null,0,null,null,0,null,null,0,0,0,0,{"$error":"#DIV/0!"},0]
[87,null,null,null,null,null,0,null,null,0,null,null,0,null,null,0,null,null,0,null,null,0,null,null,0,null,null,0,null,null,0,null,null,0,0,0,0,{"$error":"#DIV/0!"},0]
[88,null,null,null,null,null,0,null,null,0,null,null,0,null,null,0,null,null,0,null,null,0,null,null,0,null,null,0,null,null,0,null,null,0,0,0,0,{"$error":"#DIV/0!"},0]
[89,null,null,null,null,null,0,null,null,0,null,null,0,null,null,0,null,null,0,null,null,0,null,null,0,null,null,0,null,null,0,null,null,0,0,0,0,{"$error":"#DIV/0!"},0]
[90,null,null,null,null,null,0,null,null,0,null,null,0,null,null,0,null,null,0,null,null,0,null,null,0,null,null,0,null,null,0,null,null,0,0,0,0,{"$error":"#DIV/0!"},0]
[91,null,null,null,null,null,0,null,null,0,null,null,0,null,null,0,null,null,0,null,null,0,null,null,0,null,null,0,null,null,0,null,null,0,0,0,0,{"$error":"#DIV/0!"},0]
[92,null,null,null,null,null,0,null,null,0,null,null,0,null,null,0,null,null,0,null,null,0,null,null,0,null,null,0,null,null,0,null,null,0,0,0,0,{"$error":"#DIV/0!"},0]
[93,null,null,null,null,null,0,null,null,0,null,null,0,null,null,0,null,null,0,null,null,0,null,null,0,null,null,0,null,null,0,null,null,0,0,0,0,{"$error":"#DIV/0!"},0]
[94,null,null,null,null,null,0,null,null,0,null,null,0,null,null,0,null,null,0,null,null,0,null,null,0,null,null,0,null,null,0,null,null,0,0,0,0,{"$error":"#DIV/0!"},0]
[95,null,null,null,null,null,0,null,null,0,null,null,0,null,null,0,null,null,0,null,null,0,null,null,0,null,null,0,null,null,0,null,null,0,0,0,0,{"$error":"#DIV/0!"},0]
[96,null,null,null,null,null,0,null,null,0,null,null,0,null,null,0,null,null,0,null,null,0,null,null,0,null,null,0,null,null,0,null,null,0,0,0,0,{"$error":"#DIV/0!"},0]
[97,null,null,null,null,null,0,null,null,0,null,null,0,null,null,0,null,null,0,null,null,0,null,null,0,null,null,0,null,null,0,null,null,0,0,0,0,{"$error":"#DIV/0!"},0]
[98,null,null,null,null,null,0,null,null,0,null,null,0,null,null,0,null,null,0,null,null,0,null,null,0,null,null,0,null,null,0,null,null,0,0,0,0,{"$error":"#DIV/0!"},0]
[99,null,null,null,null,null,0,null,null,0,null,null,0,null,null,0,null,null,0,null,null,0,null,null,0,null,null,0,null,null,0,null,null,0,0,0,0,{"$error":"#DIV/0!"},0]
[100,null,null,null,null,null,0,null,null,0,null,null,0,null,null,0,null,null,0,null,null,0,null,null,0,null,null,0,null,null,0,null,null,0,0,0,0,{"$error":"#DIV/0!"},0]

{"sheet":"P_DoE_Types","index":12,"n_rows":111,"n_cols":39,"rows_kept":111,"cut":false,"hidden":false,"merged":[[1,0,1,3],[2,0,2,3],[10,0,10,1],[6,34,7,37],[6,38,8,38],[7,4,7,6],[7,7,7,9],[7,10,7,12],[7,13,7,15],[7,16,7,18],[7,19,7,21],[7,22,7,24],[7,25,7,27],[4,0,4,15],[6,0,9,0],[6,1,9,1],[6,2,8,2],[6,3,8,3],[6,4,6,33],[7,28,7,30],[7,31,7,33]]}
[]
[{"$f":"Create!G2","v":"ក្រសួងអប់រំ យុវជន និងកីឡា"}]
[{"$f":"Create!G3","v":"បំពេញឈ្មោះទីនេះ"}]
[]
[{"$f":"CONCATENATE(\"របាយការណ៍ចំណាយថវិការបស់សាលាបឋមសិក្សាតាមមុខសញ្ញាចំណាយប្រចាំត្រីមាសទី \", IF(Create!$G$4=1,\"១\",IF(Create!$G$4=2,\"២\",IF(Create!$G$4=3,\"៣\",\"៤\"))),\" ឆ្នាំ២០១៨\")","v":"របាយការណ៍ចំណាយថវិការបស់សាលាបឋមសិក្សាតាមមុខសញ្ញាចំណាយប្រចាំត្រីមាសទី ១ ឆ្នាំ២០១៨"}]
[]
["ល.រ","ឈ្មោះការិយាល័យអប់រំ យុវជន និងកីឡា\nក្រុង ឬ ស្រុក ឬ ខ័ណ្ឌ","ឥណទានដើមឆ្នាំ","ឥណទានកែតម្រូវ","មុខសញ្ញាចំណាយ",null,null,null,null,null,null,null,null,null,null,null,null,null,null,null,null,null,null,null,null,null,null,null,null,null,null,null,null,null,"សរុបចំណាយ",null,null,null,"ឥណទាននៅសល់"]
[null,null,null,null,"១.សម្ភារមូលដ្ឋាន ",null,null,"២.ការកែលម្អបរិស្ថាន សាលា និងថ្នាក់រៀន",null,null,"៣.ការជួសជុលតូច (សង្ហារឹម បណ្ណាល័យ និងបរិក្ខារអេឡិចត្រូនិច)",null,null,"៤.ការទិញសៀវភៅអានដាក់ក្នុងបណ្ណាល័យ",null,null,"៥.បំណិនជីវិត (កីឡា សិល្បៈ រោងជាង គេហវិជ្ជា និងកសិកម្ម) ",null,null,"៦.ចំណាយសម្រាប់ទឹកស្អាត និងអនាម័យ",null,null,"៧.ចំណាយទូទាត់ថ្លៃប្រើបា្រស់ថាមពលអគ្គិសនី និងទឹក",null,null,"៨.ការរៀបចំឯកសារធ្វើតេស្ត និងសម្ភារផ្សេងៗសម្រាប់ប្រឡងឆមាស",null,null,"៩.ចលនាបីល្អ (សិស្សល្អ មិត្តល្អ កូនល្អ) របស់ក្រុមប្រឹក្សាយុវជន",null,null,"១០.ចំណាយផ្សេងៗ"]
[null,null,null,null,"បណ្ដាត្រីមាសមុន","ក្នុងត្រីមាស","បូកយោង","បណ្ដាត្រីមាសមុន","ក្នុងត្រីមាស","បូកយោង","បណ្ដាត្រីមាសមុន","ក្នុងត្រីមាស","បូកយោង","បណ្ដាត្រីមាសមុន","ក្នុងត្រីមាស","បូកយោង","បណ្ដាត្រីមាសមុន","ក្នុងត្រីមាស","បូកយោង","បណ្ដាលត្រីមាសមុន","ក្នុងត្រីមាស","បូកយោង","បណ្ដាត្រីមាសមុន","ក្នុងត្រីមាស","បូកយោង","បណ្ដាត្រីមាសមុន","ក្នុងត្រីមាស","បូកយោង","បណ្ដាត្រីមាស","ក្នុងត្រីមាស","បូកយោង","បណ្ដាត្រីមាសមុន","ក្នុងត្រីមាស","បូកយោង","បណ្ដាត្រីមាសមុន","ក្នុងត្រីមាស","បូកយោង","%"]
[null,null,1,2,3,4,"5=3+4",6,7,"8=6+7",9,10,"11=9+10",12,13,"14=12+13","15","16","17=15+16","18","19","20=18+19","21","22","23=21+22","24","25","26=24+25","27","28","29=27+28","30","31","32=30+31","33","34","35=33+34","36=35/2","37=2-35"]
["សរុប",null,{"$f":"SUM(C12:C111)","v":10},{"$f":"SUM(D12:D111)","v":15},0,0,{"$f":"SUM(E11:F11)","v":0},0,0,{"$f":"SUM(H11:I11)","v":0},0,0,{"$f":"SUM(K11:L11)","v":0},0,0,{"$f":"SUM(N11:O11)","v":0},0,0,{"$f":"SUM(Q11:R11)","v":0},0,0,{"$f":"SUM(T11:U11)","v":0},0,0,{"$f":"SUM(W11:X11)","v":0},0,0,{"$f":"SUM(Z11:AA11)","v":0},0,0,{"$f":"SUM(AC11:AD11)","v":0},0,0,{"$f":"SUM(AF11:AG11)","v":0},{"$f":"SUM(E11,H11,K11,N11,Q11,T11,W11,Z11,AC11,AF11)","v":0},{"$f":"SUM(F11,I11,L11,O11,R11,U11,X11,AA11,AD11,AG11)","v":0},{"$f":"SUM(AI11:AJ11)","v":0},{"$f":"AK11/D11","v":0},{"$f":"D11-AK11","v":15}]
[1,{"$f":"[1]P_Sch_Types!A3","v":"ការិយាល័យអប់រំ យុវជន និងកីឡាក្រុងប៉ៃលិន"},{"$f":"[1]P_Sch_Types!C11","v":10},{"$f":"[1]P_Sch_Types!D11","v":15},{"$f":"[1]P_Sch_Types!E11","v":0},{"$f":"[1]P_Sch_Types!F11","v":0},{"$f":"SUM(E12:F12)","v":0},{"$f":"[1]P_Sch_Types!H11","v":0},{"$f":"[1]P_Sch_Types!I11","v":0},0,{"$f":"[1]P_Sch_Types!K11","v":0},{"$f":"[1]P_Sch_Types!L11","v":0},0,{"$f":"[1]P_Sch_Types!N11","v":0},{"$f":"[1]P_Sch_Types!O11","v":0},0,{"$f":"[1]P_Sch_Types!Q11","v":0},{"$f":"[1]P_Sch_Types!R11","v":0},0,{"$f":"[1]P_Sch_Types!T11","v":0},{"$f":"[1]P_Sch_Types!U11","v":0},0,{"$f":"[1]P_Sch_Types!W11","v":0},{"$f":"[1]P_Sch_Types!X11","v":0},0,{"$f":"[1]P_Sch_Types!Z11","v":0},{"$f":"[1]P_Sch_Types!AA11","v":0},0,{"$f":"[1]P_Sch_Types!AC11","v":0},{"$f":"[1]P_Sch_Types!AD11","v":0},0,{"$f":"[1]P_Sch_Types!AF11","v":0},{"$f":"[1]P_Sch_Types!AG11","v":0},0,{"$f":"SUM(E12,H12,K12,N12,Q12,T12,W12,Z12,AC12,AF12)","v":0},0,{"$f":"SUM(AI12:AJ12)","v":0},{"$f":"AK12/D12","v":0},{"$f":"D12-AK12","v":15}]
[2,null,null,null,null,null,0,null,null,0,null,null,0,null,null,0,null,null,0,null,null,0,null,null,0,null,null,0,null,null,0,null,null,0,0,0,0,{"$error":"#DIV/0!"},0]
[3,null,null,null,null,null,0,null,null,0,null,null,0,null,null,0,null,null,0,null,null,0,null,null,0,null,null,0,null,null,0,null,null,0,0,0,0,{"$error":"#DIV/0!"},0]
[4,null,null,null,null,null,0,null,null,0,null,null,0,null,null,0,null,null,0,null,null,0,null,null,0,null,null,0,null,null,0,null,null,0,0,0,0,{"$error":"#DIV/0!"},0]
[5,null,null,null,null,null,0,null,null,0,null,null,0,null,null,0,null,null,0,null,null,0,null,null,0,null,null,0,null,null,0,null,null,0,0,0,0,{"$error":"#DIV/0!"},0]
[6,null,null,null,null,null,0,null,null,0,null,null,0,null,null,0,null,null,0,null,null,0,null,null,0,null,null,0,null,null,0,null,null,0,0,0,0,{"$error":"#DIV/0!"},0]
[7,null,null,null,null,null,0,null,null,0,null,null,0,null,null,0,null,null,0,null,null,0,null,null,0,null,null,0,null,null,0,null,null,0,0,0,0,{"$error":"#DIV/0!"},0]
[8,null,null,null,null,null,0,null,null,0,null,null,0,null,null,0,null,null,0,null,null,0,null,null,0,null,null,0,null,null,0,null,null,0,0,0,0,{"$error":"#DIV/0!"},0]
[9,null,null,null,null,null,0,null,null,0,null,null,0,null,null,0,null,null,0,null,null,0,null,null,0,null,null,0,null,null,0,null,null,0,0,0,0,{"$error":"#DIV/0!"},0]
[10,null,null,null,null,null,0,null,null,0,null,null,0,null,null,0,null,null,0,null,null,0,null,null,0,null,null,0,null,null,0,null,null,0,0,0,0,{"$error":"#DIV/0!"},0]
[11,null,null,null,null,null,0,null,null,0,null,null,0,null,null,0,null,null,0,null,null,0,null,null,0,null,null,0,null,null,0,null,null,0,0,0,0,{"$error":"#DIV/0!"},0]
[12,null,null,null,null,null,0,null,null,0,null,null,0,null,null,0,null,null,0,null,null,0,null,null,0,null,null,0,null,null,0,null,null,0,0,0,0,{"$error":"#DIV/0!"},0]
[13,null,null,null,null,null,0,null,null,0,null,null,0,null,null,0,null,null,0,null,null,0,null,null,0,null,null,0,null,null,0,null,null,0,0,0,0,{"$error":"#DIV/0!"},0]
[14,null,null,null,null,null,0,null,null,0,null,null,0,null,null,0,null,null,0,null,null,0,null,null,0,null,null,0,null,null,0,null,null,0,0,0,0,{"$error":"#DIV/0!"},0]
[15,null,null,null,null,null,0,null,null,0,null,null,0,null,null,0,null,null,0,null,null,0,null,null,0,null,null,0,null,null,0,null,null,0,0,0,0,{"$error":"#DIV/0!"},0]
[16,null,null,null,null,null,0,null,null,0,null,null,0,null,null,0,null,null,0,null,null,0,null,null,0,null,null,0,null,null,0,null,null,0,0,0,0,{"$error":"#DIV/0!"},0]
[17,null,null,null,null,null,0,null,null,0,null,null,0,null,null,0,null,null,0,null,null,0,null,null,0,null,null,0,null,null,0,null,null,0,0,0,0,{"$error":"#DIV/0!"},0]
[18,null,null,null,null,null,0,null,null,0,null,null,0,null,null,0,null,null,0,null,null,0,null,null,0,null,null,0,null,null,0,null,null,0,0,0,0,{"$error":"#DIV/0!"},0]
[19,null,null,null,null,null,0,null,null,0,null,null,0,null,null,0,null,null,0,null,null,0,null,null,0,null,null,0,null,null,0,null,null,0,0,0,0,{"$error":"#DIV/0!"},0]
[20,null,null,null,null,null,0,null,null,0,null,null,0,null,null,0,null,null,0,null,null,0,null,null,0,null,null,0,null,null,0,null,null,0,0,0,0,{"$error":"#DIV/0!"},0]
[21,null,null,null,null,null,0,null,null,0,null,null,0,null,null,0,null,null,0,null,null,0,null,null,0,null,null,0,null,null,0,null,null,0,0,0,0,{"$error":"#DIV/0!"},0]
[22,null,null,null,null,null,0,null,null,0,null,null,0,null,null,0,null,null,0,null,null,0,null,null,0,null,null,0,null,null,0,null,null,0,0,0,0,{"$error":"#DIV/0!"},0]
[23,null,null,null,null,null,0,null,null,0,null,null,0,null,null,0,null,null,0,null,null,0,null,null,0,null,null,0,null,null,0,null,null,0,0,0,0,{"$error":"#DIV/0!"},0]
[24,null,null,null,null,null,0,null,null,0,null,null,0,null,null,0,null,null,0,null,null,0,null,null,0,null,null,0,null,null,0,null,null,0,0,0,0,{"$error":"#DIV/0!"},0]
[25,null,null,null,null,null,0,null,null,0,null,null,0,null,null,0,null,null,0,null,null,0,null,null,0,null,null,0,null,null,0,null,null,0,0,0,0,{"$error":"#DIV/0!"},0]
[26,null,null,null,null,null,0,null,null,0,null,null,0,null,null,0,null,null,0,null,null,0,null,null,0,null,null,0,null,null,0,null,null,0,0,0,0,{"$error":"#DIV/0!"},0]
[27,null,null,null,null,null,0,null,null,0,null,null,0,null,null,0,null,null,0,null,null,0,null,null,0,null,null,0,null,null,0,null,null,0,0,0,0,{"$error":"#DIV/0!"},0]
[28,null,null,null,null,null,0,null,null,0,null,null,0,null,null,0,null,null,0,null,null,0,null,null,0,null,null,0,null,null,0,null,null,0,0,0,0,{"$error":"#DIV/0!"},0]
[29,null,null,null,null,null,0,null,null,0,null,null,0,null,null,0,null,null,0,null,null,0,null,null,0,null,null,0,null,null,0,null,null,0,0,0,0,{"$error":"#DIV/0!"},0]
[30,null,null,null,null,null,0,null,null,0,null,null,0,null,null,0,null,null,0,null,null,0,null,null,0,null,null,0,null,null,0,null,null,0,0,0,0,{"$error":"#DIV/0!"},0]
[31,null,null,null,null,null,0,null,null,0,null,null,0,null,null,0,null,null,0,null,null,0,null,null,0,null,null,0,null,null,0,null,null,0,0,0,0,{"$error":"#DIV/0!"},0]
[32,null,null,null,null,null,0,null,null,0,null,null,0,null,null,0,null,null,0,null,null,0,null,null,0,null,null,0,null,null,0,null,null,0,0,0,0,{"$error":"#DIV/0!"},0]
[33,null,null,null,null,null,0,null,null,0,null,null,0,null,null,0,null,null,0,null,null,0,null,null,0,null,null,0,null,null,0,null,null,0,0,0,0,{"$error":"#DIV/0!"},0]
[34,null,null,null,null,null,0,null,null,0,null,null,0,null,null,0,null,null,0,null,null,0,null,null,0,null,null,0,null,null,0,null,null,0,0,0,0,{"$error":"#DIV/0!"},0]
[35,null,null,null,null,null,0,null,null,0,null,null,0,null,null,0,null,null,0,null,null,0,null,null,0,null,null,0,null,null,0,null,null,0,0,0,0,{"$error":"#DIV/0!"},0]
[36,null,null,null,null,null,0,null,null,0,null,null,0,null,null,0,null,null,0,null,null,0,null,null,0,null,null,0,null,null,0,null,null,0,0,0,0,{"$error":"#DIV/0!"},0]
[37,null,null,null,null,null,0,null,null,0,null,null,0,null,null,0,null,null,0,null,null,0,null,null,0,null,null,0,null,null,0,null,null,0,0,0,0,{"$error":"#DIV/0!"},0]
[38,null,null,null,null,null,0,null,null,0,null,null,0,null,null,0,null,null,0,null,null,0,null,null,0,null,null,0,null,null,0,null,null,0,0,0,0,{"$error":"#DIV/0!"},0]
[39,null,null,null,null,null,0,null,null,0,null,null,0,null,null,0,null,null,0,null,null,0,null,null,0,null,null,0,null,null,0,null,null,0,0,0,0,{"$error":"#DIV/0!"},0]
[40,null,null,null,null,null,0,null,null,0,null,null,0,null,null,0,null,null,0,null,null,0,null,null,0,null,null,0,null,null,0,null,null,0,0,0,0,{"$error":"#DIV/0!"},0]
[41,null,null,null,null,null,0,null,null,0,null,null,0,null,null,0,null,null,0,null,null,0,null,null,0,null,null,0,null,null,0,null,null,0,0,0,0,{"$error":"#DIV/0!"},0]
[42,null,null,null,null,null,0,null,null,0,null,null,0,null,null,0,null,null,0,null,null,0,null,null,0,null,null,0,null,null,0,null,null,0,0,0,0,{"$error":"#DIV/0!"},0]
[43,null,null,null,null,null,0,null,null,0,null,null,0,null,null,0,null,null,0,null,null,0,null,null,0,null,null,0,null,null,0,null,null,0,0,0,0,{"$error":"#DIV/0!"},0]
[44,null,null,null,null,null,0,null,null,0,null,null,0,null,null,0,null,null,0,null,null,0,null,null,0,null,null,0,null,null,0,null,null,0,0,0,0,{"$error":"#DIV/0!"},0]
[45,null,null,null,null,null,0,null,null,0,null,null,0,null,null,0,null,null,0,null,null,0,null,null,0,null,null,0,null,null,0,null,null,0,0,0,0,{"$error":"#DIV/0!"},0]
[46,null,null,null,null,null,0,null,null,0,null,null,0,null,null,0,null,null,0,null,null,0,null,null,0,null,null,0,null,null,0,null,null,0,0,0,0,{"$error":"#DIV/0!"},0]
[47,null,null,null,null,null,0,null,null,0,null,null,0,null,null,0,null,null,0,null,null,0,null,null,0,null,null,0,null,null,0,null,null,0,0,0,0,{"$error":"#DIV/0!"},0]
[48,null,null,null,null,null,0,null,null,0,null,null,0,null,null,0,null,null,0,null,null,0,null,null,0,null,null,0,null,null,0,null,null,0,0,0,0,{"$error":"#DIV/0!"},0]
[49,null,null,null,null,null,0,null,null,0,null,null,0,null,null,0,null,null,0,null,null,0,null,null,0,null,null,0,null,null,0,null,null,0,0,0,0,{"$error":"#DIV/0!"},0]
[50,null,null,null,null,null,0,null,null,0,null,null,0,null,null,0,null,null,0,null,null,0,null,null,0,null,null,0,null,null,0,null,null,0,0,0,0,{"$error":"#DIV/0!"},0]
[51,null,null,null,null,null,0,null,null,0,null,null,0,null,null,0,null,null,0,null,null,0,null,null,0,null,null,0,null,null,0,null,null,0,0,0,0,{"$error":"#DIV/0!"},0]
[52,null,null,null,null,null,0,null,null,0,null,null,0,null,null,0,null,null,0,null,null,0,null,null,0,null,null,0,null,null,0,null,null,0,0,0,0,{"$error":"#DIV/0!"},0]
[53,null,null,null,null,null,0,null,null,0,null,null,0,null,null,0,null,null,0,null,null,0,null,null,0,null,null,0,null,null,0,null,null,0,0,0,0,{"$error":"#DIV/0!"},0]
[54,null,null,null,null,null,0,null,null,0,null,null,0,null,null,0,null,null,0,null,null,0,null,null,0,null,null,0,null,null,0,null,null,0,0,0,0,{"$error":"#DIV/0!"},0]
[55,null,null,null,null,null,0,null,null,0,null,null,0,null,null,0,null,null,0,null,null,0,null,null,0,null,null,0,null,null,0,null,null,0,0,0,0,{"$error":"#DIV/0!"},0]
[56,null,null,null,null,null,0,null,null,0,null,null,0,null,null,0,null,null,0,null,null,0,null,null,0,null,null,0,null,null,0,null,null,0,0,0,0,{"$error":"#DIV/0!"},0]
[57,null,null,null,null,null,0,null,null,0,null,null,0,null,null,0,null,null,0,null,null,0,null,null,0,null,null,0,null,null,0,null,null,0,0,0,0,{"$error":"#DIV/0!"},0]
[58,null,null,null,null,null,0,null,null,0,null,null,0,null,null,0,null,null,0,null,null,0,null,null,0,null,null,0,null,null,0,null,null,0,0,0,0,{"$error":"#DIV/0!"},0]
[59,null,null,null,null,null,0,null,null,0,null,null,0,null,null,0,null,null,0,null,null,0,null,null,0,null,null,0,null,null,0,null,null,0,0,0,0,{"$error":"#DIV/0!"},0]
[60,null,null,null,null,null,0,null,null,0,null,null,0,null,null,0,null,null,0,null,null,0,null,null,0,null,null,0,null,null,0,null,null,0,0,0,0,{"$error":"#DIV/0!"},0]
[61,null,null,null,null,null,0,null,null,0,null,null,0,null,null,0,null,null,0,null,null,0,null,null,0,null,null,0,null,null,0,null,null,0,0,0,0,{"$error":"#DIV/0!"},0]
[62,null,null,null,null,null,0,null,null,0,null,null,0,null,null,0,null,null,0,null,null,0,null,null,0,null,null,0,null,null,0,null,null,0,0,0,0,{"$error":"#DIV/0!"},0]
[63,null,null,null,null,null,0,null,null,0,null,null,0,null,null,0,null,null,0,null,null,0,null,null,0,null,null,0,null,null,0,null,null,0,0,0,0,{"$error":"#DIV/0!"},0]
[64,null,null,null,null,null,0,null,null,{"$f":"SUM(H75:I75)","v":0},null,null,{"$f":"SUM(K75:L75)","v":0},null,null,{"$f":"SUM(N75:O75)","v":0},null,null,{"$f":"SUM(Q75:R75)","v":0},null,null,{"$f":"SUM(T75:U75)","v":0},null,null,{"$f":"SUM(W75:X75)","v":0},null,null,{"$f":"SUM(Z75:AA75)","v":0},null,null,{"$f":"SUM(AC75:AD75)","v":0},null,null,{"$f":"SUM(AF75:AG75)","v":0},0,0,0,{"$error":"#DIV/0!"},0]
[65,null,null,null,null,null,{"$f":"SUM(E76:F76)","v":0},null,null,0,null,null,0,null,null,0,null,null,0,null,null,0,null,null,0,null,null,0,null,null,0,null,null,0,{"$f":"SUM(E76,H76,K76,N76,Q76,T76,W76,Z76,AC76,AF76)","v":0},0,{"$f":"SUM(AI76:AJ76)","v":0},{"$f":"AK76/D76","v":{"$error":"#DIV/0!"}},{"$f":"D76-AK76","v":0}]
[66,null,null,null,null,null,0,null,null,0,null,null,0,null,null,0,null,null,0,null,null,0,null,null,0,null,null,0,null,null,0,null,null,0,0,0,0,{"$error":"#DIV/0!"},0]
[67,null,null,null,null,null,0,null,null,0,null,null,0,null,null,0,null,null,0,null,null,0,null,null,0,null,null,0,null,null,0,null,null,0,0,0,0,{"$error":"#DIV/0!"},0]
[68,null,null,null,null,null,0,null,null,0,null,null,0,null,null,0,null,null,0,null,null,0,null,null,0,null,null,0,null,null,0,null,null,0,0,0,0,{"$error":"#DIV/0!"},0]
[69,null,null,null,null,null,0,null,null,0,null,null,0,null,null,0,null,null,0,null,null,0,null,null,0,null,null,0,null,null,0,null,null,0,0,0,0,{"$error":"#DIV/0!"},0]
[70,null,null,null,null,null,0,null,null,0,null,null,0,null,null,0,null,null,0,null,null,0,null,null,0,null,null,0,null,null,0,null,null,0,0,0,0,{"$error":"#DIV/0!"},0]
[71,null,null,null,null,null,0,null,null,0,null,null,0,null,null,0,null,null,0,null,null,0,null,null,0,null,null,0,null,null,0,null,null,0,0,0,0,{"$error":"#DIV/0!"},0]
[72,null,null,null,null,null,0,null,null,0,null,null,0,null,null,0,null,null,0,null,null,0,null,null,0,null,null,0,null,null,0,null,null,0,0,0,0,{"$error":"#DIV/0!"},0]
[73,null,null,null,null,null,0,null,null,0,null,null,0,null,null,0,null,null,0,null,null,0,null,null,0,null,null,0,null,null,0,null,null,0,0,0,0,{"$error":"#DIV/0!"},0]
[74,null,null,null,null,null,0,null,null,0,null,null,0,null,null,0,null,null,0,null,null,0,null,null,0,null,null,0,null,null,0,null,null,0,0,0,0,{"$error":"#DIV/0!"},0]
[75,null,null,null,null,null,0,null,null,0,null,null,0,null,null,0,null,null,0,null,null,0,null,null,0,null,null,0,null,null,0,null,null,0,0,0,0,{"$error":"#DIV/0!"},0]
[76,null,null,null,null,null,0,null,null,0,null,null,0,null,null,0,null,null,0,null,null,0,null,null,0,null,null,0,null,null,0,null,null,0,0,0,0,{"$error":"#DIV/0!"},0]
[77,null,null,null,null,null,0,null,null,0,null,null,0,null,null,0,null,null,0,null,null,0,null,null,0,null,null,0,null,null,0,null,null,0,0,0,0,{"$error":"#DIV/0!"},0]
[78,null,null,null,null,null,0,null,null,0,null,null,0,null,null,0,null,null,0,null,null,0,null,null,0,null,null,0,null,null,0,null,null,0,0,0,0,{"$error":"#DIV/0!"},0]
[79,null,null,null,null,null,0,null,null,0,null,null,0,null,null,0,null,null,0,null,null,0,null,null,0,null,null,0,null,null,0,null,null,0,0,0,0,{"$error":"#DIV/0!"},0]
[80,null,null,null,null,null,0,null,null,0,null,null,0,null,null,0,null,null,0,null,null,0,null,null,0,null,null,0,null,null,0,null,null,0,0,0,0,{"$error":"#DIV/0!"},0]
[81,null,null,null,null,null,0,null,null,0,null,null,0,null,null,0,null,null,0,null,null,0,null,null,0,null,null,0,null,null,0,null,null,0,0,0,0,{"$error":"#DIV/0!"},0]
[82,null,null,null,null,null,0,null,null,0,null,null,0,null,null,0,null,null,0,null,null,0,null,null,0,null,null,0,null,null,0,null,null,0,0,0,0,{"$error":"#DIV/0!"},0]
[83,null,null,null,null,null,0,null,null,0,null,null,0,null,null,0,null,null,0,null,null,0,null,null,0,null,null,0,null,null,0,null,null,0,0,0,0,{"$error":"#DIV/0!"},0]
[84,null,null,null,null,null,0,null,null,0,null,null,0,null,null,0,null,null,0,null,null,0,null,null,0,null,null,0,null,null,0,null,null,0,0,0,0,{"$error":"#DIV/0!"},0]
[85,null,null,null,null,null,0,null,null,0,null,null,0,null,null,0,null,null,0,null,null,0,null,null,0,null,null,0,null,null,0,null,null,0,0,0,0,{"$error":"#DIV/0!"},0]
[86,null,null,null,null,null,0,null,null,0,null,null,0,null,null,0,null,null,0,null,null,0,null,null,0,null,null,0,null,null,0,null,null,0,0,0,0,{"$error":"#DIV/0!"},0]
[87,null,null,null,null,null,0,null,null,0,null,null,0,null,null,0,null,null,0,null,null,0,null,null,0,null,null,0,null,null,0,null,null,0,0,0,0,{"$error":"#DIV/0!"},0]
[88,null,null,null,null,null,0,null,null,0,null,null,0,null,null,0,null,null,0,null,null,0,null,null,0,null,null,0,null,null,0,null,null,0,0,0,0,{"$error":"#DIV/0!"},0]
[89,null,null,null,null,null,0,null,null,0,null,null,0,null,null,0,null,null,0,null,null,0,null,null,0,null,null,0,null,null,0,null,null,0,0,0,0,{"$error":"#DIV/0!"},0]
[90,null,null,null,null,null,0,null,null,0,null,null,0,null,null,0,null,null,0,null,null,0,null,null,0,null,null,0,null,null,0,null,null,0,0,0,0,{"$error":"#DIV/0!"},0]
[91,null,null,null,null,null,0,null,null,0,null,null,0,null,null,0,null,null,0,null,null,0,null,null,0,null,null,0,null,null,0,null,null,0,0,0,0,{"$error":"#DIV/0!"},0]
[92,null,null,null,null,null,0,null,null,0,null,null,0,null,null,0,null,null,0,null,null,0,null,null,0,null,null,0,null,null,0,null,null,0,0,0,0,{"$error":"#DIV/0!"},0]
[93,null,null,null,null,null,0,null,null,0,null,null,0,null,null,0,null,null,0,null,null,0,null,null,0,null,null,0,null,null,0,null,null,0,0,0,0,{"$error":"#DIV/0!"},0]
[94,null,null,null,null,null,0,null,null,0,null,null,0,null,null,0,null,null,0,null,null,0,null,null,0,null,null,0,null,null,0,null,null,0,0,0,0,{"$error":"#DIV/0!"},0]
[95,null,null,null,null,null,0,null,null,0,null,null,0,null,null,0,null,null,0,null,null,0,null,null,0,null,null,0,null,null,0,null,null,0,0,0,0,{"$error":"#DIV/0!"},0]
[96,null,null,null,null,null,0,null,null,0,null,null,0,null,null,0,null,null,0,null,null,0,null,null,0,null,null,0,null,null,0,null,null,0,0,0,0,{"$error":"#DIV/0!"},0]
[97,null,null,null,null,null,0,null,null,0,null,null,0,null,null,0,null,null,0,null,null,0,null,null,0,null,null,0,null,null,0,null,null,0,0,0,0,{"$error":"#DIV/0!"},0]
[98,null,null,null,null,null,0,null,null,0,null,null,0,null,null,0,null,null,0,null,null,0,null,null,0,null,null,0,null,null,0,null,null,0,0,0,0,{"$error":"#DIV/0!"},0]
[99,null,null,null,null,null,0,null,null,0,null,null,0,null,null,0,null,null,0,null,null,0,null,null,0,null,null,0,null,null,0,null,null,0,0,0,0,{"$error":"#DIV/0!"},0]
[100,null,null,null,null,null,0,null,null,0,null,null,0,null,null,0,null,null,0,null,null,0,null,null,0,null,null,0,null,null,0,null,null,0,0,0,0,{"$error":"#DIV/0!"},0]

{"sheet":"S_DoE_Types","index":13,"n_rows":111,"n_cols":39,"rows_kept":111,"cut":false,"hidden":false,"merged":[[1,0,1,4],[2,0,2,4],[10,0,10,1],[6,34,7,37],[6,38,8,38],[7,4,7,6],[7,7,7,9],[7,10,7,12],[7,13,7,15],[7,16,7,18],[7,19,7,21],[7,22,7,24],[7,25,7,27],[4,0,4,15],[6,0,9,0],[6,1,9,1],[6,2,8,2],[6,3,8,3],[6,4,6,33],[7,28,7,30],[7,31,7,33]]}
[]
[{"$f":"Create!G2","v":"ក្រសួងអប់រំ យុវជន និងកីឡា"}]
[{"$f":"Create!G3","v":"បំពេញឈ្មោះទីនេះ"}]
[]
[{"$f":"CONCATENATE(\"របាយការណ៍ចំណាយថវិការបស់អនុវិទ្យាល័យតាមមុខសញ្ញាចំណាយប្រចាំត្រីមាសទី \",IF(Create!$G$4=1,\"១\",IF(Create!$G$4=2,\"២\",IF(Create!$G$4=3,\"៣\",\"៤\"))),\" ឆ្នាំ២០១៨\")","v":"របាយការណ៍ចំណាយថវិការបស់អនុវិទ្យាល័យតាមមុខសញ្ញាចំណាយប្រចាំត្រីមាសទី ១ ឆ្នាំ២០១៨"}]
[]
["ល.រ","ឈ្មោះការិយាល័យអប់រំ យុវជន និងកីឡា\nក្រុង ឬ ស្រុក ឬ ខ័ណ្ឌ","ឥណទានដើមឆ្នាំ","ឥណទានកែតម្រូវ","មុខសញ្ញាចំណាយ",null,null,null,null,null,null,null,null,null,null,null,null,null,null,null,null,null,null,null,null,null,null,null,null,null,null,null,null,null,"សរុបចំណាយ",null,null,null,"ឥណទាននៅសល់"]
[null,null,null,null,"១.សម្ភារមូលដ្ឋាន ",null,null,"២.ការកែលម្អបរិស្ថាន សាលា និងថ្នាក់រៀន",null,null,"៣.ការជួសជុលតូច (សង្ហារឹម បណ្ណាល័យ និងបរិក្ខារអេឡិចត្រូនិច)",null,null,"៤.ការទិញសៀវភៅអានដាក់ក្នុងបណ្ណាល័យ",null,null,"៥.បំណិនជីវិត (កីឡា សិល្បៈ រោងជាង គេហវិជ្ជា និងកសិកម្ម) ",null,null,"៦.ចំណាយសម្រាប់ទឹកស្អាត និងអនាម័យ",null,null,"៧.ចំណាយទូទាត់ថ្លៃប្រើបា្រស់ថាមពលអគ្គិសនី និងទឹក",null,null,"៨.ការរៀបចំឯកសារធ្វើតេស្ត និងសម្ភារផ្សេងៗសម្រាប់ប្រឡងឆមាស",null,null,"៩.ចលនាបីល្អ (សិស្សល្អ មិត្តល្អ កូនល្អ) របស់ក្រុមប្រឹក្សាយុវជន",null,null,"១០.ចំណាយផ្សេងៗ"]
[null,null,null,null,"បណ្ដាត្រីមាសមុន","ក្នុងត្រីមាស","បូកយោង","បណ្ដាត្រីមាសមុន","ក្នុងត្រីមាស","បូកយោង","បណ្ដាត្រីមាសមុន","ក្នុងត្រីមាស","បូកយោង","បណ្ដាត្រីមាសមុន","ក្នុងត្រីមាស","បូកយោង","បណ្ដាត្រីមាសមុន","ក្នុងត្រីមាស","បូកយោង","បណ្ដាលត្រីមាសមុន","ក្នុងត្រីមាស","បូកយោង","បណ្ដាត្រីមាសមុន","ក្នុងត្រីមាស","បូកយោង","បណ្ដាត្រីមាសមុន","ក្នុងត្រីមាស","បូកយោង","បណ្ដាត្រីមាស","ក្នុងត្រីមាស","បូកយោង","បណ្ដាត្រីមាសមុន","ក្នុងត្រីមាស","បូកយោង","បណ្ដាត្រីមាសមុន","ក្នុងត្រីមាស","បូកយោង","%"]
[null,null,1,2,3,4,"5=3+4",6,7,"8=6+7",9,10,"11=9+10",12,13,"14=12+13","15","16","17=15+16","18","19","20=18+19","21","22","23=21+22","24","25","26=24+25","27","28","29=27+28","30","31","32=30+31","33","34","35=33+34","36=35/2","37=2-35"]
["សរុប",null,{"$f":"SUM(C12:C111)","v":10},{"$f":"SUM(D12:D111)","v":15},0,0,{"$f":"SUM(E11:F11)","v":0},0,0,{"$f":"SUM(H11:I11)","v":0},0,0,{"$f":"SUM(K11:L11)","v":0},0,0,{"$f":"SUM(N11:O11)","v":0},0,0,{"$f":"SUM(Q11:R11)","v":0},0,0,{"$f":"SUM(T11:U11)","v":0},0,0,{"$f":"SUM(W11:X11)","v":0},0,0,{"$f":"SUM(Z11:AA11)","v":0},0,0,{"$f":"SUM(AC11:AD11)","v":0},0,0,{"$f":"SUM(AF11:AG11)","v":0},{"$f":"SUM(E11,H11,K11,N11,Q11,T11,W11,Z11,AC11,AF11)","v":0},{"$f":"SUM(F11,I11,L11,O11,R11,U11,X11,AA11,AD11,AG11)","v":0},{"$f":"SUM(AI11:AJ11)","v":0},{"$f":"AK11/D11","v":0},{"$f":"D11-AK11","v":15}]
[1,{"$f":"[1]S_Sch_Types!A3","v":"ការិយាល័យអប់រំ យុវជន និងកីឡាក្រុងប៉ៃលិន"},{"$f":"[1]S_Sch_Types!C11","v":10},{"$f":"[1]S_Sch_Types!D11","v":15},{"$f":"[1]S_Sch_Types!E11","v":0},{"$f":"[1]S_Sch_Types!F11","v":0},{"$f":"SUM(E12:F12)","v":0},{"$f":"[1]S_Sch_Types!H11","v":0},{"$f":"[1]S_Sch_Types!I11","v":0},0,{"$f":"[1]S_Sch_Types!K11","v":0},{"$f":"[1]S_Sch_Types!L11","v":0},0,{"$f":"[1]S_Sch_Types!N11","v":0},{"$f":"[1]S_Sch_Types!O11","v":0},0,{"$f":"[1]S_Sch_Types!Q11","v":0},{"$f":"[1]S_Sch_Types!R11","v":0},0,{"$f":"[1]S_Sch_Types!T11","v":0},{"$f":"[1]S_Sch_Types!U11","v":0},0,{"$f":"[1]S_Sch_Types!W11","v":0},{"$f":"[1]S_Sch_Types!X11","v":0},0,{"$f":"[1]S_Sch_Types!Z11","v":0},{"$f":"[1]S_Sch_Types!AA11","v":0},0,{"$f":"[1]S_Sch_Types!AC11","v":0},{"$f":"[1]S_Sch_Types!AD11","v":0},0,{"$f":"[1]S_Sch_Types!AF11","v":0},{"$f":"[1]S_Sch_Types!AG11","v":0},0,{"$f":"SUM(E12,H12,K12,N12,Q12,T12,W12,Z12,AC12,AF12)","v":0},0,{"$f":"SUM(AI12:AJ12)","v":0},{"$f":"AK12/D12","v":0},{"$f":"D12-AK12","v":15}]
[2,null,null,null,null,null,0,null,null,0,null,null,0,null,null,0,null,null,0,null,null,0,null,null,0,null,null,0,null,null,0,null,null,0,0,0,0,{"$error":"#DIV/0!"},0]
[3,null,null,null,null,null,0,null,null,0,null,null,0,null,null,0,null,null,0,null,null,0,null,null,0,null,null,0,null,null,0,null,null,0,0,0,0,{"$error":"#DIV/0!"},0]
[4,null,null,null,null,null,0,null,null,0,null,null,0,null,null,0,null,null,0,null,null,0,null,null,0,null,null,0,null,null,0,null,null,0,0,0,0,{"$error":"#DIV/0!"},0]
[5,null,null,null,null,null,0,null,null,0,null,null,0,null,null,0,null,null,0,null,null,0,null,null,0,null,null,0,null,null,0,null,null,0,0,0,0,{"$error":"#DIV/0!"},0]
[6,null,null,null,null,null,0,null,null,0,null,null,0,null,null,0,null,null,0,null,null,0,null,null,0,null,null,0,null,null,0,null,null,0,0,0,0,{"$error":"#DIV/0!"},0]
[7,null,null,null,null,null,0,null,null,0,null,null,0,null,null,0,null,null,0,null,null,0,null,null,0,null,null,0,null,null,0,null,null,0,0,0,0,{"$error":"#DIV/0!"},0]
[8,null,null,null,null,null,0,null,null,0,null,null,0,null,null,0,null,null,0,null,null,0,null,null,0,null,null,0,null,null,0,null,null,0,0,0,0,{"$error":"#DIV/0!"},0]
[9,null,null,null,null,null,0,null,null,0,null,null,0,null,null,0,null,null,0,null,null,0,null,null,0,null,null,0,null,null,0,null,null,0,0,0,0,{"$error":"#DIV/0!"},0]
[10,null,null,null,null,null,0,null,null,0,null,null,0,null,null,0,null,null,0,null,null,0,null,null,0,null,null,0,null,null,0,null,null,0,0,0,0,{"$error":"#DIV/0!"},0]
[11,null,null,null,null,null,0,null,null,0,null,null,0,null,null,0,null,null,0,null,null,0,null,null,0,null,null,0,null,null,0,null,null,0,0,0,0,{"$error":"#DIV/0!"},0]
[12,null,null,null,null,null,0,null,null,0,null,null,0,null,null,0,null,null,0,null,null,0,null,null,0,null,null,0,null,null,0,null,null,0,0,0,0,{"$error":"#DIV/0!"},0]
[13,null,null,null,null,null,0,null,null,0,null,null,0,null,null,0,null,null,0,null,null,0,null,null,0,null,null,0,null,null,0,null,null,0,0,0,0,{"$error":"#DIV/0!"},0]
[14,null,null,null,null,null,0,null,null,0,null,null,0,null,null,0,null,null,0,null,null,0,null,null,0,null,null,0,null,null,0,null,null,0,0,0,0,{"$error":"#DIV/0!"},0]
[15,null,null,null,null,null,0,null,null,0,null,null,0,null,null,0,null,null,0,null,null,0,null,null,0,null,null,0,null,null,0,null,null,0,0,0,0,{"$error":"#DIV/0!"},0]
[16,null,null,null,null,null,0,null,null,0,null,null,0,null,null,0,null,null,0,null,null,0,null,null,0,null,null,0,null,null,0,null,null,0,0,0,0,{"$error":"#DIV/0!"},0]
[17,null,null,null,null,null,0,null,null,0,null,null,0,null,null,0,null,null,0,null,null,0,null,null,0,null,null,0,null,null,0,null,null,0,0,0,0,{"$error":"#DIV/0!"},0]
[18,null,null,null,null,null,0,null,null,0,null,null,0,null,null,0,null,null,0,null,null,0,null,null,0,null,null,0,null,null,0,null,null,0,0,0,0,{"$error":"#DIV/0!"},0]
[19,null,null,null,null,null,0,null,null,0,null,null,0,null,null,0,null,null,0,null,null,0,null,null,0,null,null,0,null,null,0,null,null,0,0,0,0,{"$error":"#DIV/0!"},0]
[20,null,null,null,null,null,0,null,null,0,null,null,0,null,null,0,null,null,0,null,null,0,null,null,0,null,null,0,null,null,0,null,null,0,0,0,0,{"$error":"#DIV/0!"},0]
[21,null,null,null,null,null,0,null,null,0,null,null,0,null,null,0,null,null,0,null,null,0,null,null,0,null,null,0,null,null,0,null,null,0,0,0,0,{"$error":"#DIV/0!"},0]
[22,null,null,null,null,null,0,null,null,0,null,null,0,null,null,0,null,null,0,null,null,0,null,null,0,null,null,0,null,null,0,null,null,0,0,0,0,{"$error":"#DIV/0!"},0]
[23,null,null,null,null,null,0,null,null,0,null,null,0,null,null,0,null,null,0,null,null,0,null,null,0,null,null,0,null,null,0,null,null,0,0,0,0,{"$error":"#DIV/0!"},0]
[24,null,null,null,null,null,0,null,null,0,null,null,0,null,null,0,null,null,0,null,null,0,null,null,0,null,null,0,null,null,0,null,null,0,0,0,0,{"$error":"#DIV/0!"},0]
[25,null,null,null,null,null,0,null,null,0,null,null,0,null,null,0,null,null,0,null,null,0,null,null,0,null,null,0,null,null,0,null,null,0,0,0,0,{"$error":"#DIV/0!"},0]
[26,null,null,null,null,null,0,null,null,0,null,null,0,null,null,0,null,null,0,null,null,0,null,null,0,null,null,0,null,null,0,null,null,0,0,0,0,{"$error":"#DIV/0!"},0]
[27,null,null,null,null,null,0,null,null,0,null,null,0,null,null,0,null,null,0,null,null,0,null,null,0,null,null,0,null,null,0,null,null,0,0,0,0,{"$error":"#DIV/0!"},0]
[28,null,null,null,null,null,0,null,null,0,null,null,0,null,null,0,null,null,0,null,null,0,null,null,0,null,null,0,null,null,0,null,null,0,0,0,0,{"$error":"#DIV/0!"},0]
[29,null,null,null,null,null,0,null,null,0,null,null,0,null,null,0,null,null,0,null,null,0,null,null,0,null,null,0,null,null,0,null,null,0,0,0,0,{"$error":"#DIV/0!"},0]
[30,null,null,null,null,null,0,null,null,0,null,null,0,null,null,0,null,null,0,null,null,0,null,null,0,null,null,0,null,null,0,null,null,0,0,0,0,{"$error":"#DIV/0!"},0]
[31,null,null,null,null,null,0,null,null,0,null,null,0,null,null,0,null,null,0,null,null,0,null,null,0,null,null,0,null,null,0,null,null,0,0,0,0,{"$error":"#DIV/0!"},0]
[32,null,null,null,null,null,0,null,null,0,null,null,0,null,null,0,null,null,0,null,null,0,null,null,0,null,null,0,null,null,0,null,null,0,0,0,0,{"$error":"#DIV/0!"},0]
[33,null,null,null,null,null,0,null,null,0,null,null,0,null,null,0,null,null,0,null,null,0,null,null,0,null,null,0,null,null,0,null,null,0,0,0,0,{"$error":"#DIV/0!"},0]
[34,null,null,null,null,null,0,null,null,0,null,null,0,null,null,0,null,null,0,null,null,0,null,null,0,null,null,0,null,null,0,null,null,0,0,0,0,{"$error":"#DIV/0!"},0]
[35,null,null,null,null,null,0,null,null,0,null,null,0,null,null,0,null,null,0,null,null,0,null,null,0,null,null,0,null,null,0,null,null,0,0,0,0,{"$error":"#DIV/0!"},0]
[36,null,null,null,null,null,0,null,null,0,null,null,0,null,null,0,null,null,0,null,null,0,null,null,0,null,null,0,null,null,0,null,null,0,0,0,0,{"$error":"#DIV/0!"},0]
[37,null,null,null,null,null,0,null,null,0,null,null,0,null,null,0,null,null,0,null,null,0,null,null,0,null,null,0,null,null,0,null,null,0,0,0,0,{"$error":"#DIV/0!"},0]
[38,null,null,null,null,null,0,null,null,0,null,null,0,null,null,0,null,null,0,null,null,0,null,null,0,null,null,0,null,null,0,null,null,0,0,0,0,{"$error":"#DIV/0!"},0]
[39,null,null,null,null,null,0,null,null,0,null,null,0,null,null,0,null,null,0,null,null,0,null,null,0,null,null,0,null,null,0,null,null,0,0,0,0,{"$error":"#DIV/0!"},0]
[40,null,null,null,null,null,0,null,null,0,null,null,0,null,null,0,null,null,0,null,null,0,null,null,0,null,null,0,null,null,0,null,null,0,0,0,0,{"$error":"#DIV/0!"},0]
[41,null,null,null,null,null,0,null,null,0,null,null,0,null,null,0,null,null,0,null,null,0,null,null,0,null,null,0,null,null,0,null,null,0,0,0,0,{"$error":"#DIV/0!"},0]
[42,null,null,null,null,null,0,null,null,0,null,null,0,null,null,0,null,null,0,null,null,0,null,null,0,null,null,0,null,null,0,null,null,0,0,0,0,{"$error":"#DIV/0!"},0]
[43,null,null,null,null,null,0,null,null,0,null,null,0,null,null,0,null,null,0,null,null,0,null,null,0,null,null,0,null,null,0,null,null,0,0,0,0,{"$error":"#DIV/0!"},0]
[44,null,null,null,null,null,0,null,null,0,null,null,0,null,null,0,null,null,0,null,null,0,null,null,0,null,null,0,null,null,0,null,null,0,0,0,0,{"$error":"#DIV/0!"},0]
[45,null,null,null,null,null,0,null,null,0,null,null,0,null,null,0,null,null,0,null,null,0,null,null,0,null,null,0,null,null,0,null,null,0,0,0,0,{"$error":"#DIV/0!"},0]
[46,null,null,null,null,null,0,null,null,0,null,null,0,null,null,0,null,null,0,null,null,0,null,null,0,null,null,0,null,null,0,null,null,0,0,0,0,{"$error":"#DIV/0!"},0]
[47,null,null,null,null,null,0,null,null,0,null,null,0,null,null,0,null,null,0,null,null,0,null,null,0,null,null,0,null,null,0,null,null,0,0,0,0,{"$error":"#DIV/0!"},0]
[48,null,null,null,null,null,0,null,null,0,null,null,0,null,null,0,null,null,0,null,null,0,null,null,0,null,null,0,null,null,0,null,null,0,0,0,0,{"$error":"#DIV/0!"},0]
[49,null,null,null,null,null,0,null,null,0,null,null,0,null,null,0,null,null,0,null,null,0,null,null,0,null,null,0,null,null,0,null,null,0,0,0,0,{"$error":"#DIV/0!"},0]
[50,null,null,null,null,null,0,null,null,0,null,null,0,null,null,0,null,null,0,null,null,0,null,null,0,null,null,0,null,null,0,null,null,0,0,0,0,{"$error":"#DIV/0!"},0]
[51,null,null,null,null,null,0,null,null,0,null,null,0,null,null,0,null,null,0,null,null,0,null,null,0,null,null,0,null,null,0,null,null,0,0,0,0,{"$error":"#DIV/0!"},0]
[52,null,null,null,null,null,0,null,null,0,null,null,0,null,null,0,null,null,0,null,null,0,null,null,0,null,null,0,null,null,0,null,null,0,0,0,0,{"$error":"#DIV/0!"},0]
[53,null,null,null,null,null,0,null,null,0,null,null,0,null,null,0,null,null,0,null,null,0,null,null,0,null,null,0,null,null,0,null,null,0,0,0,0,{"$error":"#DIV/0!"},0]
[54,null,null,null,null,null,0,null,null,0,null,null,0,null,null,0,null,null,0,null,null,0,null,null,0,null,null,0,null,null,0,null,null,0,0,0,0,{"$error":"#DIV/0!"},0]
[55,null,null,null,null,null,0,null,null,0,null,null,0,null,null,0,null,null,0,null,null,0,null,null,0,null,null,0,null,null,0,null,null,0,0,0,0,{"$error":"#DIV/0!"},0]
[56,null,null,null,null,null,0,null,null,0,null,null,0,null,null,0,null,null,0,null,null,0,null,null,0,null,null,0,null,null,0,null,null,0,0,0,0,{"$error":"#DIV/0!"},0]
[57,null,null,null,null,null,0,null,null,0,null,null,0,null,null,0,null,null,0,null,null,0,null,null,0,null,null,0,null,null,0,null,null,0,0,0,0,{"$error":"#DIV/0!"},0]
[58,null,null,null,null,null,0,null,null,0,null,null,0,null,null,0,null,null,0,null,null,0,null,null,0,null,null,0,null,null,0,null,null,0,0,0,0,{"$error":"#DIV/0!"},0]
[59,null,null,null,null,null,0,null,null,0,null,null,0,null,null,0,null,null,0,null,null,0,null,null,0,null,null,0,null,null,0,null,null,0,0,0,0,{"$error":"#DIV/0!"},0]
[60,null,null,null,null,null,0,null,null,0,null,null,0,null,null,0,null,null,0,null,null,0,null,null,0,null,null,0,null,null,0,null,null,0,0,0,0,{"$error":"#DIV/0!"},0]
[61,null,null,null,null,null,0,null,null,0,null,null,0,null,null,0,null,null,0,null,null,0,null,null,0,null,null,0,null,null,0,null,null,0,0,0,0,{"$error":"#DIV/0!"},0]
[62,null,null,null,null,null,0,null,null,0,null,null,0,null,null,0,null,null,0,null,null,0,null,null,0,null,null,0,null,null,0,null,null,0,0,0,0,{"$error":"#DIV/0!"},0]
[63,null,null,null,null,null,0,null,null,0,null,null,0,null,null,0,null,null,0,null,null,0,null,null,0,null,null,0,null,null,0,null,null,0,0,0,0,{"$error":"#DIV/0!"},0]
[64,null,null,null,null,null,0,null,null,{"$f":"SUM(H75:I75)","v":0},null,null,{"$f":"SUM(K75:L75)","v":0},null,null,{"$f":"SUM(N75:O75)","v":0},null,null,{"$f":"SUM(Q75:R75)","v":0},null,null,{"$f":"SUM(T75:U75)","v":0},null,null,{"$f":"SUM(W75:X75)","v":0},null,null,{"$f":"SUM(Z75:AA75)","v":0},null,null,{"$f":"SUM(AC75:AD75)","v":0},null,null,{"$f":"SUM(AF75:AG75)","v":0},0,0,0,{"$error":"#DIV/0!"},0]
[65,null,null,null,null,null,{"$f":"SUM(E76:F76)","v":0},null,null,0,null,null,0,null,null,0,null,null,0,null,null,0,null,null,0,null,null,0,null,null,0,null,null,0,{"$f":"SUM(E76,H76,K76,N76,Q76,T76,W76,Z76,AC76,AF76)","v":0},0,{"$f":"SUM(AI76:AJ76)","v":0},{"$f":"AK76/D76","v":{"$error":"#DIV/0!"}},{"$f":"D76-AK76","v":0}]
[66,null,null,null,null,null,0,null,null,0,null,null,0,null,null,0,null,null,0,null,null,0,null,null,0,null,null,0,null,null,0,null,null,0,0,0,0,{"$error":"#DIV/0!"},0]
[67,null,null,null,null,null,0,null,null,0,null,null,0,null,null,0,null,null,0,null,null,0,null,null,0,null,null,0,null,null,0,null,null,0,0,0,0,{"$error":"#DIV/0!"},0]
[68,null,null,null,null,null,0,null,null,0,null,null,0,null,null,0,null,null,0,null,null,0,null,null,0,null,null,0,null,null,0,null,null,0,0,0,0,{"$error":"#DIV/0!"},0]
[69,null,null,null,null,null,0,null,null,0,null,null,0,null,null,0,null,null,0,null,null,0,null,null,0,null,null,0,null,null,0,null,null,0,0,0,0,{"$error":"#DIV/0!"},0]
[70,null,null,null,null,null,0,null,null,0,null,null,0,null,null,0,null,null,0,null,null,0,null,null,0,null,null,0,null,null,0,null,null,0,0,0,0,{"$error":"#DIV/0!"},0]
[71,null,null,null,null,null,0,null,null,0,null,null,0,null,null,0,null,null,0,null,null,0,null,null,0,null,null,0,null,null,0,null,null,0,0,0,0,{"$error":"#DIV/0!"},0]
[72,null,null,null,null,null,0,null,null,0,null,null,0,null,null,0,null,null,0,null,null,0,null,null,0,null,null,0,null,null,0,null,null,0,0,0,0,{"$error":"#DIV/0!"},0]
[73,null,null,null,null,null,0,null,null,0,null,null,0,null,null,0,null,null,0,null,null,0,null,null,0,null,null,0,null,null,0,null,null,0,0,0,0,{"$error":"#DIV/0!"},0]
[74,null,null,null,null,null,0,null,null,0,null,null,0,null,null,0,null,null,0,null,null,0,null,null,0,null,null,0,null,null,0,null,null,0,0,0,0,{"$error":"#DIV/0!"},0]
[75,null,null,null,null,null,0,null,null,0,null,null,0,null,null,0,null,null,0,null,null,0,null,null,0,null,null,0,null,null,0,null,null,0,0,0,0,{"$error":"#DIV/0!"},0]
[76,null,null,null,null,null,0,null,null,0,null,null,0,null,null,0,null,null,0,null,null,0,null,null,0,null,null,0,null,null,0,null,null,0,0,0,0,{"$error":"#DIV/0!"},0]
[77,null,null,null,null,null,0,null,null,0,null,null,0,null,null,0,null,null,0,null,null,0,null,null,0,null,null,0,null,null,0,null,null,0,0,0,0,{"$error":"#DIV/0!"},0]
[78,null,null,null,null,null,0,null,null,0,null,null,0,null,null,0,null,null,0,null,null,0,null,null,0,null,null,0,null,null,0,null,null,0,0,0,0,{"$error":"#DIV/0!"},0]
[79,null,null,null,null,null,0,null,null,0,null,null,0,null,null,0,null,null,0,null,null,0,null,null,0,null,null,0,null,null,0,null,null,0,0,0,0,{"$error":"#DIV/0!"},0]
[80,null,null,null,null,null,0,null,null,0,null,null,0,null,null,0,null,null,0,null,null,0,null,null,0,null,null,0,null,null,0,null,null,0,0,0,0,{"$error":"#DIV/0!"},0]
[81,null,null,null,null,null,0,null,null,0,null,null,0,null,null,0,null,null,0,null,null,0,null,null,0,null,null,0,null,null,0,null,null,0,0,0,0,{"$error":"#DIV/0!"},0]
[82,null,null,null,null,null,0,null,null,0,null,null,0,null,null,0,null,null,0,null,null,0,null,null,0,null,null,0,null,null,0,null,null,0,0,0,0,{"$error":"#DIV/0!"},0]
[83,null,null,null,null,null,0,null,null,0,null,null,0,null,null,0,null,null,0,null,null,0,null,null,0,null,null,0,null,null,0,null,null,0,0,0,0,{"$error":"#DIV/0!"},0]
[84,null,null,null,null,null,0,null,null,0,null,null,0,null,null,0,null,null,0,null,null,0,null,null,0,null,null,0,null,null,0,null,null,0,0,0,0,{"$error":"#DIV/0!"},0]
[85,null,null,null,null,null,0,null,null,0,null,null,0,null,null,0,null,null,0,null,null,0,null,null,0,null,null,0,null,null,0,null,null,0,0,0,0,{"$error":"#DIV/0!"},0]
[86,null,null,null,null,null,0,null,null,0,null,null,0,null,null,0,null,null,0,null,null,0,null,null,0,null,null,0,null,null,0,null,null,0,0,0,0,{"$error":"#DIV/0!"},0]
[87,null,null,null,null,null,0,null,null,0,null,null,0,null,null,0,null,null,0,null,null,0,null,null,0,null,null,0,null,null,0,null,null,0,0,0,0,{"$error":"#DIV/0!"},0]
[88,null,null,null,null,null,0,null,null,0,null,null,0,null,null,0,null,null,0,null,null,0,null,null,0,null,null,0,null,null,0,null,null,0,0,0,0,{"$error":"#DIV/0!"},0]
[89,null,null,null,null,null,0,null,null,0,null,null,0,null,null,0,null,null,0,null,null,0,null,null,0,null,null,0,null,null,0,null,null,0,0,0,0,{"$error":"#DIV/0!"},0]
[90,null,null,null,null,null,0,null,null,0,null,null,0,null,null,0,null,null,0,null,null,0,null,null,0,null,null,0,null,null,0,null,null,0,0,0,0,{"$error":"#DIV/0!"},0]
[91,null,null,null,null,null,0,null,null,0,null,null,0,null,null,0,null,null,0,null,null,0,null,null,0,null,null,0,null,null,0,null,null,0,0,0,0,{"$error":"#DIV/0!"},0]
[92,null,null,null,null,null,0,null,null,0,null,null,0,null,null,0,null,null,0,null,null,0,null,null,0,null,null,0,null,null,0,null,null,0,0,0,0,{"$error":"#DIV/0!"},0]
[93,null,null,null,null,null,0,null,null,0,null,null,0,null,null,0,null,null,0,null,null,0,null,null,0,null,null,0,null,null,0,null,null,0,0,0,0,{"$error":"#DIV/0!"},0]
[94,null,null,null,null,null,0,null,null,0,null,null,0,null,null,0,null,null,0,null,null,0,null,null,0,null,null,0,null,null,0,null,null,0,0,0,0,{"$error":"#DIV/0!"},0]
[95,null,null,null,null,null,0,null,null,0,null,null,0,null,null,0,null,null,0,null,null,0,null,null,0,null,null,0,null,null,0,null,null,0,0,0,0,{"$error":"#DIV/0!"},0]
[96,null,null,null,null,null,0,null,null,0,null,null,0,null,null,0,null,null,0,null,null,0,null,null,0,null,null,0,null,null,0,null,null,0,0,0,0,{"$error":"#DIV/0!"},0]
[97,null,null,null,null,null,0,null,null,0,null,null,0,null,null,0,null,null,0,null,null,0,null,null,0,null,null,0,null,null,0,null,null,0,0,0,0,{"$error":"#DIV/0!"},0]
[98,null,null,null,null,null,0,null,null,0,null,null,0,null,null,0,null,null,0,null,null,0,null,null,0,null,null,0,null,null,0,null,null,0,0,0,0,{"$error":"#DIV/0!"},0]
[99,null,null,null,null,null,0,null,null,0,null,null,0,null,null,0,null,null,0,null,null,0,null,null,0,null,null,0,null,null,0,null,null,0,0,0,0,{"$error":"#DIV/0!"},0]
[100,null,null,null,null,null,0,null,null,0,null,null,0,null,null,0,null,null,0,null,null,0,null,null,0,null,null,0,null,null,0,null,null,0,0,0,0,{"$error":"#DIV/0!"},0]

{"sheet":"H_DoE_Types","index":14,"n_rows":111,"n_cols":39,"rows_kept":111,"cut":false,"hidden":false,"merged":[[1,0,1,4],[2,0,2,4],[10,0,10,1],[6,34,7,37],[6,38,8,38],[7,4,7,6],[7,7,7,9],[7,10,7,12],[7,13,7,15],[7,16,7,18],[7,19,7,21],[7,22,7,24],[7,25,7,27],[4,0,4,15],[6,0,9,0],[6,1,9,1],[6,2,8,2],[6,3,8,3],[6,4,6,33],[7,28,7,30],[7,31,7,33]]}
[]
[{"$f":"Create!G2","v":"ក្រសួងអប់រំ យុវជន និងកីឡា"}]
[{"$f":"Create!G3","v":"បំពេញឈ្មោះទីនេះ"}]
[]
[{"$f":"CONCATENATE(\"របាយការណ៍ចំណាយថវិការបស់វិទ្យាល័យតាមមុខសញ្ញាចំណាយប្រចាំត្រីមាសទី  \", IF(Create!$G$4=1,\"១\",IF(Create!$G$4=2,\"២\",IF(Create!$G$4=3,\"៣\",\"៤\"))),\" ឆ្នាំ២០១៨\")","v":"របាយការណ៍ចំណាយថវិការបស់វិទ្យាល័យតាមមុខសញ្ញាចំណាយប្រចាំត្រីមាសទី  ១ ឆ្នាំ២០១៨"}]
[]
["ល.រ","ឈ្មោះការិយាល័យអប់រំ យុវជន និងកីឡា\nក្រុង ឬ ស្រុក ឬ ខ័ណ្ឌ","ឥណទានដើមឆ្នាំ","ឥណទានកែតម្រូវ","មុខសញ្ញាចំណាយ",null,null,null,null,null,null,null,null,null,null,null,null,null,null,null,null,null,null,null,null,null,null,null,null,null,null,null,null,null,"សរុបចំណាយ",null,null,null,"ឥណទាននៅសល់"]
[null,null,null,null,"១.សម្ភារមូលដ្ឋាន ",null,null,"២.ការកែលម្អបរិស្ថាន សាលា និងថ្នាក់រៀន",null,null,"៣.ការជួសជុលតូច (សង្ហារឹម បណ្ណាល័យ និងបរិក្ខារអេឡិចត្រូនិច)",null,null,"៤.ការទិញសៀវភៅអានដាក់ក្នុងបណ្ណាល័យ",null,null,"៥.បំណិនជីវិត (កីឡា សិល្បៈ រោងជាង គេហវិជ្ជា និងកសិកម្ម) ",null,null,"៦.ចំណាយសម្រាប់ទឹកស្អាត និងអនាម័យ",null,null,"៧.ចំណាយទូទាត់ថ្លៃប្រើបា្រស់ថាមពលអគ្គិសនី និងទឹក",null,null,"៨.ការរៀបចំឯកសារធ្វើតេស្ត និងសម្ភារផ្សេងៗសម្រាប់ប្រឡងឆមាស",null,null,"៩.ចលនាបីល្អ (សិស្សល្អ មិត្តល្អ កូនល្អ) របស់ក្រុមប្រឹក្សាយុវជន",null,null,"១០.ចំណាយផ្សេងៗ"]
[null,null,null,null,"បណ្ដាត្រីមាសមុន","ក្នុងត្រីមាស","បូកយោង","បណ្ដាត្រីមាសមុន","ក្នុងត្រីមាស","បូកយោង","បណ្ដាត្រីមាសមុន","ក្នុងត្រីមាស","បូកយោង","បណ្ដាត្រីមាសមុន","ក្នុងត្រីមាស","បូកយោង","បណ្ដាត្រីមាសមុន","ក្នុងត្រីមាស","បូកយោង","បណ្ដាលត្រីមាសមុន","ក្នុងត្រីមាស","បូកយោង","បណ្ដាត្រីមាសមុន","ក្នុងត្រីមាស","បូកយោង","បណ្ដាត្រីមាសមុន","ក្នុងត្រីមាស","បូកយោង","បណ្ដាត្រីមាស","ក្នុងត្រីមាស","បូកយោង","បណ្ដាត្រីមាសមុន","ក្នុងត្រីមាស","បូកយោង","បណ្ដាត្រីមាសមុន","ក្នុងត្រីមាស","បូកយោង","%"]
[null,null,1,2,3,4,"5=3+4",6,7,"8=6+7",9,10,"11=9+10",12,13,"14=12+13","15","16","17=15+16","18","19","20=18+19","21","22","23=21+22","24","25","26=24+25","27","28","29=27+28","30","31","32=30+31","33","34","35=33+34","36=35/2","37=2-35"]
["សរុប",null,{"$f":"SUM(C12:C111)","v":0},{"$f":"SUM(D12:D111)","v":0},0,0,{"$f":"SUM(E11:F11)","v":0},0,0,{"$f":"SUM(H11:I11)","v":0},0,0,{"$f":"SUM(K11:L11)","v":0},0,0,{"$f":"SUM(N11:O11)","v":0},0,0,{"$f":"SUM(Q11:R11)","v":0},0,0,{"$f":"SUM(T11:U11)","v":0},0,0,{"$f":"SUM(W11:X11)","v":0},0,0,{"$f":"SUM(Z11:AA11)","v":0},0,0,{"$f":"SUM(AC11:AD11)","v":0},0,0,{"$f":"SUM(AF11:AG11)","v":0},{"$f":"SUM(E11,H11,K11,N11,Q11,T11,W11,Z11,AC11,AF11)","v":0},{"$f":"SUM(F11,I11,L11,O11,R11,U11,X11,AA11,AD11,AG11)","v":0},{"$f":"SUM(AI11:AJ11)","v":0},{"$f":"AK11/D11","v":{"$error":"#DIV/0!"}},{"$f":"D11-AK11","v":0}]
[1,{"$f":"[1]H_Sch_Types!A3","v":"ការិយាល័យអប់រំ យុវជន និងកីឡាក្រុងប៉ៃលិន"},{"$f":"[1]H_Sch_Types!C11","v":0},{"$f":"[1]H_Sch_Types!D11","v":0},{"$f":"[1]H_Sch_Types!E11","v":0},{"$f":"[1]H_Sch_Types!F11","v":0},{"$f":"SUM(E12:F12)","v":0},{"$f":"[1]H_Sch_Types!H11","v":0},{"$f":"[1]H_Sch_Types!I11","v":0},0,{"$f":"[1]H_Sch_Types!K11","v":0},{"$f":"[1]H_Sch_Types!L11","v":0},0,{"$f":"[1]H_Sch_Types!N11","v":0},{"$f":"[1]H_Sch_Types!O11","v":0},0,{"$f":"[1]H_Sch_Types!Q11","v":0},{"$f":"[1]H_Sch_Types!R11","v":0},0,{"$f":"[1]H_Sch_Types!T11","v":0},{"$f":"[1]H_Sch_Types!U11","v":0},0,{"$f":"[1]H_Sch_Types!W11","v":0},{"$f":"[1]H_Sch_Types!X11","v":0},0,{"$f":"[1]H_Sch_Types!Z11","v":0},{"$f":"[1]H_Sch_Types!AA11","v":0},0,{"$f":"[1]H_Sch_Types!AC11","v":0},{"$f":"[1]H_Sch_Types!AD11","v":0},0,{"$f":"[1]H_Sch_Types!AF11","v":0},{"$f":"[1]H_Sch_Types!AG11","v":0},0,{"$f":"SUM(E12,H12,K12,N12,Q12,T12,W12,Z12,AC12,AF12)","v":0},0,{"$f":"SUM(AI12:AJ12)","v":0},{"$f":"AK12/D12","v":{"$error":"#DIV/0!"}},{"$f":"D12-AK12","v":0}]
[2,null,null,null,null,null,0,null,null,0,null,null,0,null,null,0,null,null,0,null,null,0,null,null,0,null,null,0,null,null,0,null,null,0,0,0,0,{"$error":"#DIV/0!"},0]
[3,null,null,null,null,null,0,null,null,0,null,null,0,null,null,0,null,null,0,null,null,0,null,null,0,null,null,0,null,null,0,null,null,0,0,0,0,{"$error":"#DIV/0!"},0]
[4,null,null,null,null,null,0,null,null,0,null,null,0,null,null,0,null,null,0,null,null,0,null,null,0,null,null,0,null,null,0,null,null,0,0,0,0,{"$error":"#DIV/0!"},0]
[5,null,null,null,null,null,0,null,null,0,null,null,0,null,null,0,null,null,0,null,null,0,null,null,0,null,null,0,null,null,0,null,null,0,0,0,0,{"$error":"#DIV/0!"},0]
[6,null,null,null,null,null,0,null,null,0,null,null,0,null,null,0,null,null,0,null,null,0,null,null,0,null,null,0,null,null,0,null,null,0,0,0,0,{"$error":"#DIV/0!"},0]
[7,null,null,null,null,null,0,null,null,0,null,null,0,null,null,0,null,null,0,null,null,0,null,null,0,null,null,0,null,null,0,null,null,0,0,0,0,{"$error":"#DIV/0!"},0]
[8,null,null,null,null,null,0,null,null,0,null,null,0,null,null,0,null,null,0,null,null,0,null,null,0,null,null,0,null,null,0,null,null,0,0,0,0,{"$error":"#DIV/0!"},0]
[9,null,null,null,null,null,0,null,null,0,null,null,0,null,null,0,null,null,0,null,null,0,null,null,0,null,null,0,null,null,0,null,null,0,0,0,0,{"$error":"#DIV/0!"},0]
[10,null,null,null,null,null,0,null,null,0,null,null,0,null,null,0,null,null,0,null,null,0,null,null,0,null,null,0,null,null,0,null,null,0,0,0,0,{"$error":"#DIV/0!"},0]
[11,null,null,null,null,null,0,null,null,0,null,null,0,null,null,0,null,null,0,null,null,0,null,null,0,null,null,0,null,null,0,null,null,0,0,0,0,{"$error":"#DIV/0!"},0]
[12,null,null,null,null,null,0,null,null,0,null,null,0,null,null,0,null,null,0,null,null,0,null,null,0,null,null,0,null,null,0,null,null,0,0,0,0,{"$error":"#DIV/0!"},0]
[13,null,null,null,null,null,0,null,null,0,null,null,0,null,null,0,null,null,0,null,null,0,null,null,0,null,null,0,null,null,0,null,null,0,0,0,0,{"$error":"#DIV/0!"},0]
[14,null,null,null,null,null,0,null,null,0,null,null,0,null,null,0,null,null,0,null,null,0,null,null,0,null,null,0,null,null,0,null,null,0,0,0,0,{"$error":"#DIV/0!"},0]
[15,null,null,null,null,null,0,null,null,0,null,null,0,null,null,0,null,null,0,null,null,0,null,null,0,null,null,0,null,null,0,null,null,0,0,0,0,{"$error":"#DIV/0!"},0]
[16,null,null,null,null,null,0,null,null,0,null,null,0,null,null,0,null,null,0,null,null,0,null,null,0,null,null,0,null,null,0,null,null,0,0,0,0,{"$error":"#DIV/0!"},0]
[17,null,null,null,null,null,0,null,null,0,null,null,0,null,null,0,null,null,0,null,null,0,null,null,0,null,null,0,null,null,0,null,null,0,0,0,0,{"$error":"#DIV/0!"},0]
[18,null,null,null,null,null,0,null,null,0,null,null,0,null,null,0,null,null,0,null,null,0,null,null,0,null,null,0,null,null,0,null,null,0,0,0,0,{"$error":"#DIV/0!"},0]
[19,null,null,null,null,null,0,null,null,0,null,null,0,null,null,0,null,null,0,null,null,0,null,null,0,null,null,0,null,null,0,null,null,0,0,0,0,{"$error":"#DIV/0!"},0]
[20,null,null,null,null,null,0,null,null,0,null,null,0,null,null,0,null,null,0,null,null,0,null,null,0,null,null,0,null,null,0,null,null,0,0,0,0,{"$error":"#DIV/0!"},0]
[21,null,null,null,null,null,0,null,null,0,null,null,0,null,null,0,null,null,0,null,null,0,null,null,0,null,null,0,null,null,0,null,null,0,0,0,0,{"$error":"#DIV/0!"},0]
[22,null,null,null,null,null,0,null,null,0,null,null,0,null,null,0,null,null,0,null,null,0,null,null,0,null,null,0,null,null,0,null,null,0,0,0,0,{"$error":"#DIV/0!"},0]
[23,null,null,null,null,null,0,null,null,0,null,null,0,null,null,0,null,null,0,null,null,0,null,null,0,null,null,0,null,null,0,null,null,0,0,0,0,{"$error":"#DIV/0!"},0]
[24,null,null,null,null,null,0,null,null,0,null,null,0,null,null,0,null,null,0,null,null,0,null,null,0,null,null,0,null,null,0,null,null,0,0,0,0,{"$error":"#DIV/0!"},0]
[25,null,null,null,null,null,0,null,null,0,null,null,0,null,null,0,null,null,0,null,null,0,null,null,0,null,null,0,null,null,0,null,null,0,0,0,0,{"$error":"#DIV/0!"},0]
[26,null,null,null,null,null,0,null,null,0,null,null,0,null,null,0,null,null,0,null,null,0,null,null,0,null,null,0,null,null,0,null,null,0,0,0,0,{"$error":"#DIV/0!"},0]
[27,null,null,null,null,null,0,null,null,0,null,null,0,null,null,0,null,null,0,null,null,0,null,null,0,null,null,0,null,null,0,null,null,0,0,0,0,{"$error":"#DIV/0!"},0]
[28,null,null,null,null,null,0,null,null,0,null,null,0,null,null,0,null,null,0,null,null,0,null,null,0,null,null,0,null,null,0,null,null,0,0,0,0,{"$error":"#DIV/0!"},0]
[29,null,null,null,null,null,0,null,null,0,null,null,0,null,null,0,null,null,0,null,null,0,null,null,0,null,null,0,null,null,0,null,null,0,0,0,0,{"$error":"#DIV/0!"},0]
[30,null,null,null,null,null,0,null,null,0,null,null,0,null,null,0,null,null,0,null,null,0,null,null,0,null,null,0,null,null,0,null,null,0,0,0,0,{"$error":"#DIV/0!"},0]
[31,null,null,null,null,null,0,null,null,0,null,null,0,null,null,0,null,null,0,null,null,0,null,null,0,null,null,0,null,null,0,null,null,0,0,0,0,{"$error":"#DIV/0!"},0]
[32,null,null,null,null,null,0,null,null,0,null,null,0,null,null,0,null,null,0,null,null,0,null,null,0,null,null,0,null,null,0,null,null,0,0,0,0,{"$error":"#DIV/0!"},0]
[33,null,null,null,null,null,0,null,null,0,null,null,0,null,null,0,null,null,0,null,null,0,null,null,0,null,null,0,null,null,0,null,null,0,0,0,0,{"$error":"#DIV/0!"},0]
[34,null,null,null,null,null,0,null,null,0,null,null,0,null,null,0,null,null,0,null,null,0,null,null,0,null,null,0,null,null,0,null,null,0,0,0,0,{"$error":"#DIV/0!"},0]
[35,null,null,null,null,null,0,null,null,0,null,null,0,null,null,0,null,null,0,null,null,0,null,null,0,null,null,0,null,null,0,null,null,0,0,0,0,{"$error":"#DIV/0!"},0]
[36,null,null,null,null,null,0,null,null,0,null,null,0,null,null,0,null,null,0,null,null,0,null,null,0,null,null,0,null,null,0,null,null,0,0,0,0,{"$error":"#DIV/0!"},0]
[37,null,null,null,null,null,0,null,null,0,null,null,0,null,null,0,null,null,0,null,null,0,null,null,0,null,null,0,null,null,0,null,null,0,0,0,0,{"$error":"#DIV/0!"},0]
[38,null,null,null,null,null,0,null,null,0,null,null,0,null,null,0,null,null,0,null,null,0,null,null,0,null,null,0,null,null,0,null,null,0,0,0,0,{"$error":"#DIV/0!"},0]
[39,null,null,null,null,null,0,null,null,0,null,null,0,null,null,0,null,null,0,null,null,0,null,null,0,null,null,0,null,null,0,null,null,0,0,0,0,{"$error":"#DIV/0!"},0]
[40,null,null,null,null,null,0,null,null,0,null,null,0,null,null,0,null,null,0,null,null,0,null,null,0,null,null,0,null,null,0,null,null,0,0,0,0,{"$error":"#DIV/0!"},0]
[41,null,null,null,null,null,0,null,null,0,null,null,0,null,null,0,null,null,0,null,null,0,null,null,0,null,null,0,null,null,0,null,null,0,0,0,0,{"$error":"#DIV/0!"},0]
[42,null,null,null,null,null,0,null,null,0,null,null,0,null,null,0,null,null,0,null,null,0,null,null,0,null,null,0,null,null,0,null,null,0,0,0,0,{"$error":"#DIV/0!"},0]
[43,null,null,null,null,null,0,null,null,0,null,null,0,null,null,0,null,null,0,null,null,0,null,null,0,null,null,0,null,null,0,null,null,0,0,0,0,{"$error":"#DIV/0!"},0]
[44,null,null,null,null,null,0,null,null,0,null,null,0,null,null,0,null,null,0,null,null,0,null,null,0,null,null,0,null,null,0,null,null,0,0,0,0,{"$error":"#DIV/0!"},0]
[45,null,null,null,null,null,0,null,null,0,null,null,0,null,null,0,null,null,0,null,null,0,null,null,0,null,null,0,null,null,0,null,null,0,0,0,0,{"$error":"#DIV/0!"},0]
[46,null,null,null,null,null,0,null,null,0,null,null,0,null,null,0,null,null,0,null,null,0,null,null,0,null,null,0,null,null,0,null,null,0,0,0,0,{"$error":"#DIV/0!"},0]
[47,null,null,null,null,null,0,null,null,0,null,null,0,null,null,0,null,null,0,null,null,0,null,null,0,null,null,0,null,null,0,null,null,0,0,0,0,{"$error":"#DIV/0!"},0]
[48,null,null,null,null,null,0,null,null,0,null,null,0,null,null,0,null,null,0,null,null,0,null,null,0,null,null,0,null,null,0,null,null,0,0,0,0,{"$error":"#DIV/0!"},0]
[49,null,null,null,null,null,0,null,null,0,null,null,0,null,null,0,null,null,0,null,null,0,null,null,0,null,null,0,null,null,0,null,null,0,0,0,0,{"$error":"#DIV/0!"},0]
[50,null,null,null,null,null,0,null,null,0,null,null,0,null,null,0,null,null,0,null,null,0,null,null,0,null,null,0,null,null,0,null,null,0,0,0,0,{"$error":"#DIV/0!"},0]
[51,null,null,null,null,null,0,null,null,0,null,null,0,null,null,0,null,null,0,null,null,0,null,null,0,null,null,0,null,null,0,null,null,0,0,0,0,{"$error":"#DIV/0!"},0]
[52,null,null,null,null,null,0,null,null,0,null,null,0,null,null,0,null,null,0,null,null,0,null,null,0,null,null,0,null,null,0,null,null,0,0,0,0,{"$error":"#DIV/0!"},0]
[53,null,null,null,null,null,0,null,null,0,null,null,0,null,null,0,null,null,0,null,null,0,null,null,0,null,null,0,null,null,0,null,null,0,0,0,0,{"$error":"#DIV/0!"},0]
[54,null,null,null,null,null,0,null,null,0,null,null,0,null,null,0,null,null,0,null,null,0,null,null,0,null,null,0,null,null,0,null,null,0,0,0,0,{"$error":"#DIV/0!"},0]
[55,null,null,null,null,null,0,null,null,0,null,null,0,null,null,0,null,null,0,null,null,0,null,null,0,null,null,0,null,null,0,null,null,0,0,0,0,{"$error":"#DIV/0!"},0]
[56,null,null,null,null,null,0,null,null,0,null,null,0,null,null,0,null,null,0,null,null,0,null,null,0,null,null,0,null,null,0,null,null,0,0,0,0,{"$error":"#DIV/0!"},0]
[57,null,null,null,null,null,0,null,null,0,null,null,0,null,null,0,null,null,0,null,null,0,null,null,0,null,null,0,null,null,0,null,null,0,0,0,0,{"$error":"#DIV/0!"},0]
[58,null,null,null,null,null,0,null,null,0,null,null,0,null,null,0,null,null,0,null,null,0,null,null,0,null,null,0,null,null,0,null,null,0,0,0,0,{"$error":"#DIV/0!"},0]
[59,null,null,null,null,null,0,null,null,0,null,null,0,null,null,0,null,null,0,null,null,0,null,null,0,null,null,0,null,null,0,null,null,0,0,0,0,{"$error":"#DIV/0!"},0]
[60,null,null,null,null,null,0,null,null,0,null,null,0,null,null,0,null,null,0,null,null,0,null,null,0,null,null,0,null,null,0,null,null,0,0,0,0,{"$error":"#DIV/0!"},0]
[61,null,null,null,null,null,0,null,null,0,null,null,0,null,null,0,null,null,0,null,null,0,null,null,0,null,null,0,null,null,0,null,null,0,0,0,0,{"$error":"#DIV/0!"},0]
[62,null,null,null,null,null,0,null,null,0,null,null,0,null,null,0,null,null,0,null,null,0,null,null,0,null,null,0,null,null,0,null,null,0,0,0,0,{"$error":"#DIV/0!"},0]
[63,null,null,null,null,null,0,null,null,0,null,null,0,null,null,0,null,null,0,null,null,0,null,null,0,null,null,0,null,null,0,null,null,0,0,0,0,{"$error":"#DIV/0!"},0]
[64,null,null,null,null,null,0,null,null,{"$f":"SUM(H75:I75)","v":0},null,null,{"$f":"SUM(K75:L75)","v":0},null,null,{"$f":"SUM(N75:O75)","v":0},null,null,{"$f":"SUM(Q75:R75)","v":0},null,null,{"$f":"SUM(T75:U75)","v":0},null,null,{"$f":"SUM(W75:X75)","v":0},null,null,{"$f":"SUM(Z75:AA75)","v":0},null,null,{"$f":"SUM(AC75:AD75)","v":0},null,null,{"$f":"SUM(AF75:AG75)","v":0},0,0,0,{"$error":"#DIV/0!"},0]
[65,null,null,null,null,null,{"$f":"SUM(E76:F76)","v":0},null,null,0,null,null,0,null,null,0,null,null,0,null,null,0,null,null,0,null,null,0,null,null,0,null,null,0,{"$f":"SUM(E76,H76,K76,N76,Q76,T76,W76,Z76,AC76,AF76)","v":0},0,{"$f":"SUM(AI76:AJ76)","v":0},{"$f":"AK76/D76","v":{"$error":"#DIV/0!"}},{"$f":"D76-AK76","v":0}]
[66,null,null,null,null,null,0,null,null,0,null,null,0,null,null,0,null,null,0,null,null,0,null,null,0,null,null,0,null,null,0,null,null,0,0,0,0,{"$error":"#DIV/0!"},0]
[67,null,null,null,null,null,0,null,null,0,null,null,0,null,null,0,null,null,0,null,null,0,null,null,0,null,null,0,null,null,0,null,null,0,0,0,0,{"$error":"#DIV/0!"},0]
[68,null,null,null,null,null,0,null,null,0,null,null,0,null,null,0,null,null,0,null,null,0,null,null,0,null,null,0,null,null,0,null,null,0,0,0,0,{"$error":"#DIV/0!"},0]
[69,null,null,null,null,null,0,null,null,0,null,null,0,null,null,0,null,null,0,null,null,0,null,null,0,null,null,0,null,null,0,null,null,0,0,0,0,{"$error":"#DIV/0!"},0]
[70,null,null,null,null,null,0,null,null,0,null,null,0,null,null,0,null,null,0,null,null,0,null,null,0,null,null,0,null,null,0,null,null,0,0,0,0,{"$error":"#DIV/0!"},0]
[71,null,null,null,null,null,0,null,null,0,null,null,0,null,null,0,null,null,0,null,null,0,null,null,0,null,null,0,null,null,0,null,null,0,0,0,0,{"$error":"#DIV/0!"},0]
[72,null,null,null,null,null,0,null,null,0,null,null,0,null,null,0,null,null,0,null,null,0,null,null,0,null,null,0,null,null,0,null,null,0,0,0,0,{"$error":"#DIV/0!"},0]
[73,null,null,null,null,null,0,null,null,0,null,null,0,null,null,0,null,null,0,null,null,0,null,null,0,null,null,0,null,null,0,null,null,0,0,0,0,{"$error":"#DIV/0!"},0]
[74,null,null,null,null,null,0,null,null,0,null,null,0,null,null,0,null,null,0,null,null,0,null,null,0,null,null,0,null,null,0,null,null,0,0,0,0,{"$error":"#DIV/0!"},0]
[75,null,null,null,null,null,0,null,null,0,null,null,0,null,null,0,null,null,0,null,null,0,null,null,0,null,null,0,null,null,0,null,null,0,0,0,0,{"$error":"#DIV/0!"},0]
[76,null,null,null,null,null,0,null,null,0,null,null,0,null,null,0,null,null,0,null,null,0,null,null,0,null,null,0,null,null,0,null,null,0,0,0,0,{"$error":"#DIV/0!"},0]
[77,null,null,null,null,null,0,null,null,0,null,null,0,null,null,0,null,null,0,null,null,0,null,null,0,null,null,0,null,null,0,null,null,0,0,0,0,{"$error":"#DIV/0!"},0]
[78,null,null,null,null,null,0,null,null,0,null,null,0,null,null,0,null,null,0,null,null,0,null,null,0,null,null,0,null,null,0,null,null,0,0,0,0,{"$error":"#DIV/0!"},0]
[79,null,null,null,null,null,0,null,null,0,null,null,0,null,null,0,null,null,0,null,null,0,null,null,0,null,null,0,null,null,0,null,null,0,0,0,0,{"$error":"#DIV/0!"},0]
[80,null,null,null,null,null,0,null,null,0,null,null,0,null,null,0,null,null,0,null,null,0,null,null,0,null,null,0,null,null,0,null,null,0,0,0,0,{"$error":"#DIV/0!"},0]
[81,null,null,null,null,null,0,null,null,0,null,null,0,null,null,0,null,null,0,null,null,0,null,null,0,null,null,0,null,null,0,null,null,0,0,0,0,{"$error":"#DIV/0!"},0]
[82,null,null,null,null,null,0,null,null,0,null,null,0,null,null,0,null,null,0,null,null,0,null,null,0,null,null,0,null,null,0,null,null,0,0,0,0,{"$error":"#DIV/0!"},0]
[83,null,null,null,null,null,0,null,null,0,null,null,0,null,null,0,null,null,0,null,null,0,null,null,0,null,null,0,null,null,0,null,null,0,0,0,0,{"$error":"#DIV/0!"},0]
[84,null,null,null,null,null,0,null,null,0,null,null,0,null,null,0,null,null,0,null,null,0,null,null,0,null,null,0,null,null,0,null,null,0,0,0,0,{"$error":"#DIV/0!"},0]
[85,null,null,null,null,null,0,null,null,0,null,null,0,null,null,0,null,null,0,null,null,0,null,null,0,null,null,0,null,null,0,null,null,0,0,0,0,{"$error":"#DIV/0!"},0]
[86,null,null,null,null,null,0,null,null,0,null,null,0,null,null,0,null,null,0,null,null,0,null,null,0,null,null,0,null,null,0,null,null,0,0,0,0,{"$error":"#DIV/0!"},0]
[87,null,null,null,null,null,0,null,null,0,null,null,0,null,null,0,null,null,0,null,null,0,null,null,0,null,null,0,null,null,0,null,null,0,0,0,0,{"$error":"#DIV/0!"},0]
[88,null,null,null,null,null,0,null,null,0,null,null,0,null,null,0,null,null,0,null,null,0,null,null,0,null,null,0,null,null,0,null,null,0,0,0,0,{"$error":"#DIV/0!"},0]
[89,null,null,null,null,null,0,null,null,0,null,null,0,null,null,0,null,null,0,null,null,0,null,null,0,null,null,0,null,null,0,null,null,0,0,0,0,{"$error":"#DIV/0!"},0]
[90,null,null,null,null,null,0,null,null,0,null,null,0,null,null,0,null,null,0,null,null,0,null,null,0,null,null,0,null,null,0,null,null,0,0,0,0,{"$error":"#DIV/0!"},0]
[91,null,null,null,null,null,0,null,null,0,null,null,0,null,null,0,null,null,0,null,null,0,null,null,0,null,null,0,null,null,0,null,null,0,0,0,0,{"$error":"#DIV/0!"},0]
[92,null,null,null,null,null,0,null,null,0,null,null,0,null,null,0,null,null,0,null,null,0,null,null,0,null,null,0,null,null,0,null,null,0,0,0,0,{"$error":"#DIV/0!"},0]
[93,null,null,null,null,null,0,null,null,0,null,null,0,null,null,0,null,null,0,null,null,0,null,null,0,null,null,0,null,null,0,null,null,0,0,0,0,{"$error":"#DIV/0!"},0]
[94,null,null,null,null,null,0,null,null,0,null,null,0,null,null,0,null,null,0,null,null,0,null,null,0,null,null,0,null,null,0,null,null,0,0,0,0,{"$error":"#DIV/0!"},0]
[95,null,null,null,null,null,0,null,null,0,null,null,0,null,null,0,null,null,0,null,null,0,null,null,0,null,null,0,null,null,0,null,null,0,0,0,0,{"$error":"#DIV/0!"},0]
[96,null,null,null,null,null,0,null,null,0,null,null,0,null,null,0,null,null,0,null,null,0,null,null,0,null,null,0,null,null,0,null,null,0,0,0,0,{"$error":"#DIV/0!"},0]
[97,null,null,null,null,null,0,null,null,0,null,null,0,null,null,0,null,null,0,null,null,0,null,null,0,null,null,0,null,null,0,null,null,0,0,0,0,{"$error":"#DIV/0!"},0]
[98,null,null,null,null,null,0,null,null,0,null,null,0,null,null,0,null,null,0,null,null,0,null,null,0,null,null,0,null,null,0,null,null,0,0,0,0,{"$error":"#DIV/0!"},0]
[99,null,null,null,null,null,0,null,null,0,null,null,0,null,null,0,null,null,0,null,null,0,null,null,0,null,null,0,null,null,0,null,null,0,0,0,0,{"$error":"#DIV/0!"},0]
[100,null,null,null,null,null,0,null,null,0,null,null,0,null,null,0,null,null,0,null,null,0,null,null,0,null,null,0,null,null,0,null,null,0,0,0,0,{"$error":"#DIV/0!"},0]

{"sheet":"RB_Types","index":15,"n_rows":111,"n_cols":39,"rows_kept":111,"cut":false,"hidden":false,"merged":[[1,0,1,4],[2,0,2,4],[10,0,10,1],[6,34,7,37],[6,38,8,38],[7,4,7,6],[7,7,7,9],[7,10,7,12],[7,13,7,15],[7,16,7,18],[7,19,7,21],[7,22,7,24],[7,25,7,27],[4,0,4,15],[6,0,9,0],[6,1,9,1],[6,2,8,2],[6,3,8,3],[6,4,6,33],[7,28,7,30],[7,31,7,33]]}
[]
[{"$f":"Create!G2","v":"ក្រសួងអប់រំ យុវជន និងកីឡា"}]
[{"$f":"Create!G3","v":"បំពេញឈ្មោះទីនេះ"}]
[]
[{"$f":"CONCATENATE(\"របាយការណ៍ចំណាយថវិការបស់អាគារធនធានតាមមុខសញ្ញាចំណាយប្រចាំត្រីមាសទី \", IF(Create!$G$4=1,\"១\",IF(Create!$G$4=2,\"២\",IF(Create!$G$4=3,\"៣\",\"៤\"))),\" ឆ្នាំ២០១៨\")","v":"របាយការណ៍ចំណាយថវិការបស់អាគារធនធានតាមមុខសញ្ញាចំណាយប្រចាំត្រីមាសទី ១ ឆ្នាំ២០១៨"}]
[]
["ល.រ","ឈ្មោះការិយាល័យអប់រំ យុវជន និងកីឡា\nក្រុង ឬ ស្រុក ឬ ខ័ណ្ឌ","ឥណទានដើមឆ្នាំ","ឥណទានកែតម្រូវ","មុខសញ្ញាចំណាយ",null,null,null,null,null,null,null,null,null,null,null,null,null,null,null,null,null,null,null,null,null,null,null,null,null,null,null,null,null,"សរុបចំណាយ",null,null,null,"ឥណទាននៅសល់"]
[null,null,null,null,"១.សម្ភារមូលដ្ឋាន ",null,null,"២.ការកែលម្អបរិស្ថាន សាលា និងថ្នាក់រៀន",null,null,"៣.ការជួសជុលតូច (សង្ហារឹម បណ្ណាល័យ និងបរិក្ខារអេឡិចត្រូនិច)",null,null,"៤.ការទិញសៀវភៅអានដាក់ក្នុងបណ្ណាល័យ",null,null,"៥.បំណិនជីវិត (កីឡា សិល្បៈ រោងជាង គេហវិជ្ជា និងកសិកម្ម) ",null,null,"៦.ចំណាយសម្រាប់ទឹកស្អាត និងអនាម័យ",null,null,"៧.ចំណាយទូទាត់ថ្លៃប្រើបា្រស់ថាមពលអគ្គិសនី និងទឹក",null,null,"៨.ការរៀបចំឯកសារធ្វើតេស្ត និងសម្ភារផ្សេងៗសម្រាប់ប្រឡងឆមាស",null,null,"៩.ចលនាបីល្អ (សិស្សល្អ មិត្តល្អ កូនល្អ) របស់ក្រុមប្រឹក្សាយុវជន",null,null,"១០.ចំណាយផ្សេងៗ"]
[null,null,null,null,"បណ្ដាត្រីមាសមុន","ក្នុងត្រីមាស","បូកយោង","បណ្ដាត្រីមាសមុន","ក្នុងត្រីមាស","បូកយោង","បណ្ដាត្រីមាសមុន","ក្នុងត្រីមាស","បូកយោង","បណ្ដាត្រីមាសមុន","ក្នុងត្រីមាស","បូកយោង","បណ្ដាត្រីមាសមុន","ក្នុងត្រីមាស","បូកយោង","បណ្ដាលត្រីមាសមុន","ក្នុងត្រីមាស","បូកយោង","បណ្ដាត្រីមាសមុន","ក្នុងត្រីមាស","បូកយោង","បណ្ដាត្រីមាសមុន","ក្នុងត្រីមាស","បូកយោង","បណ្ដាត្រីមាស","ក្នុងត្រីមាស","បូកយោង","បណ្ដាត្រីមាសមុន","ក្នុងត្រីមាស","បូកយោង","បណ្ដាត្រីមាសមុន","ក្នុងត្រីមាស","បូកយោង","%"]
[null,null,1,2,3,4,"5=3+4",6,7,"8=6+7",9,10,"11=9+10",12,13,"14=12+13","15","16","17=15+16","18","19","20=18+19","21","22","23=21+22","24","25","26=24+25","27","28","29=27+28","30","31","32=30+31","33","34","35=33+34","36=35/2","37=2-35"]
["សរុប",null,{"$f":"SUM(C12:C111)","v":0},{"$f":"SUM(D12:D111)","v":0},0,0,{"$f":"SUM(E11:F11)","v":0},0,0,{"$f":"SUM(H11:I11)","v":0},0,0,{"$f":"SUM(K11:L11)","v":0},0,0,{"$f":"SUM(N11:O11)","v":0},0,0,{"$f":"SUM(Q11:R11)","v":0},0,0,{"$f":"SUM(T11:U11)","v":0},0,0,{"$f":"SUM(W11:X11)","v":0},0,0,{"$f":"SUM(Z11:AA11)","v":0},0,0,{"$f":"SUM(AC11:AD11)","v":0},0,0,{"$f":"SUM(AF11:AG11)","v":0},{"$f":"SUM(E11,H11,K11,N11,Q11,T11,W11,Z11,AC11,AF11)","v":0},{"$f":"SUM(F11,I11,L11,O11,R11,U11,X11,AA11,AD11,AG11)","v":0},{"$f":"SUM(AI11:AJ11)","v":0},{"$f":"AK11/D11","v":{"$error":"#DIV/0!"}},{"$f":"D11-AK11","v":0}]
[1,{"$f":"[1]RB_Types!A3","v":"ការិយាល័យអប់រំ យុវជន និងកីឡាក្រុងប៉ៃលិន"},{"$f":"[1]RB_Types!C11","v":0},{"$f":"[1]RB_Types!D11","v":0},{"$f":"[1]RB_Types!E11","v":0},{"$f":"[1]RB_Types!F11","v":0},{"$f":"SUM(E12:F12)","v":0},{"$f":"[1]RB_Types!H11","v":0},{"$f":"[1]RB_Types!I11","v":0},0,{"$f":"[1]RB_Types!K11","v":0},{"$f":"[1]RB_Types!L11","v":0},0,{"$f":"[1]RB_Types!N11","v":0},{"$f":"[1]RB_Types!O11","v":0},0,{"$f":"[1]RB_Types!Q11","v":0},{"$f":"[1]RB_Types!R11","v":0},0,{"$f":"[1]RB_Types!T11","v":0},{"$f":"[1]RB_Types!U11","v":0},0,{"$f":"[1]RB_Types!W11","v":0},{"$f":"[1]RB_Types!X11","v":0},0,{"$f":"[1]RB_Types!Z11","v":0},{"$f":"[1]RB_Types!AA11","v":0},0,{"$f":"[1]RB_Types!AC11","v":0},{"$f":"[1]RB_Types!AD11","v":0},0,{"$f":"[1]RB_Types!AF11","v":0},{"$f":"[1]RB_Types!AG11","v":0},0,{"$f":"SUM(E12,H12,K12,N12,Q12,T12,W12,Z12,AC12,AF12)","v":0},0,{"$f":"SUM(AI12:AJ12)","v":0},{"$f":"AK12/D12","v":{"$error":"#DIV/0!"}},{"$f":"D12-AK12","v":0}]
[2,null,null,null,null,null,0,null,null,0,null,null,0,null,null,0,null,null,0,null,null,0,null,null,0,null,null,0,null,null,0,null,null,0,0,0,0,{"$error":"#DIV/0!"},0]
[3,null,null,null,null,null,0,null,null,0,null,null,0,null,null,0,null,null,0,null,null,0,null,null,0,null,null,0,null,null,0,null,null,0,0,0,0,{"$error":"#DIV/0!"},0]
[4,null,null,null,null,null,0,null,null,0,null,null,0,null,null,0,null,null,0,null,null,0,null,null,0,null,null,0,null,null,0,null,null,0,0,0,0,{"$error":"#DIV/0!"},0]
[5,null,null,null,null,null,0,null,null,0,null,null,0,null,null,0,null,null,0,null,null,0,null,null,0,null,null,0,null,null,0,null,null,0,0,0,0,{"$error":"#DIV/0!"},0]
[6,null,null,null,null,null,0,null,null,0,null,null,0,null,null,0,null,null,0,null,null,0,null,null,0,null,null,0,null,null,0,null,null,0,0,0,0,{"$error":"#DIV/0!"},0]
[7,null,null,null,null,null,0,null,null,0,null,null,0,null,null,0,null,null,0,null,null,0,null,null,0,null,null,0,null,null,0,null,null,0,0,0,0,{"$error":"#DIV/0!"},0]
[8,null,null,null,null,null,0,null,null,0,null,null,0,null,null,0,null,null,0,null,null,0,null,null,0,null,null,0,null,null,0,null,null,0,0,0,0,{"$error":"#DIV/0!"},0]
[9,null,null,null,null,null,0,null,null,0,null,null,0,null,null,0,null,null,0,null,null,0,null,null,0,null,null,0,null,null,0,null,null,0,0,0,0,{"$error":"#DIV/0!"},0]
[10,null,null,null,null,null,0,null,null,0,null,null,0,null,null,0,null,null,0,null,null,0,null,null,0,null,null,0,null,null,0,null,null,0,0,0,0,{"$error":"#DIV/0!"},0]
[11,null,null,null,null,null,0,null,null,0,null,null,0,null,null,0,null,null,0,null,null,0,null,null,0,null,null,0,null,null,0,null,null,0,0,0,0,{"$error":"#DIV/0!"},0]
[12,null,null,null,null,null,0,null,null,0,null,null,0,null,null,0,null,null,0,null,null,0,null,null,0,null,null,0,null,null,0,null,null,0,0,0,0,{"$error":"#DIV/0!"},0]
[13,null,null,null,null,null,0,null,null,0,null,null,0,null,null,0,null,null,0,null,null,0,null,null,0,null,null,0,null,null,0,null,null,0,0,0,0,{"$error":"#DIV/0!"},0]
[14,null,null,null,null,null,0,null,null,0,null,null,0,null,null,0,null,null,0,null,null,0,null,null,0,null,null,0,null,null,0,null,null,0,0,0,0,{"$error":"#DIV/0!"},0]
[15,null,null,null,null,null,0,null,null,0,null,null,0,null,null,0,null,null,0,null,null,0,null,null,0,null,null,0,null,null,0,null,null,0,0,0,0,{"$error":"#DIV/0!"},0]
[16,null,null,null,null,null,0,null,null,0,null,null,0,null,null,0,null,null,0,null,null,0,null,null,0,null,null,0,null,null,0,null,null,0,0,0,0,{"$error":"#DIV/0!"},0]
[17,null,null,null,null,null,0,null,null,0,null,null,0,null,null,0,null,null,0,null,null,0,null,null,0,null,null,0,null,null,0,null,null,0,0,0,0,{"$error":"#DIV/0!"},0]
[18,null,null,null,null,null,0,null,null,0,null,null,0,null,null,0,null,null,0,null,null,0,null,null,0,null,null,0,null,null,0,null,null,0,0,0,0,{"$error":"#DIV/0!"},0]
[19,null,null,null,null,null,0,null,null,0,null,null,0,null,null,0,null,null,0,null,null,0,null,null,0,null,null,0,null,null,0,null,null,0,0,0,0,{"$error":"#DIV/0!"},0]
[20,null,null,null,null,null,0,null,null,0,null,null,0,null,null,0,null,null,0,null,null,0,null,null,0,null,null,0,null,null,0,null,null,0,0,0,0,{"$error":"#DIV/0!"},0]
[21,null,null,null,null,null,0,null,null,0,null,null,0,null,null,0,null,null,0,null,null,0,null,null,0,null,null,0,null,null,0,null,null,0,0,0,0,{"$error":"#DIV/0!"},0]
[22,null,null,null,null,null,0,null,null,0,null,null,0,null,null,0,null,null,0,null,null,0,null,null,0,null,null,0,null,null,0,null,null,0,0,0,0,{"$error":"#DIV/0!"},0]
[23,null,null,null,null,null,0,null,null,0,null,null,0,null,null,0,null,null,0,null,null,0,null,null,0,null,null,0,null,null,0,null,null,0,0,0,0,{"$error":"#DIV/0!"},0]
[24,null,null,null,null,null,0,null,null,0,null,null,0,null,null,0,null,null,0,null,null,0,null,null,0,null,null,0,null,null,0,null,null,0,0,0,0,{"$error":"#DIV/0!"},0]
[25,null,null,null,null,null,0,null,null,0,null,null,0,null,null,0,null,null,0,null,null,0,null,null,0,null,null,0,null,null,0,null,null,0,0,0,0,{"$error":"#DIV/0!"},0]
[26,null,null,null,null,null,0,null,null,0,null,null,0,null,null,0,null,null,0,null,null,0,null,null,0,null,null,0,null,null,0,null,null,0,0,0,0,{"$error":"#DIV/0!"},0]
[27,null,null,null,null,null,0,null,null,0,null,null,0,null,null,0,null,null,0,null,null,0,null,null,0,null,null,0,null,null,0,null,null,0,0,0,0,{"$error":"#DIV/0!"},0]
[28,null,null,null,null,null,0,null,null,0,null,null,0,null,null,0,null,null,0,null,null,0,null,null,0,null,null,0,null,null,0,null,null,0,0,0,0,{"$error":"#DIV/0!"},0]
[29,null,null,null,null,null,0,null,null,0,null,null,0,null,null,0,null,null,0,null,null,0,null,null,0,null,null,0,null,null,0,null,null,0,0,0,0,{"$error":"#DIV/0!"},0]
[30,null,null,null,null,null,0,null,null,0,null,null,0,null,null,0,null,null,0,null,null,0,null,null,0,null,null,0,null,null,0,null,null,0,0,0,0,{"$error":"#DIV/0!"},0]
[31,null,null,null,null,null,0,null,null,0,null,null,0,null,null,0,null,null,0,null,null,0,null,null,0,null,null,0,null,null,0,null,null,0,0,0,0,{"$error":"#DIV/0!"},0]
[32,null,null,null,null,null,0,null,null,0,null,null,0,null,null,0,null,null,0,null,null,0,null,null,0,null,null,0,null,null,0,null,null,0,0,0,0,{"$error":"#DIV/0!"},0]
[33,null,null,null,null,null,0,null,null,0,null,null,0,null,null,0,null,null,0,null,null,0,null,null,0,null,null,0,null,null,0,null,null,0,0,0,0,{"$error":"#DIV/0!"},0]
[34,null,null,null,null,null,0,null,null,0,null,null,0,null,null,0,null,null,0,null,null,0,null,null,0,null,null,0,null,null,0,null,null,0,0,0,0,{"$error":"#DIV/0!"},0]
[35,null,null,null,null,null,0,null,null,0,null,null,0,null,null,0,null,null,0,null,null,0,null,null,0,null,null,0,null,null,0,null,null,0,0,0,0,{"$error":"#DIV/0!"},0]
[36,null,null,null,null,null,0,null,null,0,null,null,0,null,null,0,null,null,0,null,null,0,null,null,0,null,null,0,null,null,0,null,null,0,0,0,0,{"$error":"#DIV/0!"},0]
[37,null,null,null,null,null,0,null,null,0,null,null,0,null,null,0,null,null,0,null,null,0,null,null,0,null,null,0,null,null,0,null,null,0,0,0,0,{"$error":"#DIV/0!"},0]
[38,null,null,null,null,null,0,null,null,0,null,null,0,null,null,0,null,null,0,null,null,0,null,null,0,null,null,0,null,null,0,null,null,0,0,0,0,{"$error":"#DIV/0!"},0]
[39,null,null,null,null,null,0,null,null,0,null,null,0,null,null,0,null,null,0,null,null,0,null,null,0,null,null,0,null,null,0,null,null,0,0,0,0,{"$error":"#DIV/0!"},0]
[40,null,null,null,null,null,0,null,null,0,null,null,0,null,null,0,null,null,0,null,null,0,null,null,0,null,null,0,null,null,0,null,null,0,0,0,0,{"$error":"#DIV/0!"},0]
[41,null,null,null,null,null,0,null,null,0,null,null,0,null,null,0,null,null,0,null,null,0,null,null,0,null,null,0,null,null,0,null,null,0,0,0,0,{"$error":"#DIV/0!"},0]
[42,null,null,null,null,null,0,null,null,0,null,null,0,null,null,0,null,null,0,null,null,0,null,null,0,null,null,0,null,null,0,null,null,0,0,0,0,{"$error":"#DIV/0!"},0]
[43,null,null,null,null,null,0,null,null,0,null,null,0,null,null,0,null,null,0,null,null,0,null,null,0,null,null,0,null,null,0,null,null,0,0,0,0,{"$error":"#DIV/0!"},0]
[44,null,null,null,null,null,0,null,null,0,null,null,0,null,null,0,null,null,0,null,null,0,null,null,0,null,null,0,null,null,0,null,null,0,0,0,0,{"$error":"#DIV/0!"},0]
[45,null,null,null,null,null,0,null,null,0,null,null,0,null,null,0,null,null,0,null,null,0,null,null,0,null,null,0,null,null,0,null,null,0,0,0,0,{"$error":"#DIV/0!"},0]
[46,null,null,null,null,null,0,null,null,0,null,null,0,null,null,0,null,null,0,null,null,0,null,null,0,null,null,0,null,null,0,null,null,0,0,0,0,{"$error":"#DIV/0!"},0]
[47,null,null,null,null,null,0,null,null,0,null,null,0,null,null,0,null,null,0,null,null,0,null,null,0,null,null,0,null,null,0,null,null,0,0,0,0,{"$error":"#DIV/0!"},0]
[48,null,null,null,null,null,0,null,null,0,null,null,0,null,null,0,null,null,0,null,null,0,null,null,0,null,null,0,null,null,0,null,null,0,0,0,0,{"$error":"#DIV/0!"},0]
[49,null,null,null,null,null,0,null,null,0,null,null,0,null,null,0,null,null,0,null,null,0,null,null,0,null,null,0,null,null,0,null,null,0,0,0,0,{"$error":"#DIV/0!"},0]
[50,null,null,null,null,null,0,null,null,0,null,null,0,null,null,0,null,null,0,null,null,0,null,null,0,null,null,0,null,null,0,null,null,0,0,0,0,{"$error":"#DIV/0!"},0]
[51,null,null,null,null,null,0,null,null,0,null,null,0,null,null,0,null,null,0,null,null,0,null,null,0,null,null,0,null,null,0,null,null,0,0,0,0,{"$error":"#DIV/0!"},0]
[52,null,null,null,null,null,0,null,null,0,null,null,0,null,null,0,null,null,0,null,null,0,null,null,0,null,null,0,null,null,0,null,null,0,0,0,0,{"$error":"#DIV/0!"},0]
[53,null,null,null,null,null,0,null,null,0,null,null,0,null,null,0,null,null,0,null,null,0,null,null,0,null,null,0,null,null,0,null,null,0,0,0,0,{"$error":"#DIV/0!"},0]
[54,null,null,null,null,null,0,null,null,0,null,null,0,null,null,0,null,null,0,null,null,0,null,null,0,null,null,0,null,null,0,null,null,0,0,0,0,{"$error":"#DIV/0!"},0]
[55,null,null,null,null,null,0,null,null,0,null,null,0,null,null,0,null,null,0,null,null,0,null,null,0,null,null,0,null,null,0,null,null,0,0,0,0,{"$error":"#DIV/0!"},0]
[56,null,null,null,null,null,0,null,null,0,null,null,0,null,null,0,null,null,0,null,null,0,null,null,0,null,null,0,null,null,0,null,null,0,0,0,0,{"$error":"#DIV/0!"},0]
[57,null,null,null,null,null,0,null,null,0,null,null,0,null,null,0,null,null,0,null,null,0,null,null,0,null,null,0,null,null,0,null,null,0,0,0,0,{"$error":"#DIV/0!"},0]
[58,null,null,null,null,null,0,null,null,0,null,null,0,null,null,0,null,null,0,null,null,0,null,null,0,null,null,0,null,null,0,null,null,0,0,0,0,{"$error":"#DIV/0!"},0]
[59,null,null,null,null,null,0,null,null,0,null,null,0,null,null,0,null,null,0,null,null,0,null,null,0,null,null,0,null,null,0,null,null,0,0,0,0,{"$error":"#DIV/0!"},0]
[60,null,null,null,null,null,0,null,null,0,null,null,0,null,null,0,null,null,0,null,null,0,null,null,0,null,null,0,null,null,0,null,null,0,0,0,0,{"$error":"#DIV/0!"},0]
[61,null,null,null,null,null,0,null,null,0,null,null,0,null,null,0,null,null,0,null,null,0,null,null,0,null,null,0,null,null,0,null,null,0,0,0,0,{"$error":"#DIV/0!"},0]
[62,null,null,null,null,null,0,null,null,0,null,null,0,null,null,0,null,null,0,null,null,0,null,null,0,null,null,0,null,null,0,null,null,0,0,0,0,{"$error":"#DIV/0!"},0]
[63,null,null,null,null,null,0,null,null,0,null,null,0,null,null,0,null,null,0,null,null,0,null,null,0,null,null,0,null,null,0,null,null,0,0,0,0,{"$error":"#DIV/0!"},0]
[64,null,null,null,null,null,0,null,null,{"$f":"SUM(H75:I75)","v":0},null,null,{"$f":"SUM(K75:L75)","v":0},null,null,{"$f":"SUM(N75:O75)","v":0},null,null,{"$f":"SUM(Q75:R75)","v":0},null,null,{"$f":"SUM(T75:U75)","v":0},null,null,{"$f":"SUM(W75:X75)","v":0},null,null,{"$f":"SUM(Z75:AA75)","v":0},null,null,{"$f":"SUM(AC75:AD75)","v":0},null,null,{"$f":"SUM(AF75:AG75)","v":0},0,0,0,{"$error":"#DIV/0!"},0]
[65,null,null,null,null,null,{"$f":"SUM(E76:F76)","v":0},null,null,0,null,null,0,null,null,0,null,null,0,null,null,0,null,null,0,null,null,0,null,null,0,null,null,0,{"$f":"SUM(E76,H76,K76,N76,Q76,T76,W76,Z76,AC76,AF76)","v":0},0,{"$f":"SUM(AI76:AJ76)","v":0},{"$f":"AK76/D76","v":{"$error":"#DIV/0!"}},{"$f":"D76-AK76","v":0}]
[66,null,null,null,null,null,0,null,null,0,null,null,0,null,null,0,null,null,0,null,null,0,null,null,0,null,null,0,null,null,0,null,null,0,0,0,0,{"$error":"#DIV/0!"},0]
[67,null,null,null,null,null,0,null,null,0,null,null,0,null,null,0,null,null,0,null,null,0,null,null,0,null,null,0,null,null,0,null,null,0,0,0,0,{"$error":"#DIV/0!"},0]
[68,null,null,null,null,null,0,null,null,0,null,null,0,null,null,0,null,null,0,null,null,0,null,null,0,null,null,0,null,null,0,null,null,0,0,0,0,{"$error":"#DIV/0!"},0]
[69,null,null,null,null,null,0,null,null,0,null,null,0,null,null,0,null,null,0,null,null,0,null,null,0,null,null,0,null,null,0,null,null,0,0,0,0,{"$error":"#DIV/0!"},0]
[70,null,null,null,null,null,0,null,null,0,null,null,0,null,null,0,null,null,0,null,null,0,null,null,0,null,null,0,null,null,0,null,null,0,0,0,0,{"$error":"#DIV/0!"},0]
[71,null,null,null,null,null,0,null,null,0,null,null,0,null,null,0,null,null,0,null,null,0,null,null,0,null,null,0,null,null,0,null,null,0,0,0,0,{"$error":"#DIV/0!"},0]
[72,null,null,null,null,null,0,null,null,0,null,null,0,null,null,0,null,null,0,null,null,0,null,null,0,null,null,0,null,null,0,null,null,0,0,0,0,{"$error":"#DIV/0!"},0]
[73,null,null,null,null,null,0,null,null,0,null,null,0,null,null,0,null,null,0,null,null,0,null,null,0,null,null,0,null,null,0,null,null,0,0,0,0,{"$error":"#DIV/0!"},0]
[74,null,null,null,null,null,0,null,null,0,null,null,0,null,null,0,null,null,0,null,null,0,null,null,0,null,null,0,null,null,0,null,null,0,0,0,0,{"$error":"#DIV/0!"},0]
[75,null,null,null,null,null,0,null,null,0,null,null,0,null,null,0,null,null,0,null,null,0,null,null,0,null,null,0,null,null,0,null,null,0,0,0,0,{"$error":"#DIV/0!"},0]
[76,null,null,null,null,null,0,null,null,0,null,null,0,null,null,0,null,null,0,null,null,0,null,null,0,null,null,0,null,null,0,null,null,0,0,0,0,{"$error":"#DIV/0!"},0]
[77,null,null,null,null,null,0,null,null,0,null,null,0,null,null,0,null,null,0,null,null,0,null,null,0,null,null,0,null,null,0,null,null,0,0,0,0,{"$error":"#DIV/0!"},0]
[78,null,null,null,null,null,0,null,null,0,null,null,0,null,null,0,null,null,0,null,null,0,null,null,0,null,null,0,null,null,0,null,null,0,0,0,0,{"$error":"#DIV/0!"},0]
[79,null,null,null,null,null,0,null,null,0,null,null,0,null,null,0,null,null,0,null,null,0,null,null,0,null,null,0,null,null,0,null,null,0,0,0,0,{"$error":"#DIV/0!"},0]
[80,null,null,null,null,null,0,null,null,0,null,null,0,null,null,0,null,null,0,null,null,0,null,null,0,null,null,0,null,null,0,null,null,0,0,0,0,{"$error":"#DIV/0!"},0]
[81,null,null,null,null,null,0,null,null,0,null,null,0,null,null,0,null,null,0,null,null,0,null,null,0,null,null,0,null,null,0,null,null,0,0,0,0,{"$error":"#DIV/0!"},0]
[82,null,null,null,null,null,0,null,null,0,null,null,0,null,null,0,null,null,0,null,null,0,null,null,0,null,null,0,null,null,0,null,null,0,0,0,0,{"$error":"#DIV/0!"},0]
[83,null,null,null,null,null,0,null,null,0,null,null,0,null,null,0,null,null,0,null,null,0,null,null,0,null,null,0,null,null,0,null,null,0,0,0,0,{"$error":"#DIV/0!"},0]
[84,null,null,null,null,null,0,null,null,0,null,null,0,null,null,0,null,null,0,null,null,0,null,null,0,null,null,0,null,null,0,null,null,0,0,0,0,{"$error":"#DIV/0!"},0]
[85,null,null,null,null,null,0,null,null,0,null,null,0,null,null,0,null,null,0,null,null,0,null,null,0,null,null,0,null,null,0,null,null,0,0,0,0,{"$error":"#DIV/0!"},0]
[86,null,null,null,null,null,0,null,null,0,null,null,0,null,null,0,null,null,0,null,null,0,null,null,0,null,null,0,null,null,0,null,null,0,0,0,0,{"$error":"#DIV/0!"},0]
[87,null,null,null,null,null,0,null,null,0,null,null,0,null,null,0,null,null,0,null,null,0,null,null,0,null,null,0,null,null,0,null,null,0,0,0,0,{"$error":"#DIV/0!"},0]
[88,null,null,null,null,null,0,null,null,0,null,null,0,null,null,0,null,null,0,null,null,0,null,null,0,null,null,0,null,null,0,null,null,0,0,0,0,{"$error":"#DIV/0!"},0]
[89,null,null,null,null,null,0,null,null,0,null,null,0,null,null,0,null,null,0,null,null,0,null,null,0,null,null,0,null,null,0,null,null,0,0,0,0,{"$error":"#DIV/0!"},0]
[90,null,null,null,null,null,0,null,null,0,null,null,0,null,null,0,null,null,0,null,null,0,null,null,0,null,null,0,null,null,0,null,null,0,0,0,0,{"$error":"#DIV/0!"},0]
[91,null,null,null,null,null,0,null,null,0,null,null,0,null,null,0,null,null,0,null,null,0,null,null,0,null,null,0,null,null,0,null,null,0,0,0,0,{"$error":"#DIV/0!"},0]
[92,null,null,null,null,null,0,null,null,0,null,null,0,null,null,0,null,null,0,null,null,0,null,null,0,null,null,0,null,null,0,null,null,0,0,0,0,{"$error":"#DIV/0!"},0]
[93,null,null,null,null,null,0,null,null,0,null,null,0,null,null,0,null,null,0,null,null,0,null,null,0,null,null,0,null,null,0,null,null,0,0,0,0,{"$error":"#DIV/0!"},0]
[94,null,null,null,null,null,0,null,null,0,null,null,0,null,null,0,null,null,0,null,null,0,null,null,0,null,null,0,null,null,0,null,null,0,0,0,0,{"$error":"#DIV/0!"},0]
[95,null,null,null,null,null,0,null,null,0,null,null,0,null,null,0,null,null,0,null,null,0,null,null,0,null,null,0,null,null,0,null,null,0,0,0,0,{"$error":"#DIV/0!"},0]
[96,null,null,null,null,null,0,null,null,0,null,null,0,null,null,0,null,null,0,null,null,0,null,null,0,null,null,0,null,null,0,null,null,0,0,0,0,{"$error":"#DIV/0!"},0]
[97,null,null,null,null,null,0,null,null,0,null,null,0,null,null,0,null,null,0,null,null,0,null,null,0,null,null,0,null,null,0,null,null,0,0,0,0,{"$error":"#DIV/0!"},0]
[98,null,null,null,null,null,0,null,null,0,null,null,0,null,null,0,null,null,0,null,null,0,null,null,0,null,null,0,null,null,0,null,null,0,0,0,0,{"$error":"#DIV/0!"},0]
[99,null,null,null,null,null,0,null,null,0,null,null,0,null,null,0,null,null,0,null,null,0,null,null,0,null,null,0,null,null,0,null,null,0,0,0,0,{"$error":"#DIV/0!"},0]
[100,null,null,null,null,null,0,null,null,0,null,null,0,null,null,0,null,null,0,null,null,0,null,null,0,null,null,0,null,null,0,null,null,0,0,0,0,{"$error":"#DIV/0!"},0]

{"sheet":"T_DoE_Types","index":16,"n_rows":111,"n_cols":39,"rows_kept":111,"cut":false,"hidden":false,"merged":[[1,0,1,3],[2,0,2,3],[10,0,10,1],[6,34,7,37],[6,38,8,38],[7,4,7,6],[7,7,7,9],[7,10,7,12],[7,13,7,15],[7,16,7,18],[7,19,7,21],[7,22,7,24],[7,25,7,27],[4,0,4,15],[6,0,9,0],[6,1,9,1],[6,2,8,2],[6,3,8,3],[6,4,6,33],[7,28,7,30],[7,31,7,33]]}
[]
[{"$f":"Create!G2","v":"ក្រសួងអប់រំ យុវជន និងកីឡា"}]
[{"$f":"Create!G3","v":"បំពេញឈ្មោះទីនេះ"}]
[]
[{"$f":"CONCATENATE(\"របាយការណ៍ចំណាយថវិការបស់វិទ្យាល័យបច្ចេកទេសតាមមុខសញ្ញាចំណាយប្រចាំត្រីមាសទី \", IF(Create!$G$4=1,\"១\",IF(Create!$G$4=2,\"២\",IF(Create!$G$4=3,\"៣\",\"៤\"))),\" ឆ្នាំ២០១៨\")","v":"របាយការណ៍ចំណាយថវិការបស់វិទ្យាល័យបច្ចេកទេសតាមមុខសញ្ញាចំណាយប្រចាំត្រីមាសទី ១ ឆ្នាំ២០១៨"}]
[]
["ល.រ","ឈ្មោះការិយាល័យអប់រំ យុវជន និងកីឡា\nក្រុង ឬ ស្រុក ឬ ខ័ណ្ឌ","ឥណទានដើមឆ្នាំ","ឥណទានកែតម្រូវ","មុខសញ្ញាចំណាយ",null,null,null,null,null,null,null,null,null,null,null,null,null,null,null,null,null,null,null,null,null,null,null,null,null,null,null,null,null,"សរុបចំណាយ",null,null,null,"ឥណទាននៅសល់"]
[null,null,null,null,"១.សម្ភារមូលដ្ឋាន ",null,null,"២.ការកែលម្អបរិស្ថាន សាលា និងថ្នាក់រៀន",null,null,"៣.ការជួសជុលតូច (សង្ហារឹម បណ្ណាល័យ និងបរិក្ខារអេឡិចត្រូនិច)",null,null,"៤.ការទិញសៀវភៅអានដាក់ក្នុងបណ្ណាល័យ",null,null,"៥.បំណិនជីវិត (កីឡា សិល្បៈ រោងជាង គេហវិជ្ជា និងកសិកម្ម) ",null,null,"៦.ចំណាយសម្រាប់ទឹកស្អាត និងអនាម័យ",null,null,"៧.ចំណាយទូទាត់ថ្លៃប្រើបា្រស់ថាមពលអគ្គិសនី និងទឹក",null,null,"៨.ការរៀបចំឯកសារធ្វើតេស្ត និងសម្ភារផ្សេងៗសម្រាប់ប្រឡងឆមាស",null,null,"៩.ចលនាបីល្អ (សិស្សល្អ មិត្តល្អ កូនល្អ) របស់ក្រុមប្រឹក្សាយុវជន",null,null,"១០.ចំណាយផ្សេងៗ"]
[null,null,null,null,"បណ្ដាត្រីមាសមុន","ក្នុងត្រីមាស","បូកយោង","បណ្ដាត្រីមាសមុន","ក្នុងត្រីមាស","បូកយោង","បណ្ដាត្រីមាសមុន","ក្នុងត្រីមាស","បូកយោង","បណ្ដាត្រីមាសមុន","ក្នុងត្រីមាស","បូកយោង","បណ្ដាត្រីមាសមុន","ក្នុងត្រីមាស","បូកយោង","បណ្ដាលត្រីមាសមុន","ក្នុងត្រីមាស","បូកយោង","បណ្ដាត្រីមាសមុន","ក្នុងត្រីមាស","បូកយោង","បណ្ដាត្រីមាសមុន","ក្នុងត្រីមាស","បូកយោង","បណ្ដាត្រីមាស","ក្នុងត្រីមាស","បូកយោង","បណ្ដាត្រីមាសមុន","ក្នុងត្រីមាស","បូកយោង","បណ្ដាត្រីមាសមុន","ក្នុងត្រីមាស","បូកយោង","%"]
[null,null,1,2,3,4,"5=3+4",6,7,"8=6+7",9,10,"11=9+10",12,13,"14=12+13","15","16","17=15+16","18","19","20=18+19","21","22","23=21+22","24","25","26=24+25","27","28","29=27+28","30","31","32=30+31","33","34","35=33+34","36=35/2","37=2-35"]
["សរុប",null,{"$f":"SUM(C12:C111)","v":10},{"$f":"SUM(D12:D111)","v":15},0,0,{"$f":"SUM(E11:F11)","v":0},0,0,{"$f":"SUM(H11:I11)","v":0},0,0,{"$f":"SUM(K11:L11)","v":0},0,0,{"$f":"SUM(N11:O11)","v":0},0,0,{"$f":"SUM(Q11:R11)","v":0},0,0,{"$f":"SUM(T11:U11)","v":0},0,0,{"$f":"SUM(W11:X11)","v":0},0,0,{"$f":"SUM(Z11:AA11)","v":0},0,0,{"$f":"SUM(AC11:AD11)","v":0},0,0,{"$f":"SUM(AF11:AG11)","v":0},{"$f":"SUM(E11,H11,K11,N11,Q11,T11,W11,Z11,AC11,AF11)","v":0},{"$f":"SUM(F11,I11,L11,O11,R11,U11,X11,AA11,AD11,AG11)","v":0},{"$f":"SUM(AI11:AJ11)","v":0},{"$f":"AK11/D11","v":0},{"$f":"D11-AK11","v":15}]
[1,{"$f":"[1]T_Sch_Types!A3","v":"ការិយាល័យអប់រំ យុវជន និងកីឡាក្រុងប៉ៃលិន"},{"$f":"[1]T_Sch_Types!C11","v":10},{"$f":"[1]T_Sch_Types!D11","v":15},{"$f":"[1]T_Sch_Types!E11","v":0},{"$f":"[1]T_Sch_Types!F11","v":0},{"$f":"SUM(E12:F12)","v":0},{"$f":"[1]T_Sch_Types!H11","v":0},{"$f":"[1]T_Sch_Types!I11","v":0},0,{"$f":"[1]T_Sch_Types!K11","v":0},{"$f":"[1]T_Sch_Types!L11","v":0},0,{"$f":"[1]T_Sch_Types!N11","v":0},{"$f":"[1]T_Sch_Types!O11","v":0},0,{"$f":"[1]T_Sch_Types!Q11","v":0},{"$f":"[1]T_Sch_Types!R11","v":0},0,{"$f":"[1]T_Sch_Types!T11","v":0},{"$f":"[1]T_Sch_Types!U11","v":0},0,{"$f":"[1]T_Sch_Types!W11","v":0},{"$f":"[1]T_Sch_Types!X11","v":0},0,{"$f":"[1]T_Sch_Types!Z11","v":0},{"$f":"[1]T_Sch_Types!AA11","v":0},0,{"$f":"[1]T_Sch_Types!AC11","v":0},{"$f":"[1]T_Sch_Types!AD11","v":0},0,{"$f":"[1]T_Sch_Types!AF11","v":0},{"$f":"[1]T_Sch_Types!AG11","v":0},0,{"$f":"SUM(E12,H12,K12,N12,Q12,T12,W12,Z12,AC12,AF12)","v":0},0,{"$f":"SUM(AI12:AJ12)","v":0},{"$f":"AK12/D12","v":0},{"$f":"D12-AK12","v":15}]
[2,null,null,null,null,null,0,null,null,0,null,null,0,null,null,0,null,null,0,null,null,0,null,null,0,null,null,0,null,null,0,null,null,0,0,0,0,{"$error":"#DIV/0!"},0]
[3,null,null,null,null,null,0,null,null,0,null,null,0,null,null,0,null,null,0,null,null,0,null,null,0,null,null,0,null,null,0,null,null,0,0,0,0,{"$error":"#DIV/0!"},0]
[4,null,null,null,null,null,0,null,null,0,null,null,0,null,null,0,null,null,0,null,null,0,null,null,0,null,null,0,null,null,0,null,null,0,0,0,0,{"$error":"#DIV/0!"},0]
[5,null,null,null,null,null,0,null,null,0,null,null,0,null,null,0,null,null,0,null,null,0,null,null,0,null,null,0,null,null,0,null,null,0,0,0,0,{"$error":"#DIV/0!"},0]
[6,null,null,null,null,null,0,null,null,0,null,null,0,null,null,0,null,null,0,null,null,0,null,null,0,null,null,0,null,null,0,null,null,0,0,0,0,{"$error":"#DIV/0!"},0]
[7,null,null,null,null,null,0,null,null,0,null,null,0,null,null,0,null,null,0,null,null,0,null,null,0,null,null,0,null,null,0,null,null,0,0,0,0,{"$error":"#DIV/0!"},0]
[8,null,null,null,null,null,0,null,null,0,null,null,0,null,null,0,null,null,0,null,null,0,null,null,0,null,null,0,null,null,0,null,null,0,0,0,0,{"$error":"#DIV/0!"},0]
[9,null,null,null,null,null,0,null,null,0,null,null,0,null,null,0,null,null,0,null,null,0,null,null,0,null,null,0,null,null,0,null,null,0,0,0,0,{"$error":"#DIV/0!"},0]
[10,null,null,null,null,null,0,null,null,0,null,null,0,null,null,0,null,null,0,null,null,0,null,null,0,null,null,0,null,null,0,null,null,0,0,0,0,{"$error":"#DIV/0!"},0]
[11,null,null,null,null,null,0,null,null,0,null,null,0,null,null,0,null,null,0,null,null,0,null,null,0,null,null,0,null,null,0,null,null,0,0,0,0,{"$error":"#DIV/0!"},0]
[12,null,null,null,null,null,0,null,null,0,null,null,0,null,null,0,null,null,0,null,null,0,null,null,0,null,null,0,null,null,0,null,null,0,0,0,0,{"$error":"#DIV/0!"},0]
[13,null,null,null,null,null,0,null,null,0,null,null,0,null,null,0,null,null,0,null,null,0,null,null,0,null,null,0,null,null,0,null,null,0,0,0,0,{"$error":"#DIV/0!"},0]
[14,null,null,null,null,null,0,null,null,0,null,null,0,null,null,0,null,null,0,null,null,0,null,null,0,null,null,0,null,null,0,null,null,0,0,0,0,{"$error":"#DIV/0!"},0]
[15,null,null,null,null,null,0,null,null,0,null,null,0,null,null,0,null,null,0,null,null,0,null,null,0,null,null,0,null,null,0,null,null,0,0,0,0,{"$error":"#DIV/0!"},0]
[16,null,null,null,null,null,0,null,null,0,null,null,0,null,null,0,null,null,0,null,null,0,null,null,0,null,null,0,null,null,0,null,null,0,0,0,0,{"$error":"#DIV/0!"},0]
[17,null,null,null,null,null,0,null,null,0,null,null,0,null,null,0,null,null,0,null,null,0,null,null,0,null,null,0,null,null,0,null,null,0,0,0,0,{"$error":"#DIV/0!"},0]
[18,null,null,null,null,null,0,null,null,0,null,null,0,null,null,0,null,null,0,null,null,0,null,null,0,null,null,0,null,null,0,null,null,0,0,0,0,{"$error":"#DIV/0!"},0]
[19,null,null,null,null,null,0,null,null,0,null,null,0,null,null,0,null,null,0,null,null,0,null,null,0,null,null,0,null,null,0,null,null,0,0,0,0,{"$error":"#DIV/0!"},0]
[20,null,null,null,null,null,0,null,null,0,null,null,0,null,null,0,null,null,0,null,null,0,null,null,0,null,null,0,null,null,0,null,null,0,0,0,0,{"$error":"#DIV/0!"},0]
[21,null,null,null,null,null,0,null,null,0,null,null,0,null,null,0,null,null,0,null,null,0,null,null,0,null,null,0,null,null,0,null,null,0,0,0,0,{"$error":"#DIV/0!"},0]
[22,null,null,null,null,null,0,null,null,0,null,null,0,null,null,0,null,null,0,null,null,0,null,null,0,null,null,0,null,null,0,null,null,0,0,0,0,{"$error":"#DIV/0!"},0]
[23,null,null,null,null,null,0,null,null,0,null,null,0,null,null,0,null,null,0,null,null,0,null,null,0,null,null,0,null,null,0,null,null,0,0,0,0,{"$error":"#DIV/0!"},0]
[24,null,null,null,null,null,0,null,null,0,null,null,0,null,null,0,null,null,0,null,null,0,null,null,0,null,null,0,null,null,0,null,null,0,0,0,0,{"$error":"#DIV/0!"},0]
[25,null,null,null,null,null,0,null,null,0,null,null,0,null,null,0,null,null,0,null,null,0,null,null,0,null,null,0,null,null,0,null,null,0,0,0,0,{"$error":"#DIV/0!"},0]
[26,null,null,null,null,null,0,null,null,0,null,null,0,null,null,0,null,null,0,null,null,0,null,null,0,null,null,0,null,null,0,null,null,0,0,0,0,{"$error":"#DIV/0!"},0]
[27,null,null,null,null,null,0,null,null,0,null,null,0,null,null,0,null,null,0,null,null,0,null,null,0,null,null,0,null,null,0,null,null,0,0,0,0,{"$error":"#DIV/0!"},0]
[28,null,null,null,null,null,0,null,null,0,null,null,0,null,null,0,null,null,0,null,null,0,null,null,0,null,null,0,null,null,0,null,null,0,0,0,0,{"$error":"#DIV/0!"},0]
[29,null,null,null,null,null,0,null,null,0,null,null,0,null,null,0,null,null,0,null,null,0,null,null,0,null,null,0,null,null,0,null,null,0,0,0,0,{"$error":"#DIV/0!"},0]
[30,null,null,null,null,null,0,null,null,0,null,null,0,null,null,0,null,null,0,null,null,0,null,null,0,null,null,0,null,null,0,null,null,0,0,0,0,{"$error":"#DIV/0!"},0]
[31,null,null,null,null,null,0,null,null,0,null,null,0,null,null,0,null,null,0,null,null,0,null,null,0,null,null,0,null,null,0,null,null,0,0,0,0,{"$error":"#DIV/0!"},0]
[32,null,null,null,null,null,0,null,null,0,null,null,0,null,null,0,null,null,0,null,null,0,null,null,0,null,null,0,null,null,0,null,null,0,0,0,0,{"$error":"#DIV/0!"},0]
[33,null,null,null,null,null,0,null,null,0,null,null,0,null,null,0,null,null,0,null,null,0,null,null,0,null,null,0,null,null,0,null,null,0,0,0,0,{"$error":"#DIV/0!"},0]
[34,null,null,null,null,null,0,null,null,0,null,null,0,null,null,0,null,null,0,null,null,0,null,null,0,null,null,0,null,null,0,null,null,0,0,0,0,{"$error":"#DIV/0!"},0]
[35,null,null,null,null,null,0,null,null,0,null,null,0,null,null,0,null,null,0,null,null,0,null,null,0,null,null,0,null,null,0,null,null,0,0,0,0,{"$error":"#DIV/0!"},0]
[36,null,null,null,null,null,0,null,null,0,null,null,0,null,null,0,null,null,0,null,null,0,null,null,0,null,null,0,null,null,0,null,null,0,0,0,0,{"$error":"#DIV/0!"},0]
[37,null,null,null,null,null,0,null,null,0,null,null,0,null,null,0,null,null,0,null,null,0,null,null,0,null,null,0,null,null,0,null,null,0,0,0,0,{"$error":"#DIV/0!"},0]
[38,null,null,null,null,null,0,null,null,0,null,null,0,null,null,0,null,null,0,null,null,0,null,null,0,null,null,0,null,null,0,null,null,0,0,0,0,{"$error":"#DIV/0!"},0]
[39,null,null,null,null,null,0,null,null,0,null,null,0,null,null,0,null,null,0,null,null,0,null,null,0,null,null,0,null,null,0,null,null,0,0,0,0,{"$error":"#DIV/0!"},0]
[40,null,null,null,null,null,0,null,null,0,null,null,0,null,null,0,null,null,0,null,null,0,null,null,0,null,null,0,null,null,0,null,null,0,0,0,0,{"$error":"#DIV/0!"},0]
[41,null,null,null,null,null,0,null,null,0,null,null,0,null,null,0,null,null,0,null,null,0,null,null,0,null,null,0,null,null,0,null,null,0,0,0,0,{"$error":"#DIV/0!"},0]
[42,null,null,null,null,null,0,null,null,0,null,null,0,null,null,0,null,null,0,null,null,0,null,null,0,null,null,0,null,null,0,null,null,0,0,0,0,{"$error":"#DIV/0!"},0]
[43,null,null,null,null,null,0,null,null,0,null,null,0,null,null,0,null,null,0,null,null,0,null,null,0,null,null,0,null,null,0,null,null,0,0,0,0,{"$error":"#DIV/0!"},0]
[44,null,null,null,null,null,0,null,null,0,null,null,0,null,null,0,null,null,0,null,null,0,null,null,0,null,null,0,null,null,0,null,null,0,0,0,0,{"$error":"#DIV/0!"},0]
[45,null,null,null,null,null,0,null,null,0,null,null,0,null,null,0,null,null,0,null,null,0,null,null,0,null,null,0,null,null,0,null,null,0,0,0,0,{"$error":"#DIV/0!"},0]
[46,null,null,null,null,null,0,null,null,0,null,null,0,null,null,0,null,null,0,null,null,0,null,null,0,null,null,0,null,null,0,null,null,0,0,0,0,{"$error":"#DIV/0!"},0]
[47,null,null,null,null,null,0,null,null,0,null,null,0,null,null,0,null,null,0,null,null,0,null,null,0,null,null,0,null,null,0,null,null,0,0,0,0,{"$error":"#DIV/0!"},0]
[48,null,null,null,null,null,0,null,null,0,null,null,0,null,null,0,null,null,0,null,null,0,null,null,0,null,null,0,null,null,0,null,null,0,0,0,0,{"$error":"#DIV/0!"},0]
[49,null,null,null,null,null,0,null,null,0,null,null,0,null,null,0,null,null,0,null,null,0,null,null,0,null,null,0,null,null,0,null,null,0,0,0,0,{"$error":"#DIV/0!"},0]
[50,null,null,null,null,null,0,null,null,0,null,null,0,null,null,0,null,null,0,null,null,0,null,null,0,null,null,0,null,null,0,null,null,0,0,0,0,{"$error":"#DIV/0!"},0]
[51,null,null,null,null,null,0,null,null,0,null,null,0,null,null,0,null,null,0,null,null,0,null,null,0,null,null,0,null,null,0,null,null,0,0,0,0,{"$error":"#DIV/0!"},0]
[52,null,null,null,null,null,0,null,null,0,null,null,0,null,null,0,null,null,0,null,null,0,null,null,0,null,null,0,null,null,0,null,null,0,0,0,0,{"$error":"#DIV/0!"},0]
[53,null,null,null,null,null,0,null,null,0,null,null,0,null,null,0,null,null,0,null,null,0,null,null,0,null,null,0,null,null,0,null,null,0,0,0,0,{"$error":"#DIV/0!"},0]
[54,null,null,null,null,null,0,null,null,0,null,null,0,null,null,0,null,null,0,null,null,0,null,null,0,null,null,0,null,null,0,null,null,0,0,0,0,{"$error":"#DIV/0!"},0]
[55,null,null,null,null,null,0,null,null,0,null,null,0,null,null,0,null,null,0,null,null,0,null,null,0,null,null,0,null,null,0,null,null,0,0,0,0,{"$error":"#DIV/0!"},0]
[56,null,null,null,null,null,0,null,null,0,null,null,0,null,null,0,null,null,0,null,null,0,null,null,0,null,null,0,null,null,0,null,null,0,0,0,0,{"$error":"#DIV/0!"},0]
[57,null,null,null,null,null,0,null,null,0,null,null,0,null,null,0,null,null,0,null,null,0,null,null,0,null,null,0,null,null,0,null,null,0,0,0,0,{"$error":"#DIV/0!"},0]
[58,null,null,null,null,null,0,null,null,0,null,null,0,null,null,0,null,null,0,null,null,0,null,null,0,null,null,0,null,null,0,null,null,0,0,0,0,{"$error":"#DIV/0!"},0]
[59,null,null,null,null,null,0,null,null,0,null,null,0,null,null,0,null,null,0,null,null,0,null,null,0,null,null,0,null,null,0,null,null,0,0,0,0,{"$error":"#DIV/0!"},0]
[60,null,null,null,null,null,0,null,null,0,null,null,0,null,null,0,null,null,0,null,null,0,null,null,0,null,null,0,null,null,0,null,null,0,0,0,0,{"$error":"#DIV/0!"},0]
[61,null,null,null,null,null,0,null,null,0,null,null,0,null,null,0,null,null,0,null,null,0,null,null,0,null,null,0,null,null,0,null,null,0,0,0,0,{"$error":"#DIV/0!"},0]
[62,null,null,null,null,null,0,null,null,0,null,null,0,null,null,0,null,null,0,null,null,0,null,null,0,null,null,0,null,null,0,null,null,0,0,0,0,{"$error":"#DIV/0!"},0]
[63,null,null,null,null,null,0,null,null,0,null,null,0,null,null,0,null,null,0,null,null,0,null,null,0,null,null,0,null,null,0,null,null,0,0,0,0,{"$error":"#DIV/0!"},0]
[64,null,null,null,null,null,0,null,null,{"$f":"SUM(H75:I75)","v":0},null,null,{"$f":"SUM(K75:L75)","v":0},null,null,{"$f":"SUM(N75:O75)","v":0},null,null,{"$f":"SUM(Q75:R75)","v":0},null,null,{"$f":"SUM(T75:U75)","v":0},null,null,{"$f":"SUM(W75:X75)","v":0},null,null,{"$f":"SUM(Z75:AA75)","v":0},null,null,{"$f":"SUM(AC75:AD75)","v":0},null,null,{"$f":"SUM(AF75:AG75)","v":0},0,0,0,{"$error":"#DIV/0!"},0]
[65,null,null,null,null,null,{"$f":"SUM(E76:F76)","v":0},null,null,0,null,null,0,null,null,0,null,null,0,null,null,0,null,null,0,null,null,0,null,null,0,null,null,0,{"$f":"SUM(E76,H76,K76,N76,Q76,T76,W76,Z76,AC76,AF76)","v":0},0,{"$f":"SUM(AI76:AJ76)","v":0},{"$f":"AK76/D76","v":{"$error":"#DIV/0!"}},{"$f":"D76-AK76","v":0}]
[66,null,null,null,null,null,0,null,null,0,null,null,0,null,null,0,null,null,0,null,null,0,null,null,0,null,null,0,null,null,0,null,null,0,0,0,0,{"$error":"#DIV/0!"},0]
[67,null,null,null,null,null,0,null,null,0,null,null,0,null,null,0,null,null,0,null,null,0,null,null,0,null,null,0,null,null,0,null,null,0,0,0,0,{"$error":"#DIV/0!"},0]
[68,null,null,null,null,null,0,null,null,0,null,null,0,null,null,0,null,null,0,null,null,0,null,null,0,null,null,0,null,null,0,null,null,0,0,0,0,{"$error":"#DIV/0!"},0]
[69,null,null,null,null,null,0,null,null,0,null,null,0,null,null,0,null,null,0,null,null,0,null,null,0,null,null,0,null,null,0,null,null,0,0,0,0,{"$error":"#DIV/0!"},0]
[70,null,null,null,null,null,0,null,null,0,null,null,0,null,null,0,null,null,0,null,null,0,null,null,0,null,null,0,null,null,0,null,null,0,0,0,0,{"$error":"#DIV/0!"},0]
[71,null,null,null,null,null,0,null,null,0,null,null,0,null,null,0,null,null,0,null,null,0,null,null,0,null,null,0,null,null,0,null,null,0,0,0,0,{"$error":"#DIV/0!"},0]
[72,null,null,null,null,null,0,null,null,0,null,null,0,null,null,0,null,null,0,null,null,0,null,null,0,null,null,0,null,null,0,null,null,0,0,0,0,{"$error":"#DIV/0!"},0]
[73,null,null,null,null,null,0,null,null,0,null,null,0,null,null,0,null,null,0,null,null,0,null,null,0,null,null,0,null,null,0,null,null,0,0,0,0,{"$error":"#DIV/0!"},0]
[74,null,null,null,null,null,0,null,null,0,null,null,0,null,null,0,null,null,0,null,null,0,null,null,0,null,null,0,null,null,0,null,null,0,0,0,0,{"$error":"#DIV/0!"},0]
[75,null,null,null,null,null,0,null,null,0,null,null,0,null,null,0,null,null,0,null,null,0,null,null,0,null,null,0,null,null,0,null,null,0,0,0,0,{"$error":"#DIV/0!"},0]
[76,null,null,null,null,null,0,null,null,0,null,null,0,null,null,0,null,null,0,null,null,0,null,null,0,null,null,0,null,null,0,null,null,0,0,0,0,{"$error":"#DIV/0!"},0]
[77,null,null,null,null,null,0,null,null,0,null,null,0,null,null,0,null,null,0,null,null,0,null,null,0,null,null,0,null,null,0,null,null,0,0,0,0,{"$error":"#DIV/0!"},0]
[78,null,null,null,null,null,0,null,null,0,null,null,0,null,null,0,null,null,0,null,null,0,null,null,0,null,null,0,null,null,0,null,null,0,0,0,0,{"$error":"#DIV/0!"},0]
[79,null,null,null,null,null,0,null,null,0,null,null,0,null,null,0,null,null,0,null,null,0,null,null,0,null,null,0,null,null,0,null,null,0,0,0,0,{"$error":"#DIV/0!"},0]
[80,null,null,null,null,null,0,null,null,0,null,null,0,null,null,0,null,null,0,null,null,0,null,null,0,null,null,0,null,null,0,null,null,0,0,0,0,{"$error":"#DIV/0!"},0]
[81,null,null,null,null,null,0,null,null,0,null,null,0,null,null,0,null,null,0,null,null,0,null,null,0,null,null,0,null,null,0,null,null,0,0,0,0,{"$error":"#DIV/0!"},0]
[82,null,null,null,null,null,0,null,null,0,null,null,0,null,null,0,null,null,0,null,null,0,null,null,0,null,null,0,null,null,0,null,null,0,0,0,0,{"$error":"#DIV/0!"},0]
[83,null,null,null,null,null,0,null,null,0,null,null,0,null,null,0,null,null,0,null,null,0,null,null,0,null,null,0,null,null,0,null,null,0,0,0,0,{"$error":"#DIV/0!"},0]
[84,null,null,null,null,null,0,null,null,0,null,null,0,null,null,0,null,null,0,null,null,0,null,null,0,null,null,0,null,null,0,null,null,0,0,0,0,{"$error":"#DIV/0!"},0]
[85,null,null,null,null,null,0,null,null,0,null,null,0,null,null,0,null,null,0,null,null,0,null,null,0,null,null,0,null,null,0,null,null,0,0,0,0,{"$error":"#DIV/0!"},0]
[86,null,null,null,null,null,0,null,null,0,null,null,0,null,null,0,null,null,0,null,null,0,null,null,0,null,null,0,null,null,0,null,null,0,0,0,0,{"$error":"#DIV/0!"},0]
[87,null,null,null,null,null,0,null,null,0,null,null,0,null,null,0,null,null,0,null,null,0,null,null,0,null,null,0,null,null,0,null,null,0,0,0,0,{"$error":"#DIV/0!"},0]
[88,null,null,null,null,null,0,null,null,0,null,null,0,null,null,0,null,null,0,null,null,0,null,null,0,null,null,0,null,null,0,null,null,0,0,0,0,{"$error":"#DIV/0!"},0]
[89,null,null,null,null,null,0,null,null,0,null,null,0,null,null,0,null,null,0,null,null,0,null,null,0,null,null,0,null,null,0,null,null,0,0,0,0,{"$error":"#DIV/0!"},0]
[90,null,null,null,null,null,0,null,null,0,null,null,0,null,null,0,null,null,0,null,null,0,null,null,0,null,null,0,null,null,0,null,null,0,0,0,0,{"$error":"#DIV/0!"},0]
[91,null,null,null,null,null,0,null,null,0,null,null,0,null,null,0,null,null,0,null,null,0,null,null,0,null,null,0,null,null,0,null,null,0,0,0,0,{"$error":"#DIV/0!"},0]
[92,null,null,null,null,null,0,null,null,0,null,null,0,null,null,0,null,null,0,null,null,0,null,null,0,null,null,0,null,null,0,null,null,0,0,0,0,{"$error":"#DIV/0!"},0]
[93,null,null,null,null,null,0,null,null,0,null,null,0,null,null,0,null,null,0,null,null,0,null,null,0,null,null,0,null,null,0,null,null,0,0,0,0,{"$error":"#DIV/0!"},0]
[94,null,null,null,null,null,0,null,null,0,null,null,0,null,null,0,null,null,0,null,null,0,null,null,0,null,null,0,null,null,0,null,null,0,0,0,0,{"$error":"#DIV/0!"},0]
[95,null,null,null,null,null,0,null,null,0,null,null,0,null,null,0,null,null,0,null,null,0,null,null,0,null,null,0,null,null,0,null,null,0,0,0,0,{"$error":"#DIV/0!"},0]
[96,null,null,null,null,null,0,null,null,0,null,null,0,null,null,0,null,null,0,null,null,0,null,null,0,null,null,0,null,null,0,null,null,0,0,0,0,{"$error":"#DIV/0!"},0]
[97,null,null,null,null,null,0,null,null,0,null,null,0,null,null,0,null,null,0,null,null,0,null,null,0,null,null,0,null,null,0,null,null,0,0,0,0,{"$error":"#DIV/0!"},0]
[98,null,null,null,null,null,0,null,null,0,null,null,0,null,null,0,null,null,0,null,null,0,null,null,0,null,null,0,null,null,0,null,null,0,0,0,0,{"$error":"#DIV/0!"},0]
[99,null,null,null,null,null,0,null,null,0,null,null,0,null,null,0,null,null,0,null,null,0,null,null,0,null,null,0,null,null,0,null,null,0,0,0,0,{"$error":"#DIV/0!"},0]
[100,null,null,null,null,null,0,null,null,0,null,null,0,null,null,0,null,null,0,null,null,0,null,null,0,null,null,0,null,null,0,null,null,0,0,0,0,{"$error":"#DIV/0!"},0]

{"sheet":"DoE_Types_Total","index":17,"n_rows":17,"n_cols":41,"rows_kept":17,"cut":false,"hidden":false,"merged":[[1,0,1,5],[2,0,2,5],[6,1,9,3],[4,0,4,17],[5,15,5,17],[6,0,9,0],[6,4,8,4],[6,5,8,5],[6,6,6,35],[6,36,7,39],[6,40,8,40],[7,6,7,8],[7,9,7,11],[7,12,7,14],[7,15,7,17],[7,18,7,20],[7,21,7,23],[7,24,7,26],[7,27,7,29],[7,30,7,32],[7,33,7,35],[15,1,15,3],[16,1,16,3],[10,0,10,3],[11,1,11,3],[14,1,14,3],[12,1,12,3],[13,1,13,3]]}
[]
[{"$f":"Create!G2","v":"ក្រសួងអប់រំ យុវជន និងកីឡា"}]
[{"$f":"Create!G3","v":"បំពេញឈ្មោះទីនេះ"}]
[]
[{"$f":"CONCATENATE(\"របាយការណ៍ចំណាយថវិកាតាមមុខសញ្ញាចំណាយប្រចាំត្រីមាសទី \", IF(Create!$G$4=1,\"១\",IF(Create!$G$4=2,\"២\",IF(Create!$G$4=3,\"៣\",\"៤\"))),\" ឆ្នាំ២០១៨\")","v":"របាយការណ៍ចំណាយថវិកាតាមមុខសញ្ញាចំណាយប្រចាំត្រីមាសទី ១ ឆ្នាំ២០១៨"}]
[null,null,null,null,null,null,null,null,null,null,null,null,null,null,null,"ឯកតា៖ រៀល"]
["ល.រ","ឈ្មោះការិយាល័យអប់រំ យុវជន និងកីឡា\nក្រុង ឬ ស្រុក ឬ ខ័ណ្ឌ",null,null,"ឥណទានដើមឆ្នាំ","ឥណទានកែតម្រូវ","មុខសញ្ញាចំណាយ",null,null,null,null,null,null,null,null,null,null,null,null,null,null,null,null,null,null,null,null,null,null,null,null,null,null,null,null,null,"សរុបចំណាយ",null,null,null,"ឥណទាននៅសល់"]
[null,null,null,null,null,null,"១.សម្ភារមូលដ្ឋាន ",null,null,"២.ការកែលម្អបរិស្ថាន សាលា និងថ្នាក់រៀន",null,null,"៣.ការជួសជុលតូច (សង្ហារឹម បណ្ណាល័យ និងបរិក្ខារអេឡិចត្រូនិច)",null,null,"៤.ការទិញសៀវភៅអានដាក់ក្នុងបណ្ណាល័យ",null,null,"៥.បំណិនជីវិត (កីឡា សិល្បៈ រោងជាង គេហវិជ្ជា និងកសិកម្ម) ",null,null,"៦.ចំណាយសម្រាប់ទឹកស្អាត និងអនាម័យ",null,null,"៧.ចំណាយទូទាត់ថ្លៃប្រើបា្រស់ថាមពលអគ្គិសនី និងទឹក",null,null,"៨.ការរៀបចំឯកសារធ្វើតេស្ត និងសម្ភារផ្សេងៗសម្រាប់ប្រឡងឆមាស",null,null,"៩.ចលនាបីល្អ (សិស្សល្អ មិត្តល្អ កូនល្អ) របស់ក្រុមប្រឹក្សាយុវជន",null,null,"១០.ចំណាយផ្សេងៗ"]
[null,null,null,null,null,null,"បណ្ដាត្រីមាសមុន","ក្នុងត្រីមាស","បូកយោង","បណ្ដាត្រីមាសមុន","ក្នុងត្រីមាស","បូកយោង","បណ្ដាត្រីមាសមុន","ក្នុងត្រីមាស","បូកយោង","បណ្ដាត្រីមាសមុន","ក្នុងត្រីមាស","បូកយោង","បណ្ដាត្រីមាសមុន","ក្នុងត្រីមាស","បូកយោង","បណ្ដាលត្រីមាសមុន","ក្នុងត្រីមាស","បូកយោង","បណ្ដាត្រីមាសមុន","ក្នុងត្រីមាស","បូកយោង","បណ្ដាត្រីមាសមុន","ក្នុងត្រីមាស","បូកយោង","បណ្ដាត្រីមាស","ក្នុងត្រីមាស","បូកយោង","បណ្ដាត្រីមាសមុន","ក្នុងត្រីមាស","បូកយោង","បណ្ដាត្រីមាសមុន","ក្នុងត្រីមាស","បូកយោង","%"]
[null,null,null,null,1,2,3,4,"5=3+4",6,7,"8=6+7",9,10,"11=9+10",12,13,"14=12+13","15","16","17=15+16","18","19","20=18+19","21","22","23=21+22","24","25","26=24+25","27","28","29=27+28","30","31","32=30+31","33","34","35=33+34","36=35/2","37=2-35"]
["សរុបរួម",null,null,null,{"$f":"SUM(E12:E17)","v":40},{"$f":"SUM(F12:F17)","v":60},0,0,0,0,0,0,0,0,0,0,0,0,0,0,0,0,0,0,0,0,0,0,0,0,0,0,0,0,0,0,0,0,0,{"$f":"AM11/F11","v":0},{"$f":"F11-AM11","v":60}]
[1,"សាលាមត្តេយ្យសិក្សា",null,null,{"$f":"E_DoE_Types!C11","v":10},{"$f":"E_DoE_Types!D11","v":15},{"$f":"E_DoE_Types!E11","v":0},{"$f":"E_DoE_Types!F11","v":0},{"$f":"E_DoE_Types!G11","v":0},{"$f":"E_DoE_Types!H11","v":0},{"$f":"E_DoE_Types!I11","v":0},{"$f":"E_DoE_Types!J11","v":0},{"$f":"E_DoE_Types!K11","v":0},{"$f":"E_DoE_Types!L11","v":0},{"$f":"E_DoE_Types!M11","v":0},{"$f":"E_DoE_Types!N11","v":0},{"$f":"E_DoE_Types!O11","v":0},{"$f":"E_DoE_Types!P11","v":0},{"$f":"E_DoE_Types!Q11","v":0},{"$f":"E_DoE_Types!R11","v":0},{"$f":"E_DoE_Types!S11","v":0},{"$f":"E_DoE_Types!T11","v":0},{"$f":"E_DoE_Types!U11","v":0},{"$f":"E_DoE_Types!V11","v":0},{"$f":"E_DoE_Types!W11","v":0},{"$f":"E_DoE_Types!X11","v":0},{"$f":"E_DoE_Types!Y11","v":0},{"$f":"E_DoE_Types!Z11","v":0},{"$f":"E_DoE_Types!AA11","v":0},{"$f":"E_DoE_Types!AB11","v":0},{"$f":"E_DoE_Types!AC11","v":0},{"$f":"E_DoE_Types!AD11","v":0},{"$f":"E_DoE_Types!AE11","v":0},{"$f":"E_DoE_Types!AF11","v":0},{"$f":"E_DoE_Types!AG11","v":0},{"$f":"E_DoE_Types!AH11","v":0},{"$f":"E_DoE_Types!AI11","v":0},{"$f":"E_DoE_Types!AJ11","v":0},{"$f":"E_DoE_Types!AK11","v":0},{"$f":"AM12/F12","v":0},{"$f":"F12-AM12","v":15}]
[2,"សាលាបឋមសិក្សា",null,null,{"$f":"P_DoE_Types!C11","v":10},{"$f":"P_DoE_Types!D11","v":15},{"$f":"P_DoE_Types!E11","v":0},{"$f":"P_DoE_Types!F11","v":0},{"$f":"P_DoE_Types!G11","v":0},{"$f":"P_DoE_Types!H11","v":0},{"$f":"P_DoE_Types!I11","v":0},{"$f":"P_DoE_Types!J11","v":0},{"$f":"P_DoE_Types!K11","v":0},{"$f":"P_DoE_Types!L11","v":0},{"$f":"P_DoE_Types!M11","v":0},{"$f":"P_DoE_Types!N11","v":0},{"$f":"P_DoE_Types!O11","v":0},{"$f":"P_DoE_Types!P11","v":0},{"$f":"P_DoE_Types!Q11","v":0},{"$f":"P_DoE_Types!R11","v":0},{"$f":"P_DoE_Types!S11","v":0},{"$f":"P_DoE_Types!T11","v":0},{"$f":"P_DoE_Types!U11","v":0},{"$f":"P_DoE_Types!V11","v":0},{"$f":"P_DoE_Types!W11","v":0},{"$f":"P_DoE_Types!X11","v":0},{"$f":"P_DoE_Types!Y11","v":0},{"$f":"P_DoE_Types!Z11","v":0},{"$f":"P_DoE_Types!AA11","v":0},{"$f":"P_DoE_Types!AB11","v":0},{"$f":"P_DoE_Types!AC11","v":0},{"$f":"P_DoE_Types!AD11","v":0},{"$f":"P_DoE_Types!AE11","v":0},{"$f":"P_DoE_Types!AF11","v":0},{"$f":"P_DoE_Types!AG11","v":0},{"$f":"P_DoE_Types!AH11","v":0},{"$f":"P_DoE_Types!AI11","v":0},{"$f":"P_DoE_Types!AJ11","v":0},{"$f":"P_DoE_Types!AK11","v":0},0,15]
[3,"អនុវិទ្យាល័យ",null,null,{"$f":"S_DoE_Types!C11","v":10},{"$f":"S_DoE_Types!D11","v":15},{"$f":"S_DoE_Types!E11","v":0},{"$f":"S_DoE_Types!F11","v":0},{"$f":"S_DoE_Types!G11","v":0},{"$f":"S_DoE_Types!H11","v":0},{"$f":"S_DoE_Types!I11","v":0},{"$f":"S_DoE_Types!J11","v":0},{"$f":"S_DoE_Types!K11","v":0},{"$f":"S_DoE_Types!L11","v":0},{"$f":"S_DoE_Types!M11","v":0},{"$f":"S_DoE_Types!N11","v":0},{"$f":"S_DoE_Types!O11","v":0},{"$f":"S_DoE_Types!P11","v":0},{"$f":"S_DoE_Types!Q11","v":0},{"$f":"S_DoE_Types!R11","v":0},{"$f":"S_DoE_Types!S11","v":0},{"$f":"S_DoE_Types!T11","v":0},{"$f":"S_DoE_Types!U11","v":0},{"$f":"S_DoE_Types!V11","v":0},{"$f":"S_DoE_Types!W11","v":0},{"$f":"S_DoE_Types!X11","v":0},{"$f":"S_DoE_Types!Y11","v":0},{"$f":"S_DoE_Types!Z11","v":0},{"$f":"S_DoE_Types!AA11","v":0},{"$f":"S_DoE_Types!AB11","v":0},{"$f":"S_DoE_Types!AC11","v":0},{"$f":"S_DoE_Types!AD11","v":0},{"$f":"S_DoE_Types!AE11","v":0},{"$f":"S_DoE_Types!AF11","v":0},{"$f":"S_DoE_Types!AG11","v":0},{"$f":"S_DoE_Types!AH11","v":0},{"$f":"S_DoE_Types!AI11","v":0},{"$f":"S_DoE_Types!AJ11","v":0},{"$f":"S_DoE_Types!AK11","v":0},0,15]
[4,"វិទ្យាល័យ",null,null,{"$f":"H_DoE_Types!C11","v":0},{"$f":"H_DoE_Types!D11","v":0},{"$f":"H_DoE_Types!E11","v":0},{"$f":"H_DoE_Types!F11","v":0},{"$f":"H_DoE_Types!G11","v":0},{"$f":"H_DoE_Types!H11","v":0},{"$f":"H_DoE_Types!I11","v":0},{"$f":"H_DoE_Types!J11","v":0},{"$f":"H_DoE_Types!K11","v":0},{"$f":"H_DoE_Types!L11","v":0},{"$f":"H_DoE_Types!M11","v":0},{"$f":"H_DoE_Types!N11","v":0},{"$f":"H_DoE_Types!O11","v":0},{"$f":"H_DoE_Types!P11","v":0},{"$f":"H_DoE_Types!Q11","v":0},{"$f":"H_DoE_Types!R11","v":0},{"$f":"H_DoE_Types!S11","v":0},{"$f":"H_DoE_Types!T11","v":0},{"$f":"H_DoE_Types!U11","v":0},{"$f":"H_DoE_Types!V11","v":0},{"$f":"H_DoE_Types!W11","v":0},{"$f":"H_DoE_Types!X11","v":0},{"$f":"H_DoE_Types!Y11","v":0},{"$f":"H_DoE_Types!Z11","v":0},{"$f":"H_DoE_Types!AA11","v":0},{"$f":"H_DoE_Types!AB11","v":0},{"$f":"H_DoE_Types!AC11","v":0},{"$f":"H_DoE_Types!AD11","v":0},{"$f":"H_DoE_Types!AE11","v":0},{"$f":"H_DoE_Types!AF11","v":0},{"$f":"H_DoE_Types!AG11","v":0},{"$f":"H_DoE_Types!AH11","v":0},{"$f":"H_DoE_Types!AI11","v":0},{"$f":"H_DoE_Types!AJ11","v":0},{"$f":"H_DoE_Types!AK11","v":0},{"$error":"#DIV/0!"},0]
[5,"អាគារធនធាន",null,null,{"$f":"RB_Types!C11","v":0},{"$f":"RB_Types!D11","v":0},{"$f":"RB_Types!E11","v":0},{"$f":"RB_Types!F11","v":0},{"$f":"RB_Types!G11","v":0},{"$f":"RB_Types!H11","v":0},{"$f":"RB_Types!I11","v":0},{"$f":"RB_Types!J11","v":0},{"$f":"RB_Types!K11","v":0},{"$f":"RB_Types!L11","v":0},{"$f":"RB_Types!M11","v":0},{"$f":"RB_Types!N11","v":0},{"$f":"RB_Types!O11","v":0},{"$f":"RB_Types!P11","v":0},{"$f":"RB_Types!Q11","v":0},{"$f":"RB_Types!R11","v":0},{"$f":"RB_Types!S11","v":0},{"$f":"RB_Types!T11","v":0},{"$f":"RB_Types!U11","v":0},{"$f":"RB_Types!V11","v":0},{"$f":"RB_Types!W11","v":0},{"$f":"RB_Types!X11","v":0},{"$f":"RB_Types!Y11","v":0},{"$f":"RB_Types!Z11","v":0},{"$f":"RB_Types!AA11","v":0},{"$f":"RB_Types!AB11","v":0},{"$f":"RB_Types!AC11","v":0},{"$f":"RB_Types!AD11","v":0},{"$f":"RB_Types!AE11","v":0},{"$f":"RB_Types!AF11","v":0},{"$f":"RB_Types!AG11","v":0},{"$f":"RB_Types!AH11","v":0},{"$f":"RB_Types!AI11","v":0},{"$f":"RB_Types!AJ11","v":0},{"$f":"RB_Types!AK11","v":0},{"$error":"#DIV/0!"},0]
[6,"វិទ្យាល័យបច្ចេកទេស",null,null,{"$f":"T_DoE_Types!C11","v":10},{"$f":"T_DoE_Types!D11","v":15},{"$f":"T_DoE_Types!E11","v":0},{"$f":"T_DoE_Types!F11","v":0},{"$f":"T_DoE_Types!G11","v":0},{"$f":"T_DoE_Types!H11","v":0},{"$f":"T_DoE_Types!I11","v":0},{"$f":"T_DoE_Types!J11","v":0},{"$f":"T_DoE_Types!K11","v":0},{"$f":"T_DoE_Types!L11","v":0},{"$f":"T_DoE_Types!M11","v":0},{"$f":"T_DoE_Types!N11","v":0},{"$f":"T_DoE_Types!O11","v":0},{"$f":"T_DoE_Types!P11","v":0},{"$f":"T_DoE_Types!Q11","v":0},{"$f":"T_DoE_Types!R11","v":0},{"$f":"T_DoE_Types!S11","v":0},{"$f":"T_DoE_Types!T11","v":0},{"$f":"T_DoE_Types!U11","v":0},{"$f":"T_DoE_Types!V11","v":0},{"$f":"T_DoE_Types!W11","v":0},{"$f":"T_DoE_Types!X11","v":0},{"$f":"T_DoE_Types!Y11","v":0},{"$f":"T_DoE_Types!Z11","v":0},{"$f":"T_DoE_Types!AA11","v":0},{"$f":"T_DoE_Types!AB11","v":0},{"$f":"T_DoE_Types!AC11","v":0},{"$f":"T_DoE_Types!AD11","v":0},{"$f":"T_DoE_Types!AE11","v":0},{"$f":"T_DoE_Types!AF11","v":0},{"$f":"T_DoE_Types!AG11","v":0},{"$f":"T_DoE_Types!AH11","v":0},{"$f":"T_DoE_Types!AI11","v":0},{"$f":"T_DoE_Types!AJ11","v":0},{"$f":"T_DoE_Types!AK11","v":0},0,15]

{"sheet":"E_DoE_Others","index":18,"n_rows":111,"n_cols":48,"rows_kept":111,"cut":false,"hidden":false,"merged":[[1,0,1,2],[2,0,2,2],[4,0,4,47],[6,34,7,38],[6,39,7,43],[6,44,7,47],[10,0,10,1],[7,4,7,8],[6,4,6,33],[7,9,7,13],[7,14,7,18],[7,19,7,23],[7,24,7,28],[7,29,7,33],[6,0,9,0],[6,1,9,1],[6,2,8,2],[6,3,8,3]]}
[]
[{"$f":"Create!G2","v":"ក្រសួងអប់រំ យុវជន និងកីឡា"}]
[{"$f":"Create!G3","v":"បំពេញឈ្មោះទីនេះ"}]
[]
[{"$f":"CONCATENATE(\"របាយការណ៍ចំណាយថវិកាដៃគូ សហគមន៍ និងសប្បុរសជន របស់មត្តេយ្យសិក្សាប្រចាំត្រីមាសទី \",IF(Create!$G$4=1,\"១\",IF(Create!$G$4=2,\"២\",IF(Create!$G$4=3,\"៣\",\"៤\"))),\" ឆ្នាំ២០១៨\")","v":"របាយការណ៍ចំណាយថវិកាដៃគូ សហគមន៍ និងសប្បុរសជន របស់មត្តេយ្យសិក្សាប្រចាំត្រីមាសទី ១ ឆ្នាំ២០១៨"}]
[]
["ល.រ","ឈ្មោះការិយាល័យអប់រំ យុវជន និងកីឡា\nក្រុង ឬ ស្រុក ឬ ខ័ណ្ឌ","ឥណទានដើមឆ្នាំ","ឥណទានកែតម្រូវ","I. ថវិកាដៃគូ",null,null,null,null,null,null,null,null,null,null,null,null,null,null,null,null,null,null,null,null,null,null,null,null,null,null,null,null,null,"II. សហគមន៍",null,null,null,null,"III. សប្បុរជន",null,null,null,null,"សរុប(I+II+III)"]
[null,null,null,null,"ធនាគារពិភពលោក\n(The World Bank)",null,null,null,null,"អង្គការយូនីសេហ្វ(UNICEF)",null,null,null,null,"ធនាគារអភិវឌ្ឍន៍អាស៊ី(ADB)",null,null,null,null,"ជំនួសពីប្រទេសស៊ុយអ៊ែត(SWEDEN)",null,null,null,null,"ជំនួយពីដៃគូផ្សេងៗ(Others)",null,null,null,null,"សរុប"]
[null,null,null,null,"ដើមឆ្នាំ","កែតម្រូវ","បណ្ដាត្រីមាសមុន","ក្នុងត្រីមាស","បូកយោង","ដើមឆ្នាំ","កែតម្រូវ","បណ្ដាត្រីមាសមុន","ក្នុងត្រីមាស","បូកយោង","ដើមឆ្នាំ","កែតម្រូវ","បណ្ដាត្រីមាសមុន","ក្នុងត្រីមាស","បូកយោង","ដើមឆ្នាំ","កែតម្រូវ","បណ្ដាត្រីមាសមុន","ក្នុងត្រីមាស","បូកយោង","ដើមឆ្នាំ","កែតម្រូវ","បណ្ដាត្រីមាសមុន","ក្នុងត្រីមាស","បូកយោង","ដើមឆ្នាំ","កែតម្រូវ","បណ្ដាត្រីមាសមុន","ក្នុងត្រីមាស","បូកយោង","ដើមឆ្នាំ","កែតម្រូវ","បណ្ដាត្រីមាសមុន","ក្នុងត្រីមាស","បូកយោង","ដើមឆ្នាំ","កែតម្រូវ","បណ្ដាត្រីមាសមុន","ក្នុងត្រីមាស","បូកយោង","បណ្ដាត្រីមាសមុន","ក្នុងត្រីមាស","បូកយោង","%"]
[null,null,1,2,null,null,3,4,"5=3+4",null,null,6,7,"8=6+7",null,null,9,10,"11=9+10",null,null,12,13,"14=12+13",null,null,12,13,"14=12+13",null,null,12,13,"14=12+13",null,null,12,13,"14=12+13",null,null,12,13,"14=12+13",12,13,"14=12+13","15=14/2"]
["សរុប",null,{"$f":"SUM(C12:C111)","v":0},{"$f":"SUM(D12:D111)","v":0},{"$f":"SUM(E12:E111)","v":0},0,0,0,{"$f":"SUM(G11:H11)","v":0},0,0,0,0,{"$f":"SUM(L11:M11)","v":0},0,0,0,0,{"$f":"SUM(Q11:R11)","v":0},0,0,0,0,{"$f":"SUM(V11:W11)","v":0},0,0,0,0,{"$f":"SUM(AA11:AB11)","v":0},0,0,0,0,{"$f":"SUM(AF11:AG11)","v":0},0,0,0,0,{"$f":"SUM(AK11:AL11)","v":0},0,0,0,0,{"$f":"SUM(AP11:AQ11)","v":0},{"$f":"SUM(AD11,AI11,AN11)","v":0},{"$f":"SUM(AE11,AJ11,AO11)","v":0},{"$f":"SUM(AS11:AT11)","v":0},{"$f":"AU11/D11","v":{"$error":"#DIV/0!"}}]
[1,{"$f":"[1]E_Sch_Others!A3","v":"ការិយាល័យអប់រំ យុវជន និងកីឡាក្រុងប៉ៃលិន"},{"$f":"SUM(AD12,AI12,AN12,)","v":0},{"$f":"SUM(AE12,AJ12,AO12,)","v":0},{"$f":"[1]E_Sch_Others!E11","v":0},{"$f":"[1]E_Sch_Others!F11","v":0},{"$f":"[1]E_Sch_Others!G11","v":0},{"$f":"[1]E_Sch_Others!H11","v":0},{"$f":"SUM(G12:H12)","v":0},{"$f":"[1]E_Sch_Others!J11","v":0},{"$f":"[1]E_Sch_Others!K11","v":0},{"$f":"[1]E_Sch_Others!L11","v":0},{"$f":"[1]E_Sch_Others!M11","v":0},{"$f":"SUM(L12:M12)","v":0},{"$f":"[1]E_Sch_Others!O11","v":0},{"$f":"[1]E_Sch_Others!P11","v":0},{"$f":"[1]E_Sch_Others!Q11","v":0},{"$f":"[1]E_Sch_Others!R11","v":0},0,{"$f":"[1]E_Sch_Others!T11","v":0},{"$f":"[1]E_Sch_Others!U11","v":0},{"$f":"[1]E_Sch_Others!V11","v":0},{"$f":"[1]E_Sch_Others!W11","v":0},0,{"$f":"[1]E_Sch_Others!Y11","v":0},{"$f":"[1]E_Sch_Others!Z11","v":0},{"$f":"[1]E_Sch_Others!AA11","v":0},{"$f":"[1]E_Sch_Others!AB11","v":0},0,{"$f":"SUM(E12,J12,O12,T12,Y12)","v":0},{"$f":"SUM(F12,K12,P12,U12,Z12)","v":0},0,0,{"$f":"SUM(AF12:AG12)","v":0},{"$f":"[1]E_Sch_Others!AI11","v":0},{"$f":"[1]E_Sch_Others!AJ11","v":0},{"$f":"[1]E_Sch_Others!AK11","v":0},{"$f":"[1]E_Sch_Others!AL11","v":0},0,{"$f":"[1]E_Sch_Others!AN11","v":0},{"$f":"[1]E_Sch_Others!AO11","v":0},{"$f":"[1]E_Sch_Others!AP11","v":0},{"$f":"[1]E_Sch_Others!AQ11","v":0},0,{"$f":"SUM(AD12,AI12,AN12)","v":0},{"$f":"SUM(AE12,AJ12,AO12)","v":0},{"$f":"SUM(AS12:AT12)","v":0},{"$f":"AU12/D12","v":{"$error":"#DIV/0!"}}]
[2,null,{"$f":"SUM(AD13,AI13,AN13,)","v":0},{"$f":"SUM(AE13,AJ13,AO13,)","v":0},null,null,null,null,0,null,null,null,null,0,null,null,null,null,0,null,null,null,null,0,null,null,null,null,0,{"$f":"SUM(E13,J13,O13,T13,Y13)","v":0},{"$f":"SUM(F13,K13,P13,U13,Z13)","v":0},{"$f":"SUM(G13,L13,Q13,V13,AA13)","v":0},{"$f":"SUM(H13,M13,R13,W13,AB13)","v":0},0,null,null,null,null,0,null,null,null,null,0,0,0,0,{"$error":"#DIV/0!"}]
[3,null,0,0,null,null,null,null,0,null,null,null,null,0,null,null,null,null,0,null,null,null,null,0,null,null,null,null,0,0,0,0,0,0,null,null,null,null,0,null,null,null,null,0,0,0,0,{"$error":"#DIV/0!"}]
[4,null,0,0,null,null,null,null,0,null,null,null,null,0,null,null,null,null,0,null,null,null,null,0,null,null,null,null,0,0,0,0,0,0,null,null,null,null,0,null,null,null,null,0,0,0,0,{"$error":"#DIV/0!"}]
[5,null,0,0,null,null,null,null,0,null,null,null,null,0,null,null,null,null,0,null,null,null,null,0,null,null,null,null,0,0,0,0,0,0,null,null,null,null,0,null,null,null,null,0,0,0,0,{"$error":"#DIV/0!"}]
[6,null,0,0,null,null,null,null,0,null,null,null,null,0,null,null,null,null,0,null,null,null,null,0,null,null,null,null,0,0,0,0,0,0,null,null,null,null,0,null,null,null,null,0,0,0,0,{"$error":"#DIV/0!"}]
[7,null,0,0,null,null,null,null,0,null,null,null,null,0,null,null,null,null,0,null,null,null,null,0,null,null,null,null,0,0,0,0,0,0,null,null,null,null,0,null,null,null,null,0,0,0,0,{"$error":"#DIV/0!"}]
[8,null,0,0,null,null,null,null,0,null,null,null,null,0,null,null,null,null,0,null,null,null,null,0,null,null,null,null,0,0,0,0,0,0,null,null,null,null,0,null,null,null,null,0,0,0,0,{"$error":"#DIV/0!"}]
[9,null,0,0,null,null,null,null,0,null,null,null,null,0,null,null,null,null,0,null,null,null,null,0,null,null,null,null,0,0,0,0,0,0,null,null,null,null,0,null,null,null,null,0,0,0,0,{"$error":"#DIV/0!"}]
[10,null,0,0,null,null,null,null,0,null,null,null,null,0,null,null,null,null,0,null,null,null,null,0,null,null,null,null,0,0,0,0,0,0,null,null,null,null,0,null,null,null,null,0,0,0,0,{"$error":"#DIV/0!"}]
[11,null,0,0,null,null,null,null,0,null,null,null,null,0,null,null,null,null,0,null,null,null,null,0,null,null,null,null,0,0,0,0,0,0,null,null,null,null,0,null,null,null,null,0,0,0,0,{"$error":"#DIV/0!"}]
[12,null,0,0,null,null,null,null,0,null,null,null,null,0,null,null,null,null,0,null,null,null,null,0,null,null,null,null,0,0,0,0,0,0,null,null,null,null,0,null,null,null,null,0,0,0,0,{"$error":"#DIV/0!"}]
[13,null,0,0,null,null,null,null,0,null,null,null,null,0,null,null,null,null,0,null,null,null,null,0,null,null,null,null,0,0,0,0,0,0,null,null,null,null,0,null,null,null,null,0,0,0,0,{"$error":"#DIV/0!"}]
[14,null,0,0,null,null,null,null,0,null,null,null,null,0,null,null,null,null,0,null,null,null,null,0,null,null,null,null,0,0,0,0,0,0,null,null,null,null,0,null,null,null,null,0,0,0,0,{"$error":"#DIV/0!"}]
[15,null,0,0,null,null,null,null,0,null,null,null,null,0,null,null,null,null,0,null,null,null,null,0,null,null,null,null,0,0,0,0,0,0,null,null,null,null,0,null,null,null,null,0,0,0,0,{"$error":"#DIV/0!"}]
[16,null,0,0,null,null,null,null,0,null,null,null,null,0,null,null,null,null,0,null,null,null,null,0,null,null,null,null,0,0,0,0,0,0,null,null,null,null,0,null,null,null,null,0,0,0,0,{"$error":"#DIV/0!"}]
[17,null,0,0,null,null,null,null,0,null,null,null,null,0,null,null,null,null,0,null,null,null,null,0,null,null,null,null,0,0,0,0,0,0,null,null,null,null,0,null,null,null,null,0,0,0,0,{"$error":"#DIV/0!"}]
[18,null,0,0,null,null,null,null,0,null,null,null,null,0,null,null,null,null,0,null,null,null,null,0,null,null,null,null,0,0,0,0,0,0,null,null,null,null,0,null,null,null,null,0,0,0,0,{"$error":"#DIV/0!"}]
[19,null,0,0,null,null,null,null,0,null,null,null,null,0,null,null,null,null,0,null,null,null,null,0,null,null,null,null,0,0,0,0,0,0,null,null,null,null,0,null,null,null,null,0,0,0,0,{"$error":"#DIV/0!"}]
[20,null,0,0,null,null,null,null,0,null,null,null,null,0,null,null,null,null,0,null,null,null,null,0,null,null,null,null,0,0,0,0,0,0,null,null,null,null,0,null,null,null,null,0,0,0,0,{"$error":"#DIV/0!"}]
[21,null,0,0,null,null,null,null,0,null,null,null,null,0,null,null,null,null,0,null,null,null,null,0,null,null,null,null,0,0,0,0,0,0,null,null,null,null,0,null,null,null,null,0,0,0,0,{"$error":"#DIV/0!"}]
[22,null,0,0,null,null,null,null,0,null,null,null,null,0,null,null,null,null,0,null,null,null,null,0,null,null,null,null,0,0,0,0,0,0,null,null,null,null,0,null,null,null,null,0,0,0,0,{"$error":"#DIV/0!"}]
[23,null,0,0,null,null,null,null,0,null,null,null,null,0,null,null,null,null,0,null,null,null,null,0,null,null,null,null,0,0,0,0,0,0,null,null,null,null,0,null,null,null,null,0,0,0,0,{"$error":"#DIV/0!"}]
[24,null,0,0,null,null,null,null,0,null,null,null,null,0,null,null,null,null,0,null,null,null,null,0,null,null,null,null,0,0,0,0,0,0,null,null,null,null,0,null,null,null,null,0,0,0,0,{"$error":"#DIV/0!"}]
[25,null,0,0,null,null,null,null,0,null,null,null,null,0,null,null,null,null,0,null,null,null,null,0,null,null,null,null,0,0,0,0,0,0,null,null,null,null,0,null,null,null,null,0,0,0,0,{"$error":"#DIV/0!"}]
[26,null,0,0,null,null,null,null,0,null,null,null,null,0,null,null,null,null,0,null,null,null,null,0,null,null,null,null,0,0,0,0,0,0,null,null,null,null,0,null,null,null,null,0,0,0,0,{"$error":"#DIV/0!"}]
[27,null,0,0,null,null,null,null,0,null,null,null,null,0,null,null,null,null,0,null,null,null,null,0,null,null,null,null,0,0,0,0,0,0,null,null,null,null,0,null,null,null,null,0,0,0,0,{"$error":"#DIV/0!"}]
[28,null,0,0,null,null,null,null,0,null,null,null,null,0,null,null,null,null,0,null,null,null,null,0,null,null,null,null,0,0,0,0,0,0,null,null,null,null,0,null,null,null,null,0,0,0,0,{"$error":"#DIV/0!"}]
[29,null,0,0,null,null,null,null,0,null,null,null,null,0,null,null,null,null,0,null,null,null,null,0,null,null,null,null,0,0,0,0,0,0,null,null,null,null,0,null,null,null,null,0,0,0,0,{"$error":"#DIV/0!"}]
[30,null,0,0,null,null,null,null,0,null,null,null,null,0,null,null,null,null,0,null,null,null,null,0,null,null,null,null,0,0,0,0,0,0,null,null,null,null,0,null,null,null,null,0,0,0,0,{"$error":"#DIV/0!"}]
[31,null,0,0,null,null,null,null,0,null,null,null,null,0,null,null,null,null,0,null,null,null,null,0,null,null,null,null,0,0,0,0,0,0,null,null,null,null,0,null,null,null,null,0,0,0,0,{"$error":"#DIV/0!"}]
[32,null,0,0,null,null,null,null,0,null,null,null,null,0,null,null,null,null,0,null,null,null,null,0,null,null,null,null,0,0,0,0,0,0,null,null,null,null,0,null,null,null,null,0,0,0,0,{"$error":"#DIV/0!"}]
[33,null,0,0,null,null,null,null,0,null,null,null,null,0,null,null,null,null,0,null,null,null,null,0,null,null,null,null,0,0,0,0,0,0,null,null,null,null,0,null,null,null,null,0,0,0,0,{"$error":"#DIV/0!"}]
[34,null,0,0,null,null,null,null,0,null,null,null,null,0,null,null,null,null,0,null,null,null,null,0,null,null,null,null,0,0,0,0,0,0,null,null,null,null,0,null,null,null,null,0,0,0,0,{"$error":"#DIV/0!"}]
[35,null,0,0,null,null,null,null,0,null,null,null,null,0,null,null,null,null,0,null,null,null,null,0,null,null,null,null,0,0,0,0,0,0,null,null,null,null,0,null,null,null,null,0,0,0,0,{"$error":"#DIV/0!"}]
[36,null,0,0,null,null,null,null,0,null,null,null,null,0,null,null,null,null,0,null,null,null,null,0,null,null,null,null,0,0,0,0,0,0,null,null,null,null,0,null,null,null,null,0,0,0,0,{"$error":"#DIV/0!"}]
[37,null,0,0,null,null,null,null,0,null,null,null,null,0,null,null,null,null,0,null,null,null,null,0,null,null,null,null,0,0,0,0,0,0,null,null,null,null,0,null,null,null,null,0,0,0,0,{"$error":"#DIV/0!"}]
[38,null,0,0,null,null,null,null,0,null,null,null,null,0,null,null,null,null,0,null,null,null,null,0,null,null,null,null,0,0,0,0,0,0,null,null,null,null,0,null,null,null,null,0,0,0,0,{"$error":"#DIV/0!"}]
[39,null,0,0,null,null,null,null,0,null,null,null,null,0,null,null,null,null,0,null,null,null,null,0,null,null,null,null,0,0,0,0,0,0,null,null,null,null,0,null,null,null,null,0,0,0,0,{"$error":"#DIV/0!"}]
[40,null,0,0,null,null,null,null,0,null,null,null,null,0,null,null,null,null,0,null,null,null,null,0,null,null,null,null,0,0,0,0,0,0,null,null,null,null,0,null,null,null,null,0,0,0,0,{"$error":"#DIV/0!"}]
[41,null,0,0,null,null,null,null,0,null,null,null,null,0,null,null,null,null,0,null,null,null,null,0,null,null,null,null,0,0,0,0,0,0,null,null,null,null,0,null,null,null,null,0,0,0,0,{"$error":"#DIV/0!"}]
[42,null,0,0,null,null,null,null,0,null,null,null,null,0,null,null,null,null,0,null,null,null,null,0,null,null,null,null,0,0,0,0,0,0,null,null,null,null,0,null,null,null,null,0,0,0,0,{"$error":"#DIV/0!"}]
[43,null,0,0,null,null,null,null,0,null,null,null,null,0,null,null,null,null,0,null,null,null,null,0,null,null,null,null,0,0,0,0,0,0,null,null,null,null,0,null,null,null,null,0,0,0,0,{"$error":"#DIV/0!"}]
[44,null,0,0,null,null,null,null,0,null,null,null,null,0,null,null,null,null,0,null,null,null,null,0,null,null,null,null,0,0,0,0,0,0,null,null,null,null,0,null,null,null,null,0,0,0,0,{"$error":"#DIV/0!"}]
[45,null,0,0,null,null,null,null,0,null,null,null,null,0,null,null,null,null,0,null,null,null,null,0,null,null,null,null,0,0,0,0,0,0,null,null,null,null,0,null,null,null,null,0,0,0,0,{"$error":"#DIV/0!"}]
[46,null,0,0,null,null,null,null,0,null,null,null,null,0,null,null,null,null,0,null,null,null,null,0,null,null,null,null,0,0,0,0,0,0,null,null,null,null,0,null,null,null,null,0,0,0,0,{"$error":"#DIV/0!"}]
[47,null,0,0,null,null,null,null,0,null,null,null,null,0,null,null,null,null,0,null,null,null,null,0,null,null,null,null,0,0,0,0,0,0,null,null,null,null,0,null,null,null,null,0,0,0,0,{"$error":"#DIV/0!"}]
[48,null,0,0,null,null,null,null,0,null,null,null,null,0,null,null,null,null,0,null,null,null,null,0,null,null,null,null,0,0,0,0,0,0,null,null,null,null,0,null,null,null,null,0,0,0,0,{"$error":"#DIV/0!"}]
[49,null,0,0,null,null,null,null,0,null,null,null,null,0,null,null,null,null,0,null,null,null,null,0,null,null,null,null,0,0,0,0,0,0,null,null,null,null,0,null,null,null,null,0,0,0,0,{"$error":"#DIV/0!"}]
[50,null,0,0,null,null,null,null,0,null,null,null,null,0,null,null,null,null,0,null,null,null,null,0,null,null,null,null,0,0,0,0,0,0,null,null,null,null,0,null,null,null,null,0,0,0,0,{"$error":"#DIV/0!"}]
[51,null,0,0,null,null,null,null,0,null,null,null,null,0,null,null,null,null,0,null,null,null,null,0,null,null,null,null,0,0,0,0,0,0,null,null,null,null,0,null,null,null,null,0,0,0,0,{"$error":"#DIV/0!"}]
[52,null,0,0,null,null,null,null,0,null,null,null,null,0,null,null,null,null,0,null,null,null,null,0,null,null,null,null,0,0,0,0,0,0,null,null,null,null,0,null,null,null,null,0,0,0,0,{"$error":"#DIV/0!"}]
[53,null,0,0,null,null,null,null,0,null,null,null,null,0,null,null,null,null,0,null,null,null,null,0,null,null,null,null,0,0,0,0,0,0,null,null,null,null,0,null,null,null,null,0,0,0,0,{"$error":"#DIV/0!"}]
[54,null,0,0,null,null,null,null,0,null,null,null,null,0,null,null,null,null,0,null,null,null,null,0,null,null,null,null,0,0,0,0,0,0,null,null,null,null,0,null,null,null,null,0,0,0,0,{"$error":"#DIV/0!"}]
[55,null,0,0,null,null,null,null,0,null,null,null,null,0,null,null,null,null,0,null,null,null,null,0,null,null,null,null,0,0,0,0,0,0,null,null,null,null,0,null,null,null,null,0,0,0,0,{"$error":"#DIV/0!"}]
[56,null,0,0,null,null,null,null,0,null,null,null,null,0,null,null,null,null,0,null,null,null,null,0,null,null,null,null,0,0,0,0,0,0,null,null,null,null,0,null,null,null,null,0,0,0,0,{"$error":"#DIV/0!"}]
[57,null,0,0,null,null,null,null,0,null,null,null,null,0,null,null,null,null,0,null,null,null,null,0,null,null,null,null,0,0,0,0,0,0,null,null,null,null,0,null,null,null,null,0,0,0,0,{"$error":"#DIV/0!"}]
[58,null,0,0,null,null,null,null,0,null,null,null,null,0,null,null,null,null,0,null,null,null,null,0,null,null,null,null,0,0,0,0,0,0,null,null,null,null,0,null,null,null,null,0,0,0,0,{"$error":"#DIV/0!"}]
[59,null,0,0,null,null,null,null,0,null,null,null,null,0,null,null,null,null,0,null,null,null,null,0,null,null,null,null,0,0,0,0,0,0,null,null,null,null,0,null,null,null,null,0,0,0,0,{"$error":"#DIV/0!"}]
[60,null,0,0,null,null,null,null,0,null,null,null,null,0,null,null,null,null,0,null,null,null,null,0,null,null,null,null,0,0,0,0,0,0,null,null,null,null,0,null,null,null,null,0,0,0,0,{"$error":"#DIV/0!"}]
[61,null,0,0,null,null,null,null,0,null,null,null,null,0,null,null,null,null,0,null,null,null,null,0,null,null,null,null,0,0,0,0,0,0,null,null,null,null,0,null,null,null,null,0,0,0,0,{"$error":"#DIV/0!"}]
[62,null,0,0,null,null,null,null,0,null,null,null,null,0,null,null,null,null,0,null,null,null,null,0,null,null,null,null,0,0,0,0,0,0,null,null,null,null,0,null,null,null,null,0,0,0,0,{"$error":"#DIV/0!"}]
[63,null,0,0,null,null,null,null,0,null,null,null,null,0,null,null,null,null,0,null,null,null,null,0,null,null,null,null,0,0,0,0,0,0,null,null,null,null,0,null,null,null,null,0,0,0,0,{"$error":"#DIV/0!"}]
[64,null,0,0,null,null,null,null,0,null,null,null,null,0,null,null,null,null,{"$f":"SUM(Q75:R75)","v":0},null,null,null,null,{"$f":"SUM(V75:W75)","v":0},null,null,null,null,{"$f":"SUM(AA75:AB75)","v":0},0,0,0,0,{"$f":"SUM(AF75:AG75)","v":0},null,null,null,null,{"$f":"SUM(AK75:AL75)","v":0},null,null,null,null,{"$f":"SUM(AP75:AQ75)","v":0},0,0,0,{"$error":"#DIV/0!"}]
[65,null,0,0,null,null,null,null,{"$f":"SUM(G76:H76)","v":0},null,null,null,null,{"$f":"SUM(L76:M76)","v":0},null,null,null,null,0,null,null,null,null,0,null,null,null,null,0,0,0,0,0,0,null,null,null,null,0,null,null,null,null,0,{"$f":"SUM(AD76,AI76,AN76)","v":0},{"$f":"SUM(AE76,AJ76,AO76)","v":0},{"$f":"SUM(AS76:AT76)","v":0},{"$f":"AU76/D76","v":{"$error":"#DIV/0!"}}]
[66,null,{"$f":"SUM(AD77,AI77,AN77,)","v":0},{"$f":"SUM(AE77,AJ77,AO77,)","v":0},null,null,null,null,0,null,null,null,null,0,null,null,null,null,0,null,null,null,null,0,null,null,null,null,0,{"$f":"SUM(E77,J77,O77,T77,Y77)","v":0},{"$f":"SUM(F77,K77,P77,U77,Z77)","v":0},{"$f":"SUM(G77,L77,Q77,V77,AA77)","v":0},{"$f":"SUM(H77,M77,R77,W77,AB77)","v":0},0,null,null,null,null,0,null,null,null,null,0,0,0,0,{"$error":"#DIV/0!"}]
[67,null,0,0,null,null,null,null,0,null,null,null,null,0,null,null,null,null,0,null,null,null,null,0,null,null,null,null,0,0,0,0,0,0,null,null,null,null,0,null,null,null,null,0,0,0,0,{"$error":"#DIV/0!"}]
[68,null,0,0,null,null,null,null,0,null,null,null,null,0,null,null,null,null,0,null,null,null,null,0,null,null,null,null,0,0,0,0,0,0,null,null,null,null,0,null,null,null,null,0,0,0,0,{"$error":"#DIV/0!"}]
[69,null,0,0,null,null,null,null,0,null,null,null,null,0,null,null,null,null,0,null,null,null,null,0,null,null,null,null,0,0,0,0,0,0,null,null,null,null,0,null,null,null,null,0,0,0,0,{"$error":"#DIV/0!"}]
[70,null,0,0,null,null,null,null,0,null,null,null,null,0,null,null,null,null,0,null,null,null,null,0,null,null,null,null,0,0,0,0,0,0,null,null,null,null,0,null,null,null,null,0,0,0,0,{"$error":"#DIV/0!"}]
[71,null,0,0,null,null,null,null,0,null,null,null,null,0,null,null,null,null,0,null,null,null,null,0,null,null,null,null,0,0,0,0,0,0,null,null,null,null,0,null,null,null,null,0,0,0,0,{"$error":"#DIV/0!"}]
[72,null,0,0,null,null,null,null,0,null,null,null,null,0,null,null,null,null,0,null,null,null,null,0,null,null,null,null,0,0,0,0,0,0,null,null,null,null,0,null,null,null,null,0,0,0,0,{"$error":"#DIV/0!"}]
[73,null,0,0,null,null,null,null,0,null,null,null,null,0,null,null,null,null,0,null,null,null,null,0,null,null,null,null,0,0,0,0,0,0,null,null,null,null,0,null,null,null,null,0,0,0,0,{"$error":"#DIV/0!"}]
[74,null,0,0,null,null,null,null,0,null,null,null,null,0,null,null,null,null,0,null,null,null,null,0,null,null,null,null,0,0,0,0,0,0,null,null,null,null,0,null,null,null,null,0,0,0,0,{"$error":"#DIV/0!"}]
[75,null,0,0,null,null,null,null,0,null,null,null,null,0,null,null,null,null,0,null,null,null,null,0,null,null,null,null,0,0,0,0,0,0,null,null,null,null,0,null,null,null,null,0,0,0,0,{"$error":"#DIV/0!"}]
[76,null,0,0,null,null,null,null,0,null,null,null,null,0,null,null,null,null,0,null,null,null,null,0,null,null,null,null,0,0,0,0,0,0,null,null,null,null,0,null,null,null,null,0,0,0,0,{"$error":"#DIV/0!"}]
[77,null,0,0,null,null,null,null,0,null,null,null,null,0,null,null,null,null,0,null,null,null,null,0,null,null,null,null,0,0,0,0,0,0,null,null,null,null,0,null,null,null,null,0,0,0,0,{"$error":"#DIV/0!"}]
[78,null,0,0,null,null,null,null,0,null,null,null,null,0,null,null,null,null,0,null,null,null,null,0,null,null,null,null,0,0,0,0,0,0,null,null,null,null,0,null,null,null,null,0,0,0,0,{"$error":"#DIV/0!"}]
[79,null,0,0,null,null,null,null,0,null,null,null,null,0,null,null,null,null,0,null,null,null,null,0,null,null,null,null,0,0,0,0,0,0,null,null,null,null,0,null,null,null,null,0,0,0,0,{"$error":"#DIV/0!"}]
[80,null,0,0,null,null,null,null,0,null,null,null,null,0,null,null,null,null,0,null,null,null,null,0,null,null,null,null,0,0,0,0,0,0,null,null,null,null,0,null,null,null,null,0,0,0,0,{"$error":"#DIV/0!"}]
[81,null,0,0,null,null,null,null,0,null,null,null,null,0,null,null,null,null,0,null,null,null,null,0,null,null,null,null,0,0,0,0,0,0,null,null,null,null,0,null,null,null,null,0,0,0,0,{"$error":"#DIV/0!"}]
[82,null,0,0,null,null,null,null,0,null,null,null,null,0,null,null,null,null,0,null,null,null,null,0,null,null,null,null,0,0,0,0,0,0,null,null,null,null,0,null,null,null,null,0,0,0,0,{"$error":"#DIV/0!"}]
[83,null,0,0,null,null,null,null,0,null,null,null,null,0,null,null,null,null,0,null,null,null,null,0,null,null,null,null,0,0,0,0,0,0,null,null,null,null,0,null,null,null,null,0,0,0,0,{"$error":"#DIV/0!"}]
[84,null,0,0,null,null,null,null,0,null,null,null,null,0,null,null,null,null,0,null,null,null,null,0,null,null,null,null,0,0,0,0,0,0,null,null,null,null,0,null,null,null,null,0,0,0,0,{"$error":"#DIV/0!"}]
[85,null,0,0,null,null,null,null,0,null,null,null,null,0,null,null,null,null,0,null,null,null,null,0,null,null,null,null,0,0,0,0,0,0,null,null,null,null,0,null,null,null,null,0,0,0,0,{"$error":"#DIV/0!"}]
[86,null,0,0,null,null,null,null,0,null,null,null,null,0,null,null,null,null,0,null,null,null,null,0,null,null,null,null,0,0,0,0,0,0,null,null,null,null,0,null,null,null,null,0,0,0,0,{"$error":"#DIV/0!"}]
[87,null,0,0,null,null,null,null,0,null,null,null,null,0,null,null,null,null,0,null,null,null,null,0,null,null,null,null,0,0,0,0,0,0,null,null,null,null,0,null,null,null,null,0,0,0,0,{"$error":"#DIV/0!"}]
[88,null,0,0,null,null,null,null,0,null,null,null,null,0,null,null,null,null,0,null,null,null,null,0,null,null,null,null,0,0,0,0,0,0,null,null,null,null,0,null,null,null,null,0,0,0,0,{"$error":"#DIV/0!"}]
[89,null,0,0,null,null,null,null,0,null,null,null,null,0,null,null,null,null,0,null,null,null,null,0,null,null,null,null,0,0,0,0,0,0,null,null,null,null,0,null,null,null,null,0,0,0,0,{"$error":"#DIV/0!"}]
[90,null,0,0,null,null,null,null,0,null,null,null,null,0,null,null,null,null,0,null,null,null,null,0,null,null,null,null,0,0,0,0,0,0,null,null,null,null,0,null,null,null,null,0,0,0,0,{"$error":"#DIV/0!"}]
[91,null,0,0,null,null,null,null,0,null,null,null,null,0,null,null,null,null,0,null,null,null,null,0,null,null,null,null,0,0,0,0,0,0,null,null,null,null,0,null,null,null,null,0,0,0,0,{"$error":"#DIV/0!"}]
[92,null,0,0,null,null,null,null,0,null,null,null,null,0,null,null,null,null,0,null,null,null,null,0,null,null,null,null,0,0,0,0,0,0,null,null,null,null,0,null,null,null,null,0,0,0,0,{"$error":"#DIV/0!"}]
[93,null,0,0,null,null,null,null,0,null,null,null,null,0,null,null,null,null,0,null,null,null,null,0,null,null,null,null,0,0,0,0,0,0,null,null,null,null,0,null,null,null,null,0,0,0,0,{"$error":"#DIV/0!"}]
[94,null,0,0,null,null,null,null,0,null,null,null,null,0,null,null,null,null,0,null,null,null,null,0,null,null,null,null,0,0,0,0,0,0,null,null,null,null,0,null,null,null,null,0,0,0,0,{"$error":"#DIV/0!"}]
[95,null,0,0,null,null,null,null,0,null,null,null,null,0,null,null,null,null,0,null,null,null,null,0,null,null,null,null,0,0,0,0,0,0,null,null,null,null,0,null,null,null,null,0,0,0,0,{"$error":"#DIV/0!"}]
[96,null,0,0,null,null,null,null,0,null,null,null,null,0,null,null,null,null,0,null,null,null,null,0,null,null,null,null,0,0,0,0,0,0,null,null,null,null,0,null,null,null,null,0,0,0,0,{"$error":"#DIV/0!"}]
[97,null,0,0,null,null,null,null,0,null,null,null,null,0,null,null,null,null,0,null,null,null,null,0,null,null,null,null,0,0,0,0,0,0,null,null,null,null,0,null,null,null,null,0,0,0,0,{"$error":"#DIV/0!"}]
[98,null,0,0,null,null,null,null,0,null,null,null,null,0,null,null,null,null,0,null,null,null,null,0,null,null,null,null,0,0,0,0,0,0,null,null,null,null,0,null,null,null,null,0,0,0,0,{"$error":"#DIV/0!"}]
[99,null,0,0,null,null,null,null,0,null,null,null,null,0,null,null,null,null,0,null,null,null,null,0,null,null,null,null,0,0,0,0,0,0,null,null,null,null,0,null,null,null,null,0,0,0,0,{"$error":"#DIV/0!"}]
[100,null,0,0,null,null,null,null,0,null,null,null,null,0,null,null,null,null,0,null,null,null,null,0,null,null,null,null,0,0,0,0,0,0,null,null,null,null,0,null,null,null,null,0,0,0,0,{"$error":"#DIV/0!"}]

{"sheet":"P_DoE_Others","index":19,"n_rows":111,"n_cols":48,"rows_kept":111,"cut":false,"hidden":false,"merged":[[10,0,10,1],[0,12,0,15],[1,12,1,15],[6,0,9,0],[6,1,9,1],[6,2,8,2],[6,3,8,3],[1,0,1,5],[2,0,2,5],[6,4,6,33],[4,0,4,47],[5,45,5,47],[6,34,7,38],[6,39,7,43],[6,44,7,47],[7,4,7,8],[7,9,7,13],[7,14,7,18],[7,19,7,23],[7,24,7,28],[7,29,7,33]]}
[]
[{"$f":"Create!G2","v":"ក្រសួងអប់រំ យុវជន និងកីឡា"}]
[{"$f":"Create!G3","v":"បំពេញឈ្មោះទីនេះ"}]
[]
[{"$f":"CONCATENATE(\"របាយការណ៍ចំណាយថវិកាដៃគូ សហគមន៍ និងសប្បុរសជន របស់បឋមសិក្សាប្រចាំត្រីមាសទី  \", IF(Create!$G$4=1,\"១\",IF(Create!$G$4=2,\"២\",IF(Create!$G$4=3,\"៣\",\"៤\"))),\" ឆ្នាំ២០១៨\")","v":"របាយការណ៍ចំណាយថវិកាដៃគូ សហគមន៍ និងសប្បុរសជន របស់បឋមសិក្សាប្រចាំត្រីមាសទី  ១ ឆ្នាំ២០១៨"}]
[null,null,null,null,null,null,null,null,null,null,null,null,null,null,null,null,null,null,null,null,null,null,null,null,null,null,null,null,null,null,null,null,null,null,null,null,null,null,null,null,null,null,null,null,null,"ឯកតាគិតជា៖ រៀល"]
["ល.រ","ឈ្មោះការិយាល័យអប់រំ យុវជន និងកីឡា\nក្រុង ឬ ស្រុក ឬ ខ័ណ្ឌ","ឥណទានដើមឆ្នាំ","ឥណទានកែតម្រូវ","I. ថវិកាដៃគូ",null,null,null,null,null,null,null,null,null,null,null,null,null,null,null,null,null,null,null,null,null,null,null,null,null,null,null,null,null,"II. សហគមន៍",null,null,null,null,"III. សប្បុរជន",null,null,null,null,"សរុប(I+II+III)"]
[null,null,null,null,"ធនាគារពិភពលោក\n(The World Bank)",null,null,null,null,"អង្គការយូនីសេហ្វ(UNICEF)",null,null,null,null,"ធនាគារអភិវឌ្ឍន៍អាស៊ី(ADB)",null,null,null,null,"ជំនួសពីប្រទេសស៊ុយអ៊ែត(SWEDEN)",null,null,null,null,"ជំនួយពីដៃគូផ្សេងៗ(Others)",null,null,null,null,"សរុប"]
[null,null,null,null,"ដើមឆ្នាំ","កែតម្រូវ","បណ្ដាត្រីមាសមុន","ក្នុងត្រីមាស","បូកយោង","ដើមឆ្នាំ","កែតម្រូវ","បណ្ដាត្រីមាសមុន","ក្នុងត្រីមាស","បូកយោង","ដើមឆ្នាំ","កែតម្រូវ","បណ្ដាត្រីមាសមុន","ក្នុងត្រីមាស","បូកយោង","ដើមឆ្នាំ","កែតម្រូវ","បណ្ដាត្រីមាសមុន","ក្នុងត្រីមាស","បូកយោង","ដើមឆ្នាំ","កែតម្រូវ","បណ្ដាត្រីមាសមុន","ក្នុងត្រីមាស","បូកយោង","ដើមឆ្នាំ","កែតម្រូវ","បណ្ដាត្រីមាសមុន","ក្នុងត្រីមាស","បូកយោង","ដើមឆ្នាំ","កែតម្រូវ","បណ្ដាត្រីមាសមុន","ក្នុងត្រីមាស","បូកយោង","ដើមឆ្នាំ","កែតម្រូវ","បណ្ដាត្រីមាសមុន","ក្នុងត្រីមាស","បូកយោង","បណ្ដាត្រីមាសមុន","ក្នុងត្រីមាស","បូកយោង","%"]
[null,null,1,2,null,null,3,4,"5=3+4",null,null,6,7,"8=6+7",null,null,9,10,"11=9+10",null,null,12,13,"14=12+13",null,null,12,13,"14=12+13",null,null,12,13,"14=12+13",null,null,12,13,"14=12+13",null,null,12,13,"14=12+13",12,13,"14=12+13","15=14/2"]
["សរុប",null,{"$f":"SUM(C12:C111)","v":0},{"$f":"SUM(D12:D111)","v":0},0,0,0,0,{"$f":"SUM(G11:H11)","v":0},0,0,0,0,{"$f":"SUM(L11:M11)","v":0},0,0,0,0,{"$f":"SUM(Q11:R11)","v":0},0,0,0,0,{"$f":"SUM(V11:W11)","v":0},0,0,0,0,{"$f":"SUM(AA11:AB11)","v":0},0,0,0,0,{"$f":"SUM(AF11:AG11)","v":0},0,0,0,0,{"$f":"SUM(AK11:AL11)","v":0},0,0,0,0,{"$f":"SUM(AP11:AQ11)","v":0},{"$f":"SUM(AD11,AI11,AN11)","v":0},{"$f":"SUM(AE11,AJ11,AO11)","v":0},{"$f":"SUM(AS11:AT11)","v":0},{"$f":"AU11/D11","v":{"$error":"#DIV/0!"}}]
[1,{"$f":"[1]P_Sch_Others!A3","v":"ការិយាល័យអប់រំ យុវជន និងកីឡាក្រុងប៉ៃលិន"},{"$f":"SUM(AD12,AI12,AN12,)","v":0},{"$f":"SUM(AE12,AJ12,AO12,)","v":0},{"$f":"[1]P_Sch_Others!E11","v":0},{"$f":"[1]P_Sch_Others!F11","v":0},{"$f":"[1]P_Sch_Others!G11","v":0},{"$f":"[1]P_Sch_Others!H11","v":0},{"$f":"SUM(G12:H12)","v":0},{"$f":"[1]P_Sch_Others!J11","v":0},{"$f":"[1]P_Sch_Others!K11","v":0},{"$f":"[1]P_Sch_Others!L11","v":0},{"$f":"[1]P_Sch_Others!M11","v":0},{"$f":"SUM(L12:M12)","v":0},{"$f":"[1]P_Sch_Others!O11","v":0},{"$f":"[1]P_Sch_Others!P11","v":0},{"$f":"[1]P_Sch_Others!Q11","v":0},{"$f":"[1]P_Sch_Others!R11","v":0},0,{"$f":"[1]P_Sch_Others!T11","v":0},{"$f":"[1]P_Sch_Others!U11","v":0},{"$f":"[1]P_Sch_Others!V11","v":0},{"$f":"[1]P_Sch_Others!W11","v":0},0,{"$f":"[1]P_Sch_Others!Y11","v":0},{"$f":"[1]P_Sch_Others!Z11","v":0},{"$f":"[1]P_Sch_Others!AA11","v":0},{"$f":"[1]P_Sch_Others!AB11","v":0},0,{"$f":"SUM(E12,J12,O12,T12,Y12)","v":0},{"$f":"SUM(F12,K12,P12,U12,Z12)","v":0},0,0,{"$f":"SUM(AF12:AG12)","v":0},{"$f":"[1]P_Sch_Others!AI11","v":0},{"$f":"[1]P_Sch_Others!AJ11","v":0},{"$f":"[1]P_Sch_Others!AK11","v":0},{"$f":"[1]P_Sch_Others!AL11","v":0},0,{"$f":"[1]P_Sch_Others!AN11","v":0},{"$f":"[1]P_Sch_Others!AO11","v":0},{"$f":"[1]P_Sch_Others!AP11","v":0},{"$f":"[1]P_Sch_Others!AQ11","v":0},0,{"$f":"SUM(AD12,AI12,AN12)","v":0},0,{"$f":"SUM(AS12:AT12)","v":0},{"$f":"AU12/D12","v":{"$error":"#DIV/0!"}}]
[2,null,{"$f":"SUM(AD13,AI13,AN13,)","v":0},0,null,null,null,null,0,null,null,null,null,0,null,null,null,null,0,null,null,null,null,0,null,null,null,null,0,{"$f":"SUM(E13,J13,O13,T13,Y13)","v":0},0,0,0,0,null,null,null,null,0,null,null,null,null,0,0,0,0,{"$error":"#DIV/0!"}]
[3,null,0,0,null,null,null,null,0,null,null,null,null,0,null,null,null,null,0,null,null,null,null,0,null,null,null,null,0,0,0,0,0,0,null,null,null,null,0,null,null,null,null,0,0,0,0,{"$error":"#DIV/0!"}]
[4,null,0,0,null,null,null,null,0,null,null,null,null,0,null,null,null,null,0,null,null,null,null,0,null,null,null,null,0,0,0,0,0,0,null,null,null,null,0,null,null,null,null,0,0,0,0,{"$error":"#DIV/0!"}]
[5,null,0,0,null,null,null,null,0,null,null,null,null,0,null,null,null,null,0,null,null,null,null,0,null,null,null,null,0,0,0,0,0,0,null,null,null,null,0,null,null,null,null,0,0,0,0,{"$error":"#DIV/0!"}]
[6,null,0,0,null,null,null,null,0,null,null,null,null,0,null,null,null,null,0,null,null,null,null,0,null,null,null,null,0,0,0,0,0,0,null,null,null,null,0,null,null,null,null,0,0,0,0,{"$error":"#DIV/0!"}]
[7,null,0,0,null,null,null,null,0,null,null,null,null,0,null,null,null,null,0,null,null,null,null,0,null,null,null,null,0,0,0,0,0,0,null,null,null,null,0,null,null,null,null,0,0,0,0,{"$error":"#DIV/0!"}]
[8,null,0,0,null,null,null,null,0,null,null,null,null,0,null,null,null,null,0,null,null,null,null,0,null,null,null,null,0,0,0,0,0,0,null,null,null,null,0,null,null,null,null,0,0,0,0,{"$error":"#DIV/0!"}]
[9,null,0,0,null,null,null,null,0,null,null,null,null,0,null,null,null,null,0,null,null,null,null,0,null,null,null,null,0,0,0,0,0,0,null,null,null,null,0,null,null,null,null,0,0,0,0,{"$error":"#DIV/0!"}]
[10,null,0,0,null,null,null,null,0,null,null,null,null,0,null,null,null,null,0,null,null,null,null,0,null,null,null,null,0,0,0,0,0,0,null,null,null,null,0,null,null,null,null,0,0,0,0,{"$error":"#DIV/0!"}]
[11,null,0,0,null,null,null,null,0,null,null,null,null,0,null,null,null,null,0,null,null,null,null,0,null,null,null,null,0,0,0,0,0,0,null,null,null,null,0,null,null,null,null,0,0,0,0,{"$error":"#DIV/0!"}]
[12,null,0,0,null,null,null,null,0,null,null,null,null,0,null,null,null,null,0,null,null,null,null,0,null,null,null,null,0,0,0,0,0,0,null,null,null,null,0,null,null,null,null,0,0,0,0,{"$error":"#DIV/0!"}]
[13,null,0,0,null,null,null,null,0,null,null,null,null,0,null,null,null,null,0,null,null,null,null,0,null,null,null,null,0,0,0,0,0,0,null,null,null,null,0,null,null,null,null,0,0,0,0,{"$error":"#DIV/0!"}]
[14,null,0,0,null,null,null,null,0,null,null,null,null,0,null,null,null,null,0,null,null,null,null,0,null,null,null,null,0,0,0,0,0,0,null,null,null,null,0,null,null,null,null,0,0,0,0,{"$error":"#DIV/0!"}]
[15,null,0,0,null,null,null,null,0,null,null,null,null,0,null,null,null,null,0,null,null,null,null,0,null,null,null,null,0,0,0,0,0,0,null,null,null,null,0,null,null,null,null,0,0,0,0,{"$error":"#DIV/0!"}]
[16,null,0,0,null,null,null,null,0,null,null,null,null,0,null,null,null,null,0,null,null,null,null,0,null,null,null,null,0,0,0,0,0,0,null,null,null,null,0,null,null,null,null,0,0,0,0,{"$error":"#DIV/0!"}]
[17,null,0,0,null,null,null,null,0,null,null,null,null,0,null,null,null,null,0,null,null,null,null,0,null,null,null,null,0,0,0,0,0,0,null,null,null,null,0,null,null,null,null,0,0,0,0,{"$error":"#DIV/0!"}]
[18,null,0,0,null,null,null,null,0,null,null,null,null,0,null,null,null,null,0,null,null,null,null,0,null,null,null,null,0,0,0,0,0,0,null,null,null,null,0,null,null,null,null,0,0,0,0,{"$error":"#DIV/0!"}]
[19,null,0,0,null,null,null,null,0,null,null,null,null,0,null,null,null,null,0,null,null,null,null,0,null,null,null,null,0,0,0,0,0,0,null,null,null,null,0,null,null,null,null,0,0,0,0,{"$error":"#DIV/0!"}]
[20,null,0,0,null,null,null,null,0,null,null,null,null,0,null,null,null,null,0,null,null,null,null,0,null,null,null,null,0,0,0,0,0,0,null,null,null,null,0,null,null,null,null,0,0,0,0,{"$error":"#DIV/0!"}]
[21,null,0,0,null,null,null,null,0,null,null,null,null,0,null,null,null,null,0,null,null,null,null,0,null,null,null,null,0,0,0,0,0,0,null,null,null,null,0,null,null,null,null,0,0,0,0,{"$error":"#DIV/0!"}]
[22,null,0,0,null,null,null,null,0,null,null,null,null,0,null,null,null,null,0,null,null,null,null,0,null,null,null,null,0,0,0,0,0,0,null,null,null,null,0,null,null,null,null,0,0,0,0,{"$error":"#DIV/0!"}]
[23,null,0,0,null,null,null,null,0,null,null,null,null,0,null,null,null,null,0,null,null,null,null,0,null,null,null,null,0,0,0,0,0,0,null,null,null,null,0,null,null,null,null,0,0,0,0,{"$error":"#DIV/0!"}]
[24,null,0,0,null,null,null,null,0,null,null,null,null,0,null,null,null,null,0,null,null,null,null,0,null,null,null,null,0,0,0,0,0,0,null,null,null,null,0,null,null,null,null,0,0,0,0,{"$error":"#DIV/0!"}]
[25,null,0,0,null,null,null,null,0,null,null,null,null,0,null,null,null,null,0,null,null,null,null,0,null,null,null,null,0,0,0,0,0,0,null,null,null,null,0,null,null,null,null,0,0,0,0,{"$error":"#DIV/0!"}]
[26,null,0,0,null,null,null,null,0,null,null,null,null,0,null,null,null,null,0,null,null,null,null,0,null,null,null,null,0,0,0,0,0,0,null,null,null,null,0,null,null,null,null,0,0,0,0,{"$error":"#DIV/0!"}]
[27,null,0,0,null,null,null,null,0,null,null,null,null,0,null,null,null,null,0,null,null,null,null,0,null,null,null,null,0,0,0,0,0,0,null,null,null,null,0,null,null,null,null,0,0,0,0,{"$error":"#DIV/0!"}]
[28,null,0,0,null,null,null,null,0,null,null,null,null,0,null,null,null,null,0,null,null,null,null,0,null,null,null,null,0,0,0,0,0,0,null,null,null,null,0,null,null,null,null,0,0,0,0,{"$error":"#DIV/0!"}]
[29,null,0,0,null,null,null,null,0,null,null,null,null,0,null,null,null,null,0,null,null,null,null,0,null,null,null,null,0,0,0,0,0,0,null,null,null,null,0,null,null,null,null,0,0,0,0,{"$error":"#DIV/0!"}]
[30,null,0,0,null,null,null,null,0,null,null,null,null,0,null,null,null,null,0,null,null,null,null,0,null,null,null,null,0,0,0,0,0,0,null,null,null,null,0,null,null,null,null,0,0,0,0,{"$error":"#DIV/0!"}]
[31,null,0,0,null,null,null,null,0,null,null,null,null,0,null,null,null,null,0,null,null,null,null,0,null,null,null,null,0,0,0,0,0,0,null,null,null,null,0,null,null,null,null,0,0,0,0,{"$error":"#DIV/0!"}]
[32,null,0,0,null,null,null,null,0,null,null,null,null,0,null,null,null,null,0,null,null,null,null,0,null,null,null,null,0,0,0,0,0,0,null,null,null,null,0,null,null,null,null,0,0,0,0,{"$error":"#DIV/0!"}]
[33,null,0,0,null,null,null,null,0,null,null,null,null,0,null,null,null,null,0,null,null,null,null,0,null,null,null,null,0,0,0,0,0,0,null,null,null,null,0,null,null,null,null,0,0,0,0,{"$error":"#DIV/0!"}]
[34,null,0,0,null,null,null,null,0,null,null,null,null,0,null,null,null,null,0,null,null,null,null,0,null,null,null,null,0,0,0,0,0,0,null,null,null,null,0,null,null,null,null,0,0,0,0,{"$error":"#DIV/0!"}]
[35,null,0,0,null,null,null,null,0,null,null,null,null,0,null,null,null,null,0,null,null,null,null,0,null,null,null,null,0,0,0,0,0,0,null,null,null,null,0,null,null,null,null,0,0,0,0,{"$error":"#DIV/0!"}]
[36,null,0,0,null,null,null,null,0,null,null,null,null,0,null,null,null,null,0,null,null,null,null,0,null,null,null,null,0,0,0,0,0,0,null,null,null,null,0,null,null,null,null,0,0,0,0,{"$error":"#DIV/0!"}]
[37,null,0,0,null,null,null,null,0,null,null,null,null,0,null,null,null,null,0,null,null,null,null,0,null,null,null,null,0,0,0,0,0,0,null,null,null,null,0,null,null,null,null,0,0,0,0,{"$error":"#DIV/0!"}]
[38,null,0,0,null,null,null,null,0,null,null,null,null,0,null,null,null,null,0,null,null,null,null,0,null,null,null,null,0,0,0,0,0,0,null,null,null,null,0,null,null,null,null,0,0,0,0,{"$error":"#DIV/0!"}]
[39,null,0,0,null,null,null,null,0,null,null,null,null,0,null,null,null,null,0,null,null,null,null,0,null,null,null,null,0,0,0,0,0,0,null,null,null,null,0,null,null,null,null,0,0,0,0,{"$error":"#DIV/0!"}]
[40,null,0,0,null,null,null,null,0,null,null,null,null,0,null,null,null,null,0,null,null,null,null,0,null,null,null,null,0,0,0,0,0,0,null,null,null,null,0,null,null,null,null,0,0,0,0,{"$error":"#DIV/0!"}]
[41,null,0,0,null,null,null,null,0,null,null,null,null,0,null,null,null,null,0,null,null,null,null,0,null,null,null,null,0,0,0,0,0,0,null,null,null,null,0,null,null,null,null,0,0,0,0,{"$error":"#DIV/0!"}]
[42,null,0,0,null,null,null,null,0,null,null,null,null,0,null,null,null,null,0,null,null,null,null,0,null,null,null,null,0,0,0,0,0,0,null,null,null,null,0,null,null,null,null,0,0,0,0,{"$error":"#DIV/0!"}]
[43,null,0,0,null,null,null,null,0,null,null,null,null,0,null,null,null,null,0,null,null,null,null,0,null,null,null,null,0,0,0,0,0,0,null,null,null,null,0,null,null,null,null,0,0,0,0,{"$error":"#DIV/0!"}]
[44,null,0,0,null,null,null,null,0,null,null,null,null,0,null,null,null,null,0,null,null,null,null,0,null,null,null,null,0,0,0,0,0,0,null,null,null,null,0,null,null,null,null,0,0,0,0,{"$error":"#DIV/0!"}]
[45,null,0,0,null,null,null,null,0,null,null,null,null,0,null,null,null,null,0,null,null,null,null,0,null,null,null,null,0,0,0,0,0,0,null,null,null,null,0,null,null,null,null,0,0,0,0,{"$error":"#DIV/0!"}]
[46,null,0,0,null,null,null,null,0,null,null,null,null,0,null,null,null,null,0,null,null,null,null,0,null,null,null,null,0,0,0,0,0,0,null,null,null,null,0,null,null,null,null,0,0,0,0,{"$error":"#DIV/0!"}]
[47,null,0,0,null,null,null,null,0,null,null,null,null,0,null,null,null,null,0,null,null,null,null,0,null,null,null,null,0,0,0,0,0,0,null,null,null,null,0,null,null,null,null,0,0,0,0,{"$error":"#DIV/0!"}]
[48,null,0,0,null,null,null,null,0,null,null,null,null,0,null,null,null,null,0,null,null,null,null,0,null,null,null,null,0,0,0,0,0,0,null,null,null,null,0,null,null,null,null,0,0,0,0,{"$error":"#DIV/0!"}]
[49,null,0,0,null,null,null,null,0,null,null,null,null,0,null,null,null,null,0,null,null,null,null,0,null,null,null,null,0,0,0,0,0,0,null,null,null,null,0,null,null,null,null,0,0,0,0,{"$error":"#DIV/0!"}]
[50,null,0,0,null,null,null,null,0,null,null,null,null,0,null,null,null,null,0,null,null,null,null,0,null,null,null,null,0,0,0,0,0,0,null,null,null,null,0,null,null,null,null,0,0,0,0,{"$error":"#DIV/0!"}]
[51,null,0,0,null,null,null,null,0,null,null,null,null,0,null,null,null,null,0,null,null,null,null,0,null,null,null,null,0,0,0,0,0,0,null,null,null,null,0,null,null,null,null,0,0,0,0,{"$error":"#DIV/0!"}]
[52,null,0,0,null,null,null,null,0,null,null,null,null,0,null,null,null,null,0,null,null,null,null,0,null,null,null,null,0,0,0,0,0,0,null,null,null,null,0,null,null,null,null,0,0,0,0,{"$error":"#DIV/0!"}]
[53,null,0,0,null,null,null,null,0,null,null,null,null,0,null,null,null,null,0,null,null,null,null,0,null,null,null,null,0,0,0,0,0,0,null,null,null,null,0,null,null,null,null,0,0,0,0,{"$error":"#DIV/0!"}]
[54,null,0,0,null,null,null,null,0,null,null,null,null,0,null,null,null,null,0,null,null,null,null,0,null,null,null,null,0,0,0,0,0,0,null,null,null,null,0,null,null,null,null,0,0,0,0,{"$error":"#DIV/0!"}]
[55,null,0,0,null,null,null,null,0,null,null,null,null,0,null,null,null,null,0,null,null,null,null,0,null,null,null,null,0,0,0,0,0,0,null,null,null,null,0,null,null,null,null,0,0,0,0,{"$error":"#DIV/0!"}]
[56,null,0,0,null,null,null,null,0,null,null,null,null,0,null,null,null,null,0,null,null,null,null,0,null,null,null,null,0,0,0,0,0,0,null,null,null,null,0,null,null,null,null,0,0,0,0,{"$error":"#DIV/0!"}]
[57,null,0,0,null,null,null,null,0,null,null,null,null,0,null,null,null,null,0,null,null,null,null,0,null,null,null,null,0,0,0,0,0,0,null,null,null,null,0,null,null,null,null,0,0,0,0,{"$error":"#DIV/0!"}]
[58,null,0,0,null,null,null,null,0,null,null,null,null,0,null,null,null,null,0,null,null,null,null,0,null,null,null,null,0,0,0,0,0,0,null,null,null,null,0,null,null,null,null,0,0,0,0,{"$error":"#DIV/0!"}]
[59,null,0,0,null,null,null,null,0,null,null,null,null,0,null,null,null,null,0,null,null,null,null,0,null,null,null,null,0,0,0,0,0,0,null,null,null,null,0,null,null,null,null,0,0,0,0,{"$error":"#DIV/0!"}]
[60,null,0,0,null,null,null,null,0,null,null,null,null,0,null,null,null,null,0,null,null,null,null,0,null,null,null,null,0,0,0,0,0,0,null,null,null,null,0,null,null,null,null,0,0,0,0,{"$error":"#DIV/0!"}]
[61,null,0,0,null,null,null,null,0,null,null,null,null,0,null,null,null,null,0,null,null,null,null,0,null,null,null,null,0,0,0,0,0,0,null,null,null,null,0,null,null,null,null,0,0,0,0,{"$error":"#DIV/0!"}]
[62,null,0,0,null,null,null,null,0,null,null,null,null,0,null,null,null,null,0,null,null,null,null,0,null,null,null,null,0,0,0,0,0,0,null,null,null,null,0,null,null,null,null,0,0,0,0,{"$error":"#DIV/0!"}]
[63,null,0,0,null,null,null,null,0,null,null,null,null,0,null,null,null,null,0,null,null,null,null,0,null,null,null,null,0,0,0,0,0,0,null,null,null,null,0,null,null,null,null,0,0,0,0,{"$error":"#DIV/0!"}]
[64,null,0,0,null,null,null,null,0,null,null,null,null,0,null,null,null,null,{"$f":"SUM(Q75:R75)","v":0},null,null,null,null,{"$f":"SUM(V75:W75)","v":0},null,null,null,null,{"$f":"SUM(AA75:AB75)","v":0},0,0,0,0,0,null,null,null,null,{"$f":"SUM(AK75:AL75)","v":0},null,null,null,null,{"$f":"SUM(AP75:AQ75)","v":0},0,0,0,{"$error":"#DIV/0!"}]
[65,null,0,0,null,null,null,null,{"$f":"SUM(G76:H76)","v":0},null,null,null,null,{"$f":"SUM(L76:M76)","v":0},null,null,null,null,0,null,null,null,null,0,null,null,null,null,0,0,0,0,0,{"$f":"SUM(AF76:AG76)","v":0},null,null,null,null,0,null,null,null,null,0,{"$f":"SUM(AD76,AI76,AN76)","v":0},0,{"$f":"SUM(AS76:AT76)","v":0},{"$f":"AU76/D76","v":{"$error":"#DIV/0!"}}]
[66,null,{"$f":"SUM(AD77,AI77,AN77,)","v":0},0,null,null,null,null,0,null,null,null,null,0,null,null,null,null,0,null,null,null,null,0,null,null,null,null,0,{"$f":"SUM(E77,J77,O77,T77,Y77)","v":0},0,0,0,0,null,null,null,null,0,null,null,null,null,0,0,0,0,{"$error":"#DIV/0!"}]
[67,null,0,0,null,null,null,null,0,null,null,null,null,0,null,null,null,null,0,null,null,null,null,0,null,null,null,null,0,0,0,0,0,0,null,null,null,null,0,null,null,null,null,0,0,0,0,{"$error":"#DIV/0!"}]
[68,null,0,0,null,null,null,null,0,null,null,null,null,0,null,null,null,null,0,null,null,null,null,0,null,null,null,null,0,0,0,0,0,0,null,null,null,null,0,null,null,null,null,0,0,0,0,{"$error":"#DIV/0!"}]
[69,null,0,0,null,null,null,null,0,null,null,null,null,0,null,null,null,null,0,null,null,null,null,0,null,null,null,null,0,0,0,0,0,0,null,null,null,null,0,null,null,null,null,0,0,0,0,{"$error":"#DIV/0!"}]
[70,null,0,0,null,null,null,null,0,null,null,null,null,0,null,null,null,null,0,null,null,null,null,0,null,null,null,null,0,0,0,0,0,0,null,null,null,null,0,null,null,null,null,0,0,0,0,{"$error":"#DIV/0!"}]
[71,null,0,0,null,null,null,null,0,null,null,null,null,0,null,null,null,null,0,null,null,null,null,0,null,null,null,null,0,0,0,0,0,0,null,null,null,null,0,null,null,null,null,0,0,0,0,{"$error":"#DIV/0!"}]
[72,null,0,0,null,null,null,null,0,null,null,null,null,0,null,null,null,null,0,null,null,null,null,0,null,null,null,null,0,0,0,0,0,0,null,null,null,null,0,null,null,null,null,0,0,0,0,{"$error":"#DIV/0!"}]
[73,null,0,0,null,null,null,null,0,null,null,null,null,0,null,null,null,null,0,null,null,null,null,0,null,null,null,null,0,0,0,0,0,0,null,null,null,null,0,null,null,null,null,0,0,0,0,{"$error":"#DIV/0!"}]
[74,null,0,0,null,null,null,null,0,null,null,null,null,0,null,null,null,null,0,null,null,null,null,0,null,null,null,null,0,0,0,0,0,0,null,null,null,null,0,null,null,null,null,0,0,0,0,{"$error":"#DIV/0!"}]
[75,null,0,0,null,null,null,null,0,null,null,null,null,0,null,null,null,null,0,null,null,null,null,0,null,null,null,null,0,0,0,0,0,0,null,null,null,null,0,null,null,null,null,0,0,0,0,{"$error":"#DIV/0!"}]
[76,null,0,0,null,null,null,null,0,null,null,null,null,0,null,null,null,null,0,null,null,null,null,0,null,null,null,null,0,0,0,0,0,0,null,null,null,null,0,null,null,null,null,0,0,0,0,{"$error":"#DIV/0!"}]
[77,null,0,0,null,null,null,null,0,null,null,null,null,0,null,null,null,null,0,null,null,null,null,0,null,null,null,null,0,0,0,0,0,0,null,null,null,null,0,null,null,null,null,0,0,0,0,{"$error":"#DIV/0!"}]
[78,null,0,0,null,null,null,null,0,null,null,null,null,0,null,null,null,null,0,null,null,null,null,0,null,null,null,null,0,0,0,0,0,0,null,null,null,null,0,null,null,null,null,0,0,0,0,{"$error":"#DIV/0!"}]
[79,null,0,0,null,null,null,null,0,null,null,null,null,0,null,null,null,null,0,null,null,null,null,0,null,null,null,null,0,0,0,0,0,0,null,null,null,null,0,null,null,null,null,0,0,0,0,{"$error":"#DIV/0!"}]
[80,null,0,0,null,null,null,null,0,null,null,null,null,0,null,null,null,null,0,null,null,null,null,0,null,null,null,null,0,0,0,0,0,0,null,null,null,null,0,null,null,null,null,0,0,0,0,{"$error":"#DIV/0!"}]
[81,null,0,0,null,null,null,null,0,null,null,null,null,0,null,null,null,null,0,null,null,null,null,0,null,null,null,null,0,0,0,0,0,0,null,null,null,null,0,null,null,null,null,0,0,0,0,{"$error":"#DIV/0!"}]
[82,null,0,0,null,null,null,null,0,null,null,null,null,0,null,null,null,null,0,null,null,null,null,0,null,null,null,null,0,0,0,0,0,0,null,null,null,null,0,null,null,null,null,0,0,0,0,{"$error":"#DIV/0!"}]
[83,null,0,0,null,null,null,null,0,null,null,null,null,0,null,null,null,null,0,null,null,null,null,0,null,null,null,null,0,0,0,0,0,0,null,null,null,null,0,null,null,null,null,0,0,0,0,{"$error":"#DIV/0!"}]
[84,null,0,0,null,null,null,null,0,null,null,null,null,0,null,null,null,null,0,null,null,null,null,0,null,null,null,null,0,0,0,0,0,0,null,null,null,null,0,null,null,null,null,0,0,0,0,{"$error":"#DIV/0!"}]
[85,null,0,0,null,null,null,null,0,null,null,null,null,0,null,null,null,null,0,null,null,null,null,0,null,null,null,null,0,0,0,0,0,0,null,null,null,null,0,null,null,null,null,0,0,0,0,{"$error":"#DIV/0!"}]
[86,null,0,0,null,null,null,null,0,null,null,null,null,0,null,null,null,null,0,null,null,null,null,0,null,null,null,null,0,0,0,0,0,0,null,null,null,null,0,null,null,null,null,0,0,0,0,{"$error":"#DIV/0!"}]
[87,null,0,0,null,null,null,null,0,null,null,null,null,0,null,null,null,null,0,null,null,null,null,0,null,null,null,null,0,0,0,0,0,0,null,null,null,null,0,null,null,null,null,0,0,0,0,{"$error":"#DIV/0!"}]
[88,null,0,0,null,null,null,null,0,null,null,null,null,0,null,null,null,null,0,null,null,null,null,0,null,null,null,null,0,0,0,0,0,0,null,null,null,null,0,null,null,null,null,0,0,0,0,{"$error":"#DIV/0!"}]
[89,null,0,0,null,null,null,null,0,null,null,null,null,0,null,null,null,null,0,null,null,null,null,0,null,null,null,null,0,0,0,0,0,0,null,null,null,null,0,null,null,null,null,0,0,0,0,{"$error":"#DIV/0!"}]
[90,null,0,0,null,null,null,null,0,null,null,null,null,0,null,null,null,null,0,null,null,null,null,0,null,null,null,null,0,0,0,0,0,0,null,null,null,null,0,null,null,null,null,0,0,0,0,{"$error":"#DIV/0!"}]
[91,null,0,0,null,null,null,null,0,null,null,null,null,0,null,null,null,null,0,null,null,null,null,0,null,null,null,null,0,0,0,0,0,0,null,null,null,null,0,null,null,null,null,0,0,0,0,{"$error":"#DIV/0!"}]
[92,null,0,0,null,null,null,null,0,null,null,null,null,0,null,null,null,null,0,null,null,null,null,0,null,null,null,null,0,0,0,0,0,0,null,null,null,null,0,null,null,null,null,0,0,0,0,{"$error":"#DIV/0!"}]
[93,null,0,0,null,null,null,null,0,null,null,null,null,0,null,null,null,null,0,null,null,null,null,0,null,null,null,null,0,0,0,0,0,0,null,null,null,null,0,null,null,null,null,0,0,0,0,{"$error":"#DIV/0!"}]
[94,null,0,0,null,null,null,null,0,null,null,null,null,0,null,null,null,null,0,null,null,null,null,0,null,null,null,null,0,0,0,0,0,0,null,null,null,null,0,null,null,null,null,0,0,0,0,{"$error":"#DIV/0!"}]
[95,null,0,0,null,null,null,null,0,null,null,null,null,0,null,null,null,null,0,null,null,null,null,0,null,null,null,null,0,0,0,0,0,0,null,null,null,null,0,null,null,null,null,0,0,0,0,{"$error":"#DIV/0!"}]
[96,null,0,0,null,null,null,null,0,null,null,null,null,0,null,null,null,null,0,null,null,null,null,0,null,null,null,null,0,0,0,0,0,0,null,null,null,null,0,null,null,null,null,0,0,0,0,{"$error":"#DIV/0!"}]
[97,null,0,0,null,null,null,null,0,null,null,null,null,0,null,null,null,null,0,null,null,null,null,0,null,null,null,null,0,0,0,0,0,0,null,null,null,null,0,null,null,null,null,0,0,0,0,{"$error":"#DIV/0!"}]
[98,null,0,0,null,null,null,null,0,null,null,null,null,0,null,null,null,null,0,null,null,null,null,0,null,null,null,null,0,0,0,0,0,0,null,null,null,null,0,null,null,null,null,0,0,0,0,{"$error":"#DIV/0!"}]
[99,null,0,0,null,null,null,null,0,null,null,null,null,0,null,null,null,null,0,null,null,null,null,0,null,null,null,null,0,0,0,0,0,0,null,null,null,null,0,null,null,null,null,0,0,0,0,{"$error":"#DIV/0!"}]
[100,null,0,0,null,null,null,null,0,null,null,null,null,0,null,null,null,null,0,null,null,null,null,0,null,null,null,null,0,0,0,0,0,0,null,null,null,null,0,null,null,null,null,0,0,0,0,{"$error":"#DIV/0!"}]

{"sheet":"S_DoE_Others","index":20,"n_rows":111,"n_cols":48,"rows_kept":111,"cut":false,"hidden":false,"merged":[[10,0,10,1],[0,12,0,15],[1,12,1,15],[6,0,9,0],[6,1,9,1],[6,2,8,2],[6,3,8,3],[1,0,1,4],[2,0,2,4],[6,4,6,33],[4,0,4,47],[6,34,7,38],[6,39,7,43],[6,44,7,47],[7,4,7,8],[7,9,7,13],[7,14,7,18],[7,19,7,23],[7,24,7,28],[7,29,7,33]]}
[]
[{"$f":"Create!G2","v":"ក្រសួងអប់រំ យុវជន និងកីឡា"}]
[{"$f":"Create!G3","v":"បំពេញឈ្មោះទីនេះ"}]
[]
[{"$f":"CONCATENATE(\"របាយការណ៍ចំណាយថវិកាដៃគូ សហគមន៍ និងសប្បុរសជន របស់អនុវិទ្យាល័យប្រចាំត្រីមាសទី \", IF(Create!$G$4=1,\"១\",IF(Create!$G$4=2,\"២\",IF(Create!$G$4=3,\"៣\",\"៤\"))),\" ឆ្នាំ២០១៨\")","v":"របាយការណ៍ចំណាយថវិកាដៃគូ សហគមន៍ និងសប្បុរសជន របស់អនុវិទ្យាល័យប្រចាំត្រីមាសទី ១ ឆ្នាំ២០១៨"}]
[]
["ល.រ","ឈ្មោះការិយាល័យអប់រំ យុវជន និងកីឡា\nក្រុង ឬ ស្រុក ឬ ខ័ណ្ឌ","ឥណទានដើមឆ្នាំ","ឥណទានកែតម្រូវ","I. ថវិកាដៃគូ",null,null,null,null,null,null,null,null,null,null,null,null,null,null,null,null,null,null,null,null,null,null,null,null,null,null,null,null,null,"II. សហគមន៍",null,null,null,null,"III. សប្បុរជន",null,null,null,null,"សរុប(I+II+III)"]
[null,null,null,null,"ធនាគារពិភពលោក\n(The World Bank)",null,null,null,null,"អង្គការយូនីសេហ្វ(UNICEF)",null,null,null,null,"ធនាគារអភិវឌ្ឍន៍អាស៊ី(ADB)",null,null,null,null,"ជំនួសពីប្រទេសស៊ុយអ៊ែត(SWEDEN)",null,null,null,null,"ជំនួយពីដៃគូផ្សេងៗ(Others)",null,null,null,null,"សរុប"]
[null,null,null,null,"ដើមឆ្នាំ","កែតម្រូវ","បណ្ដាត្រីមាសមុន","ក្នុងត្រីមាស","បូកយោង","ដើមឆ្នាំ","កែតម្រូវ","បណ្ដាត្រីមាសមុន","ក្នុងត្រីមាស","បូកយោង","ដើមឆ្នាំ","កែតម្រូវ","បណ្ដាត្រីមាសមុន","ក្នុងត្រីមាស","បូកយោង","ដើមឆ្នាំ","កែតម្រូវ","បណ្ដាត្រីមាសមុន","ក្នុងត្រីមាស","បូកយោង","ដើមឆ្នាំ","កែតម្រូវ","បណ្ដាត្រីមាសមុន","ក្នុងត្រីមាស","បូកយោង","ដើមឆ្នាំ","កែតម្រូវ","បណ្ដាត្រីមាសមុន","ក្នុងត្រីមាស","បូកយោង","ដើមឆ្នាំ","កែតម្រូវ","បណ្ដាត្រីមាសមុន","ក្នុងត្រីមាស","បូកយោង","ដើមឆ្នាំ","កែតម្រូវ","បណ្ដាត្រីមាសមុន","ក្នុងត្រីមាស","បូកយោង","បណ្ដាត្រីមាសមុន","ក្នុងត្រីមាស","បូកយោង","%"]
[null,null,1,2,null,null,3,4,"5=3+4",null,null,6,7,"8=6+7",null,null,9,10,"11=9+10",null,null,12,13,"14=12+13",null,null,12,13,"14=12+13",null,null,12,13,"14=12+13",null,null,12,13,"14=12+13",null,null,12,13,"14=12+13",12,13,"14=12+13","15=14/2"]
["សរុប",null,{"$f":"SUM(C12:C111)","v":0},{"$f":"SUM(D12:D111)","v":0},0,0,0,0,{"$f":"SUM(G11:H11)","v":0},0,0,0,0,{"$f":"SUM(L11:M11)","v":0},0,0,0,0,{"$f":"SUM(Q11:R11)","v":0},0,0,0,0,{"$f":"SUM(V11:W11)","v":0},0,0,0,0,{"$f":"SUM(AA11:AB11)","v":0},0,0,0,0,{"$f":"SUM(AF11:AG11)","v":0},0,0,0,0,{"$f":"SUM(AK11:AL11)","v":0},0,0,0,0,{"$f":"SUM(AP11:AQ11)","v":0},{"$f":"SUM(AD11,AI11,AN11)","v":0},{"$f":"SUM(AE11,AJ11,AO11)","v":0},{"$f":"SUM(AS11:AT11)","v":0},{"$f":"AU11/D11","v":{"$error":"#DIV/0!"}}]
[1,{"$f":"[1]S_Sch_Others!A3","v":"ការិយាល័យអប់រំ យុវជន និងកីឡាក្រុងប៉ៃលិន"},{"$f":"SUM(AD12,AI12,AN12,)","v":0},{"$f":"SUM(AE12,AJ12,AO12,)","v":0},{"$f":"[1]S_Sch_Others!E11","v":0},{"$f":"[1]S_Sch_Others!F11","v":0},{"$f":"[1]S_Sch_Others!G11","v":0},{"$f":"[1]S_Sch_Others!H11","v":0},{"$f":"SUM(G12:H12)","v":0},{"$f":"[1]S_Sch_Others!J11","v":0},{"$f":"[1]S_Sch_Others!K11","v":0},{"$f":"[1]S_Sch_Others!L11","v":0},{"$f":"[1]S_Sch_Others!M11","v":0},{"$f":"SUM(L12:M12)","v":0},{"$f":"[1]S_Sch_Others!O11","v":0},{"$f":"[1]S_Sch_Others!P11","v":0},{"$f":"[1]S_Sch_Others!Q11","v":0},{"$f":"[1]S_Sch_Others!R11","v":0},0,{"$f":"[1]S_Sch_Others!T11","v":0},{"$f":"[1]S_Sch_Others!U11","v":0},{"$f":"[1]S_Sch_Others!V11","v":0},{"$f":"[1]S_Sch_Others!W11","v":0},0,{"$f":"[1]S_Sch_Others!Y11","v":0},{"$f":"[1]S_Sch_Others!Z11","v":0},{"$f":"[1]S_Sch_Others!AA11","v":0},{"$f":"[1]S_Sch_Others!AB11","v":0},0,{"$f":"SUM(E12,J12,O12,T12,Y12)","v":0},{"$f":"SUM(F12,K12,P12,U12,Z12)","v":0},0,0,{"$f":"SUM(AF12:AG12)","v":0},{"$f":"[1]S_Sch_Others!AI11","v":0},{"$f":"[1]S_Sch_Others!AJ11","v":0},{"$f":"[1]S_Sch_Others!AK11","v":0},{"$f":"[1]S_Sch_Others!AL11","v":0},0,{"$f":"[1]S_Sch_Others!AN11","v":0},{"$f":"[1]S_Sch_Others!AO11","v":0},{"$f":"[1]S_Sch_Others!AP11","v":0},{"$f":"[1]S_Sch_Others!AQ11","v":0},0,{"$f":"SUM(AD12,AI12,AN12)","v":0},0,{"$f":"SUM(AS12:AT12)","v":0},{"$f":"AU12/D12","v":{"$error":"#DIV/0!"}}]
[2,null,{"$f":"SUM(AD13,AI13,AN13,)","v":0},0,null,null,null,null,0,null,null,null,null,0,null,null,null,null,0,null,null,null,null,0,null,null,null,null,0,{"$f":"SUM(E13,J13,O13,T13,Y13)","v":0},0,0,0,0,null,null,null,null,0,null,null,null,null,0,0,0,0,{"$error":"#DIV/0!"}]
[3,null,0,0,null,null,null,null,0,null,null,null,null,0,null,null,null,null,0,null,null,null,null,0,null,null,null,null,0,0,0,0,0,0,null,null,null,null,0,null,null,null,null,0,0,0,0,{"$error":"#DIV/0!"}]
[4,null,0,0,null,null,null,null,0,null,null,null,null,0,null,null,null,null,0,null,null,null,null,0,null,null,null,null,0,0,0,0,0,0,null,null,null,null,0,null,null,null,null,0,0,0,0,{"$error":"#DIV/0!"}]
[5,null,0,0,null,null,null,null,0,null,null,null,null,0,null,null,null,null,0,null,null,null,null,0,null,null,null,null,0,0,0,0,0,0,null,null,null,null,0,null,null,null,null,0,0,0,0,{"$error":"#DIV/0!"}]
[6,null,0,0,null,null,null,null,0,null,null,null,null,0,null,null,null,null,0,null,null,null,null,0,null,null,null,null,0,0,0,0,0,0,null,null,null,null,0,null,null,null,null,0,0,0,0,{"$error":"#DIV/0!"}]
[7,null,0,0,null,null,null,null,0,null,null,null,null,0,null,null,null,null,0,null,null,null,null,0,null,null,null,null,0,0,0,0,0,0,null,null,null,null,0,null,null,null,null,0,0,0,0,{"$error":"#DIV/0!"}]
[8,null,0,0,null,null,null,null,0,null,null,null,null,0,null,null,null,null,0,null,null,null,null,0,null,null,null,null,0,0,0,0,0,0,null,null,null,null,0,null,null,null,null,0,0,0,0,{"$error":"#DIV/0!"}]
[9,null,0,0,null,null,null,null,0,null,null,null,null,0,null,null,null,null,0,null,null,null,null,0,null,null,null,null,0,0,0,0,0,0,null,null,null,null,0,null,null,null,null,0,0,0,0,{"$error":"#DIV/0!"}]
[10,null,0,0,null,null,null,null,0,null,null,null,null,0,null,null,null,null,0,null,null,null,null,0,null,null,null,null,0,0,0,0,0,0,null,null,null,null,0,null,null,null,null,0,0,0,0,{"$error":"#DIV/0!"}]
[11,null,0,0,null,null,null,null,0,null,null,null,null,0,null,null,null,null,0,null,null,null,null,0,null,null,null,null,0,0,0,0,0,0,null,null,null,null,0,null,null,null,null,0,0,0,0,{"$error":"#DIV/0!"}]
[12,null,0,0,null,null,null,null,0,null,null,null,null,0,null,null,null,null,0,null,null,null,null,0,null,null,null,null,0,0,0,0,0,0,null,null,null,null,0,null,null,null,null,0,0,0,0,{"$error":"#DIV/0!"}]
[13,null,0,0,null,null,null,null,0,null,null,null,null,0,null,null,null,null,0,null,null,null,null,0,null,null,null,null,0,0,0,0,0,0,null,null,null,null,0,null,null,null,null,0,0,0,0,{"$error":"#DIV/0!"}]
[14,null,0,0,null,null,null,null,0,null,null,null,null,0,null,null,null,null,0,null,null,null,null,0,null,null,null,null,0,0,0,0,0,0,null,null,null,null,0,null,null,null,null,0,0,0,0,{"$error":"#DIV/0!"}]
[15,null,0,0,null,null,null,null,0,null,null,null,null,0,null,null,null,null,0,null,null,null,null,0,null,null,null,null,0,0,0,0,0,0,null,null,null,null,0,null,null,null,null,0,0,0,0,{"$error":"#DIV/0!"}]
[16,null,0,0,null,null,null,null,0,null,null,null,null,0,null,null,null,null,0,null,null,null,null,0,null,null,null,null,0,0,0,0,0,0,null,null,null,null,0,null,null,null,null,0,0,0,0,{"$error":"#DIV/0!"}]
[17,null,0,0,null,null,null,null,0,null,null,null,null,0,null,null,null,null,0,null,null,null,null,0,null,null,null,null,0,0,0,0,0,0,null,null,null,null,0,null,null,null,null,0,0,0,0,{"$error":"#DIV/0!"}]
[18,null,0,0,null,null,null,null,0,null,null,null,null,0,null,null,null,null,0,null,null,null,null,0,null,null,null,null,0,0,0,0,0,0,null,null,null,null,0,null,null,null,null,0,0,0,0,{"$error":"#DIV/0!"}]
[19,null,0,0,null,null,null,null,0,null,null,null,null,0,null,null,null,null,0,null,null,null,null,0,null,null,null,null,0,0,0,0,0,0,null,null,null,null,0,null,null,null,null,0,0,0,0,{"$error":"#DIV/0!"}]
[20,null,0,0,null,null,null,null,0,null,null,null,null,0,null,null,null,null,0,null,null,null,null,0,null,null,null,null,0,0,0,0,0,0,null,null,null,null,0,null,null,null,null,0,0,0,0,{"$error":"#DIV/0!"}]
[21,null,0,0,null,null,null,null,0,null,null,null,null,0,null,null,null,null,0,null,null,null,null,0,null,null,null,null,0,0,0,0,0,0,null,null,null,null,0,null,null,null,null,0,0,0,0,{"$error":"#DIV/0!"}]
[22,null,0,0,null,null,null,null,0,null,null,null,null,0,null,null,null,null,0,null,null,null,null,0,null,null,null,null,0,0,0,0,0,0,null,null,null,null,0,null,null,null,null,0,0,0,0,{"$error":"#DIV/0!"}]
[23,null,0,0,null,null,null,null,0,null,null,null,null,0,null,null,null,null,0,null,null,null,null,0,null,null,null,null,0,0,0,0,0,0,null,null,null,null,0,null,null,null,null,0,0,0,0,{"$error":"#DIV/0!"}]
[24,null,0,0,null,null,null,null,0,null,null,null,null,0,null,null,null,null,0,null,null,null,null,0,null,null,null,null,0,0,0,0,0,0,null,null,null,null,0,null,null,null,null,0,0,0,0,{"$error":"#DIV/0!"}]
[25,null,0,0,null,null,null,null,0,null,null,null,null,0,null,null,null,null,0,null,null,null,null,0,null,null,null,null,0,0,0,0,0,0,null,null,null,null,0,null,null,null,null,0,0,0,0,{"$error":"#DIV/0!"}]
[26,null,0,0,null,null,null,null,0,null,null,null,null,0,null,null,null,null,0,null,null,null,null,0,null,null,null,null,0,0,0,0,0,0,null,null,null,null,0,null,null,null,null,0,0,0,0,{"$error":"#DIV/0!"}]
[27,null,0,0,null,null,null,null,0,null,null,null,null,0,null,null,null,null,0,null,null,null,null,0,null,null,null,null,0,0,0,0,0,0,null,null,null,null,0,null,null,null,null,0,0,0,0,{"$error":"#DIV/0!"}]
[28,null,0,0,null,null,null,null,0,null,null,null,null,0,null,null,null,null,0,null,null,null,null,0,null,null,null,null,0,0,0,0,0,0,null,null,null,null,0,null,null,null,null,0,0,0,0,{"$error":"#DIV/0!"}]
[29,null,0,0,null,null,null,null,0,null,null,null,null,0,null,null,null,null,0,null,null,null,null,0,null,null,null,null,0,0,0,0,0,0,null,null,null,null,0,null,null,null,null,0,0,0,0,{"$error":"#DIV/0!"}]
[30,null,0,0,null,null,null,null,0,null,null,null,null,0,null,null,null,null,0,null,null,null,null,0,null,null,null,null,0,0,0,0,0,0,null,null,null,null,0,null,null,null,null,0,0,0,0,{"$error":"#DIV/0!"}]
[31,null,0,0,null,null,null,null,0,null,null,null,null,0,null,null,null,null,0,null,null,null,null,0,null,null,null,null,0,0,0,0,0,0,null,null,null,null,0,null,null,null,null,0,0,0,0,{"$error":"#DIV/0!"}]
[32,null,0,0,null,null,null,null,0,null,null,null,null,0,null,null,null,null,0,null,null,null,null,0,null,null,null,null,0,0,0,0,0,0,null,null,null,null,0,null,null,null,null,0,0,0,0,{"$error":"#DIV/0!"}]
[33,null,0,0,null,null,null,null,0,null,null,null,null,0,null,null,null,null,0,null,null,null,null,0,null,null,null,null,0,0,0,0,0,0,null,null,null,null,0,null,null,null,null,0,0,0,0,{"$error":"#DIV/0!"}]
[34,null,0,0,null,null,null,null,0,null,null,null,null,0,null,null,null,null,0,null,null,null,null,0,null,null,null,null,0,0,0,0,0,0,null,null,null,null,0,null,null,null,null,0,0,0,0,{"$error":"#DIV/0!"}]
[35,null,0,0,null,null,null,null,0,null,null,null,null,0,null,null,null,null,0,null,null,null,null,0,null,null,null,null,0,0,0,0,0,0,null,null,null,null,0,null,null,null,null,0,0,0,0,{"$error":"#DIV/0!"}]
[36,null,0,0,null,null,null,null,0,null,null,null,null,0,null,null,null,null,0,null,null,null,null,0,null,null,null,null,0,0,0,0,0,0,null,null,null,null,0,null,null,null,null,0,0,0,0,{"$error":"#DIV/0!"}]
[37,null,0,0,null,null,null,null,0,null,null,null,null,0,null,null,null,null,0,null,null,null,null,0,null,null,null,null,0,0,0,0,0,0,null,null,null,null,0,null,null,null,null,0,0,0,0,{"$error":"#DIV/0!"}]
[38,null,0,0,null,null,null,null,0,null,null,null,null,0,null,null,null,null,0,null,null,null,null,0,null,null,null,null,0,0,0,0,0,0,null,null,null,null,0,null,null,null,null,0,0,0,0,{"$error":"#DIV/0!"}]
[39,null,0,0,null,null,null,null,0,null,null,null,null,0,null,null,null,null,0,null,null,null,null,0,null,null,null,null,0,0,0,0,0,0,null,null,null,null,0,null,null,null,null,0,0,0,0,{"$error":"#DIV/0!"}]
[40,null,0,0,null,null,null,null,0,null,null,null,null,0,null,null,null,null,0,null,null,null,null,0,null,null,null,null,0,0,0,0,0,0,null,null,null,null,0,null,null,null,null,0,0,0,0,{"$error":"#DIV/0!"}]
[41,null,0,0,null,null,null,null,0,null,null,null,null,0,null,null,null,null,0,null,null,null,null,0,null,null,null,null,0,0,0,0,0,0,null,null,null,null,0,null,null,null,null,0,0,0,0,{"$error":"#DIV/0!"}]
[42,null,0,0,null,null,null,null,0,null,null,null,null,0,null,null,null,null,0,null,null,null,null,0,null,null,null,null,0,0,0,0,0,0,null,null,null,null,0,null,null,null,null,0,0,0,0,{"$error":"#DIV/0!"}]
[43,null,0,0,null,null,null,null,0,null,null,null,null,0,null,null,null,null,0,null,null,null,null,0,null,null,null,null,0,0,0,0,0,0,null,null,null,null,0,null,null,null,null,0,0,0,0,{"$error":"#DIV/0!"}]
[44,null,0,0,null,null,null,null,0,null,null,null,null,0,null,null,null,null,0,null,null,null,null,0,null,null,null,null,0,0,0,0,0,0,null,null,null,null,0,null,null,null,null,0,0,0,0,{"$error":"#DIV/0!"}]
[45,null,0,0,null,null,null,null,0,null,null,null,null,0,null,null,null,null,0,null,null,null,null,0,null,null,null,null,0,0,0,0,0,0,null,null,null,null,0,null,null,null,null,0,0,0,0,{"$error":"#DIV/0!"}]
[46,null,0,0,null,null,null,null,0,null,null,null,null,0,null,null,null,null,0,null,null,null,null,0,null,null,null,null,0,0,0,0,0,0,null,null,null,null,0,null,null,null,null,0,0,0,0,{"$error":"#DIV/0!"}]
[47,null,0,0,null,null,null,null,0,null,null,null,null,0,null,null,null,null,0,null,null,null,null,0,null,null,null,null,0,0,0,0,0,0,null,null,null,null,0,null,null,null,null,0,0,0,0,{"$error":"#DIV/0!"}]
[48,null,0,0,null,null,null,null,0,null,null,null,null,0,null,null,null,null,0,null,null,null,null,0,null,null,null,null,0,0,0,0,0,0,null,null,null,null,0,null,null,null,null,0,0,0,0,{"$error":"#DIV/0!"}]
[49,null,0,0,null,null,null,null,0,null,null,null,null,0,null,null,null,null,0,null,null,null,null,0,null,null,null,null,0,0,0,0,0,0,null,null,null,null,0,null,null,null,null,0,0,0,0,{"$error":"#DIV/0!"}]
[50,null,0,0,null,null,null,null,0,null,null,null,null,0,null,null,null,null,0,null,null,null,null,0,null,null,null,null,0,0,0,0,0,0,null,null,null,null,0,null,null,null,null,0,0,0,0,{"$error":"#DIV/0!"}]
[51,null,0,0,null,null,null,null,0,null,null,null,null,0,null,null,null,null,0,null,null,null,null,0,null,null,null,null,0,0,0,0,0,0,null,null,null,null,0,null,null,null,null,0,0,0,0,{"$error":"#DIV/0!"}]
[52,null,0,0,null,null,null,null,0,null,null,null,null,0,null,null,null,null,0,null,null,null,null,0,null,null,null,null,0,0,0,0,0,0,null,null,null,null,0,null,null,null,null,0,0,0,0,{"$error":"#DIV/0!"}]
[53,null,0,0,null,null,null,null,0,null,null,null,null,0,null,null,null,null,0,null,null,null,null,0,null,null,null,null,0,0,0,0,0,0,null,null,null,null,0,null,null,null,null,0,0,0,0,{"$error":"#DIV/0!"}]
[54,null,0,0,null,null,null,null,0,null,null,null,null,0,null,null,null,null,0,null,null,null,null,0,null,null,null,null,0,0,0,0,0,0,null,null,null,null,0,null,null,null,null,0,0,0,0,{"$error":"#DIV/0!"}]
[55,null,0,0,null,null,null,null,0,null,null,null,null,0,null,null,null,null,0,null,null,null,null,0,null,null,null,null,0,0,0,0,0,0,null,null,null,null,0,null,null,null,null,0,0,0,0,{"$error":"#DIV/0!"}]
[56,null,0,0,null,null,null,null,0,null,null,null,null,0,null,null,null,null,0,null,null,null,null,0,null,null,null,null,0,0,0,0,0,0,null,null,null,null,0,null,null,null,null,0,0,0,0,{"$error":"#DIV/0!"}]
[57,null,0,0,null,null,null,null,0,null,null,null,null,0,null,null,null,null,0,null,null,null,null,0,null,null,null,null,0,0,0,0,0,0,null,null,null,null,0,null,null,null,null,0,0,0,0,{"$error":"#DIV/0!"}]
[58,null,0,0,null,null,null,null,0,null,null,null,null,0,null,null,null,null,0,null,null,null,null,0,null,null,null,null,0,0,0,0,0,0,null,null,null,null,0,null,null,null,null,0,0,0,0,{"$error":"#DIV/0!"}]
[59,null,0,0,null,null,null,null,0,null,null,null,null,0,null,null,null,null,0,null,null,null,null,0,null,null,null,null,0,0,0,0,0,0,null,null,null,null,0,null,null,null,null,0,0,0,0,{"$error":"#DIV/0!"}]
[60,null,0,0,null,null,null,null,0,null,null,null,null,0,null,null,null,null,0,null,null,null,null,0,null,null,null,null,0,0,0,0,0,0,null,null,null,null,0,null,null,null,null,0,0,0,0,{"$error":"#DIV/0!"}]
[61,null,0,0,null,null,null,null,0,null,null,null,null,0,null,null,null,null,0,null,null,null,null,0,null,null,null,null,0,0,0,0,0,0,null,null,null,null,0,null,null,null,null,0,0,0,0,{"$error":"#DIV/0!"}]
[62,null,0,0,null,null,null,null,0,null,null,null,null,0,null,null,null,null,0,null,null,null,null,0,null,null,null,null,0,0,0,0,0,0,null,null,null,null,0,null,null,null,null,0,0,0,0,{"$error":"#DIV/0!"}]
[63,null,0,0,null,null,null,null,0,null,null,null,null,0,null,null,null,null,0,null,null,null,null,0,null,null,null,null,0,0,0,0,0,0,null,null,null,null,0,null,null,null,null,0,0,0,0,{"$error":"#DIV/0!"}]
[64,null,0,0,null,null,null,null,0,null,null,null,null,0,null,null,null,null,{"$f":"SUM(Q75:R75)","v":0},null,null,null,null,{"$f":"SUM(V75:W75)","v":0},null,null,null,null,{"$f":"SUM(AA75:AB75)","v":0},0,0,0,0,0,null,null,null,null,{"$f":"SUM(AK75:AL75)","v":0},null,null,null,null,{"$f":"SUM(AP75:AQ75)","v":0},0,0,0,{"$error":"#DIV/0!"}]
[65,null,0,0,null,null,null,null,{"$f":"SUM(G76:H76)","v":0},null,null,null,null,{"$f":"SUM(L76:M76)","v":0},null,null,null,null,0,null,null,null,null,0,null,null,null,null,0,0,0,0,0,{"$f":"SUM(AF76:AG76)","v":0},null,null,null,null,0,null,null,null,null,0,{"$f":"SUM(AD76,AI76,AN76)","v":0},0,{"$f":"SUM(AS76:AT76)","v":0},{"$f":"AU76/D76","v":{"$error":"#DIV/0!"}}]
[66,null,{"$f":"SUM(AD77,AI77,AN77,)","v":0},0,null,null,null,null,0,null,null,null,null,0,null,null,null,null,0,null,null,null,null,0,null,null,null,null,0,{"$f":"SUM(E77,J77,O77,T77,Y77)","v":0},0,0,0,0,null,null,null,null,0,null,null,null,null,0,0,0,0,{"$error":"#DIV/0!"}]
[67,null,0,0,null,null,null,null,0,null,null,null,null,0,null,null,null,null,0,null,null,null,null,0,null,null,null,null,0,0,0,0,0,0,null,null,null,null,0,null,null,null,null,0,0,0,0,{"$error":"#DIV/0!"}]
[68,null,0,0,null,null,null,null,0,null,null,null,null,0,null,null,null,null,0,null,null,null,null,0,null,null,null,null,0,0,0,0,0,0,null,null,null,null,0,null,null,null,null,0,0,0,0,{"$error":"#DIV/0!"}]
[69,null,0,0,null,null,null,null,0,null,null,null,null,0,null,null,null,null,0,null,null,null,null,0,null,null,null,null,0,0,0,0,0,0,null,null,null,null,0,null,null,null,null,0,0,0,0,{"$error":"#DIV/0!"}]
[70,null,0,0,null,null,null,null,0,null,null,null,null,0,null,null,null,null,0,null,null,null,null,0,null,null,null,null,0,0,0,0,0,0,null,null,null,null,0,null,null,null,null,0,0,0,0,{"$error":"#DIV/0!"}]
[71,null,0,0,null,null,null,null,0,null,null,null,null,0,null,null,null,null,0,null,null,null,null,0,null,null,null,null,0,0,0,0,0,0,null,null,null,null,0,null,null,null,null,0,0,0,0,{"$error":"#DIV/0!"}]
[72,null,0,0,null,null,null,null,0,null,null,null,null,0,null,null,null,null,0,null,null,null,null,0,null,null,null,null,0,0,0,0,0,0,null,null,null,null,0,null,null,null,null,0,0,0,0,{"$error":"#DIV/0!"}]
[73,null,0,0,null,null,null,null,0,null,null,null,null,0,null,null,null,null,0,null,null,null,null,0,null,null,null,null,0,0,0,0,0,0,null,null,null,null,0,null,null,null,null,0,0,0,0,{"$error":"#DIV/0!"}]
[74,null,0,0,null,null,null,null,0,null,null,null,null,0,null,null,null,null,0,null,null,null,null,0,null,null,null,null,0,0,0,0,0,0,null,null,null,null,0,null,null,null,null,0,0,0,0,{"$error":"#DIV/0!"}]
[75,null,0,0,null,null,null,null,0,null,null,null,null,0,null,null,null,null,0,null,null,null,null,0,null,null,null,null,0,0,0,0,0,0,null,null,null,null,0,null,null,null,null,0,0,0,0,{"$error":"#DIV/0!"}]
[76,null,0,0,null,null,null,null,0,null,null,null,null,0,null,null,null,null,0,null,null,null,null,0,null,null,null,null,0,0,0,0,0,0,null,null,null,null,0,null,null,null,null,0,0,0,0,{"$error":"#DIV/0!"}]
[77,null,0,0,null,null,null,null,0,null,null,null,null,0,null,null,null,null,0,null,null,null,null,0,null,null,null,null,0,0,0,0,0,0,null,null,null,null,0,null,null,null,null,0,0,0,0,{"$error":"#DIV/0!"}]
[78,null,0,0,null,null,null,null,0,null,null,null,null,0,null,null,null,null,0,null,null,null,null,0,null,null,null,null,0,0,0,0,0,0,null,null,null,null,0,null,null,null,null,0,0,0,0,{"$error":"#DIV/0!"}]
[79,null,0,0,null,null,null,null,0,null,null,null,null,0,null,null,null,null,0,null,null,null,null,0,null,null,null,null,0,0,0,0,0,0,null,null,null,null,0,null,null,null,null,0,0,0,0,{"$error":"#DIV/0!"}]
[80,null,0,0,null,null,null,null,0,null,null,null,null,0,null,null,null,null,0,null,null,null,null,0,null,null,null,null,0,0,0,0,0,0,null,null,null,null,0,null,null,null,null,0,0,0,0,{"$error":"#DIV/0!"}]
[81,null,0,0,null,null,null,null,0,null,null,null,null,0,null,null,null,null,0,null,null,null,null,0,null,null,null,null,0,0,0,0,0,0,null,null,null,null,0,null,null,null,null,0,0,0,0,{"$error":"#DIV/0!"}]
[82,null,0,0,null,null,null,null,0,null,null,null,null,0,null,null,null,null,0,null,null,null,null,0,null,null,null,null,0,0,0,0,0,0,null,null,null,null,0,null,null,null,null,0,0,0,0,{"$error":"#DIV/0!"}]
[83,null,0,0,null,null,null,null,0,null,null,null,null,0,null,null,null,null,0,null,null,null,null,0,null,null,null,null,0,0,0,0,0,0,null,null,null,null,0,null,null,null,null,0,0,0,0,{"$error":"#DIV/0!"}]
[84,null,0,0,null,null,null,null,0,null,null,null,null,0,null,null,null,null,0,null,null,null,null,0,null,null,null,null,0,0,0,0,0,0,null,null,null,null,0,null,null,null,null,0,0,0,0,{"$error":"#DIV/0!"}]
[85,null,0,0,null,null,null,null,0,null,null,null,null,0,null,null,null,null,0,null,null,null,null,0,null,null,null,null,0,0,0,0,0,0,null,null,null,null,0,null,null,null,null,0,0,0,0,{"$error":"#DIV/0!"}]
[86,null,0,0,null,null,null,null,0,null,null,null,null,0,null,null,null,null,0,null,null,null,null,0,null,null,null,null,0,0,0,0,0,0,null,null,null,null,0,null,null,null,null,0,0,0,0,{"$error":"#DIV/0!"}]
[87,null,0,0,null,null,null,null,0,null,null,null,null,0,null,null,null,null,0,null,null,null,null,0,null,null,null,null,0,0,0,0,0,0,null,null,null,null,0,null,null,null,null,0,0,0,0,{"$error":"#DIV/0!"}]
[88,null,0,0,null,null,null,null,0,null,null,null,null,0,null,null,null,null,0,null,null,null,null,0,null,null,null,null,0,0,0,0,0,0,null,null,null,null,0,null,null,null,null,0,0,0,0,{"$error":"#DIV/0!"}]
[89,null,0,0,null,null,null,null,0,null,null,null,null,0,null,null,null,null,0,null,null,null,null,0,null,null,null,null,0,0,0,0,0,0,null,null,null,null,0,null,null,null,null,0,0,0,0,{"$error":"#DIV/0!"}]
[90,null,0,0,null,null,null,null,0,null,null,null,null,0,null,null,null,null,0,null,null,null,null,0,null,null,null,null,0,0,0,0,0,0,null,null,null,null,0,null,null,null,null,0,0,0,0,{"$error":"#DIV/0!"}]
[91,null,0,0,null,null,null,null,0,null,null,null,null,0,null,null,null,null,0,null,null,null,null,0,null,null,null,null,0,0,0,0,0,0,null,null,null,null,0,null,null,null,null,0,0,0,0,{"$error":"#DIV/0!"}]
[92,null,0,0,null,null,null,null,0,null,null,null,null,0,null,null,null,null,0,null,null,null,null,0,null,null,null,null,0,0,0,0,0,0,null,null,null,null,0,null,null,null,null,0,0,0,0,{"$error":"#DIV/0!"}]
[93,null,0,0,null,null,null,null,0,null,null,null,null,0,null,null,null,null,0,null,null,null,null,0,null,null,null,null,0,0,0,0,0,0,null,null,null,null,0,null,null,null,null,0,0,0,0,{"$error":"#DIV/0!"}]
[94,null,0,0,null,null,null,null,0,null,null,null,null,0,null,null,null,null,0,null,null,null,null,0,null,null,null,null,0,0,0,0,0,0,null,null,null,null,0,null,null,null,null,0,0,0,0,{"$error":"#DIV/0!"}]
[95,null,0,0,null,null,null,null,0,null,null,null,null,0,null,null,null,null,0,null,null,null,null,0,null,null,null,null,0,0,0,0,0,0,null,null,null,null,0,null,null,null,null,0,0,0,0,{"$error":"#DIV/0!"}]
[96,null,0,0,null,null,null,null,0,null,null,null,null,0,null,null,null,null,0,null,null,null,null,0,null,null,null,null,0,0,0,0,0,0,null,null,null,null,0,null,null,null,null,0,0,0,0,{"$error":"#DIV/0!"}]
[97,null,0,0,null,null,null,null,0,null,null,null,null,0,null,null,null,null,0,null,null,null,null,0,null,null,null,null,0,0,0,0,0,0,null,null,null,null,0,null,null,null,null,0,0,0,0,{"$error":"#DIV/0!"}]
[98,null,0,0,null,null,null,null,0,null,null,null,null,0,null,null,null,null,0,null,null,null,null,0,null,null,null,null,0,0,0,0,0,0,null,null,null,null,0,null,null,null,null,0,0,0,0,{"$error":"#DIV/0!"}]
[99,null,0,0,null,null,null,null,0,null,null,null,null,0,null,null,null,null,0,null,null,null,null,0,null,null,null,null,0,0,0,0,0,0,null,null,null,null,0,null,null,null,null,0,0,0,0,{"$error":"#DIV/0!"}]
[100,null,0,0,null,null,null,null,0,null,null,null,null,0,null,null,null,null,0,null,null,null,null,0,null,null,null,null,0,0,0,0,0,0,null,null,null,null,0,null,null,null,null,0,0,0,0,{"$error":"#DIV/0!"}]

{"sheet":"H_DoE_Others","index":21,"n_rows":111,"n_cols":48,"rows_kept":111,"cut":false,"hidden":false,"merged":[[10,0,10,1],[0,12,0,15],[1,12,1,15],[6,0,9,0],[6,1,9,1],[6,2,8,2],[6,3,8,3],[1,0,1,5],[2,0,2,5],[6,4,6,33],[4,0,4,47],[6,34,7,38],[6,39,7,43],[6,44,7,47],[7,4,7,8],[7,9,7,13],[7,14,7,18],[7,19,7,23],[7,24,7,28],[7,29,7,33]]}
[]
[{"$f":"Create!G2","v":"ក្រសួងអប់រំ យុវជន និងកីឡា"}]
[{"$f":"Create!G3","v":"បំពេញឈ្មោះទីនេះ"}]
[]
[{"$f":"CONCATENATE(\"របាយការណ៍ចំណាយថវិកាដៃគូ សហគមន៍ និងសប្បុរសជន របស់វិទ្យាល័យប្រចាំត្រីមាសទី \", IF(Create!$G$4=1,\"១\",IF(Create!$G$4=2,\"២\",IF(Create!$G$4=3,\"៣\",\"៤\"))),\" ឆ្នាំ២០១៨\")","v":"របាយការណ៍ចំណាយថវិកាដៃគូ សហគមន៍ និងសប្បុរសជន របស់វិទ្យាល័យប្រចាំត្រីមាសទី ១ ឆ្នាំ២០១៨"}]
[]
["ល.រ","ឈ្មោះការិយាល័យអប់រំ យុវជន និងកីឡា\nក្រុង ឬ ស្រុក ឬ ខ័ណ្ឌ","ឥណទានដើមឆ្នាំ","ឥណទានកែតម្រូវ","I. ថវិកាដៃគូ",null,null,null,null,null,null,null,null,null,null,null,null,null,null,null,null,null,null,null,null,null,null,null,null,null,null,null,null,null,"II. សហគមន៍",null,null,null,null,"III. សប្បុរជន",null,null,null,null,"សរុប(I+II+III)"]
[null,null,null,null,"ធនាគារពិភពលោក\n(The World Bank)",null,null,null,null,"អង្គការយូនីសេហ្វ(UNICEF)",null,null,null,null,"ធនាគារអភិវឌ្ឍន៍អាស៊ី(ADB)",null,null,null,null,"ជំនួសពីប្រទេសស៊ុយអ៊ែត(SWEDEN)",null,null,null,null,"ជំនួយពីដៃគូផ្សេងៗ(Others)",null,null,null,null,"សរុប"]
[null,null,null,null,"ដើមឆ្នាំ","កែតម្រូវ","បណ្ដាត្រីមាសមុន","ក្នុងត្រីមាស","បូកយោង","ដើមឆ្នាំ","កែតម្រូវ","បណ្ដាត្រីមាសមុន","ក្នុងត្រីមាស","បូកយោង","ដើមឆ្នាំ","កែតម្រូវ","បណ្ដាត្រីមាសមុន","ក្នុងត្រីមាស","បូកយោង","ដើមឆ្នាំ","កែតម្រូវ","បណ្ដាត្រីមាសមុន","ក្នុងត្រីមាស","បូកយោង","ដើមឆ្នាំ","កែតម្រូវ","បណ្ដាត្រីមាសមុន","ក្នុងត្រីមាស","បូកយោង","ដើមឆ្នាំ","កែតម្រូវ","បណ្ដាត្រីមាសមុន","ក្នុងត្រីមាស","បូកយោង","ដើមឆ្នាំ","កែតម្រូវ","បណ្ដាត្រីមាសមុន","ក្នុងត្រីមាស","បូកយោង","ដើមឆ្នាំ","កែតម្រូវ","បណ្ដាត្រីមាសមុន","ក្នុងត្រីមាស","បូកយោង","បណ្ដាត្រីមាសមុន","ក្នុងត្រីមាស","បូកយោង","%"]
[null,null,1,2,null,null,3,4,"5=3+4",null,null,6,7,"8=6+7",null,null,9,10,"11=9+10",null,null,12,13,"14=12+13",null,null,12,13,"14=12+13",null,null,12,13,"14=12+13",null,null,12,13,"14=12+13",null,null,12,13,"14=12+13",12,13,"14=12+13","15=14/2"]
["សរុប",null,{"$f":"SUM(C12:C111)","v":0},{"$f":"SUM(D12:D111)","v":0},0,0,0,0,{"$f":"SUM(G11:H11)","v":0},0,0,0,0,{"$f":"SUM(L11:M11)","v":0},0,0,0,0,{"$f":"SUM(Q11:R11)","v":0},0,0,0,0,{"$f":"SUM(V11:W11)","v":0},0,0,0,0,{"$f":"SUM(AA11:AB11)","v":0},0,0,0,0,{"$f":"SUM(AF11:AG11)","v":0},0,0,0,0,{"$f":"SUM(AK11:AL11)","v":0},0,0,0,0,{"$f":"SUM(AP11:AQ11)","v":0},{"$f":"SUM(AD11,AI11,AN11)","v":0},{"$f":"SUM(AE11,AJ11,AO11)","v":0},{"$f":"SUM(AS11:AT11)","v":0},{"$f":"AU11/D11","v":{"$error":"#DIV/0!"}}]
[1,{"$f":"[1]H_Sch_Others!A3","v":"ការិយាល័យអប់រំ យុវជន និងកីឡាក្រុងប៉ៃលិន"},{"$f":"SUM(AD12,AI12,AN12,)","v":0},{"$f":"SUM(AE12,AJ12,AO12,)","v":0},{"$f":"[1]H_Sch_Others!E11","v":0},{"$f":"[1]H_Sch_Others!F11","v":0},{"$f":"[1]H_Sch_Others!G11","v":0},{"$f":"[1]H_Sch_Others!H11","v":0},{"$f":"SUM(G12:H12)","v":0},{"$f":"[1]H_Sch_Others!J11","v":0},{"$f":"[1]H_Sch_Others!K11","v":0},{"$f":"[1]H_Sch_Others!L11","v":0},{"$f":"[1]H_Sch_Others!M11","v":0},{"$f":"SUM(L12:M12)","v":0},{"$f":"[1]H_Sch_Others!O11","v":0},{"$f":"[1]H_Sch_Others!P11","v":0},{"$f":"[1]H_Sch_Others!Q11","v":0},{"$f":"[1]H_Sch_Others!R11","v":0},0,{"$f":"[1]H_Sch_Others!T11","v":0},{"$f":"[1]H_Sch_Others!U11","v":0},{"$f":"[1]H_Sch_Others!V11","v":0},{"$f":"[1]H_Sch_Others!W11","v":0},0,{"$f":"[1]H_Sch_Others!Y11","v":0},{"$f":"[1]H_Sch_Others!Z11","v":0},{"$f":"[1]H_Sch_Others!AA11","v":0},{"$f":"[1]H_Sch_Others!AB11","v":0},0,{"$f":"SUM(E12,J12,O12,T12,Y12)","v":0},{"$f":"SUM(F12,K12,P12,U12,Z12)","v":0},0,0,{"$f":"SUM(AF12:AG12)","v":0},{"$f":"[1]H_Sch_Others!AI11","v":0},{"$f":"[1]H_Sch_Others!AJ11","v":0},{"$f":"[1]H_Sch_Others!AK11","v":0},{"$f":"[1]H_Sch_Others!AL11","v":0},0,{"$f":"[1]H_Sch_Others!AN11","v":0},{"$f":"[1]H_Sch_Others!AO11","v":0},{"$f":"[1]H_Sch_Others!AP11","v":0},{"$f":"[1]H_Sch_Others!AQ11","v":0},0,{"$f":"SUM(AD12,AI12,AN12)","v":0},0,{"$f":"SUM(AS12:AT12)","v":0},{"$f":"AU12/D12","v":{"$error":"#DIV/0!"}}]
[2,null,{"$f":"SUM(AD13,AI13,AN13,)","v":0},0,null,null,null,null,0,null,null,null,null,0,null,null,null,null,0,null,null,null,null,0,null,null,null,null,0,{"$f":"SUM(E13,J13,O13,T13,Y13)","v":0},0,0,0,0,null,null,null,null,0,null,null,null,null,0,0,0,0,{"$error":"#DIV/0!"}]
[3,null,0,0,null,null,null,null,0,null,null,null,null,0,null,null,null,null,0,null,null,null,null,0,null,null,null,null,0,0,0,0,0,0,null,null,null,null,0,null,null,null,null,0,0,0,0,{"$error":"#DIV/0!"}]
[4,null,0,0,null,null,null,null,0,null,null,null,null,0,null,null,null,null,0,null,null,null,null,0,null,null,null,null,0,0,0,0,0,0,null,null,null,null,0,null,null,null,null,0,0,0,0,{"$error":"#DIV/0!"}]
[5,null,0,0,null,null,null,null,0,null,null,null,null,0,null,null,null,null,0,null,null,null,null,0,null,null,null,null,0,0,0,0,0,0,null,null,null,null,0,null,null,null,null,0,0,0,0,{"$error":"#DIV/0!"}]
[6,null,0,0,null,null,null,null,0,null,null,null,null,0,null,null,null,null,0,null,null,null,null,0,null,null,null,null,0,0,0,0,0,0,null,null,null,null,0,null,null,null,null,0,0,0,0,{"$error":"#DIV/0!"}]
[7,null,0,0,null,null,null,null,0,null,null,null,null,0,null,null,null,null,0,null,null,null,null,0,null,null,null,null,0,0,0,0,0,0,null,null,null,null,0,null,null,null,null,0,0,0,0,{"$error":"#DIV/0!"}]
[8,null,0,0,null,null,null,null,0,null,null,null,null,0,null,null,null,null,0,null,null,null,null,0,null,null,null,null,0,0,0,0,0,0,null,null,null,null,0,null,null,null,null,0,0,0,0,{"$error":"#DIV/0!"}]
[9,null,0,0,null,null,null,null,0,null,null,null,null,0,null,null,null,null,0,null,null,null,null,0,null,null,null,null,0,0,0,0,0,0,null,null,null,null,0,null,null,null,null,0,0,0,0,{"$error":"#DIV/0!"}]
[10,null,0,0,null,null,null,null,0,null,null,null,null,0,null,null,null,null,0,null,null,null,null,0,null,null,null,null,0,0,0,0,0,0,null,null,null,null,0,null,null,null,null,0,0,0,0,{"$error":"#DIV/0!"}]
[11,null,0,0,null,null,null,null,0,null,null,null,null,0,null,null,null,null,0,null,null,null,null,0,null,null,null,null,0,0,0,0,0,0,null,null,null,null,0,null,null,null,null,0,0,0,0,{"$error":"#DIV/0!"}]
[12,null,0,0,null,null,null,null,0,null,null,null,null,0,null,null,null,null,0,null,null,null,null,0,null,null,null,null,0,0,0,0,0,0,null,null,null,null,0,null,null,null,null,0,0,0,0,{"$error":"#DIV/0!"}]
[13,null,0,0,null,null,null,null,0,null,null,null,null,0,null,null,null,null,0,null,null,null,null,0,null,null,null,null,0,0,0,0,0,0,null,null,null,null,0,null,null,null,null,0,0,0,0,{"$error":"#DIV/0!"}]
[14,null,0,0,null,null,null,null,0,null,null,null,null,0,null,null,null,null,0,null,null,null,null,0,null,null,null,null,0,0,0,0,0,0,null,null,null,null,0,null,null,null,null,0,0,0,0,{"$error":"#DIV/0!"}]
[15,null,0,0,null,null,null,null,0,null,null,null,null,0,null,null,null,null,0,null,null,null,null,0,null,null,null,null,0,0,0,0,0,0,null,null,null,null,0,null,null,null,null,0,0,0,0,{"$error":"#DIV/0!"}]
[16,null,0,0,null,null,null,null,0,null,null,null,null,0,null,null,null,null,0,null,null,null,null,0,null,null,null,null,0,0,0,0,0,0,null,null,null,null,0,null,null,null,null,0,0,0,0,{"$error":"#DIV/0!"}]
[17,null,0,0,null,null,null,null,0,null,null,null,null,0,null,null,null,null,0,null,null,null,null,0,null,null,null,null,0,0,0,0,0,0,null,null,null,null,0,null,null,null,null,0,0,0,0,{"$error":"#DIV/0!"}]
[18,null,0,0,null,null,null,null,0,null,null,null,null,0,null,null,null,null,0,null,null,null,null,0,null,null,null,null,0,0,0,0,0,0,null,null,null,null,0,null,null,null,null,0,0,0,0,{"$error":"#DIV/0!"}]
[19,null,0,0,null,null,null,null,0,null,null,null,null,0,null,null,null,null,0,null,null,null,null,0,null,null,null,null,0,0,0,0,0,0,null,null,null,null,0,null,null,null,null,0,0,0,0,{"$error":"#DIV/0!"}]
[20,null,0,0,null,null,null,null,0,null,null,null,null,0,null,null,null,null,0,null,null,null,null,0,null,null,null,null,0,0,0,0,0,0,null,null,null,null,0,null,null,null,null,0,0,0,0,{"$error":"#DIV/0!"}]
[21,null,0,0,null,null,null,null,0,null,null,null,null,0,null,null,null,null,0,null,null,null,null,0,null,null,null,null,0,0,0,0,0,0,null,null,null,null,0,null,null,null,null,0,0,0,0,{"$error":"#DIV/0!"}]
[22,null,0,0,null,null,null,null,0,null,null,null,null,0,null,null,null,null,0,null,null,null,null,0,null,null,null,null,0,0,0,0,0,0,null,null,null,null,0,null,null,null,null,0,0,0,0,{"$error":"#DIV/0!"}]
[23,null,0,0,null,null,null,null,0,null,null,null,null,0,null,null,null,null,0,null,null,null,null,0,null,null,null,null,0,0,0,0,0,0,null,null,null,null,0,null,null,null,null,0,0,0,0,{"$error":"#DIV/0!"}]
[24,null,0,0,null,null,null,null,0,null,null,null,null,0,null,null,null,null,0,null,null,null,null,0,null,null,null,null,0,0,0,0,0,0,null,null,null,null,0,null,null,null,null,0,0,0,0,{"$error":"#DIV/0!"}]
[25,null,0,0,null,null,null,null,0,null,null,null,null,0,null,null,null,null,0,null,null,null,null,0,null,null,null,null,0,0,0,0,0,0,null,null,null,null,0,null,null,null,null,0,0,0,0,{"$error":"#DIV/0!"}]
[26,null,0,0,null,null,null,null,0,null,null,null,null,0,null,null,null,null,0,null,null,null,null,0,null,null,null,null,0,0,0,0,0,0,null,null,null,null,0,null,null,null,null,0,0,0,0,{"$error":"#DIV/0!"}]
[27,null,0,0,null,null,null,null,0,null,null,null,null,0,null,null,null,null,0,null,null,null,null,0,null,null,null,null,0,0,0,0,0,0,null,null,null,null,0,null,null,null,null,0,0,0,0,{"$error":"#DIV/0!"}]
[28,null,0,0,null,null,null,null,0,null,null,null,null,0,null,null,null,null,0,null,null,null,null,0,null,null,null,null,0,0,0,0,0,0,null,null,null,null,0,null,null,null,null,0,0,0,0,{"$error":"#DIV/0!"}]
[29,null,0,0,null,null,null,null,0,null,null,null,null,0,null,null,null,null,0,null,null,null,null,0,null,null,null,null,0,0,0,0,0,0,null,null,null,null,0,null,null,null,null,0,0,0,0,{"$error":"#DIV/0!"}]
[30,null,0,0,null,null,null,null,0,null,null,null,null,0,null,null,null,null,0,null,null,null,null,0,null,null,null,null,0,0,0,0,0,0,null,null,null,null,0,null,null,null,null,0,0,0,0,{"$error":"#DIV/0!"}]
[31,null,0,0,null,null,null,null,0,null,null,null,null,0,null,null,null,null,0,null,null,null,null,0,null,null,null,null,0,0,0,0,0,0,null,null,null,null,0,null,null,null,null,0,0,0,0,{"$error":"#DIV/0!"}]
[32,null,0,0,null,null,null,null,0,null,null,null,null,0,null,null,null,null,0,null,null,null,null,0,null,null,null,null,0,0,0,0,0,0,null,null,null,null,0,null,null,null,null,0,0,0,0,{"$error":"#DIV/0!"}]
[33,null,0,0,null,null,null,null,0,null,null,null,null,0,null,null,null,null,0,null,null,null,null,0,null,null,null,null,0,0,0,0,0,0,null,null,null,null,0,null,null,null,null,0,0,0,0,{"$error":"#DIV/0!"}]
[34,null,0,0,null,null,null,null,0,null,null,null,null,0,null,null,null,null,0,null,null,null,null,0,null,null,null,null,0,0,0,0,0,0,null,null,null,null,0,null,null,null,null,0,0,0,0,{"$error":"#DIV/0!"}]
[35,null,0,0,null,null,null,null,0,null,null,null,null,0,null,null,null,null,0,null,null,null,null,0,null,null,null,null,0,0,0,0,0,0,null,null,null,null,0,null,null,null,null,0,0,0,0,{"$error":"#DIV/0!"}]
[36,null,0,0,null,null,null,null,0,null,null,null,null,0,null,null,null,null,0,null,null,null,null,0,null,null,null,null,0,0,0,0,0,0,null,null,null,null,0,null,null,null,null,0,0,0,0,{"$error":"#DIV/0!"}]
[37,null,0,0,null,null,null,null,0,null,null,null,null,0,null,null,null,null,0,null,null,null,null,0,null,null,null,null,0,0,0,0,0,0,null,null,null,null,0,null,null,null,null,0,0,0,0,{"$error":"#DIV/0!"}]
[38,null,0,0,null,null,null,null,0,null,null,null,null,0,null,null,null,null,0,null,null,null,null,0,null,null,null,null,0,0,0,0,0,0,null,null,null,null,0,null,null,null,null,0,0,0,0,{"$error":"#DIV/0!"}]
[39,null,0,0,null,null,null,null,0,null,null,null,null,0,null,null,null,null,0,null,null,null,null,0,null,null,null,null,0,0,0,0,0,0,null,null,null,null,0,null,null,null,null,0,0,0,0,{"$error":"#DIV/0!"}]
[40,null,0,0,null,null,null,null,0,null,null,null,null,0,null,null,null,null,0,null,null,null,null,0,null,null,null,null,0,0,0,0,0,0,null,null,null,null,0,null,null,null,null,0,0,0,0,{"$error":"#DIV/0!"}]
[41,null,0,0,null,null,null,null,0,null,null,null,null,0,null,null,null,null,0,null,null,null,null,0,null,null,null,null,0,0,0,0,0,0,null,null,null,null,0,null,null,null,null,0,0,0,0,{"$error":"#DIV/0!"}]
[42,null,0,0,null,null,null,null,0,null,null,null,null,0,null,null,null,null,0,null,null,null,null,0,null,null,null,null,0,0,0,0,0,0,null,null,null,null,0,null,null,null,null,0,0,0,0,{"$error":"#DIV/0!"}]
[43,null,0,0,null,null,null,null,0,null,null,null,null,0,null,null,null,null,0,null,null,null,null,0,null,null,null,null,0,0,0,0,0,0,null,null,null,null,0,null,null,null,null,0,0,0,0,{"$error":"#DIV/0!"}]
[44,null,0,0,null,null,null,null,0,null,null,null,null,0,null,null,null,null,0,null,null,null,null,0,null,null,null,null,0,0,0,0,0,0,null,null,null,null,0,null,null,null,null,0,0,0,0,{"$error":"#DIV/0!"}]
[45,null,0,0,null,null,null,null,0,null,null,null,null,0,null,null,null,null,0,null,null,null,null,0,null,null,null,null,0,0,0,0,0,0,null,null,null,null,0,null,null,null,null,0,0,0,0,{"$error":"#DIV/0!"}]
[46,null,0,0,null,null,null,null,0,null,null,null,null,0,null,null,null,null,0,null,null,null,null,0,null,null,null,null,0,0,0,0,0,0,null,null,null,null,0,null,null,null,null,0,0,0,0,{"$error":"#DIV/0!"}]
[47,null,0,0,null,null,null,null,0,null,null,null,null,0,null,null,null,null,0,null,null,null,null,0,null,null,null,null,0,0,0,0,0,0,null,null,null,null,0,null,null,null,null,0,0,0,0,{"$error":"#DIV/0!"}]
[48,null,0,0,null,null,null,null,0,null,null,null,null,0,null,null,null,null,0,null,null,null,null,0,null,null,null,null,0,0,0,0,0,0,null,null,null,null,0,null,null,null,null,0,0,0,0,{"$error":"#DIV/0!"}]
[49,null,0,0,null,null,null,null,0,null,null,null,null,0,null,null,null,null,0,null,null,null,null,0,null,null,null,null,0,0,0,0,0,0,null,null,null,null,0,null,null,null,null,0,0,0,0,{"$error":"#DIV/0!"}]
[50,null,0,0,null,null,null,null,0,null,null,null,null,0,null,null,null,null,0,null,null,null,null,0,null,null,null,null,0,0,0,0,0,0,null,null,null,null,0,null,null,null,null,0,0,0,0,{"$error":"#DIV/0!"}]
[51,null,0,0,null,null,null,null,0,null,null,null,null,0,null,null,null,null,0,null,null,null,null,0,null,null,null,null,0,0,0,0,0,0,null,null,null,null,0,null,null,null,null,0,0,0,0,{"$error":"#DIV/0!"}]
[52,null,0,0,null,null,null,null,0,null,null,null,null,0,null,null,null,null,0,null,null,null,null,0,null,null,null,null,0,0,0,0,0,0,null,null,null,null,0,null,null,null,null,0,0,0,0,{"$error":"#DIV/0!"}]
[53,null,0,0,null,null,null,null,0,null,null,null,null,0,null,null,null,null,0,null,null,null,null,0,null,null,null,null,0,0,0,0,0,0,null,null,null,null,0,null,null,null,null,0,0,0,0,{"$error":"#DIV/0!"}]
[54,null,0,0,null,null,null,null,0,null,null,null,null,0,null,null,null,null,0,null,null,null,null,0,null,null,null,null,0,0,0,0,0,0,null,null,null,null,0,null,null,null,null,0,0,0,0,{"$error":"#DIV/0!"}]
[55,null,0,0,null,null,null,null,0,null,null,null,null,0,null,null,null,null,0,null,null,null,null,0,null,null,null,null,0,0,0,0,0,0,null,null,null,null,0,null,null,null,null,0,0,0,0,{"$error":"#DIV/0!"}]
[56,null,0,0,null,null,null,null,0,null,null,null,null,0,null,null,null,null,0,null,null,null,null,0,null,null,null,null,0,0,0,0,0,0,null,null,null,null,0,null,null,null,null,0,0,0,0,{"$error":"#DIV/0!"}]
[57,null,0,0,null,null,null,null,0,null,null,null,null,0,null,null,null,null,0,null,null,null,null,0,null,null,null,null,0,0,0,0,0,0,null,null,null,null,0,null,null,null,null,0,0,0,0,{"$error":"#DIV/0!"}]
[58,null,0,0,null,null,null,null,0,null,null,null,null,0,null,null,null,null,0,null,null,null,null,0,null,null,null,null,0,0,0,0,0,0,null,null,null,null,0,null,null,null,null,0,0,0,0,{"$error":"#DIV/0!"}]
[59,null,0,0,null,null,null,null,0,null,null,null,null,0,null,null,null,null,0,null,null,null,null,0,null,null,null,null,0,0,0,0,0,0,null,null,null,null,0,null,null,null,null,0,0,0,0,{"$error":"#DIV/0!"}]
[60,null,0,0,null,null,null,null,0,null,null,null,null,0,null,null,null,null,0,null,null,null,null,0,null,null,null,null,0,0,0,0,0,0,null,null,null,null,0,null,null,null,null,0,0,0,0,{"$error":"#DIV/0!"}]
[61,null,0,0,null,null,null,null,0,null,null,null,null,0,null,null,null,null,0,null,null,null,null,0,null,null,null,null,0,0,0,0,0,0,null,null,null,null,0,null,null,null,null,0,0,0,0,{"$error":"#DIV/0!"}]
[62,null,0,0,null,null,null,null,0,null,null,null,null,0,null,null,null,null,0,null,null,null,null,0,null,null,null,null,0,0,0,0,0,0,null,null,null,null,0,null,null,null,null,0,0,0,0,{"$error":"#DIV/0!"}]
[63,null,0,0,null,null,null,null,0,null,null,null,null,0,null,null,null,null,0,null,null,null,null,0,null,null,null,null,0,0,0,0,0,0,null,null,null,null,0,null,null,null,null,0,0,0,0,{"$error":"#DIV/0!"}]
[64,null,0,0,null,null,null,null,0,null,null,null,null,0,null,null,null,null,{"$f":"SUM(Q75:R75)","v":0},null,null,null,null,{"$f":"SUM(V75:W75)","v":0},null,null,null,null,{"$f":"SUM(AA75:AB75)","v":0},0,0,0,0,0,null,null,null,null,{"$f":"SUM(AK75:AL75)","v":0},null,null,null,null,{"$f":"SUM(AP75:AQ75)","v":0},0,0,0,{"$error":"#DIV/0!"}]
[65,null,0,0,null,null,null,null,{"$f":"SUM(G76:H76)","v":0},null,null,null,null,{"$f":"SUM(L76:M76)","v":0},null,null,null,null,0,null,null,null,null,0,null,null,null,null,0,0,0,0,0,{"$f":"SUM(AF76:AG76)","v":0},null,null,null,null,0,null,null,null,null,0,{"$f":"SUM(AD76,AI76,AN76)","v":0},0,{"$f":"SUM(AS76:AT76)","v":0},{"$f":"AU76/D76","v":{"$error":"#DIV/0!"}}]
[66,null,{"$f":"SUM(AD77,AI77,AN77,)","v":0},0,null,null,null,null,0,null,null,null,null,0,null,null,null,null,0,null,null,null,null,0,null,null,null,null,0,{"$f":"SUM(E77,J77,O77,T77,Y77)","v":0},0,0,0,0,null,null,null,null,0,null,null,null,null,0,0,0,0,{"$error":"#DIV/0!"}]
[67,null,0,0,null,null,null,null,0,null,null,null,null,0,null,null,null,null,0,null,null,null,null,0,null,null,null,null,0,0,0,0,0,0,null,null,null,null,0,null,null,null,null,0,0,0,0,{"$error":"#DIV/0!"}]
[68,null,0,0,null,null,null,null,0,null,null,null,null,0,null,null,null,null,0,null,null,null,null,0,null,null,null,null,0,0,0,0,0,0,null,null,null,null,0,null,null,null,null,0,0,0,0,{"$error":"#DIV/0!"}]
[69,null,0,0,null,null,null,null,0,null,null,null,null,0,null,null,null,null,0,null,null,null,null,0,null,null,null,null,0,0,0,0,0,0,null,null,null,null,0,null,null,null,null,0,0,0,0,{"$error":"#DIV/0!"}]
[70,null,0,0,null,null,null,null,0,null,null,null,null,0,null,null,null,null,0,null,null,null,null,0,null,null,null,null,0,0,0,0,0,0,null,null,null,null,0,null,null,null,null,0,0,0,0,{"$error":"#DIV/0!"}]
[71,null,0,0,null,null,null,null,0,null,null,null,null,0,null,null,null,null,0,null,null,null,null,0,null,null,null,null,0,0,0,0,0,0,null,null,null,null,0,null,null,null,null,0,0,0,0,{"$error":"#DIV/0!"}]
[72,null,0,0,null,null,null,null,0,null,null,null,null,0,null,null,null,null,0,null,null,null,null,0,null,null,null,null,0,0,0,0,0,0,null,null,null,null,0,null,null,null,null,0,0,0,0,{"$error":"#DIV/0!"}]
[73,null,0,0,null,null,null,null,0,null,null,null,null,0,null,null,null,null,0,null,null,null,null,0,null,null,null,null,0,0,0,0,0,0,null,null,null,null,0,null,null,null,null,0,0,0,0,{"$error":"#DIV/0!"}]
[74,null,0,0,null,null,null,null,0,null,null,null,null,0,null,null,null,null,0,null,null,null,null,0,null,null,null,null,0,0,0,0,0,0,null,null,null,null,0,null,null,null,null,0,0,0,0,{"$error":"#DIV/0!"}]
[75,null,0,0,null,null,null,null,0,null,null,null,null,0,null,null,null,null,0,null,null,null,null,0,null,null,null,null,0,0,0,0,0,0,null,null,null,null,0,null,null,null,null,0,0,0,0,{"$error":"#DIV/0!"}]
[76,null,0,0,null,null,null,null,0,null,null,null,null,0,null,null,null,null,0,null,null,null,null,0,null,null,null,null,0,0,0,0,0,0,null,null,null,null,0,null,null,null,null,0,0,0,0,{"$error":"#DIV/0!"}]
[77,null,0,0,null,null,null,null,0,null,null,null,null,0,null,null,null,null,0,null,null,null,null,0,null,null,null,null,0,0,0,0,0,0,null,null,null,null,0,null,null,null,null,0,0,0,0,{"$error":"#DIV/0!"}]
[78,null,0,0,null,null,null,null,0,null,null,null,null,0,null,null,null,null,0,null,null,null,null,0,null,null,null,null,0,0,0,0,0,0,null,null,null,null,0,null,null,null,null,0,0,0,0,{"$error":"#DIV/0!"}]
[79,null,0,0,null,null,null,null,0,null,null,null,null,0,null,null,null,null,0,null,null,null,null,0,null,null,null,null,0,0,0,0,0,0,null,null,null,null,0,null,null,null,null,0,0,0,0,{"$error":"#DIV/0!"}]
[80,null,0,0,null,null,null,null,0,null,null,null,null,0,null,null,null,null,0,null,null,null,null,0,null,null,null,null,0,0,0,0,0,0,null,null,null,null,0,null,null,null,null,0,0,0,0,{"$error":"#DIV/0!"}]
[81,null,0,0,null,null,null,null,0,null,null,null,null,0,null,null,null,null,0,null,null,null,null,0,null,null,null,null,0,0,0,0,0,0,null,null,null,null,0,null,null,null,null,0,0,0,0,{"$error":"#DIV/0!"}]
[82,null,0,0,null,null,null,null,0,null,null,null,null,0,null,null,null,null,0,null,null,null,null,0,null,null,null,null,0,0,0,0,0,0,null,null,null,null,0,null,null,null,null,0,0,0,0,{"$error":"#DIV/0!"}]
[83,null,0,0,null,null,null,null,0,null,null,null,null,0,null,null,null,null,0,null,null,null,null,0,null,null,null,null,0,0,0,0,0,0,null,null,null,null,0,null,null,null,null,0,0,0,0,{"$error":"#DIV/0!"}]
[84,null,0,0,null,null,null,null,0,null,null,null,null,0,null,null,null,null,0,null,null,null,null,0,null,null,null,null,0,0,0,0,0,0,null,null,null,null,0,null,null,null,null,0,0,0,0,{"$error":"#DIV/0!"}]
[85,null,0,0,null,null,null,null,0,null,null,null,null,0,null,null,null,null,0,null,null,null,null,0,null,null,null,null,0,0,0,0,0,0,null,null,null,null,0,null,null,null,null,0,0,0,0,{"$error":"#DIV/0!"}]
[86,null,0,0,null,null,null,null,0,null,null,null,null,0,null,null,null,null,0,null,null,null,null,0,null,null,null,null,0,0,0,0,0,0,null,null,null,null,0,null,null,null,null,0,0,0,0,{"$error":"#DIV/0!"}]
[87,null,0,0,null,null,null,null,0,null,null,null,null,0,null,null,null,null,0,null,null,null,null,0,null,null,null,null,0,0,0,0,0,0,null,null,null,null,0,null,null,null,null,0,0,0,0,{"$error":"#DIV/0!"}]
[88,null,0,0,null,null,null,null,0,null,null,null,null,0,null,null,null,null,0,null,null,null,null,0,null,null,null,null,0,0,0,0,0,0,null,null,null,null,0,null,null,null,null,0,0,0,0,{"$error":"#DIV/0!"}]
[89,null,0,0,null,null,null,null,0,null,null,null,null,0,null,null,null,null,0,null,null,null,null,0,null,null,null,null,0,0,0,0,0,0,null,null,null,null,0,null,null,null,null,0,0,0,0,{"$error":"#DIV/0!"}]
[90,null,0,0,null,null,null,null,0,null,null,null,null,0,null,null,null,null,0,null,null,null,null,0,null,null,null,null,0,0,0,0,0,0,null,null,null,null,0,null,null,null,null,0,0,0,0,{"$error":"#DIV/0!"}]
[91,null,0,0,null,null,null,null,0,null,null,null,null,0,null,null,null,null,0,null,null,null,null,0,null,null,null,null,0,0,0,0,0,0,null,null,null,null,0,null,null,null,null,0,0,0,0,{"$error":"#DIV/0!"}]
[92,null,0,0,null,null,null,null,0,null,null,null,null,0,null,null,null,null,0,null,null,null,null,0,null,null,null,null,0,0,0,0,0,0,null,null,null,null,0,null,null,null,null,0,0,0,0,{"$error":"#DIV/0!"}]
[93,null,0,0,null,null,null,null,0,null,null,null,null,0,null,null,null,null,0,null,null,null,null,0,null,null,null,null,0,0,0,0,0,0,null,null,null,null,0,null,null,null,null,0,0,0,0,{"$error":"#DIV/0!"}]
[94,null,0,0,null,null,null,null,0,null,null,null,null,0,null,null,null,null,0,null,null,null,null,0,null,null,null,null,0,0,0,0,0,0,null,null,null,null,0,null,null,null,null,0,0,0,0,{"$error":"#DIV/0!"}]
[95,null,0,0,null,null,null,null,0,null,null,null,null,0,null,null,null,null,0,null,null,null,null,0,null,null,null,null,0,0,0,0,0,0,null,null,null,null,0,null,null,null,null,0,0,0,0,{"$error":"#DIV/0!"}]
[96,null,0,0,null,null,null,null,0,null,null,null,null,0,null,null,null,null,0,null,null,null,null,0,null,null,null,null,0,0,0,0,0,0,null,null,null,null,0,null,null,null,null,0,0,0,0,{"$error":"#DIV/0!"}]
[97,null,0,0,null,null,null,null,0,null,null,null,null,0,null,null,null,null,0,null,null,null,null,0,null,null,null,null,0,0,0,0,0,0,null,null,null,null,0,null,null,null,null,0,0,0,0,{"$error":"#DIV/0!"}]
[98,null,0,0,null,null,null,null,0,null,null,null,null,0,null,null,null,null,0,null,null,null,null,0,null,null,null,null,0,0,0,0,0,0,null,null,null,null,0,null,null,null,null,0,0,0,0,{"$error":"#DIV/0!"}]
[99,null,0,0,null,null,null,null,0,null,null,null,null,0,null,null,null,null,0,null,null,null,null,0,null,null,null,null,0,0,0,0,0,0,null,null,null,null,0,null,null,null,null,0,0,0,0,{"$error":"#DIV/0!"}]
[100,null,0,0,null,null,null,null,0,null,null,null,null,0,null,null,null,null,0,null,null,null,null,0,null,null,null,null,0,0,0,0,0,0,null,null,null,null,0,null,null,null,null,0,0,0,0,{"$error":"#DIV/0!"}]

{"sheet":"RB_DoE_Others","index":22,"n_rows":111,"n_cols":48,"rows_kept":111,"cut":false,"hidden":false,"merged":[[10,0,10,1],[6,0,9,0],[6,1,9,1],[6,2,8,2],[6,3,8,3],[0,43,0,46],[1,43,1,46],[4,0,4,47],[6,34,7,38],[6,39,7,43],[6,44,7,47],[7,4,7,8],[7,9,7,13],[7,14,7,18],[7,19,7,23],[7,24,7,28],[7,29,7,33],[1,0,1,5],[2,0,2,5],[6,4,6,33]]}
[null,null,null,null,null,null,null,null,null,null,null,null,null,null,null,null,null,null,null,null,null,null,null,null,null,null,null,null,null,null,null,null,null,null,null,null,null,null,null,null,null,null,null,"ព្រះរាជាណាចក្រកម្ពុជា"]
[{"$f":"Create!G2","v":"ក្រសួងអប់រំ យុវជន និងកីឡា"},null,null,null,null,null,null,null,null,null,null,null,null,null,null,null,null,null,null,null,null,null,null,null,null,null,null,null,null,null,null,null,null,null,null,null,null,null,null,null,null,null,null,"ជាតិ សាសនា ព្រះមហាក្សត្រ"]
[{"$f":"Create!G3","v":"បំពេញឈ្មោះទីនេះ"}]
[]
[{"$f":"CONCATENATE(\"របាយការណ៍ចំណាយថវិកាដៃគូ សហគមន៍ និងសប្បុរសជន របស់អាគារធនធានប្រចាំត្រីមាសទី \", IF(Create!$G$4=1,\"១\",IF(Create!$G$4=2,\"២\",IF(Create!$G$4=3,\"៣\",\"៤\"))),\" ឆ្នាំ២០១៨\")","v":"របាយការណ៍ចំណាយថវិកាដៃគូ សហគមន៍ និងសប្បុរសជន របស់អាគារធនធានប្រចាំត្រីមាសទី ១ ឆ្នាំ២០១៨"}]
[]
["ល.រ","ឈ្មោះការិយាល័យអប់រំ យុវជន និងកីឡា\nក្រុង ឬ ស្រុក ឬ ខ័ណ្ឌ","ឥណទានដើមឆ្នាំ","ឥណទានកែតម្រូវ","I. ថវិកាដៃគូ",null,null,null,null,null,null,null,null,null,null,null,null,null,null,null,null,null,null,null,null,null,null,null,null,null,null,null,null,null,"II. សហគមន៍",null,null,null,null,"III. សប្បុរជន",null,null,null,null,"សរុប(I+II+III)"]
[null,null,null,null,"ធនាគារពិភពលោក\n(The World Bank)",null,null,null,null,"អង្គការយូនីសេហ្វ(UNICEF)",null,null,null,null,"ធនាគារអភិវឌ្ឍន៍អាស៊ី(ADB)",null,null,null,null,"ជំនួសពីប្រទេសស៊ុយអ៊ែត(SWEDEN)",null,null,null,null,"ជំនួយពីដៃគូផ្សេងៗ(Others)",null,null,null,null,"សរុប"]
[null,null,null,null,"ដើមឆ្នាំ","កែតម្រូវ","បណ្ដាត្រីមាសមុន","ក្នុងត្រីមាស","បូកយោង","ដើមឆ្នាំ","កែតម្រូវ","បណ្ដាត្រីមាសមុន","ក្នុងត្រីមាស","បូកយោង","ដើមឆ្នាំ","កែតម្រូវ","បណ្ដាត្រីមាសមុន","ក្នុងត្រីមាស","បូកយោង","ដើមឆ្នាំ","កែតម្រូវ","បណ្ដាត្រីមាសមុន","ក្នុងត្រីមាស","បូកយោង","ដើមឆ្នាំ","កែតម្រូវ","បណ្ដាត្រីមាសមុន","ក្នុងត្រីមាស","បូកយោង","ដើមឆ្នាំ","កែតម្រូវ","បណ្ដាត្រីមាសមុន","ក្នុងត្រីមាស","បូកយោង","ដើមឆ្នាំ","កែតម្រូវ","បណ្ដាត្រីមាសមុន","ក្នុងត្រីមាស","បូកយោង","ដើមឆ្នាំ","កែតម្រូវ","បណ្ដាត្រីមាសមុន","ក្នុងត្រីមាស","បូកយោង","បណ្ដាត្រីមាសមុន","ក្នុងត្រីមាស","បូកយោង","%"]
[null,null,1,2,null,null,3,4,"5=3+4",null,null,6,7,"8=6+7",null,null,9,10,"11=9+10",null,null,12,13,"14=12+13",null,null,12,13,"14=12+13",null,null,12,13,"14=12+13",null,null,12,13,"14=12+13",null,null,12,13,"14=12+13",12,13,"14=12+13","15=14/2"]
["សរុប",null,{"$f":"SUM(C12:C111)","v":0},{"$f":"SUM(D12:D111)","v":0},0,0,0,0,{"$f":"SUM(G11:H11)","v":0},0,0,0,0,{"$f":"SUM(L11:M11)","v":0},0,0,0,0,{"$f":"SUM(Q11:R11)","v":0},0,0,0,0,{"$f":"SUM(V11:W11)","v":0},0,0,0,0,{"$f":"SUM(AA11:AB11)","v":0},0,0,0,0,{"$f":"SUM(AF11:AG11)","v":0},0,0,0,0,{"$f":"SUM(AK11:AL11)","v":0},0,0,0,0,{"$f":"SUM(AP11:AQ11)","v":0},{"$f":"SUM(AD11,AI11,AN11)","v":0},{"$f":"SUM(AE11,AJ11,AO11)","v":0},{"$f":"SUM(AS11:AT11)","v":0},{"$f":"AU11/D11","v":{"$error":"#DIV/0!"}}]
[1,{"$f":"[1]RB_Others!A3","v":"ការិយាល័យអប់រំ យុវជន និងកីឡាក្រុងប៉ៃលិន"},{"$f":"SUM(AD12,AI12,AN12,)","v":0},{"$f":"SUM(AE12,AJ12,AO12,)","v":0},{"$f":"[1]RB_Others!E11","v":0},{"$f":"[1]RB_Others!F11","v":0},{"$f":"[1]RB_Others!G11","v":0},{"$f":"[1]RB_Others!H11","v":0},{"$f":"SUM(G12:H12)","v":0},{"$f":"[1]RB_Others!J11","v":0},{"$f":"[1]RB_Others!K11","v":0},{"$f":"[1]RB_Others!L11","v":0},{"$f":"[1]RB_Others!M11","v":0},{"$f":"SUM(L12:M12)","v":0},{"$f":"[1]RB_Others!O11","v":0},{"$f":"[1]RB_Others!P11","v":0},{"$f":"[1]RB_Others!Q11","v":0},{"$f":"[1]RB_Others!R11","v":0},0,{"$f":"[1]RB_Others!T11","v":0},{"$f":"[1]RB_Others!U11","v":0},{"$f":"[1]RB_Others!V11","v":0},{"$f":"[1]RB_Others!W11","v":0},0,{"$f":"[1]RB_Others!Y11","v":0},{"$f":"[1]RB_Others!Z11","v":0},{"$f":"[1]RB_Others!AA11","v":0},{"$f":"[1]RB_Others!AB11","v":0},0,{"$f":"SUM(E12,J12,O12,T12,Y12)","v":0},{"$f":"SUM(F12,K12,P12,U12,Z12)","v":0},0,0,{"$f":"SUM(AF12:AG12)","v":0},{"$f":"[1]RB_Others!AI11","v":0},{"$f":"[1]RB_Others!AJ11","v":0},{"$f":"[1]RB_Others!AK11","v":0},{"$f":"[1]RB_Others!AL11","v":0},0,{"$f":"[1]RB_Others!AN11","v":0},{"$f":"[1]RB_Others!AO11","v":0},{"$f":"[1]RB_Others!AP11","v":0},{"$f":"[1]RB_Others!AQ11","v":0},0,{"$f":"SUM(AD12,AI12,AN12)","v":0},0,{"$f":"SUM(AS12:AT12)","v":0},{"$f":"AU12/D12","v":{"$error":"#DIV/0!"}}]
[2,null,{"$f":"SUM(AD13,AI13,AN13,)","v":0},0,null,null,null,null,0,null,null,null,null,0,null,null,null,null,0,null,null,null,null,0,null,null,null,null,0,{"$f":"SUM(E13,J13,O13,T13,Y13)","v":0},0,0,0,0,null,null,null,null,0,null,null,null,null,0,0,0,0,{"$error":"#DIV/0!"}]
[3,null,0,0,null,null,null,null,0,null,null,null,null,0,null,null,null,null,0,null,null,null,null,0,null,null,null,null,0,0,0,0,0,0,null,null,null,null,0,null,null,null,null,0,0,0,0,{"$error":"#DIV/0!"}]
[4,null,0,0,null,null,null,null,0,null,null,null,null,0,null,null,null,null,0,null,null,null,null,0,null,null,null,null,0,0,0,0,0,0,null,null,null,null,0,null,null,null,null,0,0,0,0,{"$error":"#DIV/0!"}]
[5,null,0,0,null,null,null,null,0,null,null,null,null,0,null,null,null,null,0,null,null,null,null,0,null,null,null,null,0,0,0,0,0,0,null,null,null,null,0,null,null,null,null,0,0,0,0,{"$error":"#DIV/0!"}]
[6,null,0,0,null,null,null,null,0,null,null,null,null,0,null,null,null,null,0,null,null,null,null,0,null,null,null,null,0,0,0,0,0,0,null,null,null,null,0,null,null,null,null,0,0,0,0,{"$error":"#DIV/0!"}]
[7,null,0,0,null,null,null,null,0,null,null,null,null,0,null,null,null,null,0,null,null,null,null,0,null,null,null,null,0,0,0,0,0,0,null,null,null,null,0,null,null,null,null,0,0,0,0,{"$error":"#DIV/0!"}]
[8,null,0,0,null,null,null,null,0,null,null,null,null,0,null,null,null,null,0,null,null,null,null,0,null,null,null,null,0,0,0,0,0,0,null,null,null,null,0,null,null,null,null,0,0,0,0,{"$error":"#DIV/0!"}]
[9,null,0,0,null,null,null,null,0,null,null,null,null,0,null,null,null,null,0,null,null,null,null,0,null,null,null,null,0,0,0,0,0,0,null,null,null,null,0,null,null,null,null,0,0,0,0,{"$error":"#DIV/0!"}]
[10,null,0,0,null,null,null,null,0,null,null,null,null,0,null,null,null,null,0,null,null,null,null,0,null,null,null,null,0,0,0,0,0,0,null,null,null,null,0,null,null,null,null,0,0,0,0,{"$error":"#DIV/0!"}]
[11,null,0,0,null,null,null,null,0,null,null,null,null,0,null,null,null,null,0,null,null,null,null,0,null,null,null,null,0,0,0,0,0,0,null,null,null,null,0,null,null,null,null,0,0,0,0,{"$error":"#DIV/0!"}]
[12,null,0,0,null,null,null,null,0,null,null,null,null,0,null,null,null,null,0,null,null,null,null,0,null,null,null,null,0,0,0,0,0,0,null,null,null,null,0,null,null,null,null,0,0,0,0,{"$error":"#DIV/0!"}]
[13,null,0,0,null,null,null,null,0,null,null,null,null,0,null,null,null,null,0,null,null,null,null,0,null,null,null,null,0,0,0,0,0,0,null,null,null,null,0,null,null,null,null,0,0,0,0,{"$error":"#DIV/0!"}]
[14,null,0,0,null,null,null,null,0,null,null,null,null,0,null,null,null,null,0,null,null,null,null,0,null,null,null,null,0,0,0,0,0,0,null,null,null,null,0,null,null,null,null,0,0,0,0,{"$error":"#DIV/0!"}]
[15,null,0,0,null,null,null,null,0,null,null,null,null,0,null,null,null,null,0,null,null,null,null,0,null,null,null,null,0,0,0,0,0,0,null,null,null,null,0,null,null,null,null,0,0,0,0,{"$error":"#DIV/0!"}]
[16,null,0,0,null,null,null,null,0,null,null,null,null,0,null,null,null,null,0,null,null,null,null,0,null,null,null,null,0,0,0,0,0,0,null,null,null,null,0,null,null,null,null,0,0,0,0,{"$error":"#DIV/0!"}]
[17,null,0,0,null,null,null,null,0,null,null,null,null,0,null,null,null,null,0,null,null,null,null,0,null,null,null,null,0,0,0,0,0,0,null,null,null,null,0,null,null,null,null,0,0,0,0,{"$error":"#DIV/0!"}]
[18,null,0,0,null,null,null,null,0,null,null,null,null,0,null,null,null,null,0,null,null,null,null,0,null,null,null,null,0,0,0,0,0,0,null,null,null,null,0,null,null,null,null,0,0,0,0,{"$error":"#DIV/0!"}]
[19,null,0,0,null,null,null,null,0,null,null,null,null,0,null,null,null,null,0,null,null,null,null,0,null,null,null,null,0,0,0,0,0,0,null,null,null,null,0,null,null,null,null,0,0,0,0,{"$error":"#DIV/0!"}]
[20,null,0,0,null,null,null,null,0,null,null,null,null,0,null,null,null,null,0,null,null,null,null,0,null,null,null,null,0,0,0,0,0,0,null,null,null,null,0,null,null,null,null,0,0,0,0,{"$error":"#DIV/0!"}]
[21,null,0,0,null,null,null,null,0,null,null,null,null,0,null,null,null,null,0,null,null,null,null,0,null,null,null,null,0,0,0,0,0,0,null,null,null,null,0,null,null,null,null,0,0,0,0,{"$error":"#DIV/0!"}]
[22,null,0,0,null,null,null,null,0,null,null,null,null,0,null,null,null,null,0,null,null,null,null,0,null,null,null,null,0,0,0,0,0,0,null,null,null,null,0,null,null,null,null,0,0,0,0,{"$error":"#DIV/0!"}]
[23,null,0,0,null,null,null,null,0,null,null,null,null,0,null,null,null,null,0,null,null,null,null,0,null,null,null,null,0,0,0,0,0,0,null,null,null,null,0,null,null,null,null,0,0,0,0,{"$error":"#DIV/0!"}]
[24,null,0,0,null,null,null,null,0,null,null,null,null,0,null,null,null,null,0,null,null,null,null,0,null,null,null,null,0,0,0,0,0,0,null,null,null,null,0,null,null,null,null,0,0,0,0,{"$error":"#DIV/0!"}]
[25,null,0,0,null,null,null,null,0,null,null,null,null,0,null,null,null,null,0,null,null,null,null,0,null,null,null,null,0,0,0,0,0,0,null,null,null,null,0,null,null,null,null,0,0,0,0,{"$error":"#DIV/0!"}]
[26,null,0,0,null,null,null,null,0,null,null,null,null,0,null,null,null,null,0,null,null,null,null,0,null,null,null,null,0,0,0,0,0,0,null,null,null,null,0,null,null,null,null,0,0,0,0,{"$error":"#DIV/0!"}]
[27,null,0,0,null,null,null,null,0,null,null,null,null,0,null,null,null,null,0,null,null,null,null,0,null,null,null,null,0,0,0,0,0,0,null,null,null,null,0,null,null,null,null,0,0,0,0,{"$error":"#DIV/0!"}]
[28,null,0,0,null,null,null,null,0,null,null,null,null,0,null,null,null,null,0,null,null,null,null,0,null,null,null,null,0,0,0,0,0,0,null,null,null,null,0,null,null,null,null,0,0,0,0,{"$error":"#DIV/0!"}]
[29,null,0,0,null,null,null,null,0,null,null,null,null,0,null,null,null,null,0,null,null,null,null,0,null,null,null,null,0,0,0,0,0,0,null,null,null,null,0,null,null,null,null,0,0,0,0,{"$error":"#DIV/0!"}]
[30,null,0,0,null,null,null,null,0,null,null,null,null,0,null,null,null,null,0,null,null,null,null,0,null,null,null,null,0,0,0,0,0,0,null,null,null,null,0,null,null,null,null,0,0,0,0,{"$error":"#DIV/0!"}]
[31,null,0,0,null,null,null,null,0,null,null,null,null,0,null,null,null,null,0,null,null,null,null,0,null,null,null,null,0,0,0,0,0,0,null,null,null,null,0,null,null,null,null,0,0,0,0,{"$error":"#DIV/0!"}]
[32,null,0,0,null,null,null,null,0,null,null,null,null,0,null,null,null,null,0,null,null,null,null,0,null,null,null,null,0,0,0,0,0,0,null,null,null,null,0,null,null,null,null,0,0,0,0,{"$error":"#DIV/0!"}]
[33,null,0,0,null,null,null,null,0,null,null,null,null,0,null,null,null,null,0,null,null,null,null,0,null,null,null,null,0,0,0,0,0,0,null,null,null,null,0,null,null,null,null,0,0,0,0,{"$error":"#DIV/0!"}]
[34,null,0,0,null,null,null,null,0,null,null,null,null,0,null,null,null,null,0,null,null,null,null,0,null,null,null,null,0,0,0,0,0,0,null,null,null,null,0,null,null,null,null,0,0,0,0,{"$error":"#DIV/0!"}]
[35,null,0,0,null,null,null,null,0,null,null,null,null,0,null,null,null,null,0,null,null,null,null,0,null,null,null,null,0,0,0,0,0,0,null,null,null,null,0,null,null,null,null,0,0,0,0,{"$error":"#DIV/0!"}]
[36,null,0,0,null,null,null,null,0,null,null,null,null,0,null,null,null,null,0,null,null,null,null,0,null,null,null,null,0,0,0,0,0,0,null,null,null,null,0,null,null,null,null,0,0,0,0,{"$error":"#DIV/0!"}]
[37,null,0,0,null,null,null,null,0,null,null,null,null,0,null,null,null,null,0,null,null,null,null,0,null,null,null,null,0,0,0,0,0,0,null,null,null,null,0,null,null,null,null,0,0,0,0,{"$error":"#DIV/0!"}]
[38,null,0,0,null,null,null,null,0,null,null,null,null,0,null,null,null,null,0,null,null,null,null,0,null,null,null,null,0,0,0,0,0,0,null,null,null,null,0,null,null,null,null,0,0,0,0,{"$error":"#DIV/0!"}]
[39,null,0,0,null,null,null,null,0,null,null,null,null,0,null,null,null,null,0,null,null,null,null,0,null,null,null,null,0,0,0,0,0,0,null,null,null,null,0,null,null,null,null,0,0,0,0,{"$error":"#DIV/0!"}]
[40,null,0,0,null,null,null,null,0,null,null,null,null,0,null,null,null,null,0,null,null,null,null,0,null,null,null,null,0,0,0,0,0,0,null,null,null,null,0,null,null,null,null,0,0,0,0,{"$error":"#DIV/0!"}]
[41,null,0,0,null,null,null,null,0,null,null,null,null,0,null,null,null,null,0,null,null,null,null,0,null,null,null,null,0,0,0,0,0,0,null,null,null,null,0,null,null,null,null,0,0,0,0,{"$error":"#DIV/0!"}]
[42,null,0,0,null,null,null,null,0,null,null,null,null,0,null,null,null,null,0,null,null,null,null,0,null,null,null,null,0,0,0,0,0,0,null,null,null,null,0,null,null,null,null,0,0,0,0,{"$error":"#DIV/0!"}]
[43,null,0,0,null,null,null,null,0,null,null,null,null,0,null,null,null,null,0,null,null,null,null,0,null,null,null,null,0,0,0,0,0,0,null,null,null,null,0,null,null,null,null,0,0,0,0,{"$error":"#DIV/0!"}]
[44,null,0,0,null,null,null,null,0,null,null,null,null,0,null,null,null,null,0,null,null,null,null,0,null,null,null,null,0,0,0,0,0,0,null,null,null,null,0,null,null,null,null,0,0,0,0,{"$error":"#DIV/0!"}]
[45,null,0,0,null,null,null,null,0,null,null,null,null,0,null,null,null,null,0,null,null,null,null,0,null,null,null,null,0,0,0,0,0,0,null,null,null,null,0,null,null,null,null,0,0,0,0,{"$error":"#DIV/0!"}]
[46,null,0,0,null,null,null,null,0,null,null,null,null,0,null,null,null,null,0,null,null,null,null,0,null,null,null,null,0,0,0,0,0,0,null,null,null,null,0,null,null,null,null,0,0,0,0,{"$error":"#DIV/0!"}]
[47,null,0,0,null,null,null,null,0,null,null,null,null,0,null,null,null,null,0,null,null,null,null,0,null,null,null,null,0,0,0,0,0,0,null,null,null,null,0,null,null,null,null,0,0,0,0,{"$error":"#DIV/0!"}]
[48,null,0,0,null,null,null,null,0,null,null,null,null,0,null,null,null,null,0,null,null,null,null,0,null,null,null,null,0,0,0,0,0,0,null,null,null,null,0,null,null,null,null,0,0,0,0,{"$error":"#DIV/0!"}]
[49,null,0,0,null,null,null,null,0,null,null,null,null,0,null,null,null,null,0,null,null,null,null,0,null,null,null,null,0,0,0,0,0,0,null,null,null,null,0,null,null,null,null,0,0,0,0,{"$error":"#DIV/0!"}]
[50,null,0,0,null,null,null,null,0,null,null,null,null,0,null,null,null,null,0,null,null,null,null,0,null,null,null,null,0,0,0,0,0,0,null,null,null,null,0,null,null,null,null,0,0,0,0,{"$error":"#DIV/0!"}]
[51,null,0,0,null,null,null,null,0,null,null,null,null,0,null,null,null,null,0,null,null,null,null,0,null,null,null,null,0,0,0,0,0,0,null,null,null,null,0,null,null,null,null,0,0,0,0,{"$error":"#DIV/0!"}]
[52,null,0,0,null,null,null,null,0,null,null,null,null,0,null,null,null,null,0,null,null,null,null,0,null,null,null,null,0,0,0,0,0,0,null,null,null,null,0,null,null,null,null,0,0,0,0,{"$error":"#DIV/0!"}]
[53,null,0,0,null,null,null,null,0,null,null,null,null,0,null,null,null,null,0,null,null,null,null,0,null,null,null,null,0,0,0,0,0,0,null,null,null,null,0,null,null,null,null,0,0,0,0,{"$error":"#DIV/0!"}]
[54,null,0,0,null,null,null,null,0,null,null,null,null,0,null,null,null,null,0,null,null,null,null,0,null,null,null,null,0,0,0,0,0,0,null,null,null,null,0,null,null,null,null,0,0,0,0,{"$error":"#DIV/0!"}]
[55,null,0,0,null,null,null,null,0,null,null,null,null,0,null,null,null,null,0,null,null,null,null,0,null,null,null,null,0,0,0,0,0,0,null,null,null,null,0,null,null,null,null,0,0,0,0,{"$error":"#DIV/0!"}]
[56,null,0,0,null,null,null,null,0,null,null,null,null,0,null,null,null,null,0,null,null,null,null,0,null,null,null,null,0,0,0,0,0,0,null,null,null,null,0,null,null,null,null,0,0,0,0,{"$error":"#DIV/0!"}]
[57,null,0,0,null,null,null,null,0,null,null,null,null,0,null,null,null,null,0,null,null,null,null,0,null,null,null,null,0,0,0,0,0,0,null,null,null,null,0,null,null,null,null,0,0,0,0,{"$error":"#DIV/0!"}]
[58,null,0,0,null,null,null,null,0,null,null,null,null,0,null,null,null,null,0,null,null,null,null,0,null,null,null,null,0,0,0,0,0,0,null,null,null,null,0,null,null,null,null,0,0,0,0,{"$error":"#DIV/0!"}]
[59,null,0,0,null,null,null,null,0,null,null,null,null,0,null,null,null,null,0,null,null,null,null,0,null,null,null,null,0,0,0,0,0,0,null,null,null,null,0,null,null,null,null,0,0,0,0,{"$error":"#DIV/0!"}]
[60,null,0,0,null,null,null,null,0,null,null,null,null,0,null,null,null,null,0,null,null,null,null,0,null,null,null,null,0,0,0,0,0,0,null,null,null,null,0,null,null,null,null,0,0,0,0,{"$error":"#DIV/0!"}]
[61,null,0,0,null,null,null,null,0,null,null,null,null,0,null,null,null,null,0,null,null,null,null,0,null,null,null,null,0,0,0,0,0,0,null,null,null,null,0,null,null,null,null,0,0,0,0,{"$error":"#DIV/0!"}]
[62,null,0,0,null,null,null,null,0,null,null,null,null,0,null,null,null,null,0,null,null,null,null,0,null,null,null,null,0,0,0,0,0,0,null,null,null,null,0,null,null,null,null,0,0,0,0,{"$error":"#DIV/0!"}]
[63,null,0,0,null,null,null,null,0,null,null,null,null,0,null,null,null,null,0,null,null,null,null,0,null,null,null,null,0,0,0,0,0,0,null,null,null,null,0,null,null,null,null,0,0,0,0,{"$error":"#DIV/0!"}]
[64,null,0,0,null,null,null,null,0,null,null,null,null,0,null,null,null,null,{"$f":"SUM(Q75:R75)","v":0},null,null,null,null,{"$f":"SUM(V75:W75)","v":0},null,null,null,null,{"$f":"SUM(AA75:AB75)","v":0},0,0,0,0,0,null,null,null,null,{"$f":"SUM(AK75:AL75)","v":0},null,null,null,null,{"$f":"SUM(AP75:AQ75)","v":0},0,0,0,{"$error":"#DIV/0!"}]
[65,null,0,0,null,null,null,null,{"$f":"SUM(G76:H76)","v":0},null,null,null,null,{"$f":"SUM(L76:M76)","v":0},null,null,null,null,0,null,null,null,null,0,null,null,null,null,0,0,0,0,0,{"$f":"SUM(AF76:AG76)","v":0},null,null,null,null,0,null,null,null,null,0,{"$f":"SUM(AD76,AI76,AN76)","v":0},0,{"$f":"SUM(AS76:AT76)","v":0},{"$f":"AU76/D76","v":{"$error":"#DIV/0!"}}]
[66,null,{"$f":"SUM(AD77,AI77,AN77,)","v":0},0,null,null,null,null,0,null,null,null,null,0,null,null,null,null,0,null,null,null,null,0,null,null,null,null,0,{"$f":"SUM(E77,J77,O77,T77,Y77)","v":0},0,0,0,0,null,null,null,null,0,null,null,null,null,0,0,0,0,{"$error":"#DIV/0!"}]
[67,null,0,0,null,null,null,null,0,null,null,null,null,0,null,null,null,null,0,null,null,null,null,0,null,null,null,null,0,0,0,0,0,0,null,null,null,null,0,null,null,null,null,0,0,0,0,{"$error":"#DIV/0!"}]
[68,null,0,0,null,null,null,null,0,null,null,null,null,0,null,null,null,null,0,null,null,null,null,0,null,null,null,null,0,0,0,0,0,0,null,null,null,null,0,null,null,null,null,0,0,0,0,{"$error":"#DIV/0!"}]
[69,null,0,0,null,null,null,null,0,null,null,null,null,0,null,null,null,null,0,null,null,null,null,0,null,null,null,null,0,0,0,0,0,0,null,null,null,null,0,null,null,null,null,0,0,0,0,{"$error":"#DIV/0!"}]
[70,null,0,0,null,null,null,null,0,null,null,null,null,0,null,null,null,null,0,null,null,null,null,0,null,null,null,null,0,0,0,0,0,0,null,null,null,null,0,null,null,null,null,0,0,0,0,{"$error":"#DIV/0!"}]
[71,null,0,0,null,null,null,null,0,null,null,null,null,0,null,null,null,null,0,null,null,null,null,0,null,null,null,null,0,0,0,0,0,0,null,null,null,null,0,null,null,null,null,0,0,0,0,{"$error":"#DIV/0!"}]
[72,null,0,0,null,null,null,null,0,null,null,null,null,0,null,null,null,null,0,null,null,null,null,0,null,null,null,null,0,0,0,0,0,0,null,null,null,null,0,null,null,null,null,0,0,0,0,{"$error":"#DIV/0!"}]
[73,null,0,0,null,null,null,null,0,null,null,null,null,0,null,null,null,null,0,null,null,null,null,0,null,null,null,null,0,0,0,0,0,0,null,null,null,null,0,null,null,null,null,0,0,0,0,{"$error":"#DIV/0!"}]
[74,null,0,0,null,null,null,null,0,null,null,null,null,0,null,null,null,null,0,null,null,null,null,0,null,null,null,null,0,0,0,0,0,0,null,null,null,null,0,null,null,null,null,0,0,0,0,{"$error":"#DIV/0!"}]
[75,null,0,0,null,null,null,null,0,null,null,null,null,0,null,null,null,null,0,null,null,null,null,0,null,null,null,null,0,0,0,0,0,0,null,null,null,null,0,null,null,null,null,0,0,0,0,{"$error":"#DIV/0!"}]
[76,null,0,0,null,null,null,null,0,null,null,null,null,0,null,null,null,null,0,null,null,null,null,0,null,null,null,null,0,0,0,0,0,0,null,null,null,null,0,null,null,null,null,0,0,0,0,{"$error":"#DIV/0!"}]
[77,null,0,0,null,null,null,null,0,null,null,null,null,0,null,null,null,null,0,null,null,null,null,0,null,null,null,null,0,0,0,0,0,0,null,null,null,null,0,null,null,null,null,0,0,0,0,{"$error":"#DIV/0!"}]
[78,null,0,0,null,null,null,null,0,null,null,null,null,0,null,null,null,null,0,null,null,null,null,0,null,null,null,null,0,0,0,0,0,0,null,null,null,null,0,null,null,null,null,0,0,0,0,{"$error":"#DIV/0!"}]
[79,null,0,0,null,null,null,null,0,null,null,null,null,0,null,null,null,null,0,null,null,null,null,0,null,null,null,null,0,0,0,0,0,0,null,null,null,null,0,null,null,null,null,0,0,0,0,{"$error":"#DIV/0!"}]
[80,null,0,0,null,null,null,null,0,null,null,null,null,0,null,null,null,null,0,null,null,null,null,0,null,null,null,null,0,0,0,0,0,0,null,null,null,null,0,null,null,null,null,0,0,0,0,{"$error":"#DIV/0!"}]
[81,null,0,0,null,null,null,null,0,null,null,null,null,0,null,null,null,null,0,null,null,null,null,0,null,null,null,null,0,0,0,0,0,0,null,null,null,null,0,null,null,null,null,0,0,0,0,{"$error":"#DIV/0!"}]
[82,null,0,0,null,null,null,null,0,null,null,null,null,0,null,null,null,null,0,null,null,null,null,0,null,null,null,null,0,0,0,0,0,0,null,null,null,null,0,null,null,null,null,0,0,0,0,{"$error":"#DIV/0!"}]
[83,null,0,0,null,null,null,null,0,null,null,null,null,0,null,null,null,null,0,null,null,null,null,0,null,null,null,null,0,0,0,0,0,0,null,null,null,null,0,null,null,null,null,0,0,0,0,{"$error":"#DIV/0!"}]
[84,null,0,0,null,null,null,null,0,null,null,null,null,0,null,null,null,null,0,null,null,null,null,0,null,null,null,null,0,0,0,0,0,0,null,null,null,null,0,null,null,null,null,0,0,0,0,{"$error":"#DIV/0!"}]
[85,null,0,0,null,null,null,null,0,null,null,null,null,0,null,null,null,null,0,null,null,null,null,0,null,null,null,null,0,0,0,0,0,0,null,null,null,null,0,null,null,null,null,0,0,0,0,{"$error":"#DIV/0!"}]
[86,null,0,0,null,null,null,null,0,null,null,null,null,0,null,null,null,null,0,null,null,null,null,0,null,null,null,null,0,0,0,0,0,0,null,null,null,null,0,null,null,null,null,0,0,0,0,{"$error":"#DIV/0!"}]
[87,null,0,0,null,null,null,null,0,null,null,null,null,0,null,null,null,null,0,null,null,null,null,0,null,null,null,null,0,0,0,0,0,0,null,null,null,null,0,null,null,null,null,0,0,0,0,{"$error":"#DIV/0!"}]
[88,null,0,0,null,null,null,null,0,null,null,null,null,0,null,null,null,null,0,null,null,null,null,0,null,null,null,null,0,0,0,0,0,0,null,null,null,null,0,null,null,null,null,0,0,0,0,{"$error":"#DIV/0!"}]
[89,null,0,0,null,null,null,null,0,null,null,null,null,0,null,null,null,null,0,null,null,null,null,0,null,null,null,null,0,0,0,0,0,0,null,null,null,null,0,null,null,null,null,0,0,0,0,{"$error":"#DIV/0!"}]
[90,null,0,0,null,null,null,null,0,null,null,null,null,0,null,null,null,null,0,null,null,null,null,0,null,null,null,null,0,0,0,0,0,0,null,null,null,null,0,null,null,null,null,0,0,0,0,{"$error":"#DIV/0!"}]
[91,null,0,0,null,null,null,null,0,null,null,null,null,0,null,null,null,null,0,null,null,null,null,0,null,null,null,null,0,0,0,0,0,0,null,null,null,null,0,null,null,null,null,0,0,0,0,{"$error":"#DIV/0!"}]
[92,null,0,0,null,null,null,null,0,null,null,null,null,0,null,null,null,null,0,null,null,null,null,0,null,null,null,null,0,0,0,0,0,0,null,null,null,null,0,null,null,null,null,0,0,0,0,{"$error":"#DIV/0!"}]
[93,null,0,0,null,null,null,null,0,null,null,null,null,0,null,null,null,null,0,null,null,null,null,0,null,null,null,null,0,0,0,0,0,0,null,null,null,null,0,null,null,null,null,0,0,0,0,{"$error":"#DIV/0!"}]
[94,null,0,0,null,null,null,null,0,null,null,null,null,0,null,null,null,null,0,null,null,null,null,0,null,null,null,null,0,0,0,0,0,0,null,null,null,null,0,null,null,null,null,0,0,0,0,{"$error":"#DIV/0!"}]
[95,null,0,0,null,null,null,null,0,null,null,null,null,0,null,null,null,null,0,null,null,null,null,0,null,null,null,null,0,0,0,0,0,0,null,null,null,null,0,null,null,null,null,0,0,0,0,{"$error":"#DIV/0!"}]
[96,null,0,0,null,null,null,null,0,null,null,null,null,0,null,null,null,null,0,null,null,null,null,0,null,null,null,null,0,0,0,0,0,0,null,null,null,null,0,null,null,null,null,0,0,0,0,{"$error":"#DIV/0!"}]
[97,null,0,0,null,null,null,null,0,null,null,null,null,0,null,null,null,null,0,null,null,null,null,0,null,null,null,null,0,0,0,0,0,0,null,null,null,null,0,null,null,null,null,0,0,0,0,{"$error":"#DIV/0!"}]
[98,null,0,0,null,null,null,null,0,null,null,null,null,0,null,null,null,null,0,null,null,null,null,0,null,null,null,null,0,0,0,0,0,0,null,null,null,null,0,null,null,null,null,0,0,0,0,{"$error":"#DIV/0!"}]
[99,null,0,0,null,null,null,null,0,null,null,null,null,0,null,null,null,null,0,null,null,null,null,0,null,null,null,null,0,0,0,0,0,0,null,null,null,null,0,null,null,null,null,0,0,0,0,{"$error":"#DIV/0!"}]
[100,null,0,0,null,null,null,null,0,null,null,null,null,0,null,null,null,null,0,null,null,null,null,0,null,null,null,null,0,0,0,0,0,0,null,null,null,null,0,null,null,null,null,0,0,0,0,{"$error":"#DIV/0!"}]

{"sheet":"T_DoE_Others","index":23,"n_rows":111,"n_cols":48,"rows_kept":111,"cut":false,"hidden":false,"merged":[[10,0,10,1],[6,0,9,0],[6,1,9,1],[6,2,8,2],[6,3,8,3],[1,0,1,5],[2,0,2,5],[7,4,7,8],[7,9,7,13],[7,14,7,18],[4,0,4,47],[6,34,7,38],[6,39,7,43],[6,44,7,47],[7,29,7,33],[6,4,6,33],[7,19,7,23],[7,24,7,28]]}
[]
[{"$f":"Create!G2","v":"ក្រសួងអប់រំ យុវជន និងកីឡា"}]
[{"$f":"Create!G3","v":"បំពេញឈ្មោះទីនេះ"}]
[]
[{"$f":"CONCATENATE(\"របាយការណ៍ចំណាយថវិកាដៃគូ សហគមន៍ និងសប្បុរសជន របស់វិទ្យាល័យបច្ចេទេសប្រចាំត្រីមាសទី \", IF(Create!$G$4=1,\"១\",IF(Create!$G$4=2,\"២\",IF(Create!$G$4=3,\"៣\",\"៤\"))),\" ឆ្នាំ២០១៨\")","v":"របាយការណ៍ចំណាយថវិកាដៃគូ សហគមន៍ និងសប្បុរសជន របស់វិទ្យាល័យបច្ចេទេសប្រចាំត្រីមាសទី ១ ឆ្នាំ២០១៨"}]
[]
["ល.រ","ឈ្មោះការិយាល័យអប់រំ យុវជន និងកីឡា\nក្រុង ឬ ស្រុក ឬ ខ័ណ្ឌ","ឥណទានដើមឆ្នាំ","ឥណទានកែតម្រូវ","I. ថវិកាដៃគូ",null,null,null,null,null,null,null,null,null,null,null,null,null,null,null,null,null,null,null,null,null,null,null,null,null,null,null,null,null,"II. សហគមន៍",null,null,null,null,"III. សប្បុរជន",null,null,null,null,"សរុប(I+II+III)"]
[null,null,null,null,"ធនាគារពិភពលោក\n(The World Bank)",null,null,null,null,"អង្គការយូនីសេហ្វ(UNICEF)",null,null,null,null,"ធនាគារអភិវឌ្ឍន៍អាស៊ី(ADB)",null,null,null,null,"ជំនួសពីប្រទេសស៊ុយអ៊ែត(SWEDEN)",null,null,null,null,"ជំនួយពីដៃគូផ្សេងៗ(Others)",null,null,null,null,"សរុប"]
[null,null,null,null,"ដើមឆ្នាំ","កែតម្រូវ","បណ្ដាត្រីមាសមុន","ក្នុងត្រីមាស","បូកយោង","ដើមឆ្នាំ","កែតម្រូវ","បណ្ដាត្រីមាសមុន","ក្នុងត្រីមាស","បូកយោង","ដើមឆ្នាំ","កែតម្រូវ","បណ្ដាត្រីមាសមុន","ក្នុងត្រីមាស","បូកយោង","ដើមឆ្នាំ","កែតម្រូវ","បណ្ដាត្រីមាសមុន","ក្នុងត្រីមាស","បូកយោង","ដើមឆ្នាំ","កែតម្រូវ","បណ្ដាត្រីមាសមុន","ក្នុងត្រីមាស","បូកយោង","ដើមឆ្នាំ","កែតម្រូវ","បណ្ដាត្រីមាសមុន","ក្នុងត្រីមាស","បូកយោង","ដើមឆ្នាំ","កែតម្រូវ","បណ្ដាត្រីមាសមុន","ក្នុងត្រីមាស","បូកយោង","ដើមឆ្នាំ","កែតម្រូវ","បណ្ដាត្រីមាសមុន","ក្នុងត្រីមាស","បូកយោង","បណ្ដាត្រីមាសមុន","ក្នុងត្រីមាស","បូកយោង","%"]
[null,null,1,2,null,null,3,4,"5=3+4",null,null,6,7,"8=6+7",null,null,9,10,"11=9+10",null,null,12,13,"14=12+13",null,null,12,13,"14=12+13",null,null,12,13,"14=12+13",null,null,12,13,"14=12+13",null,null,12,13,"14=12+13",12,13,"14=12+13","15=14/2"]
["សរុប",null,{"$f":"SUM(C12:C111)","v":0},{"$f":"SUM(D12:D111)","v":0},0,0,0,0,{"$f":"SUM(G11:H11)","v":0},0,0,0,0,{"$f":"SUM(L11:M11)","v":0},0,0,0,0,{"$f":"SUM(Q11:R11)","v":0},0,0,0,0,{"$f":"SUM(V11:W11)","v":0},0,0,0,0,{"$f":"SUM(AA11:AB11)","v":0},0,0,0,0,{"$f":"SUM(AF11:AG11)","v":0},0,0,0,0,{"$f":"SUM(AK11:AL11)","v":0},0,0,0,0,{"$f":"SUM(AP11:AQ11)","v":0},{"$f":"SUM(AD11,AI11,AN11)","v":0},{"$f":"SUM(AE11,AJ11,AO11)","v":0},{"$f":"SUM(AS11:AT11)","v":0},{"$f":"AU11/D11","v":{"$error":"#DIV/0!"}}]
[1,{"$f":"[1]T_Sch_Others!A3","v":"ការិយាល័យអប់រំ យុវជន និងកីឡាក្រុងប៉ៃលិន"},{"$f":"SUM(AD12,AI12,AN12,)","v":0},{"$f":"SUM(AE12,AJ12,AO12,)","v":0},{"$f":"[1]T_Sch_Others!E11","v":0},{"$f":"[1]T_Sch_Others!F11","v":0},{"$f":"[1]T_Sch_Others!G11","v":0},{"$f":"[1]T_Sch_Others!H11","v":0},{"$f":"SUM(G12:H12)","v":0},{"$f":"[1]T_Sch_Others!J11","v":0},{"$f":"[1]T_Sch_Others!K11","v":0},{"$f":"[1]T_Sch_Others!L11","v":0},{"$f":"[1]T_Sch_Others!M11","v":0},{"$f":"SUM(L12:M12)","v":0},{"$f":"[1]T_Sch_Others!O11","v":0},{"$f":"[1]T_Sch_Others!P11","v":0},{"$f":"[1]T_Sch_Others!Q11","v":0},{"$f":"[1]T_Sch_Others!R11","v":0},0,{"$f":"[1]T_Sch_Others!T11","v":0},{"$f":"[1]T_Sch_Others!U11","v":0},{"$f":"[1]T_Sch_Others!V11","v":0},{"$f":"[1]T_Sch_Others!W11","v":0},0,{"$f":"[1]T_Sch_Others!Y11","v":0},{"$f":"[1]T_Sch_Others!Z11","v":0},{"$f":"[1]T_Sch_Others!AA11","v":0},{"$f":"[1]T_Sch_Others!AB11","v":0},0,{"$f":"SUM(E12,J12,O12,T12,Y12)","v":0},{"$f":"SUM(F12,K12,P12,U12,Z12)","v":0},0,0,{"$f":"SUM(AF12:AG12)","v":0},{"$f":"[1]T_Sch_Others!AI11","v":0},{"$f":"[1]T_Sch_Others!AJ11","v":0},{"$f":"[1]T_Sch_Others!AK11","v":0},{"$f":"[1]T_Sch_Others!AL11","v":0},0,{"$f":"[1]T_Sch_Others!AN11","v":0},{"$f":"[1]T_Sch_Others!AO11","v":0},{"$f":"[1]T_Sch_Others!AP11","v":0},{"$f":"[1]T_Sch_Others!AQ11","v":0},0,{"$f":"SUM(AD12,AI12,AN12)","v":0},0,{"$f":"SUM(AS12:AT12)","v":0},{"$f":"AU12/D12","v":{"$error":"#DIV/0!"}}]
[2,null,{"$f":"SUM(AD13,AI13,AN13,)","v":0},0,null,null,null,null,0,null,null,null,null,0,null,null,null,null,0,null,null,null,null,0,null,null,null,null,0,{"$f":"SUM(E13,J13,O13,T13,Y13)","v":0},0,0,0,0,null,null,null,null,0,null,null,null,null,0,0,0,0,{"$error":"#DIV/0!"}]
[3,null,0,0,null,null,null,null,0,null,null,null,null,0,null,null,null,null,0,null,null,null,null,0,null,null,null,null,0,0,0,0,0,0,null,null,null,null,0,null,null,null,null,0,0,0,0,{"$error":"#DIV/0!"}]
[4,null,0,0,null,null,null,null,0,null,null,null,null,0,null,null,null,null,0,null,null,null,null,0,null,null,null,null,0,0,0,0,0,0,null,null,null,null,0,null,null,null,null,0,0,0,0,{"$error":"#DIV/0!"}]
[5,null,0,0,null,null,null,null,0,null,null,null,null,0,null,null,null,null,0,null,null,null,null,0,null,null,null,null,0,0,0,0,0,0,null,null,null,null,0,null,null,null,null,0,0,0,0,{"$error":"#DIV/0!"}]
[6,null,0,0,null,null,null,null,0,null,null,null,null,0,null,null,null,null,0,null,null,null,null,0,null,null,null,null,0,0,0,0,0,0,null,null,null,null,0,null,null,null,null,0,0,0,0,{"$error":"#DIV/0!"}]
[7,null,0,0,null,null,null,null,0,null,null,null,null,0,null,null,null,null,0,null,null,null,null,0,null,null,null,null,0,0,0,0,0,0,null,null,null,null,0,null,null,null,null,0,0,0,0,{"$error":"#DIV/0!"}]
[8,null,0,0,null,null,null,null,0,null,null,null,null,0,null,null,null,null,0,null,null,null,null,0,null,null,null,null,0,0,0,0,0,0,null,null,null,null,0,null,null,null,null,0,0,0,0,{"$error":"#DIV/0!"}]
[9,null,0,0,null,null,null,null,0,null,null,null,null,0,null,null,null,null,0,null,null,null,null,0,null,null,null,null,0,0,0,0,0,0,null,null,null,null,0,null,null,null,null,0,0,0,0,{"$error":"#DIV/0!"}]
[10,null,0,0,null,null,null,null,0,null,null,null,null,0,null,null,null,null,0,null,null,null,null,0,null,null,null,null,0,0,0,0,0,0,null,null,null,null,0,null,null,null,null,0,0,0,0,{"$error":"#DIV/0!"}]
[11,null,0,0,null,null,null,null,0,null,null,null,null,0,null,null,null,null,0,null,null,null,null,0,null,null,null,null,0,0,0,0,0,0,null,null,null,null,0,null,null,null,null,0,0,0,0,{"$error":"#DIV/0!"}]
[12,null,0,0,null,null,null,null,0,null,null,null,null,0,null,null,null,null,0,null,null,null,null,0,null,null,null,null,0,0,0,0,0,0,null,null,null,null,0,null,null,null,null,0,0,0,0,{"$error":"#DIV/0!"}]
[13,null,0,0,null,null,null,null,0,null,null,null,null,0,null,null,null,null,0,null,null,null,null,0,null,null,null,null,0,0,0,0,0,0,null,null,null,null,0,null,null,null,null,0,0,0,0,{"$error":"#DIV/0!"}]
[14,null,0,0,null,null,null,null,0,null,null,null,null,0,null,null,null,null,0,null,null,null,null,0,null,null,null,null,0,0,0,0,0,0,null,null,null,null,0,null,null,null,null,0,0,0,0,{"$error":"#DIV/0!"}]
[15,null,0,0,null,null,null,null,0,null,null,null,null,0,null,null,null,null,0,null,null,null,null,0,null,null,null,null,0,0,0,0,0,0,null,null,null,null,0,null,null,null,null,0,0,0,0,{"$error":"#DIV/0!"}]
[16,null,0,0,null,null,null,null,0,null,null,null,null,0,null,null,null,null,0,null,null,null,null,0,null,null,null,null,0,0,0,0,0,0,null,null,null,null,0,null,null,null,null,0,0,0,0,{"$error":"#DIV/0!"}]
[17,null,0,0,null,null,null,null,0,null,null,null,null,0,null,null,null,null,0,null,null,null,null,0,null,null,null,null,0,0,0,0,0,0,null,null,null,null,0,null,null,null,null,0,0,0,0,{"$error":"#DIV/0!"}]
[18,null,0,0,null,null,null,null,0,null,null,null,null,0,null,null,null,null,0,null,null,null,null,0,null,null,null,null,0,0,0,0,0,0,null,null,null,null,0,null,null,null,null,0,0,0,0,{"$error":"#DIV/0!"}]
[19,null,0,0,null,null,null,null,0,null,null,null,null,0,null,null,null,null,0,null,null,null,null,0,null,null,null,null,0,0,0,0,0,0,null,null,null,null,0,null,null,null,null,0,0,0,0,{"$error":"#DIV/0!"}]
[20,null,0,0,null,null,null,null,0,null,null,null,null,0,null,null,null,null,0,null,null,null,null,0,null,null,null,null,0,0,0,0,0,0,null,null,null,null,0,null,null,null,null,0,0,0,0,{"$error":"#DIV/0!"}]
[21,null,0,0,null,null,null,null,0,null,null,null,null,0,null,null,null,null,0,null,null,null,null,0,null,null,null,null,0,0,0,0,0,0,null,null,null,null,0,null,null,null,null,0,0,0,0,{"$error":"#DIV/0!"}]
[22,null,0,0,null,null,null,null,0,null,null,null,null,0,null,null,null,null,0,null,null,null,null,0,null,null,null,null,0,0,0,0,0,0,null,null,null,null,0,null,null,null,null,0,0,0,0,{"$error":"#DIV/0!"}]
[23,null,0,0,null,null,null,null,0,null,null,null,null,0,null,null,null,null,0,null,null,null,null,0,null,null,null,null,0,0,0,0,0,0,null,null,null,null,0,null,null,null,null,0,0,0,0,{"$error":"#DIV/0!"}]
[24,null,0,0,null,null,null,null,0,null,null,null,null,0,null,null,null,null,0,null,null,null,null,0,null,null,null,null,0,0,0,0,0,0,null,null,null,null,0,null,null,null,null,0,0,0,0,{"$error":"#DIV/0!"}]
[25,null,0,0,null,null,null,null,0,null,null,null,null,0,null,null,null,null,0,null,null,null,null,0,null,null,null,null,0,0,0,0,0,0,null,null,null,null,0,null,null,null,null,0,0,0,0,{"$error":"#DIV/0!"}]
[26,null,0,0,null,null,null,null,0,null,null,null,null,0,null,null,null,null,0,null,null,null,null,0,null,null,null,null,0,0,0,0,0,0,null,null,null,null,0,null,null,null,null,0,0,0,0,{"$error":"#DIV/0!"}]
[27,null,0,0,null,null,null,null,0,null,null,null,null,0,null,null,null,null,0,null,null,null,null,0,null,null,null,null,0,0,0,0,0,0,null,null,null,null,0,null,null,null,null,0,0,0,0,{"$error":"#DIV/0!"}]
[28,null,0,0,null,null,null,null,0,null,null,null,null,0,null,null,null,null,0,null,null,null,null,0,null,null,null,null,0,0,0,0,0,0,null,null,null,null,0,null,null,null,null,0,0,0,0,{"$error":"#DIV/0!"}]
[29,null,0,0,null,null,null,null,0,null,null,null,null,0,null,null,null,null,0,null,null,null,null,0,null,null,null,null,0,0,0,0,0,0,null,null,null,null,0,null,null,null,null,0,0,0,0,{"$error":"#DIV/0!"}]
[30,null,0,0,null,null,null,null,0,null,null,null,null,0,null,null,null,null,0,null,null,null,null,0,null,null,null,null,0,0,0,0,0,0,null,null,null,null,0,null,null,null,null,0,0,0,0,{"$error":"#DIV/0!"}]
[31,null,0,0,null,null,null,null,0,null,null,null,null,0,null,null,null,null,0,null,null,null,null,0,null,null,null,null,0,0,0,0,0,0,null,null,null,null,0,null,null,null,null,0,0,0,0,{"$error":"#DIV/0!"}]
[32,null,0,0,null,null,null,null,0,null,null,null,null,0,null,null,null,null,0,null,null,null,null,0,null,null,null,null,0,0,0,0,0,0,null,null,null,null,0,null,null,null,null,0,0,0,0,{"$error":"#DIV/0!"}]
[33,null,0,0,null,null,null,null,0,null,null,null,null,0,null,null,null,null,0,null,null,null,null,0,null,null,null,null,0,0,0,0,0,0,null,null,null,null,0,null,null,null,null,0,0,0,0,{"$error":"#DIV/0!"}]
[34,null,0,0,null,null,null,null,0,null,null,null,null,0,null,null,null,null,0,null,null,null,null,0,null,null,null,null,0,0,0,0,0,0,null,null,null,null,0,null,null,null,null,0,0,0,0,{"$error":"#DIV/0!"}]
[35,null,0,0,null,null,null,null,0,null,null,null,null,0,null,null,null,null,0,null,null,null,null,0,null,null,null,null,0,0,0,0,0,0,null,null,null,null,0,null,null,null,null,0,0,0,0,{"$error":"#DIV/0!"}]
[36,null,0,0,null,null,null,null,0,null,null,null,null,0,null,null,null,null,0,null,null,null,null,0,null,null,null,null,0,0,0,0,0,0,null,null,null,null,0,null,null,null,null,0,0,0,0,{"$error":"#DIV/0!"}]
[37,null,0,0,null,null,null,null,0,null,null,null,null,0,null,null,null,null,0,null,null,null,null,0,null,null,null,null,0,0,0,0,0,0,null,null,null,null,0,null,null,null,null,0,0,0,0,{"$error":"#DIV/0!"}]
[38,null,0,0,null,null,null,null,0,null,null,null,null,0,null,null,null,null,0,null,null,null,null,0,null,null,null,null,0,0,0,0,0,0,null,null,null,null,0,null,null,null,null,0,0,0,0,{"$error":"#DIV/0!"}]
[39,null,0,0,null,null,null,null,0,null,null,null,null,0,null,null,null,null,0,null,null,null,null,0,null,null,null,null,0,0,0,0,0,0,null,null,null,null,0,null,null,null,null,0,0,0,0,{"$error":"#DIV/0!"}]
[40,null,0,0,null,null,null,null,0,null,null,null,null,0,null,null,null,null,0,null,null,null,null,0,null,null,null,null,0,0,0,0,0,0,null,null,null,null,0,null,null,null,null,0,0,0,0,{"$error":"#DIV/0!"}]
[41,null,0,0,null,null,null,null,0,null,null,null,null,0,null,null,null,null,0,null,null,null,null,0,null,null,null,null,0,0,0,0,0,0,null,null,null,null,0,null,null,null,null,0,0,0,0,{"$error":"#DIV/0!"}]
[42,null,0,0,null,null,null,null,0,null,null,null,null,0,null,null,null,null,0,null,null,null,null,0,null,null,null,null,0,0,0,0,0,0,null,null,null,null,0,null,null,null,null,0,0,0,0,{"$error":"#DIV/0!"}]
[43,null,0,0,null,null,null,null,0,null,null,null,null,0,null,null,null,null,0,null,null,null,null,0,null,null,null,null,0,0,0,0,0,0,null,null,null,null,0,null,null,null,null,0,0,0,0,{"$error":"#DIV/0!"}]
[44,null,0,0,null,null,null,null,0,null,null,null,null,0,null,null,null,null,0,null,null,null,null,0,null,null,null,null,0,0,0,0,0,0,null,null,null,null,0,null,null,null,null,0,0,0,0,{"$error":"#DIV/0!"}]
[45,null,0,0,null,null,null,null,0,null,null,null,null,0,null,null,null,null,0,null,null,null,null,0,null,null,null,null,0,0,0,0,0,0,null,null,null,null,0,null,null,null,null,0,0,0,0,{"$error":"#DIV/0!"}]
[46,null,0,0,null,null,null,null,0,null,null,null,null,0,null,null,null,null,0,null,null,null,null,0,null,null,null,null,0,0,0,0,0,0,null,null,null,null,0,null,null,null,null,0,0,0,0,{"$error":"#DIV/0!"}]
[47,null,0,0,null,null,null,null,0,null,null,null,null,0,null,null,null,null,0,null,null,null,null,0,null,null,null,null,0,0,0,0,0,0,null,null,null,null,0,null,null,null,null,0,0,0,0,{"$error":"#DIV/0!"}]
[48,null,0,0,null,null,null,null,0,null,null,null,null,0,null,null,null,null,0,null,null,null,null,0,null,null,null,null,0,0,0,0,0,0,null,null,null,null,0,null,null,null,null,0,0,0,0,{"$error":"#DIV/0!"}]
[49,null,0,0,null,null,null,null,0,null,null,null,null,0,null,null,null,null,0,null,null,null,null,0,null,null,null,null,0,0,0,0,0,0,null,null,null,null,0,null,null,null,null,0,0,0,0,{"$error":"#DIV/0!"}]
[50,null,0,0,null,null,null,null,0,null,null,null,null,0,null,null,null,null,0,null,null,null,null,0,null,null,null,null,0,0,0,0,0,0,null,null,null,null,0,null,null,null,null,0,0,0,0,{"$error":"#DIV/0!"}]
[51,null,0,0,null,null,null,null,0,null,null,null,null,0,null,null,null,null,0,null,null,null,null,0,null,null,null,null,0,0,0,0,0,0,null,null,null,null,0,null,null,null,null,0,0,0,0,{"$error":"#DIV/0!"}]
[52,null,0,0,null,null,null,null,0,null,null,null,null,0,null,null,null,null,0,null,null,null,null,0,null,null,null,null,0,0,0,0,0,0,null,null,null,null,0,null,null,null,null,0,0,0,0,{"$error":"#DIV/0!"}]
[53,null,0,0,null,null,null,null,0,null,null,null,null,0,null,null,null,null,0,null,null,null,null,0,null,null,null,null,0,0,0,0,0,0,null,null,null,null,0,null,null,null,null,0,0,0,0,{"$error":"#DIV/0!"}]
[54,null,0,0,null,null,null,null,0,null,null,null,null,0,null,null,null,null,0,null,null,null,null,0,null,null,null,null,0,0,0,0,0,0,null,null,null,null,0,null,null,null,null,0,0,0,0,{"$error":"#DIV/0!"}]
[55,null,0,0,null,null,null,null,0,null,null,null,null,0,null,null,null,null,0,null,null,null,null,0,null,null,null,null,0,0,0,0,0,0,null,null,null,null,0,null,null,null,null,0,0,0,0,{"$error":"#DIV/0!"}]
[56,null,0,0,null,null,null,null,0,null,null,null,null,0,null,null,null,null,0,null,null,null,null,0,null,null,null,null,0,0,0,0,0,0,null,null,null,null,0,null,null,null,null,0,0,0,0,{"$error":"#DIV/0!"}]
[57,null,0,0,null,null,null,null,0,null,null,null,null,0,null,null,null,null,0,null,null,null,null,0,null,null,null,null,0,0,0,0,0,0,null,null,null,null,0,null,null,null,null,0,0,0,0,{"$error":"#DIV/0!"}]
[58,null,0,0,null,null,null,null,0,null,null,null,null,0,null,null,null,null,0,null,null,null,null,0,null,null,null,null,0,0,0,0,0,0,null,null,null,null,0,null,null,null,null,0,0,0,0,{"$error":"#DIV/0!"}]
[59,null,0,0,null,null,null,null,0,null,null,null,null,0,null,null,null,null,0,null,null,null,null,0,null,null,null,null,0,0,0,0,0,0,null,null,null,null,0,null,null,null,null,0,0,0,0,{"$error":"#DIV/0!"}]
[60,null,0,0,null,null,null,null,0,null,null,null,null,0,null,null,null,null,0,null,null,null,null,0,null,null,null,null,0,0,0,0,0,0,null,null,null,null,0,null,null,null,null,0,0,0,0,{"$error":"#DIV/0!"}]
[61,null,0,0,null,null,null,null,0,null,null,null,null,0,null,null,null,null,0,null,null,null,null,0,null,null,null,null,0,0,0,0,0,0,null,null,null,null,0,null,null,null,null,0,0,0,0,{"$error":"#DIV/0!"}]
[62,null,0,0,null,null,null,null,0,null,null,null,null,0,null,null,null,null,0,null,null,null,null,0,null,null,null,null,0,0,0,0,0,0,null,null,null,null,0,null,null,null,null,0,0,0,0,{"$error":"#DIV/0!"}]
[63,null,0,0,null,null,null,null,0,null,null,null,null,0,null,null,null,null,0,null,null,null,null,0,null,null,null,null,0,0,0,0,0,0,null,null,null,null,0,null,null,null,null,0,0,0,0,{"$error":"#DIV/0!"}]
[64,null,0,0,null,null,null,null,0,null,null,null,null,0,null,null,null,null,{"$f":"SUM(Q75:R75)","v":0},null,null,null,null,{"$f":"SUM(V75:W75)","v":0},null,null,null,null,{"$f":"SUM(AA75:AB75)","v":0},0,0,0,0,0,null,null,null,null,{"$f":"SUM(AK75:AL75)","v":0},null,null,null,null,{"$f":"SUM(AP75:AQ75)","v":0},0,0,0,{"$error":"#DIV/0!"}]
[65,null,0,0,null,null,null,null,{"$f":"SUM(G76:H76)","v":0},null,null,null,null,{"$f":"SUM(L76:M76)","v":0},null,null,null,null,0,null,null,null,null,0,null,null,null,null,0,0,0,0,0,{"$f":"SUM(AF76:AG76)","v":0},null,null,null,null,0,null,null,null,null,0,{"$f":"SUM(AD76,AI76,AN76)","v":0},0,{"$f":"SUM(AS76:AT76)","v":0},{"$f":"AU76/D76","v":{"$error":"#DIV/0!"}}]
[66,null,{"$f":"SUM(AD77,AI77,AN77,)","v":0},0,null,null,null,null,0,null,null,null,null,0,null,null,null,null,0,null,null,null,null,0,null,null,null,null,0,{"$f":"SUM(E77,J77,O77,T77,Y77)","v":0},0,0,0,0,null,null,null,null,0,null,null,null,null,0,0,0,0,{"$error":"#DIV/0!"}]
[67,null,0,0,null,null,null,null,0,null,null,null,null,0,null,null,null,null,0,null,null,null,null,0,null,null,null,null,0,0,0,0,0,0,null,null,null,null,0,null,null,null,null,0,0,0,0,{"$error":"#DIV/0!"}]
[68,null,0,0,null,null,null,null,0,null,null,null,null,0,null,null,null,null,0,null,null,null,null,0,null,null,null,null,0,0,0,0,0,0,null,null,null,null,0,null,null,null,null,0,0,0,0,{"$error":"#DIV/0!"}]
[69,null,0,0,null,null,null,null,0,null,null,null,null,0,null,null,null,null,0,null,null,null,null,0,null,null,null,null,0,0,0,0,0,0,null,null,null,null,0,null,null,null,null,0,0,0,0,{"$error":"#DIV/0!"}]
[70,null,0,0,null,null,null,null,0,null,null,null,null,0,null,null,null,null,0,null,null,null,null,0,null,null,null,null,0,0,0,0,0,0,null,null,null,null,0,null,null,null,null,0,0,0,0,{"$error":"#DIV/0!"}]
[71,null,0,0,null,null,null,null,0,null,null,null,null,0,null,null,null,null,0,null,null,null,null,0,null,null,null,null,0,0,0,0,0,0,null,null,null,null,0,null,null,null,null,0,0,0,0,{"$error":"#DIV/0!"}]
[72,null,0,0,null,null,null,null,0,null,null,null,null,0,null,null,null,null,0,null,null,null,null,0,null,null,null,null,0,0,0,0,0,0,null,null,null,null,0,null,null,null,null,0,0,0,0,{"$error":"#DIV/0!"}]
[73,null,0,0,null,null,null,null,0,null,null,null,null,0,null,null,null,null,0,null,null,null,null,0,null,null,null,null,0,0,0,0,0,0,null,null,null,null,0,null,null,null,null,0,0,0,0,{"$error":"#DIV/0!"}]
[74,null,0,0,null,null,null,null,0,null,null,null,null,0,null,null,null,null,0,null,null,null,null,0,null,null,null,null,0,0,0,0,0,0,null,null,null,null,0,null,null,null,null,0,0,0,0,{"$error":"#DIV/0!"}]
[75,null,0,0,null,null,null,null,0,null,null,null,null,0,null,null,null,null,0,null,null,null,null,0,null,null,null,null,0,0,0,0,0,0,null,null,null,null,0,null,null,null,null,0,0,0,0,{"$error":"#DIV/0!"}]
[76,null,0,0,null,null,null,null,0,null,null,null,null,0,null,null,null,null,0,null,null,null,null,0,null,null,null,null,0,0,0,0,0,0,null,null,null,null,0,null,null,null,null,0,0,0,0,{"$error":"#DIV/0!"}]
[77,null,0,0,null,null,null,null,0,null,null,null,null,0,null,null,null,null,0,null,null,null,null,0,null,null,null,null,0,0,0,0,0,0,null,null,null,null,0,null,null,null,null,0,0,0,0,{"$error":"#DIV/0!"}]
[78,null,0,0,null,null,null,null,0,null,null,null,null,0,null,null,null,null,0,null,null,null,null,0,null,null,null,null,0,0,0,0,0,0,null,null,null,null,0,null,null,null,null,0,0,0,0,{"$error":"#DIV/0!"}]
[79,null,0,0,null,null,null,null,0,null,null,null,null,0,null,null,null,null,0,null,null,null,null,0,null,null,null,null,0,0,0,0,0,0,null,null,null,null,0,null,null,null,null,0,0,0,0,{"$error":"#DIV/0!"}]
[80,null,0,0,null,null,null,null,0,null,null,null,null,0,null,null,null,null,0,null,null,null,null,0,null,null,null,null,0,0,0,0,0,0,null,null,null,null,0,null,null,null,null,0,0,0,0,{"$error":"#DIV/0!"}]
[81,null,0,0,null,null,null,null,0,null,null,null,null,0,null,null,null,null,0,null,null,null,null,0,null,null,null,null,0,0,0,0,0,0,null,null,null,null,0,null,null,null,null,0,0,0,0,{"$error":"#DIV/0!"}]
[82,null,0,0,null,null,null,null,0,null,null,null,null,0,null,null,null,null,0,null,null,null,null,0,null,null,null,null,0,0,0,0,0,0,null,null,null,null,0,null,null,null,null,0,0,0,0,{"$error":"#DIV/0!"}]
[83,null,0,0,null,null,null,null,0,null,null,null,null,0,null,null,null,null,0,null,null,null,null,0,null,null,null,null,0,0,0,0,0,0,null,null,null,null,0,null,null,null,null,0,0,0,0,{"$error":"#DIV/0!"}]
[84,null,0,0,null,null,null,null,0,null,null,null,null,0,null,null,null,null,0,null,null,null,null,0,null,null,null,null,0,0,0,0,0,0,null,null,null,null,0,null,null,null,null,0,0,0,0,{"$error":"#DIV/0!"}]
[85,null,0,0,null,null,null,null,0,null,null,null,null,0,null,null,null,null,0,null,null,null,null,0,null,null,null,null,0,0,0,0,0,0,null,null,null,null,0,null,null,null,null,0,0,0,0,{"$error":"#DIV/0!"}]
[86,null,0,0,null,null,null,null,0,null,null,null,null,0,null,null,null,null,0,null,null,null,null,0,null,null,null,null,0,0,0,0,0,0,null,null,null,null,0,null,null,null,null,0,0,0,0,{"$error":"#DIV/0!"}]
[87,null,0,0,null,null,null,null,0,null,null,null,null,0,null,null,null,null,0,null,null,null,null,0,null,null,null,null,0,0,0,0,0,0,null,null,null,null,0,null,null,null,null,0,0,0,0,{"$error":"#DIV/0!"}]
[88,null,0,0,null,null,null,null,0,null,null,null,null,0,null,null,null,null,0,null,null,null,null,0,null,null,null,null,0,0,0,0,0,0,null,null,null,null,0,null,null,null,null,0,0,0,0,{"$error":"#DIV/0!"}]
[89,null,0,0,null,null,null,null,0,null,null,null,null,0,null,null,null,null,0,null,null,null,null,0,null,null,null,null,0,0,0,0,0,0,null,null,null,null,0,null,null,null,null,0,0,0,0,{"$error":"#DIV/0!"}]
[90,null,0,0,null,null,null,null,0,null,null,null,null,0,null,null,null,null,0,null,null,null,null,0,null,null,null,null,0,0,0,0,0,0,null,null,null,null,0,null,null,null,null,0,0,0,0,{"$error":"#DIV/0!"}]
[91,null,0,0,null,null,null,null,0,null,null,null,null,0,null,null,null,null,0,null,null,null,null,0,null,null,null,null,0,0,0,0,0,0,null,null,null,null,0,null,null,null,null,0,0,0,0,{"$error":"#DIV/0!"}]
[92,null,0,0,null,null,null,null,0,null,null,null,null,0,null,null,null,null,0,null,null,null,null,0,null,null,null,null,0,0,0,0,0,0,null,null,null,null,0,null,null,null,null,0,0,0,0,{"$error":"#DIV/0!"}]
[93,null,0,0,null,null,null,null,0,null,null,null,null,0,null,null,null,null,0,null,null,null,null,0,null,null,null,null,0,0,0,0,0,0,null,null,null,null,0,null,null,null,null,0,0,0,0,{"$error":"#DIV/0!"}]
[94,null,0,0,null,null,null,null,0,null,null,null,null,0,null,null,null,null,0,null,null,null,null,0,null,null,null,null,0,0,0,0,0,0,null,null,null,null,0,null,null,null,null,0,0,0,0,{"$error":"#DIV/0!"}]
[95,null,0,0,null,null,null,null,0,null,null,null,null,0,null,null,null,null,0,null,null,null,null,0,null,null,null,null,0,0,0,0,0,0,null,null,null,null,0,null,null,null,null,0,0,0,0,{"$error":"#DIV/0!"}]
[96,null,0,0,null,null,null,null,0,null,null,null,null,0,null,null,null,null,0,null,null,null,null,0,null,null,null,null,0,0,0,0,0,0,null,null,null,null,0,null,null,null,null,0,0,0,0,{"$error":"#DIV/0!"}]
[97,null,0,0,null,null,null,null,0,null,null,null,null,0,null,null,null,null,0,null,null,null,null,0,null,null,null,null,0,0,0,0,0,0,null,null,null,null,0,null,null,null,null,0,0,0,0,{"$error":"#DIV/0!"}]
[98,null,0,0,null,null,null,null,0,null,null,null,null,0,null,null,null,null,0,null,null,null,null,0,null,null,null,null,0,0,0,0,0,0,null,null,null,null,0,null,null,null,null,0,0,0,0,{"$error":"#DIV/0!"}]
[99,null,0,0,null,null,null,null,0,null,null,null,null,0,null,null,null,null,0,null,null,null,null,0,null,null,null,null,0,0,0,0,0,0,null,null,null,null,0,null,null,null,null,0,0,0,0,{"$error":"#DIV/0!"}]
[100,null,0,0,null,null,null,null,0,null,null,null,null,0,null,null,null,null,0,null,null,null,null,0,null,null,null,null,0,0,0,0,0,0,null,null,null,null,0,null,null,null,null,0,0,0,0,{"$error":"#DIV/0!"}]

{"sheet":"DoE_Others_Total","index":24,"n_rows":17,"n_cols":48,"rows_kept":17,"cut":false,"hidden":false,"merged":[[0,12,0,15],[1,0,1,5],[1,12,1,15],[2,0,2,5],[4,0,4,47],[10,0,10,1],[6,34,7,38],[6,39,7,43],[6,44,7,47],[7,4,7,8],[7,9,7,13],[7,14,7,18],[7,19,7,23],[7,24,7,28],[7,29,7,33],[6,0,9,0],[6,1,9,1],[6,2,8,2],[6,3,8,3],[6,4,6,33]]}
[]
[{"$f":"Create!G2","v":"ក្រសួងអប់រំ យុវជន និងកីឡា"}]
[{"$f":"Create!G3","v":"បំពេញឈ្មោះទីនេះ"}]
[]
[{"$f":"CONCATENATE(\"របាយការណ៍ចំណាយថវិកាដៃគូ សហគមន៍ និងសប្បុរសជន របស់វិទ្យាល័យបច្ចេទេសប្រចាំត្រីមាសទី \", IF(Create!$G$4=1,\"១\",IF(Create!$G$4=2,\"២\",IF(Create!$G$4=3,\"៣\",\"៤\"))),\" ឆ្នាំ២០១៨\")","v":"របាយការណ៍ចំណាយថវិកាដៃគូ សហគមន៍ និងសប្បុរសជន របស់វិទ្យាល័យបច្ចេទេសប្រចាំត្រីមាសទី ១ ឆ្នាំ២០១៨"}]
[]
["ល.រ","ឈ្មោះការិយាល័យអប់រំ យុវជន និងកីឡា\nក្រុង ឬ ស្រុក ឬ ខ័ណ្ឌ","ឥណទានដើមឆ្នាំ","ឥណទានកែតម្រូវ","I. ថវិកាដៃគូ",null,null,null,null,null,null,null,null,null,null,null,null,null,null,null,null,null,null,null,null,null,null,null,null,null,null,null,null,null,"II. សហគមន៍",null,null,null,null,"III. សប្បុរជន",null,null,null,null,"សរុប(I+II+III)"]
[null,null,null,null,"ធនាគារពិភពលោក\n(The World Bank)",null,null,null,null,"អង្គការយូនីសេហ្វ(UNICEF)",null,null,null,null,"ធនាគារអភិវឌ្ឍន៍អាស៊ី(ADB)",null,null,null,null,"ជំនួសពីប្រទេសស៊ុយអ៊ែត(SWEDEN)",null,null,null,null,"ជំនួយពីដៃគូផ្សេងៗ(Others)",null,null,null,null,"សរុប"]
[null,null,null,null,"ដើមឆ្នាំ","កែតម្រូវ","បណ្ដាត្រីមាសមុន","ក្នុងត្រីមាស","បូកយោង","ដើមឆ្នាំ","កែតម្រូវ","បណ្ដាត្រីមាសមុន","ក្នុងត្រីមាស","បូកយោង","ដើមឆ្នាំ","កែតម្រូវ","បណ្ដាត្រីមាសមុន","ក្នុងត្រីមាស","បូកយោង","ដើមឆ្នាំ","កែតម្រូវ","បណ្ដាត្រីមាសមុន","ក្នុងត្រីមាស","បូកយោង","ដើមឆ្នាំ","កែតម្រូវ","បណ្ដាត្រីមាសមុន","ក្នុងត្រីមាស","បូកយោង","ដើមឆ្នាំ","កែតម្រូវ","បណ្ដាត្រីមាសមុន","ក្នុងត្រីមាស","បូកយោង","ដើមឆ្នាំ","កែតម្រូវ","បណ្ដាត្រីមាសមុន","ក្នុងត្រីមាស","បូកយោង","ដើមឆ្នាំ","កែតម្រូវ","បណ្ដាត្រីមាសមុន","ក្នុងត្រីមាស","បូកយោង","បណ្ដាត្រីមាសមុន","ក្នុងត្រីមាស","បូកយោង","%"]
[null,null,1,2,null,null,3,4,"5=3+4",null,null,6,7,"8=6+7",null,null,9,10,"11=9+10",null,null,12,13,"14=12+13",null,null,12,13,"14=12+13",null,null,12,13,"14=12+13",null,null,12,13,"14=12+13",null,null,12,13,"14=12+13",12,13,"14=12+13","15=14/2"]
["សរុប",null,{"$f":"SUM(C12:C17)","v":0},0,0,0,0,0,{"$f":"SUM(G11:H11)","v":0},{"$f":"SUM(J12:J17)","v":0},{"$f":"SUM(K12:K17)","v":0},{"$f":"SUM(L12:L17)","v":0},{"$f":"SUM(M12:M17)","v":0},{"$f":"SUM(L11:M11)","v":0},{"$f":"SUM(O12:O17)","v":0},{"$f":"SUM(P12:P17)","v":0},{"$f":"SUM(Q12:Q17)","v":0},{"$f":"SUM(R12:R17)","v":0},{"$f":"SUM(Q11:R11)","v":0},{"$f":"SUM(T12:T17)","v":0},{"$f":"SUM(U12:U17)","v":0},{"$f":"SUM(V12:V17)","v":0},{"$f":"SUM(W12:W17)","v":0},{"$f":"SUM(V11:W11)","v":0},{"$f":"SUM(Y12:Y17)","v":0},{"$f":"SUM(Z12:Z17)","v":0},{"$f":"SUM(AA12:AA17)","v":0},{"$f":"SUM(AB12:AB17)","v":0},{"$f":"SUM(AA11:AB11)","v":0},{"$f":"SUM(AD12:AD17)","v":0},{"$f":"SUM(AE12:AE17)","v":0},{"$f":"SUM(AF12:AF17)","v":0},{"$f":"SUM(AG12:AG17)","v":0},{"$f":"SUM(AF11:AG11)","v":0},{"$f":"SUM(AI12:AI17)","v":0},{"$f":"SUM(AJ12:AJ17)","v":0},{"$f":"SUM(AK12:AK17)","v":0},{"$f":"SUM(AL12:AL17)","v":0},{"$f":"SUM(AK11:AL11)","v":0},{"$f":"SUM(AN12:AN17)","v":0},{"$f":"SUM(AO12:AO17)","v":0},{"$f":"SUM(AP12:AP17)","v":0},{"$f":"SUM(AQ12:AQ17)","v":0},{"$f":"SUM(AP11:AQ11)","v":0},{"$f":"SUM(AD11,AI11,AN11)","v":0},{"$f":"SUM(AE11,AJ11,AO11)","v":0},{"$f":"SUM(AS11:AT11)","v":0},{"$f":"AU11/D11","v":{"$error":"#DIV/0!"}}]
[1,"សាលាមត្តេយ្យសិក្សា",{"$f":"SUM(AD12,AI12,AN12,)","v":0},{"$f":"SUM(AE12,AJ12,AO12,)","v":0},{"$f":"E_DoE_Others!E11","v":0},{"$f":"E_DoE_Others!F11","v":0},{"$f":"E_DoE_Others!G11","v":0},{"$f":"E_DoE_Others!H11","v":0},{"$f":"SUM(G12:H12)","v":0},{"$f":"E_DoE_Others!J11","v":0},{"$f":"E_DoE_Others!K11","v":0},{"$f":"E_DoE_Others!L11","v":0},{"$f":"E_DoE_Others!M11","v":0},{"$f":"SUM(L12:M12)","v":0},{"$f":"E_DoE_Others!O11","v":0},{"$f":"E_DoE_Others!P11","v":0},{"$f":"E_DoE_Others!Q11","v":0},{"$f":"E_DoE_Others!R11","v":0},0,{"$f":"E_DoE_Others!T11","v":0},{"$f":"E_DoE_Others!U11","v":0},{"$f":"E_DoE_Others!V11","v":0},{"$f":"E_DoE_Others!W11","v":0},0,{"$f":"E_DoE_Others!Y11","v":0},{"$f":"E_DoE_Others!Z11","v":0},{"$f":"E_DoE_Others!AA11","v":0},{"$f":"E_DoE_Others!AB11","v":0},0,{"$f":"SUM(E12,J12,O12,T12,Y12)","v":0},{"$f":"SUM(F12,K12,P12,U12,Z12)","v":0},0,0,{"$f":"SUM(AF12:AG12)","v":0},{"$f":"E_DoE_Others!AI11","v":0},{"$f":"E_DoE_Others!AJ11","v":0},{"$f":"E_DoE_Others!AK11","v":0},{"$f":"E_DoE_Others!AL11","v":0},0,{"$f":"E_DoE_Others!AN11","v":0},{"$f":"E_DoE_Others!AO11","v":0},{"$f":"E_DoE_Others!AP11","v":0},{"$f":"E_DoE_Others!AQ11","v":0},0,{"$f":"SUM(AD12,AI12,AN12)","v":0},0,{"$f":"SUM(AS12:AT12)","v":0},{"$f":"AU12/D12","v":{"$error":"#DIV/0!"}}]
[2,"សាលាបឋមសិក្សា",{"$f":"SUM(AD13,AI13,AN13,)","v":0},0,{"$f":"P_DoE_Others!E11","v":0},{"$f":"P_DoE_Others!F11","v":0},{"$f":"P_DoE_Others!G11","v":0},{"$f":"P_DoE_Others!H11","v":0},0,{"$f":"P_DoE_Others!J11","v":0},{"$f":"P_DoE_Others!K11","v":0},{"$f":"P_DoE_Others!L11","v":0},{"$f":"P_DoE_Others!M11","v":0},0,{"$f":"P_DoE_Others!O11","v":0},{"$f":"P_DoE_Others!P11","v":0},{"$f":"P_DoE_Others!Q11","v":0},{"$f":"P_DoE_Others!R11","v":0},0,{"$f":"P_DoE_Others!T11","v":0},{"$f":"P_DoE_Others!U11","v":0},{"$f":"P_DoE_Others!V11","v":0},{"$f":"P_DoE_Others!W11","v":0},0,{"$f":"P_DoE_Others!Y11","v":0},{"$f":"P_DoE_Others!Z11","v":0},{"$f":"P_DoE_Others!AA11","v":0},{"$f":"P_DoE_Others!AB11","v":0},0,{"$f":"SUM(E13,J13,O13,T13,Y13)","v":0},0,0,0,0,{"$f":"P_DoE_Others!AI11","v":0},{"$f":"P_DoE_Others!AJ11","v":0},{"$f":"P_DoE_Others!AK11","v":0},{"$f":"P_DoE_Others!AL11","v":0},0,{"$f":"P_DoE_Others!AN11","v":0},{"$f":"P_DoE_Others!AO11","v":0},{"$f":"P_DoE_Others!AP11","v":0},{"$f":"P_DoE_Others!AQ11","v":0},0,0,0,0,{"$error":"#DIV/0!"}]
[3,"អនុវិទ្យាល័យ",0,0,{"$f":"S_DoE_Others!E11","v":0},{"$f":"S_DoE_Others!F11","v":0},{"$f":"S_DoE_Others!G11","v":0},{"$f":"S_DoE_Others!H11","v":0},0,{"$f":"S_DoE_Others!J11","v":0},{"$f":"S_DoE_Others!K11","v":0},{"$f":"S_DoE_Others!L11","v":0},{"$f":"S_DoE_Others!M11","v":0},0,{"$f":"S_DoE_Others!O11","v":0},{"$f":"S_DoE_Others!P11","v":0},{"$f":"S_DoE_Others!Q11","v":0},{"$f":"S_DoE_Others!R11","v":0},0,{"$f":"S_DoE_Others!T11","v":0},{"$f":"S_DoE_Others!U11","v":0},{"$f":"S_DoE_Others!V11","v":0},{"$f":"S_DoE_Others!W11","v":0},0,{"$f":"S_DoE_Others!Y11","v":0},{"$f":"S_DoE_Others!Z11","v":0},{"$f":"S_DoE_Others!AA11","v":0},{"$f":"S_DoE_Others!AB11","v":0},0,0,0,0,0,0,{"$f":"S_DoE_Others!AI11","v":0},{"$f":"S_DoE_Others!AJ11","v":0},{"$f":"S_DoE_Others!AK11","v":0},{"$f":"S_DoE_Others!AL11","v":0},0,{"$f":"S_DoE_Others!AN11","v":0},{"$f":"S_DoE_Others!AO11","v":0},{"$f":"S_DoE_Others!AP11","v":0},{"$f":"S_DoE_Others!AQ11","v":0},0,0,0,0,{"$error":"#DIV/0!"}]
[4,"វិទ្យាល័យ",0,0,{"$f":"H_DoE_Others!E11","v":0},{"$f":"H_DoE_Others!F11","v":0},{"$f":"H_DoE_Others!G11","v":0},{"$f":"H_DoE_Others!H11","v":0},0,{"$f":"H_DoE_Others!J11","v":0},{"$f":"H_DoE_Others!K11","v":0},{"$f":"H_DoE_Others!L11","v":0},{"$f":"H_DoE_Others!M11","v":0},0,{"$f":"H_DoE_Others!O11","v":0},{"$f":"H_DoE_Others!P11","v":0},{"$f":"H_DoE_Others!Q11","v":0},{"$f":"H_DoE_Others!R11","v":0},0,{"$f":"H_DoE_Others!T11","v":0},{"$f":"H_DoE_Others!U11","v":0},{"$f":"H_DoE_Others!V11","v":0},{"$f":"H_DoE_Others!W11","v":0},0,{"$f":"H_DoE_Others!Y11","v":0},{"$f":"H_DoE_Others!Z11","v":0},{"$f":"H_DoE_Others!AA11","v":0},{"$f":"H_DoE_Others!AB11","v":0},0,0,0,0,0,0,{"$f":"H_DoE_Others!AI11","v":0},{"$f":"H_DoE_Others!AJ11","v":0},{"$f":"H_DoE_Others!AK11","v":0},{"$f":"H_DoE_Others!AL11","v":0},0,{"$f":"H_DoE_Others!AN11","v":0},{"$f":"H_DoE_Others!AO11","v":0},{"$f":"H_DoE_Others!AP11","v":0},{"$f":"H_DoE_Others!AQ11","v":0},0,0,0,0,{"$error":"#DIV/0!"}]
[5,"អាគារធនធាន",0,0,{"$f":"RB_DoE_Others!E11","v":0},{"$f":"RB_DoE_Others!F11","v":0},{"$f":"RB_DoE_Others!G11","v":0},{"$f":"RB_DoE_Others!H11","v":0},0,{"$f":"RB_DoE_Others!J11","v":0},{"$f":"RB_DoE_Others!K11","v":0},{"$f":"RB_DoE_Others!L11","v":0},{"$f":"RB_DoE_Others!M11","v":0},0,{"$f":"RB_DoE_Others!O11","v":0},{"$f":"RB_DoE_Others!P11","v":0},{"$f":"RB_DoE_Others!Q11","v":0},{"$f":"RB_DoE_Others!R11","v":0},0,{"$f":"RB_DoE_Others!T11","v":0},{"$f":"RB_DoE_Others!U11","v":0},{"$f":"RB_DoE_Others!V11","v":0},{"$f":"RB_DoE_Others!W11","v":0},0,{"$f":"RB_DoE_Others!Y11","v":0},{"$f":"RB_DoE_Others!Z11","v":0},{"$f":"RB_DoE_Others!AA11","v":0},{"$f":"RB_DoE_Others!AB11","v":0},0,0,0,0,0,0,{"$f":"RB_DoE_Others!AI11","v":0},{"$f":"RB_DoE_Others!AJ11","v":0},{"$f":"RB_DoE_Others!AK11","v":0},{"$f":"RB_DoE_Others!AL11","v":0},0,{"$f":"RB_DoE_Others!AN11","v":0},{"$f":"RB_DoE_Others!AO11","v":0},{"$f":"RB_DoE_Others!AP11","v":0},{"$f":"RB_DoE_Others!AQ11","v":0},0,0,0,0,{"$error":"#DIV/0!"}]
[6,"វិទ្យាល័យបច្ចេកទេស",0,0,{"$f":"T_DoE_Others!E11","v":0},{"$f":"T_DoE_Others!F11","v":0},{"$f":"T_DoE_Others!G11","v":0},{"$f":"T_DoE_Others!H11","v":0},0,{"$f":"T_DoE_Others!J11","v":0},{"$f":"T_DoE_Others!K11","v":0},{"$f":"T_DoE_Others!L11","v":0},{"$f":"T_DoE_Others!M11","v":0},0,{"$f":"T_DoE_Others!O11","v":0},{"$f":"T_DoE_Others!P11","v":0},{"$f":"T_DoE_Others!Q11","v":0},{"$f":"T_DoE_Others!R11","v":0},0,{"$f":"T_DoE_Others!T11","v":0},{"$f":"T_DoE_Others!U11","v":0},{"$f":"T_DoE_Others!V11","v":0},{"$f":"T_DoE_Others!W11","v":0},0,{"$f":"T_DoE_Others!Y11","v":0},{"$f":"T_DoE_Others!Z11","v":0},{"$f":"T_DoE_Others!AA11","v":0},{"$f":"T_DoE_Others!AB11","v":0},0,0,0,0,0,0,{"$f":"T_DoE_Others!AI11","v":0},{"$f":"T_DoE_Others!AJ11","v":0},{"$f":"T_DoE_Others!AK11","v":0},{"$f":"T_DoE_Others!AL11","v":0},0,{"$f":"T_DoE_Others!AN11","v":0},{"$f":"T_DoE_Others!AO11","v":0},{"$f":"T_DoE_Others!AP11","v":0},{"$f":"T_DoE_Others!AQ11","v":0},0,0,0,0,{"$error":"#DIV/0!"}]

{"sheet":"E_Annual","index":25,"n_rows":121,"n_cols":82,"rows_kept":121,"cut":false,"hidden":true,"merged":[[14,0,14,1],[11,66,11,67],[11,68,11,69],[11,70,11,71],[11,42,11,43],[11,44,11,45],[11,46,11,47],[11,48,11,49],[11,50,11,51],[11,52,11,53],[11,32,11,33],[11,34,11,35],[11,40,11,41],[11,20,11,21],[11,28,11,29],[11,30,11,31],[11,78,11,79],[10,76,10,81],[11,72,11,73],[11,74,11,75],[11,54,11,55],[11,56,11,57],[11,58,11,59],[11,60,11,61],[11,62,11,63],[11,80,11,81],[11,64,11,65],[10,42,10,71],[10,72,10,75],[11,76,11,77],[11,22,11,23],[11,24,11,25],[11,26,11,27],[11,10,11,11],[11,12,11,13],[11,36,11,37],[11,38,11,39],[5,0,5,14],[6,0,6,14],[10,0,13,0],[10,1,13,1],[10,2,12,2],[10,3,12,3],[10,4,10,41],[11,14,11,15],[11,16,11,17],[11,18,11,19],[8,0,8,81],[11,4,11,5],[11,6,11,7],[11,8,11,9]]}
[]
[]
[]
[]
[]
["មន្ទីរអប់រំ យុវជន​ និងកីឡារាជធានី ខេត្ត..........."]
["ការិយាល័យអប់រំ យុវជន​ និងកីឡាក្រុង ស្រុក ខណ្ឌ........"]
[]
[{"$f":"CONCATENATE(\"សរុបរបាយការណ៍ទូទាត់ចំណាយថវិការបស់មត្តេយ្យសិក្សាសម្រាប់ដំណើរការសាលារៀនសាធារណៈប្រចាំត្រីមាសទី\",IF(Create!$G$7=1,\"១\",IF(Create!$G$7=2,\"២\",IF(Create!$G$7=\"៣\",\"៤\"))),\" ឆ្នាំ២០១៨\")","v":"សរុបរបាយការណ៍ទូទាត់ចំណាយថវិការបស់មត្តេយ្យសិក្សាសម្រាប់ដំណើរការសាលារៀនសាធារណៈប្រចាំត្រីមាសទីFALSE ឆ្នាំ២០១៨"}]
[]
["ល.រ","ឈ្មោះសាលា","ឥណទាន\nដើមឆ្នាំ","ឥណទាន\nកែតម្រូវ","ជំពូក ៦០",null,null,null,null,null,null,null,null,null,null,null,null,null,null,null,null,null,null,null,null,null,null,null,null,null,null,null,null,null,null,null,null,null,null,null,null,null,"ជំពូក ៦១",null,null,null,null,null,null,null,null,null,null,null,null,null,null,null,null,null,null,null,null,null,null,null,null,null,null,null,null,null,"ជំពូក ៦៤",null,null,null,"ជំពូក ៦២"]
[null,null,null,null,60011,null,60012,null,60013,null,60014,null,60021,null,60022,null,60023,null,60031,null,60032,null,60033,null,60035,null,60041,null,60051,null,60052,null,60053,null,60055,null,60061,null,60062,null,60068,null,61011,null,61012,null,61021,null,61051,null,61052,null,61053,null,61054,null,61057,null,61071,null,61081,null,61101,null,61102,null,61103,null,61141,null,61142,null,64023,null,64033,null,62024,null,62025,null,62028]
[null,null,null,null,"ដើមឆ្នាំ","កែតម្រូវ","ដើមឆ្នាំ","កែតម្រូវ","ដើមឆ្នាំ","កែតម្រូវ","ដើមឆ្នាំ","កែតម្រូវ","ដើមឆ្នាំ","កែតម្រូវ","ដើមឆ្នាំ","កែតម្រូវ","ដើមឆ្នាំ","កែតម្រូវ","ដើមឆ្នាំ","កែតម្រូវ","ដើមឆ្នាំ","កែតម្រូវ","ដើមឆ្នាំ","កែតម្រូវ","ដើមឆ្នាំ","កែតម្រូវ","ដើមឆ្នាំ","កែតម្រូវ","ដើមឆ្នាំ","កែតម្រូវ","ដើមឆ្នាំ","កែតម្រូវ","ដើមឆ្នាំ","កែតម្រូវ","ដើមឆ្នាំ","កែតម្រូវ","ដើមឆ្នាំ","កែតម្រូវ","ដើមឆ្នាំ","កែតម្រូវ","ដើមឆ្នាំ","កែតម្រូវ","ដើមឆ្នាំ","កែតម្រូវ","ដើមឆ្នាំ","កែតម្រូវ","ដើមឆ្នាំ","កែតម្រូវ","ដើមឆ្នាំ","កែតម្រូវ","ដើមឆ្នាំ","កែតម្រូវ","ដើមឆ្នាំ","កែតម្រូវ","ដើមឆ្នាំ","កែតម្រូវ","ដើមឆ្នាំ","កែតម្រូវ","ដើមឆ្នាំ","កែតម្រូវ","ដើមឆ្នាំ","កែតម្រូវ","ដើមឆ្នាំ","កែតម្រូវ","ដើមឆ្នាំ","កែតម្រូវ","ដើមឆ្នាំ","កែតម្រូវ","ដើមឆ្នាំ","កែតម្រូវ","ដើមឆ្នាំ","កែតម្រូវ","ដើមឆ្នាំ","កែតម្រូវ","ដើមឆ្នាំ","កែតម្រូវ","ដើមឆ្នាំ","កែតម្រូវ","ដើមឆ្នាំ","កែតម្រូវ","ដើមឆ្នាំ","កែតម្រូវ"]
[null,null,1,2,3,4,6,7,9,10,12,13,15,16,18,19,21,22,24,25,27,28,30,31,33,34,36,37,39,40,42,43,45,46,48,49,51,52,54,55,57,58,63,64,66,67,69,70,72,73,75,76,78,79,81,82,84,85,87,88,90,91,93,94,96,97,99,100,102,103,105,106,111,112,114,115,120,121,123,124,126,127]
["សរុប",null,{"$f":"SUM(C16:C115)","v":10},{"$f":"SUM(D16:D115)","v":15},{"$f":"SUM(E16:E115)","v":10},{"$f":"SUM(F16:F115)","v":15},0,0,0,0,0,0,0,0,0,0,0,0,0,0,0,0,0,0,0,0,0,0,0,0,0,0,0,0,0,0,0,0,0,0,0,0,0,0,{"$f":"SUM(AS16:AS115)","v":0},0,0,0,0,0,0,0,0,0,0,0,0,0,0,0,0,0,0,0,0,0,0,0,0,0,0,0,0,0,0,0,0,0,0,0,0,0]
[1,{"$f":"[1]E_Annual!A7","v":"ការិយាល័យអប់រំ យុវជន​ និងកីឡាក្រុង ស្រុក ខណ្ឌ........"},{"$f":"SUM(E16,G16,I16,K16,M16,O16,Q16,S16,U16,W16,Y16,AA16,AC16,AE16,AG16,AI16,AK16,AM16,AO16,AQ16,AS16,AU16,AW16,AY16,BA16,BC16,BE16,BG16,BI16,BK16,BM16,BO16,BQ16,BS16,BU16,BW16,BY16,CA16,CC16)","v":10},{"$f":"SUM(F16,H16,J16,L16,N16,P16,R16,T16,V16,X16,Z16,AB16,AD16,AF16,AH16,AJ16,AL16,AN16,AP16,AR16,AT16,AV16,AX16,AZ16,BB16,BD16,BF16,BH16,BJ16,BL16,BN16,BP16,BR16,BT16,BV16,BX16,BZ16,CB16,CD16)","v":15},{"$f":"[1]E_Annual!E15","v":10},{"$f":"[1]E_Annual!F15","v":15},{"$f":"[1]E_Annual!G15","v":0},{"$f":"[1]E_Annual!H15","v":0},{"$f":"[1]E_Annual!I15","v":0},{"$f":"[1]E_Annual!J15","v":0},{"$f":"[1]E_Annual!K15","v":0},{"$f":"[1]E_Annual!L15","v":0},{"$f":"[1]E_Annual!M15","v":0},{"$f":"[1]E_Annual!N15","v":0},{"$f":"[1]E_Annual!O15","v":0},{"$f":"[1]E_Annual!P15","v":0},{"$f":"[1]E_Annual!Q15","v":0},{"$f":"[1]E_Annual!R15","v":0},{"$f":"[1]E_Annual!S15","v":0},{"$f":"[1]E_Annual!T15","v":0},{"$f":"[1]E_Annual!U15","v":0},{"$f":"[1]E_Annual!V15","v":0},{"$f":"[1]E_Annual!W15","v":0},{"$f":"[1]E_Annual!X15","v":0},{"$f":"[1]E_Annual!Y15","v":0},{"$f":"[1]E_Annual!Z15","v":0},{"$f":"[1]E_Annual!AA15","v":0},{"$f":"[1]E_Annual!AB15","v":0},{"$f":"[1]E_Annual!AC15","v":0},{"$f":"[1]E_Annual!AD15","v":0},{"$f":"[1]E_Annual!AE15","v":0},{"$f":"[1]E_Annual!AF15","v":0},{"$f":"[1]E_Annual!AG15","v":0},{"$f":"[1]E_Annual!AH15","v":0},{"$f":"[1]E_Annual!AI15","v":0},{"$f":"[1]E_Annual!AJ15","v":0},{"$f":"[1]E_Annual!AK15","v":0},{"$f":"[1]E_Annual!AL15","v":0},{"$f":"[1]E_Annual!AM15","v":0},{"$f":"[1]E_Annual!AN15","v":0},{"$f":"[1]E_Annual!AO15","v":0},{"$f":"[1]E_Annual!AP15","v":0},{"$f":"[1]E_Annual!AQ15","v":0},{"$f":"[1]E_Annual!AR15","v":0},{"$f":"[1]E_Annual!AS15","v":0},{"$f":"[1]E_Annual!AT15","v":0},{"$f":"[1]E_Annual!AU15","v":0},{"$f":"[1]E_Annual!AV15","v":0},{"$f":"[1]E_Annual!AW15","v":0},{"$f":"[1]E_Annual!AX15","v":0},{"$f":"[1]E_Annual!AZ15","v":0},{"$f":"[1]E_Annual!AZ15","v":0},{"$f":"[1]E_Annual!BA15","v":0},{"$f":"[1]E_Annual!BB15","v":0},{"$f":"[1]E_Annual!BC15","v":0},{"$f":"[1]E_Annual!BD15","v":0},{"$f":"[1]E_Annual!BE15","v":0},{"$f":"[1]E_Annual!BF15","v":0},{"$f":"[1]E_Annual!BG15","v":0},{"$f":"[1]E_Annual!BH15","v":0},{"$f":"[1]E_Annual!BI15","v":0},{"$f":"[1]E_Annual!BJ15","v":0},{"$f":"[1]E_Annual!BK15","v":0},{"$f":"[1]E_Annual!BL15","v":0},{"$f":"[1]E_Annual!BM15","v":0},{"$f":"[1]E_Annual!BN15","v":0},{"$f":"[1]E_Annual!BO15","v":0},{"$f":"[1]E_Annual!BP15","v":0},{"$f":"[1]E_Annual!BQ15","v":0},{"$f":"[1]E_Annual!BR15","v":0},{"$f":"[1]E_Annual!BS15","v":0},{"$f":"[1]E_Annual!BT15","v":0},{"$f":"[1]E_Annual!BU15","v":0},{"$f":"[1]E_Annual!BV15","v":0},{"$f":"[1]E_Annual!BW15","v":0},{"$f":"[1]E_Annual!BX15","v":0},{"$f":"[1]E_Annual!BY15","v":0},{"$f":"[1]E_Annual!BZ15","v":0},{"$f":"[1]E_Annual!CA15","v":0},{"$f":"[1]E_Annual!CB15","v":0},{"$f":"[1]E_Annual!CC15","v":0},{"$f":"[1]E_Annual!CD15","v":0}]
[2,null,{"$f":"SUM(E17,G17,I17,K17,M17,O17,Q17,S17,U17,W17,Y17,AA17,AC17,AE17,AG17,AI17,AK17,AM17,AO17,AQ17,AS17,AU17,AW17,AY17,BA17,BC17,BE17,BG17,BI17,BK17,BM17,BO17,BQ17,BS17,BU17,BW17,BY17,CA17,CC17)","v":0},{"$f":"SUM(F17,H17,J17,L17,N17,P17,R17,T17,V17,X17,Z17,AB17,AD17,AF17,AH17,AJ17,AL17,AN17,AP17,AR17,AT17,AV17,AX17,AZ17,BB17,BD17,BF17,BH17,BJ17,BL17,BN17,BP17,BR17,BT17,BV17,BX17,BZ17,CB17,CD17)","v":0}]
[3,null,0,{"$f":"SUM(F18,H18,J18,L18,N18,P18,R18,T18,V18,X18,Z18,AB18,AD18,AF18,AH18,AJ18,AL18,AN18,AP18,AR18,AT18,AV18,AX18,AZ18,BB18,BD18,BF18,BH18,BJ18,BL18,BN18,BP18,BR18,BT18,BV18,BX18,BZ18,CB18,CD18)","v":0}]
[4,null,0,0]
[5,null,0,0]
[6,null,0,0]
[7,null,0,0]
[8,null,0,0]
[9,null,0,0]
[10,null,0,0]
[11,null,0,0]
[12,null,0,0]
[13,null,0,0]
[14,null,0,0]
[15,null,0,0]
[16,null,0,0]
[17,null,0,0]
[18,null,0,0]
[19,null,0,0]
[20,null,0,0]
[21,null,0,0]
[22,null,0,0]
[23,null,0,0]
[24,null,0,0]
[25,null,0,0]
[26,null,0,0]
[27,null,0,0]
[28,null,0,0]
[29,null,0,0]
[30,null,0,0]
[31,null,0,0]
[32,null,0,0]
[33,null,0,0]
[34,null,0,0]
[35,null,0,0]
[36,null,0,0]
[37,null,0,0]
[38,null,0,0]
[39,null,0,0]
[40,null,0,0]
[41,null,0,0]
[42,null,0,0]
[43,null,0,0]
[44,null,0,0]
[45,null,0,0]
[46,null,0,0]
[47,null,0,0]
[48,null,0,0]
[49,null,0,0]
[50,null,0,0]
[51,null,0,0]
[52,null,0,0]
[53,null,0,0]
[54,null,0,0]
[55,null,0,0]
[56,null,0,0]
[57,null,0,0]
[58,null,0,0]
[59,null,0,0]
[60,null,0,0]
[61,null,0,0]
[62,null,0,0]
[63,null,0,0]
[64,null,0,0]
[65,null,0,0]
[66,null,{"$f":"SUM(E81,G81,I81,K81,M81,O81,Q81,S81,U81,W81,Y81,AA81,AC81,AE81,AG81,AI81,AK81,AM81,AO81,AQ81,AS81,AU81,AW81,AY81,BA81,BC81,BE81,BG81,BI81,BK81,BM81,BO81,BQ81,BS81,BU81,BW81,BY81,CA81,CC81)","v":0},{"$f":"SUM(F81,H81,J81,L81,N81,P81,R81,T81,V81,X81,Z81,AB81,AD81,AF81,AH81,AJ81,AL81,AN81,AP81,AR81,AT81,AV81,AX81,AZ81,BB81,BD81,BF81,BH81,BJ81,BL81,BN81,BP81,BR81,BT81,BV81,BX81,BZ81,CB81,CD81)","v":0}]
[67,null,0,0]
[68,null,0,0]
[69,null,0,0]
[70,null,0,0]
[71,null,0,0]
[72,null,0,0]
[73,null,0,0]
[74,null,0,0]
[75,null,0,0]
[76,null,0,0]
[77,null,0,0]
[78,null,0,0]
[79,null,0,0]
[80,null,0,0]
[81,null,0,0]
[82,null,0,0]
[83,null,0,0]
[84,null,0,0]
[85,null,0,0]
[86,null,0,0]
[87,null,0,0]
[88,null,0,0]
[89,null,0,0]
[90,null,0,0]
[91,null,0,0]
[92,null,0,0]
[93,null,0,0]
[94,null,0,0]
[95,null,0,0]
[96,null,0,0]
[97,null,0,0]
[98,null,0,0]
[99,null,0,0]
[100,null,0,0]
[]
["​​ -បានបពា្ឈប់របាយការណ៍ត្រឹមលេខរៀងទីៈ .......................។"]
["​ -បានបពា្ឈប់របាយការណ៍ត្រឹមទឹកបា្រក់ចំនួន(សរសេរជាអក្សរ​) ......................................... ។"]
["                                                     "]
[null,null,null,null,null,null,null,null,null,null,null,null,null,null,null,null,null,null,null,null,null,null,null,null,null,null,null,null,null,null,null,null,null,null,"                   .......................... ថ្ងៃទី       ខែ         ឆ្នាំ២០........"]
[null,null,null,null,null,null,null,null,null,null,null,null,null,null,null,null,null,null,null,null,null,null,null,null,null,null,null,null,null,null,null,null,null,null,null,null,null,null,"មន្រ្តីទទួលបន្ឨុកគណនេយ្យ",null,null,null,null,null,null,null,null,null,null,null,null,null,null,null,null,null,null,null,null,null,null,null,null,null,null,null,null,null,null,null,null,null,null,null,"មន្រ្តីទទួលបន្ឨុកគណនេយ្យ"]

{"sheet":"P_Annual","index":26,"n_rows":121,"n_cols":82,"rows_kept":121,"cut":false,"hidden":true,"merged":[[11,74,11,75],[11,14,11,15],[11,16,11,17],[11,18,11,19],[11,42,11,43],[11,44,11,45],[11,40,11,41],[11,20,11,21],[11,72,11,73],[11,64,11,65],[14,0,14,1],[11,46,11,47],[11,48,11,49],[11,60,11,61],[11,62,11,63],[11,52,11,53],[11,54,11,55],[11,56,11,57],[11,58,11,59],[10,4,10,41],[10,42,10,71],[10,72,10,75],[10,76,10,81],[10,0,13,0],[10,1,13,1],[10,2,12,2],[10,3,12,3],[11,4,11,5],[11,6,11,7],[11,8,11,9],[11,10,11,11],[11,12,11,13],[11,76,11,77],[11,78,11,79],[11,80,11,81],[5,0,5,6],[6,0,6,6],[11,66,11,67],[11,68,11,69],[11,70,11,71],[11,32,11,33],[11,34,11,35],[11,36,11,37],[11,38,11,39],[11,50,11,51],[11,22,11,23],[11,24,11,25],[11,26,11,27],[11,28,11,29],[11,30,11,31],[8,0,8,81]]}
[]
[]
[]
[]
[]
["មន្ទីរអប់រំ យុវជន​ និងកីឡារាជធានី ខេត្ត..........."]
["ការិយាល័យអប់រំ យុវជន​ និងកីឡាក្រុង ស្រុក ខណ្ឌ........"]
[]
[{"$f":"CONCATENATE(\"សរុបរបាយការណ៍ទូទាត់ចំណាយថវិការបស់មត្តេយ្យសិក្សាសម្រាប់ដំណើរការសាលារៀនសាធារណៈប្រចាំត្រីមាសទី\",IF(Create!$G$7=1,\"១\",IF(Create!$G$7=2,\"២\",IF(Create!$G$7=\"៣\",\"៤\"))),\" ឆ្នាំ២០១៨\")","v":"សរុបរបាយការណ៍ទូទាត់ចំណាយថវិការបស់មត្តេយ្យសិក្សាសម្រាប់ដំណើរការសាលារៀនសាធារណៈប្រចាំត្រីមាសទីFALSE ឆ្នាំ២០១៨"}]
[]
["ល.រ","ឈ្មោះសាលា","ឥណទាន\nដើមឆ្នាំ","ឥណទាន\nកែតម្រូវ","ជំពូក ៦០",null,null,null,null,null,null,null,null,null,null,null,null,null,null,null,null,null,null,null,null,null,null,null,null,null,null,null,null,null,null,null,null,null,null,null,null,null,"ជំពូក ៦១",null,null,null,null,null,null,null,null,null,null,null,null,null,null,null,null,null,null,null,null,null,null,null,null,null,null,null,null,null,"ជំពូក ៦៤",null,null,null,"ជំពូក ៦២"]
[null,null,null,null,60011,null,60012,null,60013,null,60014,null,60021,null,60022,null,60023,null,60031,null,60032,null,60033,null,60035,null,60041,null,60051,null,60052,null,60053,null,60055,null,60061,null,60062,null,60068,null,61011,null,61012,null,61021,null,61051,null,61052,null,61053,null,61054,null,61057,null,61071,null,61081,null,61101,null,61102,null,61103,null,61141,null,61142,null,64023,null,64033,null,62024,null,62025,null,62028]
[null,null,null,null,"ដើមឆ្នាំ","កែតម្រូវ","ដើមឆ្នាំ","កែតម្រូវ","ដើមឆ្នាំ","កែតម្រូវ","ដើមឆ្នាំ","កែតម្រូវ","ដើមឆ្នាំ","កែតម្រូវ","ដើមឆ្នាំ","កែតម្រូវ","ដើមឆ្នាំ","កែតម្រូវ","ដើមឆ្នាំ","កែតម្រូវ","ដើមឆ្នាំ","កែតម្រូវ","ដើមឆ្នាំ","កែតម្រូវ","ដើមឆ្នាំ","កែតម្រូវ","ដើមឆ្នាំ","កែតម្រូវ","ដើមឆ្នាំ","កែតម្រូវ","ដើមឆ្នាំ","កែតម្រូវ","ដើមឆ្នាំ","កែតម្រូវ","ដើមឆ្នាំ","កែតម្រូវ","ដើមឆ្នាំ","កែតម្រូវ","ដើមឆ្នាំ","កែតម្រូវ","ដើមឆ្នាំ","កែតម្រូវ","ដើមឆ្នាំ","កែតម្រូវ","ដើមឆ្នាំ","កែតម្រូវ","ដើមឆ្នាំ","កែតម្រូវ","ដើមឆ្នាំ","កែតម្រូវ","ដើមឆ្នាំ","កែតម្រូវ","ដើមឆ្នាំ","កែតម្រូវ","ដើមឆ្នាំ","កែតម្រូវ","ដើមឆ្នាំ","កែតម្រូវ","ដើមឆ្នាំ","កែតម្រូវ","ដើមឆ្នាំ","កែតម្រូវ","ដើមឆ្នាំ","កែតម្រូវ","ដើមឆ្នាំ","កែតម្រូវ","ដើមឆ្នាំ","កែតម្រូវ","ដើមឆ្នាំ","កែតម្រូវ","ដើមឆ្នាំ","កែតម្រូវ","ដើមឆ្នាំ","កែតម្រូវ","ដើមឆ្នាំ","កែតម្រូវ","ដើមឆ្នាំ","កែតម្រូវ","ដើមឆ្នាំ","កែតម្រូវ","ដើមឆ្នាំ","កែតម្រូវ"]
[null,null,1,2,3,4,6,7,9,10,12,13,15,16,18,19,21,22,24,25,27,28,30,31,33,34,36,37,39,40,42,43,45,46,48,49,51,52,54,55,57,58,63,64,66,67,69,70,72,73,75,76,78,79,81,82,84,85,87,88,90,91,93,94,96,97,99,100,102,103,105,106,111,112,114,115,120,121,123,124,126,127]
["សរុប",null,{"$f":"SUM(C16:C115)","v":0},{"$f":"SUM(D16:D115)","v":0},10,15,0,0,0,0,0,0,0,0,0,0,0,0,0,0,0,0,0,0,0,0,0,0,0,0,0,0,0,0,0,0,0,0,0,0,0,0,0,0,0,0,0,0,0,0,0,0,0,0,0,0,0,0,0,0,0,0,0,0,0,0,0,{"$f":"SUM(BP16:BP115)","v":0},0,0,0,0,0,0,0,0,0,0,0,0,0,0]
[1,{"$f":"[1]P_Annual!A7","v":"ការិយាល័យអប់រំ យុវជន​ និងកីឡាក្រុង ស្រុក ខណ្ឌ........"},null,null,{"$f":"[1]P_Annual!E15","v":10},{"$f":"[1]P_Annual!F15","v":15},{"$f":"[1]P_Annual!G15","v":0},{"$f":"[1]P_Annual!H15","v":0},{"$f":"[1]P_Annual!I15","v":0},{"$f":"[1]P_Annual!J15","v":0},{"$f":"[1]P_Annual!K15","v":0},{"$f":"[1]P_Annual!L15","v":0},{"$f":"[1]P_Annual!M15","v":0},{"$f":"[1]P_Annual!N15","v":0},{"$f":"[1]P_Annual!O15","v":0},{"$f":"[1]P_Annual!P15","v":0},{"$f":"[1]P_Annual!Q15","v":0},{"$f":"[1]P_Annual!R15","v":0},{"$f":"[1]P_Annual!S15","v":0},{"$f":"[1]P_Annual!T15","v":0},{"$f":"[1]P_Annual!U15","v":0},{"$f":"[1]P_Annual!V15","v":0},{"$f":"[1]P_Annual!W15","v":0},{"$f":"[1]P_Annual!X15","v":0},{"$f":"[1]P_Annual!Y15","v":0},{"$f":"[1]P_Annual!Z15","v":0},{"$f":"[1]P_Annual!AA15","v":0},{"$f":"[1]P_Annual!AB15","v":0},{"$f":"[1]P_Annual!AC15","v":0},{"$f":"[1]P_Annual!AD15","v":0},{"$f":"[1]P_Annual!AE15","v":0},{"$f":"[1]P_Annual!AF15","v":0},{"$f":"[1]P_Annual!AG15","v":0},{"$f":"[1]P_Annual!AH15","v":0},{"$f":"[1]P_Annual!AI15","v":0},{"$f":"[1]P_Annual!AJ15","v":0},{"$f":"[1]P_Annual!AK15","v":0},{"$f":"[1]P_Annual!AL15","v":0},{"$f":"[1]P_Annual!AM15","v":0},{"$f":"[1]P_Annual!AN15","v":0},{"$f":"[1]P_Annual!AO15","v":0},{"$f":"[1]P_Annual!AP15","v":0},{"$f":"[1]P_Annual!AQ15","v":0},{"$f":"[1]P_Annual!AR15","v":0},{"$f":"[1]P_Annual!AS15","v":0},{"$f":"[1]P_Annual!AT15","v":0},{"$f":"[1]P_Annual!AU15","v":0},{"$f":"[1]P_Annual!AV15","v":0},{"$f":"[1]P_Annual!AW15","v":0},{"$f":"[1]P_Annual!AX15","v":0},{"$f":"[1]P_Annual!AZ15","v":0},{"$f":"[1]P_Annual!AZ15","v":0},{"$f":"[1]P_Annual!BA15","v":0},{"$f":"[1]P_Annual!BB15","v":0},{"$f":"[1]P_Annual!BC15","v":0},{"$f":"[1]P_Annual!BD15","v":0},{"$f":"[1]P_Annual!BE15","v":0},{"$f":"[1]P_Annual!BF15","v":0},{"$f":"[1]P_Annual!BG15","v":0},{"$f":"[1]P_Annual!BH15","v":0},{"$f":"[1]P_Annual!BI15","v":0},{"$f":"[1]P_Annual!BJ15","v":0},{"$f":"[1]P_Annual!BK15","v":0},{"$f":"[1]P_Annual!BL15","v":0},{"$f":"[1]P_Annual!BM15","v":0},{"$f":"[1]P_Annual!BN15","v":0},{"$f":"[1]P_Annual!BO15","v":0},{"$f":"[1]P_Annual!BP15","v":0},{"$f":"[1]P_Annual!BQ15","v":0},{"$f":"[1]P_Annual!BR15","v":0},{"$f":"[1]P_Annual!BS15","v":0},{"$f":"[1]P_Annual!BT15","v":0},{"$f":"[1]P_Annual!BU15","v":0},{"$f":"[1]P_Annual!BV15","v":0},{"$f":"[1]P_Annual!BW15","v":0},{"$f":"[1]P_Annual!BX15","v":0},{"$f":"[1]P_Annual!BY15","v":0},{"$f":"[1]P_Annual!BZ15","v":0},{"$f":"[1]P_Annual!CA15","v":0},{"$f":"[1]P_Annual!CB15","v":0},{"$f":"[1]P_Annual!CC15","v":0},{"$f":"[1]P_Annual!CD15","v":0}]
[2]
[3]
[4]
[5]
[6]
[7]
[8]
[9]
[10]
[11]
[12]
[13]
[14]
[15]
[16]
[17]
[18]
[19]
[20]
[21]
[22]
[23]
[24]
[25]
[26]
[27]
[28]
[29]
[30]
[31]
[32]
[33]
[34]
[35]
[36]
[37]
[38]
[39]
[40]
[41]
[42]
[43]
[44]
[45]
[46]
[47]
[48]
[49]
[50]
[51]
[52]
[53]
[54]
[55]
[56]
[57]
[58]
[59]
[60]
[61]
[62]
[63]
[64]
[65]
[66]
[67]
[68]
[69]
[70]
[71]
[72]
[73]
[74]
[75]
[76]
[77]
[78]
[79]
[80]
[81]
[82]
[83]
[84]
[85]
[86]
[87]
[88]
[89]
[90]
[91]
[92]
[93]
[94]
[95]
[96]
[97]
[98]
[99]
[100]
[]
["​​ -បានបពា្ឈប់របាយការណ៍ត្រឹមលេខរៀងទីៈ .......................។"]
["​ -បានបពា្ឈប់របាយការណ៍ត្រឹមទឹកបា្រក់ចំនួន(សរសេរជាអក្សរ​) ......................................... ។"]
["                                                     "]
[null,null,null,null,null,null,null,null,null,null,null,null,null,null,null,null,null,null,null,null,null,null,null,null,null,null,null,null,null,null,null,null,null,null,"                   .......................... ថ្ងៃទី       ខែ         ឆ្នាំ២០........"]
[null,null,null,null,null,null,null,null,null,null,null,null,null,null,null,null,null,null,null,null,null,null,null,null,null,null,null,null,null,null,null,null,null,null,null,null,null,null,"មន្រ្តីទទួលបន្ឨុកគណនេយ្យ",null,null,null,null,null,null,null,null,null,null,null,null,null,null,null,null,null,null,null,null,null,null,null,null,null,null,null,null,null,null,null,null,null,null,null,"មន្រ្តីទទួលបន្ឨុកគណនេយ្យ"]

{"sheet":"S_Annual","index":27,"n_rows":121,"n_cols":82,"rows_kept":121,"cut":false,"hidden":true,"merged":[[11,50,11,51],[11,60,11,61],[11,6,11,7],[11,62,11,63],[11,24,11,25],[11,42,11,43],[11,12,11,13],[11,14,11,15],[11,26,11,27],[11,28,11,29],[11,32,11,33],[11,52,11,53],[11,54,11,55],[11,56,11,57],[11,58,11,59],[11,30,11,31],[11,48,11,49],[11,44,11,45],[11,46,11,47],[14,0,14,1],[11,8,11,9],[11,10,11,11],[11,20,11,21],[11,16,11,17],[11,18,11,19],[11,22,11,23],[5,0,5,14],[6,0,6,14],[8,0,8,81],[10,4,10,41],[10,42,10,71],[10,72,10,75],[10,76,10,81],[10,0,13,0],[10,1,13,1],[10,2,12,2],[10,3,12,3],[11,4,11,5],[11,34,11,35],[11,36,11,37],[11,38,11,39],[11,40,11,41],[11,74,11,75],[11,76,11,77],[11,64,11,65],[11,78,11,79],[11,80,11,81],[11,72,11,73],[11,70,11,71],[11,68,11,69],[11,66,11,67]]}
[]
[]
[]
[null,null,null,null,null,null,null,null,null,null,null,null,null,null,null,null,null,null,null,null,null,null,null,null,null,null,null,null,null,null,null,null,null,null,null,null,null,null,null,null,null,null,null,null,null,null,null,null,null,null,null,null,null,null,null,null,null,null,null,null,null,null,null,null,null,null,null,null,null,null,null,null,null,null,null,null,"        ព្រះរាជាណាចក្រកម្ពុជា"]
[null,null,null,null,null,null,null,null,null,null,null,null,null,null,null,null,null,null,null,null,null,null,null,null,null,null,null,null,null,null,null,null,null,null,null,null,null,null,null,null,null,null,null,null,null,null,null,null,null,null,null,null,null,null,null,null,null,null,null,null,null,null,null,null,null,null,null,null,null,null,null,null,null,null,null,null,"    ជាតិ សាសនា ព្រះមហាក្សត្រ"]
["មន្ទីរអប់រំ យុវជន​ និងកីឡារាជធានី ខេត្ត..........."]
["ការិយាល័យអប់រំ យុវជន​ និងកីឡាក្រុង ស្រុក ខណ្ឌ........"]
[]
[{"$f":"CONCATENATE(\"សរុបរបាយការណ៍ទូទាត់ចំណាយថវិការបស់មត្តេយ្យសិក្សាសម្រាប់ដំណើរការសាលារៀនសាធារណៈប្រចាំត្រីមាសទី\",IF(Create!$G$7=1,\"១\",IF(Create!$G$7=2,\"២\",IF(Create!$G$7=\"៣\",\"៤\"))),\" ឆ្នាំ២០១៨\")","v":"សរុបរបាយការណ៍ទូទាត់ចំណាយថវិការបស់មត្តេយ្យសិក្សាសម្រាប់ដំណើរការសាលារៀនសាធារណៈប្រចាំត្រីមាសទីFALSE ឆ្នាំ២០១៨"}]
[]
["ល.រ","ឈ្មោះសាលា","ឥណទាន\nដើមឆ្នាំ","ឥណទាន\nកែតម្រូវ","ជំពូក ៦០",null,null,null,null,null,null,null,null,null,null,null,null,null,null,null,null,null,null,null,null,null,null,null,null,null,null,null,null,null,null,null,null,null,null,null,null,null,"ជំពូក ៦១",null,null,null,null,null,null,null,null,null,null,null,null,null,null,null,null,null,null,null,null,null,null,null,null,null,null,null,null,null,"ជំពូក ៦៤",null,null,null,"ជំពូក ៦២"]
[null,null,null,null,60011,null,60012,null,60013,null,60014,null,60021,null,60022,null,60023,null,60031,null,60032,null,60033,null,60035,null,60041,null,60051,null,60052,null,60053,null,60055,null,60061,null,60062,null,60068,null,61011,null,61012,null,61021,null,61051,null,61052,null,61053,null,61054,null,61057,null,61071,null,61081,null,61101,null,61102,null,61103,null,61141,null,61142,null,64023,null,64033,null,62024,null,62025,null,62028]
[null,null,null,null,"ដើមឆ្នាំ","កែតម្រូវ","ដើមឆ្នាំ","កែតម្រូវ","ដើមឆ្នាំ","កែតម្រូវ","ដើមឆ្នាំ","កែតម្រូវ","ដើមឆ្នាំ","កែតម្រូវ","ដើមឆ្នាំ","កែតម្រូវ","ដើមឆ្នាំ","កែតម្រូវ","ដើមឆ្នាំ","កែតម្រូវ","ដើមឆ្នាំ","កែតម្រូវ","ដើមឆ្នាំ","កែតម្រូវ","ដើមឆ្នាំ","កែតម្រូវ","ដើមឆ្នាំ","កែតម្រូវ","ដើមឆ្នាំ","កែតម្រូវ","ដើមឆ្នាំ","កែតម្រូវ","ដើមឆ្នាំ","កែតម្រូវ","ដើមឆ្នាំ","កែតម្រូវ","ដើមឆ្នាំ","កែតម្រូវ","ដើមឆ្នាំ","កែតម្រូវ","ដើមឆ្នាំ","កែតម្រូវ","ដើមឆ្នាំ","កែតម្រូវ","ដើមឆ្នាំ","កែតម្រូវ","ដើមឆ្នាំ","កែតម្រូវ","ដើមឆ្នាំ","កែតម្រូវ","ដើមឆ្នាំ","កែតម្រូវ","ដើមឆ្នាំ","កែតម្រូវ","ដើមឆ្នាំ","កែតម្រូវ","ដើមឆ្នាំ","កែតម្រូវ","ដើមឆ្នាំ","កែតម្រូវ","ដើមឆ្នាំ","កែតម្រូវ","ដើមឆ្នាំ","កែតម្រូវ","ដើមឆ្នាំ","កែតម្រូវ","ដើមឆ្នាំ","កែតម្រូវ","ដើមឆ្នាំ","កែតម្រូវ","ដើមឆ្នាំ","កែតម្រូវ","ដើមឆ្នាំ","កែតម្រូវ","ដើមឆ្នាំ","កែតម្រូវ","ដើមឆ្នាំ","កែតម្រូវ","ដើមឆ្នាំ","កែតម្រូវ","ដើមឆ្នាំ","កែតម្រូវ"]
[null,null,1,2,3,4,6,7,9,10,12,13,15,16,18,19,21,22,24,25,27,28,30,31,33,34,36,37,39,40,42,43,45,46,48,49,51,52,54,55,57,58,63,64,66,67,69,70,72,73,75,76,78,79,81,82,84,85,87,88,90,91,93,94,96,97,99,100,102,103,105,106,111,112,114,115,120,121,123,124,126,127]
["សរុប",null,{"$f":"SUM(C16:C115)","v":0},{"$f":"SUM(D16:D115)","v":0},10,15,0,0,0,0,0,0,0,0,0,0,0,0,0,0,0,0,0,0,0,0,0,0,0,0,0,0,0,0,0,0,0,0,0,0,0,0,0,0,0,0,0,0,0,0,0,0,0,0,0,0,0,0,0,0,0,0,0,0,0,0,0,{"$f":"SUM(BP16:BP115)","v":0},0,0,0,0,0,0,0,0,0,0,0,0,0,0]
[1,{"$f":"[1]S_Annual!A7","v":"ការិយាល័យអប់រំ យុវជន​ និងកីឡាក្រុង ស្រុក ខណ្ឌ........"},null,null,{"$f":"[1]S_Annual!E15","v":10},{"$f":"[1]S_Annual!F15","v":15},{"$f":"[1]S_Annual!G15","v":0},{"$f":"[1]S_Annual!H15","v":0},{"$f":"[1]S_Annual!I15","v":0},{"$f":"[1]S_Annual!J15","v":0},{"$f":"[1]S_Annual!K15","v":0},{"$f":"[1]S_Annual!L15","v":0},{"$f":"[1]S_Annual!M15","v":0},{"$f":"[1]S_Annual!N15","v":0},{"$f":"[1]S_Annual!O15","v":0},{"$f":"[1]S_Annual!P15","v":0},{"$f":"[1]S_Annual!Q15","v":0},{"$f":"[1]S_Annual!R15","v":0},{"$f":"[1]S_Annual!S15","v":0},{"$f":"[1]S_Annual!T15","v":0},{"$f":"[1]S_Annual!U15","v":0},{"$f":"[1]S_Annual!V15","v":0},{"$f":"[1]S_Annual!W15","v":0},{"$f":"[1]S_Annual!X15","v":0},{"$f":"[1]S_Annual!Y15","v":0},{"$f":"[1]S_Annual!Z15","v":0},{"$f":"[1]S_Annual!AA15","v":0},{"$f":"[1]S_Annual!AB15","v":0},{"$f":"[1]S_Annual!AC15","v":0},{"$f":"[1]S_Annual!AD15","v":0},{"$f":"[1]S_Annual!AE15","v":0},{"$f":"[1]S_Annual!AF15","v":0},{"$f":"[1]S_Annual!AG15","v":0},{"$f":"[1]S_Annual!AH15","v":0},{"$f":"[1]S_Annual!AI15","v":0},{"$f":"[1]S_Annual!AJ15","v":0},{"$f":"[1]S_Annual!AK15","v":0},{"$f":"[1]S_Annual!AL15","v":0},{"$f":"[1]S_Annual!AM15","v":0},{"$f":"[1]S_Annual!AN15","v":0},{"$f":"[1]S_Annual!AO15","v":0},{"$f":"[1]S_Annual!AP15","v":0},{"$f":"[1]S_Annual!AQ15","v":0},{"$f":"[1]S_Annual!AR15","v":0},{"$f":"[1]S_Annual!AS15","v":0},{"$f":"[1]S_Annual!AT15","v":0},{"$f":"[1]S_Annual!AU15","v":0},{"$f":"[1]S_Annual!AV15","v":0},{"$f":"[1]S_Annual!AW15","v":0},{"$f":"[1]S_Annual!AX15","v":0},{"$f":"[1]S_Annual!AZ15","v":0},{"$f":"[1]S_Annual!AZ15","v":0},{"$f":"[1]S_Annual!BA15","v":0},{"$f":"[1]S_Annual!BB15","v":0},{"$f":"[1]S_Annual!BC15","v":0},{"$f":"[1]S_Annual!BD15","v":0},{"$f":"[1]S_Annual!BE15","v":0},{"$f":"[1]S_Annual!BF15","v":0},{"$f":"[1]S_Annual!BG15","v":0},{"$f":"[1]S_Annual!BH15","v":0},{"$f":"[1]S_Annual!BI15","v":0},{"$f":"[1]S_Annual!BJ15","v":0},{"$f":"[1]S_Annual!BK15","v":0},{"$f":"[1]S_Annual!BL15","v":0},{"$f":"[1]S_Annual!BM15","v":0},{"$f":"[1]S_Annual!BN15","v":0},{"$f":"[1]S_Annual!BO15","v":0},{"$f":"[1]S_Annual!BP15","v":0},{"$f":"[1]S_Annual!BQ15","v":0},{"$f":"[1]S_Annual!BR15","v":0},{"$f":"[1]S_Annual!BS15","v":0},{"$f":"[1]S_Annual!BT15","v":0},{"$f":"[1]S_Annual!BU15","v":0},{"$f":"[1]S_Annual!BV15","v":0},{"$f":"[1]S_Annual!BW15","v":0},{"$f":"[1]S_Annual!BX15","v":0},{"$f":"[1]S_Annual!BY15","v":0},{"$f":"[1]S_Annual!BZ15","v":0},{"$f":"[1]S_Annual!CA15","v":0},{"$f":"[1]S_Annual!CB15","v":0},{"$f":"[1]S_Annual!CC15","v":0},{"$f":"[1]S_Annual!CD15","v":0}]
[2]
[3]
[4]
[5]
[6]
[7]
[8]
[9]
[10]
[11]
[12]
[13]
[14]
[15]
[16]
[17]
[18]
[19]
[20]
[21]
[22]
[23]
[24]
[25]
[26]
[27]
[28]
[29]
[30]
[31]
[32]
[33]
[34]
[35]
[36]
[37]
[38]
[39]
[40]
[41]
[42]
[43]
[44]
[45]
[46]
[47]
[48]
[49]
[50]
[51]
[52]
[53]
[54]
[55]
[56]
[57]
[58]
[59]
[60]
[61]
[62]
[63]
[64]
[65]
[66]
[67]
[68]
[69]
[70]
[71]
[72]
[73]
[74]
[75]
[76]
[77]
[78]
[79]
[80]
[81]
[82]
[83]
[84]
[85]
[86]
[87]
[88]
[89]
[90]
[91]
[92]
[93]
[94]
[95]
[96]
[97]
[98]
[99]
[100]
[]
["​​ -បានបពា្ឈប់របាយការណ៍ត្រឹមលេខរៀងទីៈ .......................។"]
["​ -បានបពា្ឈប់របាយការណ៍ត្រឹមទឹកបា្រក់ចំនួន(សរសេរជាអក្សរ​) ......................................... ។"]
["                                                     "]
[null,null,null,null,null,null,null,null,null,null,null,null,null,null,null,null,null,null,null,null,null,null,null,null,null,null,null,null,null,null,null,null,null,null,"                   .......................... ថ្ងៃទី       ខែ         ឆ្នាំ២០........"]
[null,null,null,null,null,null,null,null,null,null,null,null,null,null,null,null,null,null,null,null,null,null,null,null,null,null,null,null,null,null,null,null,null,null,null,null,null,null,"មន្រ្តីទទួលបន្ឨុកគណនេយ្យ",null,null,null,null,null,null,null,null,null,null,null,null,null,null,null,null,null,null,null,null,null,null,null,null,null,null,null,null,null,null,null,null,null,null,null,"មន្រ្តីទទួលបន្ឨុកគណនេយ្យ"]

{"sheet":"H_Annual","index":28,"n_rows":121,"n_cols":82,"rows_kept":121,"cut":false,"hidden":true,"merged":[[11,50,11,51],[11,60,11,61],[11,6,11,7],[11,62,11,63],[11,24,11,25],[11,42,11,43],[11,12,11,13],[11,14,11,15],[11,26,11,27],[11,28,11,29],[11,32,11,33],[11,52,11,53],[11,54,11,55],[11,56,11,57],[11,58,11,59],[11,30,11,31],[11,48,11,49],[11,44,11,45],[11,46,11,47],[14,0,14,1],[11,8,11,9],[11,10,11,11],[11,20,11,21],[11,16,11,17],[11,18,11,19],[11,22,11,23],[5,0,5,14],[6,0,6,14],[8,0,8,81],[10,4,10,41],[10,42,10,71],[10,72,10,75],[10,76,10,81],[10,0,13,0],[10,1,13,1],[10,2,12,2],[10,3,12,3],[11,4,11,5],[11,34,11,35],[11,36,11,37],[11,38,11,39],[11,40,11,41],[11,74,11,75],[11,76,11,77],[11,64,11,65],[11,78,11,79],[11,80,11,81],[11,72,11,73],[11,70,11,71],[11,68,11,69],[11,66,11,67]]}
[]
[]
[]
[null,null,null,null,null,null,null,null,null,null,null,null,null,null,null,null,null,null,null,null,null,null,null,null,null,null,null,null,null,null,null,null,null,null,null,null,null,null,null,null,null,null,null,null,null,null,null,null,null,null,null,null,null,null,null,null,null,null,null,null,null,null,null,null,null,null,null,null,null,null,null,null,null,null,null,null,"        ព្រះរាជាណាចក្រកម្ពុជា"]
[null,null,null,null,null,null,null,null,null,null,null,null,null,null,null,null,null,null,null,null,null,null,null,null,null,null,null,null,null,null,null,null,null,null,null,null,null,null,null,null,null,null,null,null,null,null,null,null,null,null,null,null,null,null,null,null,null,null,null,null,null,null,null,null,null,null,null,null,null,null,null,null,null,null,null,null,"    ជាតិ សាសនា ព្រះមហាក្សត្រ"]
["មន្ទីរអប់រំ យុវជន​ និងកីឡារាជធានី ខេត្ត..........."]
["ការិយាល័យអប់រំ យុវជន​ និងកីឡាក្រុង ស្រុក ខណ្ឌ........"]
[]
[{"$f":"CONCATENATE(\"សរុបរបាយការណ៍ទូទាត់ចំណាយថវិការបស់មត្តេយ្យសិក្សាសម្រាប់ដំណើរការសាលារៀនសាធារណៈប្រចាំត្រីមាសទី\",IF(Create!$G$7=1,\"១\",IF(Create!$G$7=2,\"២\",IF(Create!$G$7=\"៣\",\"៤\"))),\" ឆ្នាំ២០១៨\")","v":"សរុបរបាយការណ៍ទូទាត់ចំណាយថវិការបស់មត្តេយ្យសិក្សាសម្រាប់ដំណើរការសាលារៀនសាធារណៈប្រចាំត្រីមាសទីFALSE ឆ្នាំ២០១៨"}]
[]
["ល.រ","ឈ្មោះសាលា","ឥណទាន\nដើមឆ្នាំ","ឥណទាន\nកែតម្រូវ","ជំពូក ៦០",null,null,null,null,null,null,null,null,null,null,null,null,null,null,null,null,null,null,null,null,null,null,null,null,null,null,null,null,null,null,null,null,null,null,null,null,null,"ជំពូក ៦១",null,null,null,null,null,null,null,null,null,null,null,null,null,null,null,null,null,null,null,null,null,null,null,null,null,null,null,null,null,"ជំពូក ៦៤",null,null,null,"ជំពូក ៦២"]
[null,null,null,null,60011,null,60012,null,60013,null,60014,null,60021,null,60022,null,60023,null,60031,null,60032,null,60033,null,60035,null,60041,null,60051,null,60052,null,60053,null,60055,null,60061,null,60062,null,60068,null,61011,null,61012,null,61021,null,61051,null,61052,null,61053,null,61054,null,61057,null,61071,null,61081,null,61101,null,61102,null,61103,null,61141,null,61142,null,64023,null,64033,null,62024,null,62025,null,62028]
[null,null,null,null,"ដើមឆ្នាំ","កែតម្រូវ","ដើមឆ្នាំ","កែតម្រូវ","ដើមឆ្នាំ","កែតម្រូវ","ដើមឆ្នាំ","កែតម្រូវ","ដើមឆ្នាំ","កែតម្រូវ","ដើមឆ្នាំ","កែតម្រូវ","ដើមឆ្នាំ","កែតម្រូវ","ដើមឆ្នាំ","កែតម្រូវ","ដើមឆ្នាំ","កែតម្រូវ","ដើមឆ្នាំ","កែតម្រូវ","ដើមឆ្នាំ","កែតម្រូវ","ដើមឆ្នាំ","កែតម្រូវ","ដើមឆ្នាំ","កែតម្រូវ","ដើមឆ្នាំ","កែតម្រូវ","ដើមឆ្នាំ","កែតម្រូវ","ដើមឆ្នាំ","កែតម្រូវ","ដើមឆ្នាំ","កែតម្រូវ","ដើមឆ្នាំ","កែតម្រូវ","ដើមឆ្នាំ","កែតម្រូវ","ដើមឆ្នាំ","កែតម្រូវ","ដើមឆ្នាំ","កែតម្រូវ","ដើមឆ្នាំ","កែតម្រូវ","ដើមឆ្នាំ","កែតម្រូវ","ដើមឆ្នាំ","កែតម្រូវ","ដើមឆ្នាំ","កែតម្រូវ","ដើមឆ្នាំ","កែតម្រូវ","ដើមឆ្នាំ","កែតម្រូវ","ដើមឆ្នាំ","កែតម្រូវ","ដើមឆ្នាំ","កែតម្រូវ","ដើមឆ្នាំ","កែតម្រូវ","ដើមឆ្នាំ","កែតម្រូវ","ដើមឆ្នាំ","កែតម្រូវ","ដើមឆ្នាំ","កែតម្រូវ","ដើមឆ្នាំ","កែតម្រូវ","ដើមឆ្នាំ","កែតម្រូវ","ដើមឆ្នាំ","កែតម្រូវ","ដើមឆ្នាំ","កែតម្រូវ","ដើមឆ្នាំ","កែតម្រូវ","ដើមឆ្នាំ","កែតម្រូវ"]
[null,null,1,2,3,4,6,7,9,10,12,13,15,16,18,19,21,22,24,25,27,28,30,31,33,34,36,37,39,40,42,43,45,46,48,49,51,52,54,55,57,58,63,64,66,67,69,70,72,73,75,76,78,79,81,82,84,85,87,88,90,91,93,94,96,97,99,100,102,103,105,106,111,112,114,115,120,121,123,124,126,127]
["សរុប",null,{"$f":"SUM(C16:C115)","v":242},{"$f":"SUM(D16:D115)","v":242},0,0,0,0,0,0,0,0,0,0,0,0,0,0,0,0,0,0,0,0,0,0,0,0,0,0,0,0,0,0,0,0,0,0,0,0,0,0,0,0,0,0,0,0,0,0,0,0,0,0,0,0,0,0,0,0,0,0,0,0,0,0,0,{"$f":"SUM(BP16:BP115)","v":0},0,0,0,0,0,0,0,0,0,0,0,0,0,0]
[1,{"$f":"[1]H_Annual!A7","v":"ការិយាល័យអប់រំ យុវជន​ និងកីឡាក្រុង ស្រុក ខណ្ឌ........"},75,75,{"$f":"[1]H_Annual!E15","v":0},{"$f":"[1]H_Annual!F15","v":0},{"$f":"[1]H_Annual!G15","v":0},{"$f":"[1]H_Annual!H15","v":0},{"$f":"[1]H_Annual!I15","v":0},{"$f":"[1]H_Annual!J15","v":0},{"$f":"[1]H_Annual!K15","v":0},{"$f":"[1]H_Annual!L15","v":0},{"$f":"[1]H_Annual!M15","v":0},{"$f":"[1]H_Annual!N15","v":0},{"$f":"[1]H_Annual!O15","v":0},{"$f":"[1]H_Annual!P15","v":0},{"$f":"[1]H_Annual!Q15","v":0},{"$f":"[1]H_Annual!R15","v":0},{"$f":"[1]H_Annual!S15","v":0},{"$f":"[1]H_Annual!T15","v":0},{"$f":"[1]H_Annual!U15","v":0},{"$f":"[1]H_Annual!V15","v":0},{"$f":"[1]H_Annual!W15","v":0},{"$f":"[1]H_Annual!X15","v":0},{"$f":"[1]H_Annual!Y15","v":0},{"$f":"[1]H_Annual!Z15","v":0},{"$f":"[1]H_Annual!AA15","v":0},{"$f":"[1]H_Annual!AB15","v":0},{"$f":"[1]H_Annual!AC15","v":0},{"$f":"[1]H_Annual!AD15","v":0},{"$f":"[1]H_Annual!AE15","v":0},{"$f":"[1]H_Annual!AF15","v":0},{"$f":"[1]H_Annual!AG15","v":0},{"$f":"[1]H_Annual!AH15","v":0},{"$f":"[1]H_Annual!AI15","v":0},{"$f":"[1]H_Annual!AJ15","v":0},{"$f":"[1]H_Annual!AK15","v":0},{"$f":"[1]H_Annual!AL15","v":0},{"$f":"[1]H_Annual!AM15","v":0},{"$f":"[1]H_Annual!AN15","v":0},{"$f":"[1]H_Annual!AO15","v":0},{"$f":"[1]H_Annual!AP15","v":0},{"$f":"[1]H_Annual!AQ15","v":0},{"$f":"[1]H_Annual!AR15","v":0},{"$f":"[1]H_Annual!AS15","v":0},{"$f":"[1]H_Annual!AT15","v":0},{"$f":"[1]H_Annual!AU15","v":0},{"$f":"[1]H_Annual!AV15","v":0},{"$f":"[1]H_Annual!AW15","v":0},{"$f":"[1]H_Annual!AX15","v":0},{"$f":"[1]H_Annual!AZ15","v":0},{"$f":"[1]H_Annual!AZ15","v":0},{"$f":"[1]H_Annual!BA15","v":0},{"$f":"[1]H_Annual!BB15","v":0},{"$f":"[1]H_Annual!BC15","v":0},{"$f":"[1]H_Annual!BD15","v":0},{"$f":"[1]H_Annual!BE15","v":0},{"$f":"[1]H_Annual!BF15","v":0},{"$f":"[1]H_Annual!BG15","v":0},{"$f":"[1]H_Annual!BH15","v":0},{"$f":"[1]H_Annual!BI15","v":0},{"$f":"[1]H_Annual!BJ15","v":0},{"$f":"[1]H_Annual!BK15","v":0},{"$f":"[1]H_Annual!BL15","v":0},{"$f":"[1]H_Annual!BM15","v":0},{"$f":"[1]H_Annual!BN15","v":0},{"$f":"[1]H_Annual!BO15","v":0},{"$f":"[1]H_Annual!BP15","v":0},{"$f":"[1]H_Annual!BQ15","v":0},{"$f":"[1]H_Annual!BR15","v":0},{"$f":"[1]H_Annual!BS15","v":0},{"$f":"[1]H_Annual!BT15","v":0},{"$f":"[1]H_Annual!BU15","v":0},{"$f":"[1]H_Annual!BV15","v":0},{"$f":"[1]H_Annual!BW15","v":0},{"$f":"[1]H_Annual!BX15","v":0},{"$f":"[1]H_Annual!BY15","v":0},{"$f":"[1]H_Annual!BZ15","v":0},{"$f":"[1]H_Annual!CA15","v":0},{"$f":"[1]H_Annual!CB15","v":0},{"$f":"[1]H_Annual!CC15","v":0},{"$f":"[1]H_Annual!CD15","v":0}]
[2,null,11,11]
[3,null,12,12]
[4,null,13,13]
[5,null,14,14]
[6,null,15,15]
[7,null,16,16]
[8,null,17,17]
[9,null,18,18]
[10,null,2,2]
[11,null,20,20]
[12,null,5,5]
[13,null,7,7]
[14,null,8,8]
[15,null,9,9]
[16]
[17]
[18]
[19]
[20]
[21]
[22]
[23]
[24]
[25]
[26]
[27]
[28]
[29]
[30]
[31]
[32]
[33]
[34]
[35]
[36]
[37]
[38]
[39]
[40]
[41]
[42]
[43]
[44]
[45]
[46]
[47]
[48]
[49]
[50]
[51]
[52]
[53]
[54]
[55]
[56]
[57]
[58]
[59]
[60]
[61]
[62]
[63]
[64]
[65]
[66]
[67]
[68]
[69]
[70]
[71]
[72]
[73]
[74]
[75]
[76]
[77]
[78]
[79]
[80]
[81]
[82]
[83]
[84]
[85]
[86]
[87]
[88]
[89]
[90]
[91]
[92]
[93]
[94]
[95]
[96]
[97]
[98]
[99]
[100]
[]
["​​ -បានបពា្ឈប់របាយការណ៍ត្រឹមលេខរៀងទីៈ .......................។"]
["​ -បានបពា្ឈប់របាយការណ៍ត្រឹមទឹកបា្រក់ចំនួន(សរសេរជាអក្សរ​) ......................................... ។"]
["                                                     "]
[null,null,null,null,null,null,null,null,null,null,null,null,null,null,null,null,null,null,null,null,null,null,null,null,null,null,null,null,null,null,null,null,null,null,"                   .......................... ថ្ងៃទី       ខែ         ឆ្នាំ២០........"]
[null,null,null,null,null,null,null,null,null,null,null,null,null,null,null,null,null,null,null,null,null,null,null,null,null,null,null,null,null,null,null,null,null,null,null,null,null,null,"មន្រ្តីទទួលបន្ឨុកគណនេយ្យ",null,null,null,null,null,null,null,null,null,null,null,null,null,null,null,null,null,null,null,null,null,null,null,null,null,null,null,null,null,null,null,null,null,null,null,"មន្រ្តីទទួលបន្ឨុកគណនេយ្យ"]

{"sheet":"RB_Annual","index":29,"n_rows":121,"n_cols":82,"rows_kept":121,"cut":false,"hidden":true,"merged":[[11,70,11,71],[11,30,11,31],[11,22,11,23],[11,24,11,25],[11,26,11,27],[11,28,11,29],[11,32,11,33],[11,34,11,35],[11,52,11,53],[11,54,11,55],[11,56,11,57],[11,36,11,37],[11,38,11,39],[11,40,11,41],[14,0,14,1],[11,12,11,13],[11,14,11,15],[11,16,11,17],[11,18,11,19],[5,0,5,14],[6,0,6,14],[8,0,8,81],[10,4,10,41],[10,42,10,71],[10,72,10,75],[10,76,10,81],[10,0,13,0],[10,1,13,1],[10,2,12,2],[10,3,12,3],[11,4,11,5],[11,6,11,7],[11,8,11,9],[11,10,11,11],[11,20,11,21],[11,78,11,79],[11,80,11,81],[11,42,11,43],[11,44,11,45],[11,46,11,47],[11,48,11,49],[11,50,11,51],[11,58,11,59],[11,60,11,61],[11,62,11,63],[11,64,11,65],[11,66,11,67],[11,68,11,69],[11,72,11,73],[11,74,11,75],[11,76,11,77]]}
[]
[]
[]
[null,null,null,null,null,null,null,null,null,null,null,null,null,null,null,null,null,null,null,null,null,null,null,null,null,null,null,null,null,null,null,null,null,null,null,null,null,null,null,null,null,null,null,null,null,null,null,null,null,null,null,null,null,null,null,null,null,null,null,null,null,null,null,null,null,null,null,null,null,null,null,null,null,null,null,null,"        ព្រះរាជាណាចក្រកម្ពុជា"]
[null,null,null,null,null,null,null,null,null,null,null,null,null,null,null,null,null,null,null,null,null,null,null,null,null,null,null,null,null,null,null,null,null,null,null,null,null,null,null,null,null,null,null,null,null,null,null,null,null,null,null,null,null,null,null,null,null,null,null,null,null,null,null,null,null,null,null,null,null,null,null,null,null,null,null,null,"    ជាតិ សាសនា ព្រះមហាក្សត្រ"]
["មន្ទីរអប់រំ យុវជន​ និងកីឡារាជធានី ខេត្ត..........."]
["ការិយាល័យអប់រំ យុវជន​ និងកីឡាក្រុង ស្រុក ខណ្ឌ........"]
[]
[{"$f":"CONCATENATE(\"សរុបរបាយការណ៍ទូទាត់ចំណាយថវិការបស់មត្តេយ្យសិក្សាសម្រាប់ដំណើរការសាលារៀនសាធារណៈប្រចាំត្រីមាសទី\",IF(Create!$G$7=1,\"១\",IF(Create!$G$7=2,\"២\",IF(Create!$G$7=\"៣\",\"៤\"))),\" ឆ្នាំ២០១៨\")","v":"សរុបរបាយការណ៍ទូទាត់ចំណាយថវិការបស់មត្តេយ្យសិក្សាសម្រាប់ដំណើរការសាលារៀនសាធារណៈប្រចាំត្រីមាសទីFALSE ឆ្នាំ២០១៨"}]
[]
["ល.រ","ឈ្មោះសាលា","ឥណទាន\nដើមឆ្នាំ","ឥណទាន\nកែតម្រូវ","ជំពូក ៦០",null,null,null,null,null,null,null,null,null,null,null,null,null,null,null,null,null,null,null,null,null,null,null,null,null,null,null,null,null,null,null,null,null,null,null,null,null,"ជំពូក ៦១",null,null,null,null,null,null,null,null,null,null,null,null,null,null,null,null,null,null,null,null,null,null,null,null,null,null,null,null,null,"ជំពូក ៦៤",null,null,null,"ជំពូក ៦២"]
[null,null,null,null,60011,null,60012,null,60013,null,60014,null,60021,null,60022,null,60023,null,60031,null,60032,null,60033,null,60035,null,60041,null,60051,null,60052,null,60053,null,60055,null,60061,null,60062,null,60068,null,61011,null,61012,null,61021,null,61051,null,61052,null,61053,null,61054,null,61057,null,61071,null,61081,null,61101,null,61102,null,61103,null,61141,null,61142,null,64023,null,64033,null,62024,null,62025,null,62028]
[null,null,null,null,"ដើមឆ្នាំ","កែតម្រូវ","ដើមឆ្នាំ","កែតម្រូវ","ដើមឆ្នាំ","កែតម្រូវ","ដើមឆ្នាំ","កែតម្រូវ","ដើមឆ្នាំ","កែតម្រូវ","ដើមឆ្នាំ","កែតម្រូវ","ដើមឆ្នាំ","កែតម្រូវ","ដើមឆ្នាំ","កែតម្រូវ","ដើមឆ្នាំ","កែតម្រូវ","ដើមឆ្នាំ","កែតម្រូវ","ដើមឆ្នាំ","កែតម្រូវ","ដើមឆ្នាំ","កែតម្រូវ","ដើមឆ្នាំ","កែតម្រូវ","ដើមឆ្នាំ","កែតម្រូវ","ដើមឆ្នាំ","កែតម្រូវ","ដើមឆ្នាំ","កែតម្រូវ","ដើមឆ្នាំ","កែតម្រូវ","ដើមឆ្នាំ","កែតម្រូវ","ដើមឆ្នាំ","កែតម្រូវ","ដើមឆ្នាំ","កែតម្រូវ","ដើមឆ្នាំ","កែតម្រូវ","ដើមឆ្នាំ","កែតម្រូវ","ដើមឆ្នាំ","កែតម្រូវ","ដើមឆ្នាំ","កែតម្រូវ","ដើមឆ្នាំ","កែតម្រូវ","ដើមឆ្នាំ","កែតម្រូវ","ដើមឆ្នាំ","កែតម្រូវ","ដើមឆ្នាំ","កែតម្រូវ","ដើមឆ្នាំ","កែតម្រូវ","ដើមឆ្នាំ","កែតម្រូវ","ដើមឆ្នាំ","កែតម្រូវ","ដើមឆ្នាំ","កែតម្រូវ","ដើមឆ្នាំ","កែតម្រូវ","ដើមឆ្នាំ","កែតម្រូវ","ដើមឆ្នាំ","កែតម្រូវ","ដើមឆ្នាំ","កែតម្រូវ","ដើមឆ្នាំ","កែតម្រូវ","ដើមឆ្នាំ","កែតម្រូវ","ដើមឆ្នាំ","កែតម្រូវ"]
[null,null,1,2,3,4,6,7,9,10,12,13,15,16,18,19,21,22,24,25,27,28,30,31,33,34,36,37,39,40,42,43,45,46,48,49,51,52,54,55,57,58,63,64,66,67,69,70,72,73,75,76,78,79,81,82,84,85,87,88,90,91,93,94,96,97,99,100,102,103,105,106,111,112,114,115,120,121,123,124,126,127]
["សរុប",null,{"$f":"SUM(C16:C115)","v":0},{"$f":"SUM(D16:D115)","v":0},0,0,0,0,0,0,0,0,0,0,0,0,0,0,0,0,0,0,0,0,0,0,0,0,0,0,0,0,0,0,0,0,0,0,0,0,0,0,0,0,0,0,0,0,0,0,0,0,0,0,0,0,0,0,0,0,0,0,0,0,0,0,0,{"$f":"SUM(BP16:BP115)","v":0},0,0,0,0,0,0,0,0,0,0,0,0,0,0]
[1,{"$f":"[1]RB_Annual!A7","v":"ការិយាល័យអប់រំ យុវជន​ និងកីឡាក្រុង ស្រុក ខណ្ឌ........"},null,null,{"$f":"[1]RB_Annual!E15","v":0},{"$f":"[1]RB_Annual!F15","v":0},{"$f":"[1]RB_Annual!G15","v":0},{"$f":"[1]RB_Annual!H15","v":0},{"$f":"[1]RB_Annual!I15","v":0},{"$f":"[1]RB_Annual!J15","v":0},{"$f":"[1]RB_Annual!K15","v":0},{"$f":"[1]RB_Annual!L15","v":0},{"$f":"[1]RB_Annual!M15","v":0},{"$f":"[1]RB_Annual!N15","v":0},{"$f":"[1]RB_Annual!O15","v":0},{"$f":"[1]RB_Annual!P15","v":0},{"$f":"[1]RB_Annual!Q15","v":0},{"$f":"[1]RB_Annual!R15","v":0},{"$f":"[1]RB_Annual!S15","v":0},{"$f":"[1]RB_Annual!T15","v":0},{"$f":"[1]RB_Annual!U15","v":0},{"$f":"[1]RB_Annual!V15","v":0},{"$f":"[1]RB_Annual!W15","v":0},{"$f":"[1]RB_Annual!X15","v":0},{"$f":"[1]RB_Annual!Y15","v":0},{"$f":"[1]RB_Annual!Z15","v":0},{"$f":"[1]RB_Annual!AA15","v":0},{"$f":"[1]RB_Annual!AB15","v":0},{"$f":"[1]RB_Annual!AC15","v":0},{"$f":"[1]RB_Annual!AD15","v":0},{"$f":"[1]RB_Annual!AE15","v":0},{"$f":"[1]RB_Annual!AF15","v":0},{"$f":"[1]RB_Annual!AG15","v":0},{"$f":"[1]RB_Annual!AH15","v":0},{"$f":"[1]RB_Annual!AI15","v":0},{"$f":"[1]RB_Annual!AJ15","v":0},{"$f":"[1]RB_Annual!AK15","v":0},{"$f":"[1]RB_Annual!AL15","v":0},{"$f":"[1]RB_Annual!AM15","v":0},{"$f":"[1]RB_Annual!AN15","v":0},{"$f":"[1]RB_Annual!AO15","v":0},{"$f":"[1]RB_Annual!AP15","v":0},{"$f":"[1]RB_Annual!AQ15","v":0},{"$f":"[1]RB_Annual!AR15","v":0},{"$f":"[1]RB_Annual!AS15","v":0},{"$f":"[1]RB_Annual!AT15","v":0},{"$f":"[1]RB_Annual!AU15","v":0},{"$f":"[1]RB_Annual!AV15","v":0},{"$f":"[1]RB_Annual!AW15","v":0},{"$f":"[1]RB_Annual!AX15","v":0},{"$f":"[1]RB_Annual!AZ15","v":0},{"$f":"[1]RB_Annual!AZ15","v":0},{"$f":"[1]RB_Annual!BA15","v":0},{"$f":"[1]RB_Annual!BB15","v":0},{"$f":"[1]RB_Annual!BC15","v":0},{"$f":"[1]RB_Annual!BD15","v":0},{"$f":"[1]RB_Annual!BE15","v":0},{"$f":"[1]RB_Annual!BF15","v":0},{"$f":"[1]RB_Annual!BG15","v":0},{"$f":"[1]RB_Annual!BH15","v":0},{"$f":"[1]RB_Annual!BI15","v":0},{"$f":"[1]RB_Annual!BJ15","v":0},{"$f":"[1]RB_Annual!BK15","v":0},{"$f":"[1]RB_Annual!BL15","v":0},{"$f":"[1]RB_Annual!BM15","v":0},{"$f":"[1]RB_Annual!BN15","v":0},{"$f":"[1]RB_Annual!BO15","v":0},{"$f":"[1]RB_Annual!BP15","v":0},{"$f":"[1]RB_Annual!BQ15","v":0},{"$f":"[1]RB_Annual!BR15","v":0},{"$f":"[1]RB_Annual!BS15","v":0},{"$f":"[1]RB_Annual!BT15","v":0},{"$f":"[1]RB_Annual!BU15","v":0},{"$f":"[1]RB_Annual!BV15","v":0},{"$f":"[1]RB_Annual!BW15","v":0},{"$f":"[1]RB_Annual!BX15","v":0},{"$f":"[1]RB_Annual!BY15","v":0},{"$f":"[1]RB_Annual!BZ15","v":0},{"$f":"[1]RB_Annual!CA15","v":0},{"$f":"[1]RB_Annual!CB15","v":0},{"$f":"[1]RB_Annual!CC15","v":0},{"$f":"[1]RB_Annual!CD15","v":0}]
[2]
[3]
[4]
[5]
[6]
[7]
[8]
[9]
[10]
[11]
[12]
[13]
[14]
[15]
[16]
[17]
[18]
[19]
[20]
[21]
[22]
[23]
[24]
[25]
[26]
[27]
[28]
[29]
[30]
[31]
[32]
[33]
[34]
[35]
[36]
[37]
[38]
[39]
[40]
[41]
[42]
[43]
[44]
[45]
[46]
[47]
[48]
[49]
[50]
[51]
[52]
[53]
[54]
[55]
[56]
[57]
[58]
[59]
[60]
[61]
[62]
[63]
[64]
[65]
[66]
[67]
[68]
[69]
[70]
[71]
[72]
[73]
[74]
[75]
[76]
[77]
[78]
[79]
[80]
[81]
[82]
[83]
[84]
[85]
[86]
[87]
[88]
[89]
[90]
[91]
[92]
[93]
[94]
[95]
[96]
[97]
[98]
[99]
[100]
[]
["​​ -បានបពា្ឈប់របាយការណ៍ត្រឹមលេខរៀងទីៈ .......................។"]
["​ -បានបពា្ឈប់របាយការណ៍ត្រឹមទឹកបា្រក់ចំនួន(សរសេរជាអក្សរ​) ......................................... ។"]
["                                                     "]
[null,null,null,null,null,null,null,null,null,null,null,null,null,null,null,null,null,null,null,null,null,null,null,null,null,null,null,null,null,null,null,null,null,null,"                   .......................... ថ្ងៃទី       ខែ         ឆ្នាំ២០........"]
[null,null,null,null,null,null,null,null,null,null,null,null,null,null,null,null,null,null,null,null,null,null,null,null,null,null,null,null,null,null,null,null,null,null,null,null,null,null,"មន្រ្តីទទួលបន្ឨុកគណនេយ្យ",null,null,null,null,null,null,null,null,null,null,null,null,null,null,null,null,null,null,null,null,null,null,null,null,null,null,null,null,null,null,null,null,null,null,null,"មន្រ្តីទទួលបន្ឨុកគណនេយ្យ"]

{"sheet":"T_Annual","index":30,"n_rows":121,"n_cols":82,"rows_kept":121,"cut":false,"hidden":true,"merged":[[11,50,11,51],[11,60,11,61],[11,6,11,7],[11,62,11,63],[11,24,11,25],[11,42,11,43],[11,12,11,13],[11,14,11,15],[11,26,11,27],[11,28,11,29],[11,32,11,33],[11,52,11,53],[11,54,11,55],[11,56,11,57],[11,58,11,59],[11,30,11,31],[11,48,11,49],[11,44,11,45],[11,46,11,47],[14,0,14,1],[11,8,11,9],[11,10,11,11],[11,20,11,21],[11,16,11,17],[11,18,11,19],[11,22,11,23],[5,0,5,14],[6,0,6,14],[8,0,8,81],[10,4,10,41],[10,42,10,71],[10,72,10,75],[10,76,10,81],[10,0,13,0],[10,1,13,1],[10,2,12,2],[10,3,12,3],[11,4,11,5],[11,34,11,35],[11,36,11,37],[11,38,11,39],[11,40,11,41],[11,74,11,75],[11,76,11,77],[11,64,11,65],[11,78,11,79],[11,80,11,81],[11,72,11,73],[11,70,11,71],[11,68,11,69],[11,66,11,67]]}
[]
[]
[]
[null,null,null,null,null,null,null,null,null,null,null,null,null,null,null,null,null,null,null,null,null,null,null,null,null,null,null,null,null,null,null,null,null,null,null,null,null,null,null,null,null,null,null,null,null,null,null,null,null,null,null,null,null,null,null,null,null,null,null,null,null,null,null,null,null,null,null,null,null,null,null,null,null,null,null,null,"        ព្រះរាជាណាចក្រកម្ពុជា"]
[null,null,null,null,null,null,null,null,null,null,null,null,null,null,null,null,null,null,null,null,null,null,null,null,null,null,null,null,null,null,null,null,null,null,null,null,null,null,null,null,null,null,null,null,null,null,null,null,null,null,null,null,null,null,null,null,null,null,null,null,null,null,null,null,null,null,null,null,null,null,null,null,null,null,null,null,"    ជាតិ សាសនា ព្រះមហាក្សត្រ"]
["មន្ទីរអប់រំ យុវជន​ និងកីឡារាជធានី ខេត្ត..........."]
["ការិយាល័យអប់រំ យុវជន​ និងកីឡាក្រុង ស្រុក ខណ្ឌ........"]
[]
[{"$f":"CONCATENATE(\"សរុបរបាយការណ៍ទូទាត់ចំណាយថវិការបស់មត្តេយ្យសិក្សាសម្រាប់ដំណើរការសាលារៀនសាធារណៈប្រចាំត្រីមាសទី\",IF(Create!$G$7=1,\"១\",IF(Create!$G$7=2,\"២\",IF(Create!$G$7=\"៣\",\"៤\"))),\" ឆ្នាំ២០១៨\")","v":"សរុបរបាយការណ៍ទូទាត់ចំណាយថវិការបស់មត្តេយ្យសិក្សាសម្រាប់ដំណើរការសាលារៀនសាធារណៈប្រចាំត្រីមាសទីFALSE ឆ្នាំ២០១៨"}]
[]
["ល.រ","ឈ្មោះសាលា","ឥណទាន\nដើមឆ្នាំ","ឥណទាន\nកែតម្រូវ","ជំពូក ៦០",null,null,null,null,null,null,null,null,null,null,null,null,null,null,null,null,null,null,null,null,null,null,null,null,null,null,null,null,null,null,null,null,null,null,null,null,null,"ជំពូក ៦១",null,null,null,null,null,null,null,null,null,null,null,null,null,null,null,null,null,null,null,null,null,null,null,null,null,null,null,null,null,"ជំពូក ៦៤",null,null,null,"ជំពូក ៦២"]
[null,null,null,null,60011,null,60012,null,60013,null,60014,null,60021,null,60022,null,60023,null,60031,null,60032,null,60033,null,60035,null,60041,null,60051,null,60052,null,60053,null,60055,null,60061,null,60062,null,60068,null,61011,null,61012,null,61021,null,61051,null,61052,null,61053,null,61054,null,61057,null,61071,null,61081,null,61101,null,61102,null,61103,null,61141,null,61142,null,64023,null,64033,null,62024,null,62025,null,62028]
[null,null,null,null,"ដើមឆ្នាំ","កែតម្រូវ","ដើមឆ្នាំ","កែតម្រូវ","ដើមឆ្នាំ","កែតម្រូវ","ដើមឆ្នាំ","កែតម្រូវ","ដើមឆ្នាំ","កែតម្រូវ","ដើមឆ្នាំ","កែតម្រូវ","ដើមឆ្នាំ","កែតម្រូវ","ដើមឆ្នាំ","កែតម្រូវ","ដើមឆ្នាំ","កែតម្រូវ","ដើមឆ្នាំ","កែតម្រូវ","ដើមឆ្នាំ","កែតម្រូវ","ដើមឆ្នាំ","កែតម្រូវ","ដើមឆ្នាំ","កែតម្រូវ","ដើមឆ្នាំ","កែតម្រូវ","ដើមឆ្នាំ","កែតម្រូវ","ដើមឆ្នាំ","កែតម្រូវ","ដើមឆ្នាំ","កែតម្រូវ","ដើមឆ្នាំ","កែតម្រូវ","ដើមឆ្នាំ","កែតម្រូវ","ដើមឆ្នាំ","កែតម្រូវ","ដើមឆ្នាំ","កែតម្រូវ","ដើមឆ្នាំ","កែតម្រូវ","ដើមឆ្នាំ","កែតម្រូវ","ដើមឆ្នាំ","កែតម្រូវ","ដើមឆ្នាំ","កែតម្រូវ","ដើមឆ្នាំ","កែតម្រូវ","ដើមឆ្នាំ","កែតម្រូវ","ដើមឆ្នាំ","កែតម្រូវ","ដើមឆ្នាំ","កែតម្រូវ","ដើមឆ្នាំ","កែតម្រូវ","ដើមឆ្នាំ","កែតម្រូវ","ដើមឆ្នាំ","កែតម្រូវ","ដើមឆ្នាំ","កែតម្រូវ","ដើមឆ្នាំ","កែតម្រូវ","ដើមឆ្នាំ","កែតម្រូវ","ដើមឆ្នាំ","កែតម្រូវ","ដើមឆ្នាំ","កែតម្រូវ","ដើមឆ្នាំ","កែតម្រូវ","ដើមឆ្នាំ","កែតម្រូវ"]
[null,null,1,2,3,4,6,7,9,10,12,13,15,16,18,19,21,22,24,25,27,28,30,31,33,34,36,37,39,40,42,43,45,46,48,49,51,52,54,55,57,58,63,64,66,67,69,70,72,73,75,76,78,79,81,82,84,85,87,88,90,91,93,94,96,97,99,100,102,103,105,106,111,112,114,115,120,121,123,124,126,127]
["សរុប",null,{"$f":"SUM(C16:C115)","v":75},{"$f":"SUM(D16:D115)","v":75},10,15,0,0,0,0,0,0,0,0,0,0,0,0,0,0,0,0,0,0,0,0,0,0,0,0,0,0,0,0,0,0,0,0,0,0,0,0,0,0,0,0,0,0,0,0,0,0,0,0,0,0,0,0,0,0,0,0,0,0,0,0,0,{"$f":"SUM(BP16:BP115)","v":0},0,0,0,0,0,0,0,0,0,0,0,0,0,0]
[1,{"$f":"[1]T_Annual!A7","v":"ការិយាល័យអប់រំ យុវជន​ និងកីឡាក្រុង ស្រុក ខណ្ឌ........"},75,75,{"$f":"[1]T_Annual!E15","v":10},{"$f":"[1]T_Annual!F15","v":15},{"$f":"[1]T_Annual!G15","v":0},{"$f":"[1]T_Annual!H15","v":0},{"$f":"[1]T_Annual!I15","v":0},{"$f":"[1]T_Annual!J15","v":0},{"$f":"[1]T_Annual!K15","v":0},{"$f":"[1]T_Annual!L15","v":0},{"$f":"[1]T_Annual!M15","v":0},{"$f":"[1]T_Annual!N15","v":0},{"$f":"[1]T_Annual!O15","v":0},{"$f":"[1]T_Annual!P15","v":0},{"$f":"[1]T_Annual!Q15","v":0},{"$f":"[1]T_Annual!R15","v":0},{"$f":"[1]T_Annual!S15","v":0},{"$f":"[1]T_Annual!T15","v":0},{"$f":"[1]T_Annual!U15","v":0},{"$f":"[1]T_Annual!V15","v":0},{"$f":"[1]T_Annual!W15","v":0},{"$f":"[1]T_Annual!X15","v":0},{"$f":"[1]T_Annual!Y15","v":0},{"$f":"[1]T_Annual!Z15","v":0},{"$f":"[1]T_Annual!AA15","v":0},{"$f":"[1]T_Annual!AB15","v":0},{"$f":"[1]T_Annual!AC15","v":0},{"$f":"[1]T_Annual!AD15","v":0},{"$f":"[1]T_Annual!AE15","v":0},{"$f":"[1]T_Annual!AF15","v":0},{"$f":"[1]T_Annual!AG15","v":0},{"$f":"[1]T_Annual!AH15","v":0},{"$f":"[1]T_Annual!AI15","v":0},{"$f":"[1]T_Annual!AJ15","v":0},{"$f":"[1]T_Annual!AK15","v":0},{"$f":"[1]T_Annual!AL15","v":0},{"$f":"[1]T_Annual!AM15","v":0},{"$f":"[1]T_Annual!AN15","v":0},{"$f":"[1]T_Annual!AO15","v":0},{"$f":"[1]T_Annual!AP15","v":0},{"$f":"[1]T_Annual!AQ15","v":0},{"$f":"[1]T_Annual!AR15","v":0},{"$f":"[1]T_Annual!AS15","v":0},{"$f":"[1]T_Annual!AT15","v":0},{"$f":"[1]T_Annual!AU15","v":0},{"$f":"[1]T_Annual!AV15","v":0},{"$f":"[1]T_Annual!AW15","v":0},{"$f":"[1]T_Annual!AX15","v":0},{"$f":"[1]T_Annual!AZ15","v":0},{"$f":"[1]T_Annual!AZ15","v":0},{"$f":"[1]T_Annual!BA15","v":0},{"$f":"[1]T_Annual!BB15","v":0},{"$f":"[1]T_Annual!BC15","v":0},{"$f":"[1]T_Annual!BD15","v":0},{"$f":"[1]T_Annual!BE15","v":0},{"$f":"[1]T_Annual!BF15","v":0},{"$f":"[1]T_Annual!BG15","v":0},{"$f":"[1]T_Annual!BH15","v":0},{"$f":"[1]T_Annual!BI15","v":0},{"$f":"[1]T_Annual!BJ15","v":0},{"$f":"[1]T_Annual!BK15","v":0},{"$f":"[1]T_Annual!BL15","v":0},{"$f":"[1]T_Annual!BM15","v":0},{"$f":"[1]T_Annual!BN15","v":0},{"$f":"[1]T_Annual!BO15","v":0},{"$f":"[1]T_Annual!BP15","v":0},{"$f":"[1]T_Annual!BQ15","v":0},{"$f":"[1]T_Annual!BR15","v":0},{"$f":"[1]T_Annual!BS15","v":0},{"$f":"[1]T_Annual!BT15","v":0},{"$f":"[1]T_Annual!BU15","v":0},{"$f":"[1]T_Annual!BV15","v":0},{"$f":"[1]T_Annual!BW15","v":0},{"$f":"[1]T_Annual!BX15","v":0},{"$f":"[1]T_Annual!BY15","v":0},{"$f":"[1]T_Annual!BZ15","v":0},{"$f":"[1]T_Annual!CA15","v":0},{"$f":"[1]T_Annual!CB15","v":0},{"$f":"[1]T_Annual!CC15","v":0},{"$f":"[1]T_Annual!CD15","v":0}]
[2]
[3]
[4]
[5]
[6]
[7]
[8]
[9]
[10]
[11]
[12]
[13]
[14]
[15]
[16]
[17]
[18]
[19]
[20]
[21]
[22]
[23]
[24]
[25]
[26]
[27]
[28]
[29]
[30]
[31]
[32]
[33]
[34]
[35]
[36]
[37]
[38]
[39]
[40]
[41]
[42]
[43]
[44]
[45]
[46]
[47]
[48]
[49]
[50]
[51]
[52]
[53]
[54]
[55]
[56]
[57]
[58]
[59]
[60]
[61]
[62]
[63]
[64]
[65]
[66]
[67]
[68]
[69]
[70]
[71]
[72]
[73]
[74]
[75]
[76]
[77]
[78]
[79]
[80]
[81]
[82]
[83]
[84]
[85]
[86]
[87]
[88]
[89]
[90]
[91]
[92]
[93]
[94]
[95]
[96]
[97]
[98]
[99]
[100]
[]
["​​ -បានបពា្ឈប់របាយការណ៍ត្រឹមលេខរៀងទីៈ .......................។"]
["​ -បានបពា្ឈប់របាយការណ៍ត្រឹមទឹកបា្រក់ចំនួន(សរសេរជាអក្សរ​) ......................................... ។"]
["                                                     "]
[null,null,null,null,null,null,null,null,null,null,null,null,null,null,null,null,null,null,null,null,null,null,null,null,null,null,null,null,null,null,null,null,null,null,"                   .......................... ថ្ងៃទី       ខែ         ឆ្នាំ២០........"]
[null,null,null,null,null,null,null,null,null,null,null,null,null,null,null,null,null,null,null,null,null,null,null,null,null,null,null,null,null,null,null,null,null,null,null,null,null,null,"មន្រ្តីទទួលបន្ឨុកគណនេយ្យ",null,null,null,null,null,null,null,null,null,null,null,null,null,null,null,null,null,null,null,null,null,null,null,null,null,null,null,null,null,null,null,null,null,null,null,"មន្រ្តីទទួលបន្ឨុកគណនេយ្យ"]

{"sheet":"Sch_Annual_Total","index":31,"n_rows":21,"n_cols":82,"rows_kept":21,"cut":false,"hidden":true,"merged":[[11,16,11,17],[11,18,11,19],[10,4,10,41],[14,0,14,1],[11,68,11,69],[11,20,11,21],[11,22,11,23],[11,60,11,61],[11,62,11,63],[11,64,11,65],[11,48,11,49],[11,50,11,51],[11,52,11,53],[11,54,11,55],[11,66,11,67],[11,58,11,59],[11,44,11,45],[11,46,11,47],[11,56,11,57],[11,78,11,79],[11,80,11,81],[11,70,11,71],[11,72,11,73],[11,74,11,75],[11,76,11,77],[11,34,11,35],[11,36,11,37],[11,38,11,39],[11,40,11,41],[11,42,11,43],[11,24,11,25],[11,26,11,27],[11,28,11,29],[11,30,11,31],[11,32,11,33],[4,0,4,5],[5,0,5,5],[10,42,10,71],[10,72,10,75],[10,76,10,81],[8,0,8,31],[10,0,13,0],[10,1,13,1],[10,2,12,2],[10,3,12,3],[11,4,11,5],[11,6,11,7],[11,8,11,9],[11,10,11,11],[11,12,11,13],[11,14,11,15]]}
[]
[]
[]
[]
[{"$f":"Create!G2","v":"ក្រសួងអប់រំ យុវជន និងកីឡា"}]
[{"$f":"Create!G3","v":"បំពេញឈ្មោះទីនេះ"}]
[]
[]
[{"$f":"CONCATENATE(\"ឥណទានដើមឆ្នាំ និងឥណទានកែតម្រូវឆ្នាំ២០១៨\")","v":"ឥណទានដើមឆ្នាំ និងឥណទានកែតម្រូវឆ្នាំ២០១៨"}]
[null,null,null,null,null,null,null,null,null,null,null,null,null,null,null,null,null,null,null,null,null,null,null,null,null,null,null,null,null,null,null,"ឯកតាគិតជា៖ រៀល"]
["ល.រ","ឈ្មោះសាលា","ឥណទាន\nដើមឆ្នាំ","ឥណទាន\nកែតម្រូវ","ជំពូក ៦០",null,null,null,null,null,null,null,null,null,null,null,null,null,null,null,null,null,null,null,null,null,null,null,null,null,null,null,null,null,null,null,null,null,null,null,null,null,"ជំពូក ៦១",null,null,null,null,null,null,null,null,null,null,null,null,null,null,null,null,null,null,null,null,null,null,null,null,null,null,null,null,null,"ជំពូក ៦៤",null,null,null,"ជំពូក ៦២"]
[null,null,null,null,60011,null,60012,null,60013,null,60014,null,60021,null,60022,null,60023,null,60031,null,60032,null,60033,null,60035,null,60041,null,60051,null,60052,null,60053,null,60055,null,60061,null,60062,null,60068,null,61011,null,61012,null,61021,null,61051,null,61052,null,61053,null,61054,null,61057,null,61071,null,61081,null,61101,null,61102,null,61103,null,61141,null,61142,null,64023,null,64033,null,62024,null,62025,null,62028]
[null,null,null,null,"ដើមឆ្នាំ","កែតម្រូវ","ដើមឆ្នាំ","កែតម្រូវ","ដើមឆ្នាំ","កែតម្រូវ","ដើមឆ្នាំ","កែតម្រូវ","ដើមឆ្នាំ","កែតម្រូវ","ដើមឆ្នាំ","កែតម្រូវ","ដើមឆ្នាំ","កែតម្រូវ","ដើមឆ្នាំ","កែតម្រូវ","ដើមឆ្នាំ","កែតម្រូវ","ដើមឆ្នាំ","កែតម្រូវ","ដើមឆ្នាំ","កែតម្រូវ","ដើមឆ្នាំ","កែតម្រូវ","ដើមឆ្នាំ","កែតម្រូវ","ដើមឆ្នាំ","កែតម្រូវ","ដើមឆ្នាំ","កែតម្រូវ","ដើមឆ្នាំ","កែតម្រូវ","ដើមឆ្នាំ","កែតម្រូវ","ដើមឆ្នាំ","កែតម្រូវ","ដើមឆ្នាំ","កែតម្រូវ","ដើមឆ្នាំ","កែតម្រូវ","ដើមឆ្នាំ","កែតម្រូវ","ដើមឆ្នាំ","កែតម្រូវ","ដើមឆ្នាំ","កែតម្រូវ","ដើមឆ្នាំ","កែតម្រូវ","ដើមឆ្នាំ","កែតម្រូវ","ដើមឆ្នាំ","កែតម្រូវ","ដើមឆ្នាំ","កែតម្រូវ","ដើមឆ្នាំ","កែតម្រូវ","ដើមឆ្នាំ","កែតម្រូវ","ដើមឆ្នាំ","កែតម្រូវ","ដើមឆ្នាំ","កែតម្រូវ","ដើមឆ្នាំ","កែតម្រូវ","ដើមឆ្នាំ","កែតម្រូវ","ដើមឆ្នាំ","កែតម្រូវ","ដើមឆ្នាំ","កែតម្រូវ","ដើមឆ្នាំ","កែតម្រូវ","ដើមឆ្នាំ","កែតម្រូវ","ដើមឆ្នាំ","កែតម្រូវ","ដើមឆ្នាំ","កែតម្រូវ"]
[null,null,1,2,3,4,6,7,9,10,12,13,15,16,18,19,21,22,24,25,27,28,30,31,33,34,36,37,39,40,42,43,45,46,48,49,51,52,54,55,57,58,63,64,66,67,69,70,72,73,75,76,78,79,81,82,84,85,87,88,90,91,93,94,96,97,99,100,102,103,105,106,111,112,114,115,120,121,123,124,126,127]
["សរុប",null,{"$f":"SUM(C16:C21)","v":40},{"$f":"SUM(D16:D21)","v":60},40,{"$f":"SUM(F16:F21)","v":60},0,0,0,0,0,0,0,0,0,0,0,0,0,0,0,0,0,0,0,0,0,0,0,0,0,0,0,0,0,0,0,0,0,0,0,0,0,0,0,0,0,0,0,0,0,0,0,0,0,0,0,0,0,0,0,0,0,0,0,0,0,{"$f":"SUM(BP16:BP21)","v":0},0,0,0,0,0,0,0,0,0,0,0,0,0,0]
[1,"សាលាមត្តេយ្យសិក្សា",{"$f":"SUM(E16,G16,I16,K16,M16,O16,Q16,S16,U16,W16,Y16,AA16,AC16,AE16,AG16,AI16,AK16,AM16,AO16,AQ16,AS16,AU16,AW16,AY16,BA16,BC16,BE16,BG16,BI16,BK16,BM16,BO16,BQ16,BS16,BU16,BW16,BY16,CA16,CC16)","v":10},{"$f":"SUM(F16,H16,J16,L16,N16,P16,R16,T16,V16,X16,Z16,AB16,AD16,AF16,AH16,AJ16,AL16,AN16,AP16,AR16,AT16,AV16,AX16,AZ16,BB16,BD16,BF16,BH16,BJ16,BL16,BN16,BP16,BR16,BT16,BV16,BX16,BZ16,CB16,CD16)","v":15},{"$f":"E_Annual!E15","v":10},{"$f":"E_Annual!F15","v":15},{"$f":"E_Annual!G15","v":0},{"$f":"E_Annual!H15","v":0},{"$f":"E_Annual!I15","v":0},{"$f":"E_Annual!J15","v":0},{"$f":"E_Annual!K15","v":0},{"$f":"E_Annual!L15","v":0},{"$f":"E_Annual!M15","v":0},{"$f":"E_Annual!N15","v":0},{"$f":"E_Annual!O15","v":0},{"$f":"E_Annual!P15","v":0},{"$f":"E_Annual!Q15","v":0},{"$f":"E_Annual!R15","v":0},{"$f":"E_Annual!S15","v":0},{"$f":"E_Annual!T15","v":0},{"$f":"E_Annual!U15","v":0},{"$f":"E_Annual!V15","v":0},{"$f":"E_Annual!W15","v":0},{"$f":"E_Annual!X15","v":0},{"$f":"E_Annual!Y15","v":0},{"$f":"E_Annual!Z15","v":0},{"$f":"E_Annual!AA15","v":0},{"$f":"E_Annual!AB15","v":0},{"$f":"E_Annual!AC15","v":0},{"$f":"E_Annual!AD15","v":0},{"$f":"E_Annual!AE15","v":0},{"$f":"E_Annual!AF15","v":0},{"$f":"E_Annual!AG15","v":0},{"$f":"E_Annual!AH15","v":0},{"$f":"E_Annual!AI15","v":0},{"$f":"E_Annual!AJ15","v":0},{"$f":"E_Annual!AK15","v":0},{"$f":"E_Annual!AL15","v":0},{"$f":"E_Annual!AM15","v":0},{"$f":"E_Annual!AN15","v":0},{"$f":"E_Annual!AO15","v":0},{"$f":"E_Annual!AP15","v":0},{"$f":"E_Annual!AQ15","v":0},{"$f":"E_Annual!AR15","v":0},{"$f":"E_Annual!AS15","v":0},{"$f":"E_Annual!AT15","v":0},{"$f":"E_Annual!AU15","v":0},{"$f":"E_Annual!AV15","v":0},{"$f":"E_Annual!AW15","v":0},{"$f":"E_Annual!AX15","v":0},{"$f":"E_Annual!AY15","v":0},{"$f":"E_Annual!AZ15","v":0},{"$f":"E_Annual!BA15","v":0},{"$f":"E_Annual!BB15","v":0},{"$f":"E_Annual!BC15","v":0},{"$f":"E_Annual!BD15","v":0},{"$f":"E_Annual!BE15","v":0},{"$f":"E_Annual!BF15","v":0},{"$f":"E_Annual!BG15","v":0},{"$f":"E_Annual!BH15","v":0},{"$f":"E_Annual!BI15","v":0},{"$f":"E_Annual!BJ15","v":0},{"$f":"E_Annual!BK15","v":0},{"$f":"E_Annual!BL15","v":0},{"$f":"E_Annual!BM15","v":0},{"$f":"E_Annual!BN15","v":0},{"$f":"E_Annual!BO15","v":0},{"$f":"E_Annual!BP15","v":0},{"$f":"E_Annual!BQ15","v":0},{"$f":"E_Annual!BR15","v":0},{"$f":"E_Annual!BS15","v":0},{"$f":"E_Annual!BT15","v":0},{"$f":"E_Annual!BU15","v":0},{"$f":"E_Annual!BV15","v":0},{"$f":"E_Annual!BW15","v":0},{"$f":"E_Annual!BX15","v":0},{"$f":"E_Annual!BY15","v":0},{"$f":"E_Annual!BZ15","v":0},{"$f":"E_Annual!CA15","v":0},{"$f":"E_Annual!CB15","v":0},{"$f":"E_Annual!CC15","v":0},{"$f":"E_Annual!CD15","v":0}]
[2,"សាលាបឋមសិក្សា",{"$f":"SUM(E17,G17,I17,K17,M17,O17,Q17,S17,U17,W17,Y17,AA17,AC17,AE17,AG17,AI17,AK17,AM17,AO17,AQ17,AS17,AU17,AW17,AY17,BA17,BC17,BE17,BG17,BI17,BK17,BM17,BO17,BQ17,BS17,BU17,BW17,BY17,CA17,CC17)","v":10},{"$f":"SUM(F17,H17,J17,L17,N17,P17,R17,T17,V17,X17,Z17,AB17,AD17,AF17,AH17,AJ17,AL17,AN17,AP17,AR17,AT17,AV17,AX17,AZ17,BB17,BD17,BF17,BH17,BJ17,BL17,BN17,BP17,BR17,BT17,BV17,BX17,BZ17,CB17,CD17)","v":15},{"$f":"P_Annual!E15","v":10},{"$f":"P_Annual!F15","v":15},{"$f":"P_Annual!G15","v":0},{"$f":"P_Annual!H15","v":0},{"$f":"P_Annual!I15","v":0},{"$f":"P_Annual!J15","v":0},{"$f":"P_Annual!K15","v":0},{"$f":"P_Annual!L15","v":0},{"$f":"P_Annual!M15","v":0},{"$f":"P_Annual!N15","v":0},{"$f":"P_Annual!O15","v":0},{"$f":"P_Annual!P15","v":0},{"$f":"P_Annual!Q15","v":0},{"$f":"P_Annual!R15","v":0},{"$f":"P_Annual!S15","v":0},{"$f":"P_Annual!T15","v":0},{"$f":"P_Annual!U15","v":0},{"$f":"P_Annual!V15","v":0},{"$f":"P_Annual!W15","v":0},{"$f":"P_Annual!X15","v":0},{"$f":"P_Annual!Y15","v":0},{"$f":"P_Annual!Z15","v":0},{"$f":"P_Annual!AA15","v":0},{"$f":"P_Annual!AB15","v":0},{"$f":"P_Annual!AC15","v":0},{"$f":"P_Annual!AD15","v":0},{"$f":"P_Annual!AE15","v":0},{"$f":"P_Annual!AF15","v":0},{"$f":"P_Annual!AG15","v":0},{"$f":"P_Annual!AH15","v":0},{"$f":"P_Annual!AI15","v":0},{"$f":"P_Annual!AJ15","v":0},{"$f":"P_Annual!AK15","v":0},{"$f":"P_Annual!AL15","v":0},{"$f":"P_Annual!AM15","v":0},{"$f":"P_Annual!AN15","v":0},{"$f":"P_Annual!AO15","v":0},{"$f":"P_Annual!AP15","v":0},{"$f":"P_Annual!AQ15","v":0},{"$f":"P_Annual!AR15","v":0},{"$f":"P_Annual!AS15","v":0},{"$f":"P_Annual!AT15","v":0},{"$f":"P_Annual!AU15","v":0},{"$f":"P_Annual!AV15","v":0},{"$f":"P_Annual!AW15","v":0},{"$f":"P_Annual!AX15","v":0},{"$f":"P_Annual!AY15","v":0},{"$f":"P_Annual!AZ15","v":0},{"$f":"P_Annual!BA15","v":0},{"$f":"P_Annual!BB15","v":0},{"$f":"P_Annual!BC15","v":0},{"$f":"P_Annual!BD15","v":0},{"$f":"P_Annual!BE15","v":0},{"$f":"P_Annual!BF15","v":0},{"$f":"P_Annual!BG15","v":0},{"$f":"P_Annual!BH15","v":0},{"$f":"P_Annual!BI15","v":0},{"$f":"P_Annual!BJ15","v":0},{"$f":"P_Annual!BK15","v":0},{"$f":"P_Annual!BL15","v":0},{"$f":"P_Annual!BM15","v":0},{"$f":"P_Annual!BN15","v":0},{"$f":"P_Annual!BO15","v":0},{"$f":"P_Annual!BP15","v":0},{"$f":"P_Annual!BQ15","v":0},{"$f":"P_Annual!BR15","v":0},{"$f":"P_Annual!BS15","v":0},{"$f":"P_Annual!BT15","v":0},{"$f":"P_Annual!BU15","v":0},{"$f":"P_Annual!BV15","v":0},{"$f":"P_Annual!BW15","v":0},{"$f":"P_Annual!BX15","v":0},{"$f":"P_Annual!BY15","v":0},{"$f":"P_Annual!BZ15","v":0},{"$f":"P_Annual!CA15","v":0},{"$f":"P_Annual!CB15","v":0},{"$f":"P_Annual!CC15","v":0},{"$f":"P_Annual!CD15","v":0}]
[3,"អនុវិទ្យាល័យ",10,15,{"$f":"S_Annual!E15","v":10},{"$f":"S_Annual!F15","v":15},{"$f":"S_Annual!G15","v":0},{"$f":"S_Annual!H15","v":0},{"$f":"S_Annual!I15","v":0},{"$f":"S_Annual!J15","v":0},{"$f":"S_Annual!K15","v":0},{"$f":"S_Annual!L15","v":0},{"$f":"S_Annual!M15","v":0},{"$f":"S_Annual!N15","v":0},{"$f":"S_Annual!O15","v":0},{"$f":"S_Annual!P15","v":0},{"$f":"S_Annual!Q15","v":0},{"$f":"S_Annual!R15","v":0},{"$f":"S_Annual!S15","v":0},{"$f":"S_Annual!T15","v":0},{"$f":"S_Annual!U15","v":0},{"$f":"S_Annual!V15","v":0},{"$f":"S_Annual!W15","v":0},{"$f":"S_Annual!X15","v":0},{"$f":"S_Annual!Y15","v":0},{"$f":"S_Annual!Z15","v":0},{"$f":"S_Annual!AA15","v":0},{"$f":"S_Annual!AB15","v":0},{"$f":"S_Annual!AC15","v":0},{"$f":"S_Annual!AD15","v":0},{"$f":"S_Annual!AE15","v":0},{"$f":"S_Annual!AF15","v":0},{"$f":"S_Annual!AG15","v":0},{"$f":"S_Annual!AH15","v":0},{"$f":"S_Annual!AI15","v":0},{"$f":"S_Annual!AJ15","v":0},{"$f":"S_Annual!AK15","v":0},{"$f":"S_Annual!AL15","v":0},{"$f":"S_Annual!AM15","v":0},{"$f":"S_Annual!AN15","v":0},{"$f":"S_Annual!AO15","v":0},{"$f":"S_Annual!AP15","v":0},{"$f":"S_Annual!AQ15","v":0},{"$f":"S_Annual!AR15","v":0},{"$f":"S_Annual!AS15","v":0},{"$f":"S_Annual!AT15","v":0},{"$f":"S_Annual!AU15","v":0},{"$f":"S_Annual!AV15","v":0},{"$f":"S_Annual!AW15","v":0},{"$f":"S_Annual!AX15","v":0},{"$f":"S_Annual!AY15","v":0},{"$f":"S_Annual!AZ15","v":0},{"$f":"S_Annual!BA15","v":0},{"$f":"S_Annual!BB15","v":0},{"$f":"S_Annual!BC15","v":0},{"$f":"S_Annual!BD15","v":0},{"$f":"S_Annual!BE15","v":0},{"$f":"S_Annual!BF15","v":0},{"$f":"S_Annual!BG15","v":0},{"$f":"S_Annual!BH15","v":0},{"$f":"S_Annual!BI15","v":0},{"$f":"S_Annual!BJ15","v":0},{"$f":"S_Annual!BK15","v":0},{"$f":"S_Annual!BL15","v":0},{"$f":"S_Annual!BM15","v":0},{"$f":"S_Annual!BN15","v":0},{"$f":"S_Annual!BO15","v":0},{"$f":"S_Annual!BP15","v":0},{"$f":"S_Annual!BQ15","v":0},{"$f":"S_Annual!BR15","v":0},{"$f":"S_Annual!BS15","v":0},{"$f":"S_Annual!BT15","v":0},{"$f":"S_Annual!BU15","v":0},{"$f":"S_Annual!BV15","v":0},{"$f":"S_Annual!BW15","v":0},{"$f":"S_Annual!BX15","v":0},{"$f":"S_Annual!BY15","v":0},{"$f":"S_Annual!BZ15","v":0},{"$f":"S_Annual!CA15","v":0},{"$f":"S_Annual!CB15","v":0},{"$f":"S_Annual!CC15","v":0},{"$f":"S_Annual!CD15","v":0}]
[4,"វិទ្យាល័យ",0,0,{"$f":"H_Annual!E15","v":0},{"$f":"H_Annual!F15","v":0},{"$f":"H_Annual!G15","v":0},{"$f":"H_Annual!H15","v":0},{"$f":"H_Annual!I15","v":0},{"$f":"H_Annual!J15","v":0},{"$f":"H_Annual!K15","v":0},{"$f":"H_Annual!L15","v":0},{"$f":"H_Annual!M15","v":0},{"$f":"H_Annual!N15","v":0},{"$f":"H_Annual!O15","v":0},{"$f":"H_Annual!P15","v":0},{"$f":"H_Annual!Q15","v":0},{"$f":"H_Annual!R15","v":0},{"$f":"H_Annual!S15","v":0},{"$f":"H_Annual!T15","v":0},{"$f":"H_Annual!U15","v":0},{"$f":"H_Annual!V15","v":0},{"$f":"H_Annual!W15","v":0},{"$f":"H_Annual!X15","v":0},{"$f":"H_Annual!Y15","v":0},{"$f":"H_Annual!Z15","v":0},{"$f":"H_Annual!AA15","v":0},{"$f":"H_Annual!AB15","v":0},{"$f":"H_Annual!AC15","v":0},{"$f":"H_Annual!AD15","v":0},{"$f":"H_Annual!AE15","v":0},{"$f":"H_Annual!AF15","v":0},{"$f":"H_Annual!AG15","v":0},{"$f":"H_Annual!AH15","v":0},{"$f":"H_Annual!AI15","v":0},{"$f":"H_Annual!AJ15","v":0},{"$f":"H_Annual!AK15","v":0},{"$f":"H_Annual!AL15","v":0},{"$f":"H_Annual!AM15","v":0},{"$f":"H_Annual!AN15","v":0},{"$f":"H_Annual!AO15","v":0},{"$f":"H_Annual!AP15","v":0},{"$f":"H_Annual!AQ15","v":0},{"$f":"H_Annual!AR15","v":0},{"$f":"H_Annual!AS15","v":0},{"$f":"H_Annual!AT15","v":0},{"$f":"H_Annual!AU15","v":0},{"$f":"H_Annual!AV15","v":0},{"$f":"H_Annual!AW15","v":0},{"$f":"H_Annual!AX15","v":0},{"$f":"H_Annual!AY15","v":0},{"$f":"H_Annual!AZ15","v":0},{"$f":"H_Annual!BA15","v":0},{"$f":"H_Annual!BB15","v":0},{"$f":"H_Annual!BC15","v":0},{"$f":"H_Annual!BD15","v":0},{"$f":"H_Annual!BE15","v":0},{"$f":"H_Annual!BF15","v":0},{"$f":"H_Annual!BG15","v":0},{"$f":"H_Annual!BH15","v":0},{"$f":"H_Annual!BI15","v":0},{"$f":"H_Annual!BJ15","v":0},{"$f":"H_Annual!BK15","v":0},{"$f":"H_Annual!BL15","v":0},{"$f":"H_Annual!BM15","v":0},{"$f":"H_Annual!BN15","v":0},{"$f":"H_Annual!BO15","v":0},{"$f":"H_Annual!BP15","v":0},{"$f":"H_Annual!BQ15","v":0},{"$f":"H_Annual!BR15","v":0},{"$f":"H_Annual!BS15","v":0},{"$f":"H_Annual!BT15","v":0},{"$f":"H_Annual!BU15","v":0},{"$f":"H_Annual!BV15","v":0},{"$f":"H_Annual!BW15","v":0},{"$f":"H_Annual!BX15","v":0},{"$f":"H_Annual!BY15","v":0},{"$f":"H_Annual!BZ15","v":0},{"$f":"H_Annual!CA15","v":0},{"$f":"H_Annual!CB15","v":0},{"$f":"H_Annual!CC15","v":0},{"$f":"H_Annual!CD15","v":0}]
[5,"អាគារធនធាន",0,0,{"$f":"RB_Annual!E15","v":0},{"$f":"RB_Annual!F15","v":0},{"$f":"RB_Annual!G15","v":0},{"$f":"RB_Annual!H15","v":0},{"$f":"RB_Annual!I15","v":0},{"$f":"RB_Annual!J15","v":0},{"$f":"RB_Annual!K15","v":0},{"$f":"RB_Annual!L15","v":0},{"$f":"RB_Annual!M15","v":0},{"$f":"RB_Annual!N15","v":0},{"$f":"RB_Annual!O15","v":0},{"$f":"RB_Annual!P15","v":0},{"$f":"RB_Annual!Q15","v":0},{"$f":"RB_Annual!R15","v":0},{"$f":"RB_Annual!S15","v":0},{"$f":"RB_Annual!T15","v":0},{"$f":"RB_Annual!U15","v":0},{"$f":"RB_Annual!V15","v":0},{"$f":"RB_Annual!W15","v":0},{"$f":"RB_Annual!X15","v":0},{"$f":"RB_Annual!Y15","v":0},{"$f":"RB_Annual!Z15","v":0},{"$f":"RB_Annual!AA15","v":0},{"$f":"RB_Annual!AB15","v":0},{"$f":"RB_Annual!AC15","v":0},{"$f":"RB_Annual!AD15","v":0},{"$f":"RB_Annual!AE15","v":0},{"$f":"RB_Annual!AF15","v":0},{"$f":"RB_Annual!AG15","v":0},{"$f":"RB_Annual!AH15","v":0},{"$f":"RB_Annual!AI15","v":0},{"$f":"RB_Annual!AJ15","v":0},{"$f":"RB_Annual!AK15","v":0},{"$f":"RB_Annual!AL15","v":0},{"$f":"RB_Annual!AM15","v":0},{"$f":"RB_Annual!AN15","v":0},{"$f":"RB_Annual!AO15","v":0},{"$f":"RB_Annual!AP15","v":0},{"$f":"RB_Annual!AQ15","v":0},{"$f":"RB_Annual!AR15","v":0},{"$f":"RB_Annual!AS15","v":0},{"$f":"RB_Annual!AT15","v":0},{"$f":"RB_Annual!AU15","v":0},{"$f":"RB_Annual!AV15","v":0},{"$f":"RB_Annual!AW15","v":0},{"$f":"RB_Annual!AX15","v":0},{"$f":"RB_Annual!AY15","v":0},{"$f":"RB_Annual!AZ15","v":0},{"$f":"RB_Annual!BA15","v":0},{"$f":"RB_Annual!BB15","v":0},{"$f":"RB_Annual!BC15","v":0},{"$f":"RB_Annual!BD15","v":0},{"$f":"RB_Annual!BE15","v":0},{"$f":"RB_Annual!BF15","v":0},{"$f":"RB_Annual!BG15","v":0},{"$f":"RB_Annual!BH15","v":0},{"$f":"RB_Annual!BI15","v":0},{"$f":"RB_Annual!BJ15","v":0},{"$f":"RB_Annual!BK15","v":0},{"$f":"RB_Annual!BL15","v":0},{"$f":"RB_Annual!BM15","v":0},{"$f":"RB_Annual!BN15","v":0},{"$f":"RB_Annual!BO15","v":0},{"$f":"RB_Annual!BP15","v":0},{"$f":"RB_Annual!BQ15","v":0},{"$f":"RB_Annual!BR15","v":0},{"$f":"RB_Annual!BS15","v":0},{"$f":"RB_Annual!BT15","v":0},{"$f":"RB_Annual!BU15","v":0},{"$f":"RB_Annual!BV15","v":0},{"$f":"RB_Annual!BW15","v":0},{"$f":"RB_Annual!BX15","v":0},{"$f":"RB_Annual!BY15","v":0},{"$f":"RB_Annual!BZ15","v":0},{"$f":"RB_Annual!CA15","v":0},{"$f":"RB_Annual!CB15","v":0},{"$f":"RB_Annual!CC15","v":0},{"$f":"RB_Annual!CD15","v":0}]
[6,"វិទ្យាល័យបច្ចេកទេស",10,15,{"$f":"T_Annual!E15","v":10},{"$f":"T_Annual!F15","v":15},{"$f":"T_Annual!G15","v":0},{"$f":"T_Annual!H15","v":0},{"$f":"T_Annual!I15","v":0},{"$f":"T_Annual!J15","v":0},{"$f":"T_Annual!K15","v":0},{"$f":"T_Annual!L15","v":0},{"$f":"T_Annual!M15","v":0},{"$f":"T_Annual!N15","v":0},{"$f":"T_Annual!O15","v":0},{"$f":"T_Annual!P15","v":0},{"$f":"T_Annual!Q15","v":0},{"$f":"T_Annual!R15","v":0},{"$f":"T_Annual!S15","v":0},{"$f":"T_Annual!T15","v":0},{"$f":"T_Annual!U15","v":0},{"$f":"T_Annual!V15","v":0},{"$f":"T_Annual!W15","v":0},{"$f":"T_Annual!X15","v":0},{"$f":"T_Annual!Y15","v":0},{"$f":"T_Annual!Z15","v":0},{"$f":"T_Annual!AA15","v":0},{"$f":"T_Annual!AB15","v":0},{"$f":"T_Annual!AC15","v":0},{"$f":"T_Annual!AD15","v":0},{"$f":"T_Annual!AE15","v":0},{"$f":"T_Annual!AF15","v":0},{"$f":"T_Annual!AG15","v":0},{"$f":"T_Annual!AH15","v":0},{"$f":"T_Annual!AI15","v":0},{"$f":"T_Annual!AJ15","v":0},{"$f":"T_Annual!AK15","v":0},{"$f":"T_Annual!AL15","v":0},{"$f":"T_Annual!AM15","v":0},{"$f":"T_Annual!AN15","v":0},{"$f":"T_Annual!AO15","v":0},{"$f":"T_Annual!AP15","v":0},{"$f":"T_Annual!AQ15","v":0},{"$f":"T_Annual!AR15","v":0},{"$f":"T_Annual!AS15","v":0},{"$f":"T_Annual!AT15","v":0},{"$f":"T_Annual!AU15","v":0},{"$f":"T_Annual!AV15","v":0},{"$f":"T_Annual!AW15","v":0},{"$f":"T_Annual!AX15","v":0},{"$f":"T_Annual!AY15","v":0},{"$f":"T_Annual!AZ15","v":0},{"$f":"T_Annual!BA15","v":0},{"$f":"T_Annual!BB15","v":0},{"$f":"T_Annual!BC15","v":0},{"$f":"T_Annual!BD15","v":0},{"$f":"T_Annual!BE15","v":0},{"$f":"T_Annual!BF15","v":0},{"$f":"T_Annual!BG15","v":0},{"$f":"T_Annual!BH15","v":0},{"$f":"T_Annual!BI15","v":0},{"$f":"T_Annual!BJ15","v":0},{"$f":"T_Annual!BK15","v":0},{"$f":"T_Annual!BL15","v":0},{"$f":"T_Annual!BM15","v":0},{"$f":"T_Annual!BN15","v":0},{"$f":"T_Annual!BO15","v":0},{"$f":"T_Annual!BP15","v":0},{"$f":"T_Annual!BQ15","v":0},{"$f":"T_Annual!BR15","v":0},{"$f":"T_Annual!BS15","v":0},{"$f":"T_Annual!BT15","v":0},{"$f":"T_Annual!BU15","v":0},{"$f":"T_Annual!BV15","v":0},{"$f":"T_Annual!BW15","v":0},{"$f":"T_Annual!BX15","v":0},{"$f":"T_Annual!BY15","v":0},{"$f":"T_Annual!BZ15","v":0},{"$f":"T_Annual!CA15","v":0},{"$f":"T_Annual!CB15","v":0},{"$f":"T_Annual!CC15","v":0},{"$f":"T_Annual!CD15","v":0}]