{"text_format":"1","workbook":"xlsx","n_sheets":17,"sheets":["Main","ស្ថិតិសិស្ស និងគម្រោងថវិកា","កុមារតូច","បឋម","អនុវិទ្យាល័យ","វិទ្យាល័យ","អគាធនធាន","វិទ្យាល័យបច្ចេកទេស","គ្រោងថវិកា SOB","TotalByExp","គ្រោងអាហារូបករណ៍","គ្រោងបង្គន់","Total_SOB_SCL_Tiolet","TotalSOBBySubAccount","Toilet","TOTAL_SCL","TOTAL_SOB"],"not_rendered":{"charts":2,"images":0,"macros":0,"external_links":0,"defined_names":17,"comments":2,"pivot_tables":0},"unopened":[],"bounds":{"document_bytes":16777216,"sheet_cells":100000,"rows_first":2000,"rows_last":500,"rows_between":2000,"halvings":0,"cell_chars":16384,"cell_head_chars":4096},"cells_cut":0,"cells_raw":0,"read":"whole","date_system":"1900"}

{"sheet":"Main","index":0,"n_rows":112,"n_cols":12,"rows_kept":112,"cut":false,"hidden":true,"merged":[]}
[null,"ប្រភេទចំណាយ","ទីកន្លែង"]
[null,"ចំណាយប្រចាំ","ប្រើប្រាស់កន្លែងរដ្ឋ"]
[null,"ចំណាយមិនប្រចាំ","ប្រើប្រាស់ក្រៅពីកន្លែងរដ្ឋ"]
[]
[null,"SubAccNo"]
[null,60014]
[]
[]
[null,60031,"ស្បៀង",{"$f":"CONCATENATE(B9,\"៖\",C9)","v":"60031៖ស្បៀង"},null,60014,"សម្ភារផ្គត់ផ្គង់សម្រាប់​ថែទាំសម្ភារឧបករណ៍",{"$f":"CONCATENATE(F9,\"៖\",G9)","v":"60014៖សម្ភារផ្គត់ផ្គង់សម្រាប់​ថែទាំសម្ភារឧបករណ៍"},null,60011,"សម្ភារសម្អាត និងអនាម័យ",{"$f":"CONCATENATE(Main!$J$9,\"៖\",Main!$K$9)","v":"60011៖សម្ភារសម្អាត និងអនាម័យ"}]
[null,60041,"ឯកសណ្ឋាន","60041៖ឯកសណ្ឋាន",null,60032,"ចំណីសត្វ","60032៖ចំណីសត្វ",null,60012,"សម្ភារផ្គត់ផ្គង់សម្រាប់ថែទាំអគារ បា្រសាទ និងសំណង់ផ្សេងៗ ",{"$f":"CONCATENATE(Main!$J$10,\"៖\",Main!$K$10)","v":"60012៖សម្ភារផ្គត់ផ្គង់សម្រាប់ថែទាំអគារ បា្រសាទ និងសំណង់ផ្សេងៗ "}]
[null,60051,"សម្ភារនិងបរិក្ខារបច្ចេកទេសមិនមែនព័ត៌មានវិទ្យា",{"$f":"CONCATENATE(B11,\"៖\",C11)","v":"60051៖សម្ភារនិងបរិក្ខារបច្ចេកទេសមិនមែនព័ត៌មានវិទ្យា"},null,60033,"ពូជ និងកូនរុក្ខជាតិ","60033៖ពូជ និងកូនរុក្ខជាតិ",null,60013,"សម្ភារផ្គត់ផ្គង់សម្រាប់ថែទាំផ្លូវថ្នល់ ស្ពាន និងលូ ",{"$f":"CONCATENATE(Main!$J$11,\"៖\",Main!$K$11)","v":"60013៖សម្ភារផ្គត់ផ្គង់សម្រាប់ថែទាំផ្លូវថ្នល់ ស្ពាន និងលូ "}]
[null,60055,"សម្ភារនិងបរិក្ខារបច្ចេកទេសព័ត៌មានវិទ្យា","60055៖សម្ភារនិងបរិក្ខារបច្ចេកទេសព័ត៌មានវិទ្យា",null,60035,"ពូជសត្វ","60035៖ពូជសត្វ",null,60014,"សម្ភារផ្គត់ផ្គង់សម្រាប់​ថែទាំសម្ភារឧបករណ៍",{"$f":"CONCATENATE(Main!$J$12,\"៖\",Main!$K$12)","v":"60014៖សម្ភារផ្គត់ផ្គង់សម្រាប់​ថែទាំសម្ភារឧបករណ៍"}]
[null,61081,"សម្ភារ​ និងទំនិញ","61081៖សម្ភារ​ និងទំនិញ",null,60051,"សម្ភារនិងបរិក្ខារបច្ចេកទេសមិនមែនព័ត៌មានវិទ្យា","60051៖សម្ភារនិងបរិក្ខារបច្ចេកទេសមិនមែនព័ត៌មានវិទ្យា",null,60021,"សម្ភារការិយាល័យ",{"$f":"CONCATENATE(Main!$J$13,\"៖\",Main!$K$13)","v":"60021៖សម្ភារការិយាល័យ"}]
[null,61103,"ប្រជុំ សិក្ខាសាល និងសន្និសីទ","61103៖ប្រជុំ សិក្ខាសាល និងសន្និសីទ",null,60052,"សង្ហារឹម","60052៖សង្ហារឹម",null,60022,"សៀវភៅមើល និងឯកសារ  ",{"$f":"CONCATENATE(Main!$J$14,\"៖\",Main!$K$14)","v":"60022៖សៀវភៅមើល និងឯកសារ  "}]
[null,62028,"ជំនួយសង្គមផ្សេងៗទៀត","62028៖ជំនួយសង្គមផ្សេងៗទៀត",null,60055,"សម្ភារនិងបរិក្ខារបច្ចេកទេសព័ត៌មានវិទ្យា","60055៖សម្ភារនិងបរិក្ខារបច្ចេកទេសព័ត៌មានវិទ្យា",null,60023,"ការបោះពុម្ភ",{"$f":"CONCATENATE(Main!$J$15,\"៖\",Main!$K$15)","v":"60023៖ការបោះពុម្ភ"}]
[null,64033,"រង្វាន់​","64033៖រង្វាន់​",null,61011,"សេវាអនាម័យ","61011៖សេវាអនាម័យ",null,60032,"ចំណីសត្វ",{"$f":"CONCATENATE(Main!$J$16,\"៖\",Main!$K$16)","v":"60032៖ចំណីសត្វ"}]
[null,null,null,null,null,61012,"សេវារដ្ឋបាល","61012៖សេវារដ្ឋបាល",null,60033,"ពូជ និងកូនរុក្ខជាតិ",{"$f":"CONCATENATE(Main!$J$17,\"៖\",Main!$K$17)","v":"60033៖ពូជ និងកូនរុក្ខជាតិ"}]
[null,null,null,null,null,61021,"ការជួលមធ្យោបាយដឹកជញ្ជូន","61021៖ការជួលមធ្យោបាយដឹកជញ្ជូន",null,60035,"ពូជសត្វ",{"$f":"CONCATENATE(Main!$J$18,\"៖\",Main!$K$18)","v":"60035៖ពូជសត្វ"}]
["តំបន់","ចំនួនថ្នាក់","តំបន់+ចំនួនថ្នាក់","ថវិកាគាំទ្រ","ថវិកាចំណាយលើសិស្ស",61071,"សោហ៊ុយសិក្សាពិសោធន៍","61071៖សោហ៊ុយសិក្សាពិសោធន៍",null,60051,"សម្ភារនិងបរិក្ខារបច្ចេកទេសមិនមែនព័ត៌មានវិទ្យា",{"$f":"CONCATENATE(Main!$J$19,\"៖\",Main!$K$19)","v":"60051៖សម្ភារនិងបរិក្ខារបច្ចេកទេសមិនមែនព័ត៌មានវិទ្យា"}]
[{"$f":"$C$40","v":"តំបន់ធម្មតា"},"មត្តេយ្យរដ្ឋមាន៣ថ្នាក់ចុះ",{"$f":"CONCATENATE(A20,B20)","v":"តំបន់ធម្មតាមត្តេយ្យរដ្ឋមាន៣ថ្នាក់ចុះ"},400000,9000,61081,"សោហ៊ុយជួលដឹកញ្ជូន សម្ភារ​ និងទំនិញ","61081៖សោហ៊ុយជួលដឹកញ្ជូន សម្ភារ​ និងទំនិញ",null,60052,"សង្ហារឹម",{"$f":"CONCATENATE(Main!$J$20,\"៖\",Main!$K$20)","v":"60052៖សង្ហារឹម"}]
[{"$f":"$C$40","v":"តំបន់ធម្មតា"},"មត្តេយ្យរដ្ឋមាន៤ថ្នាក់ឡើង",{"$f":"CONCATENATE(A21,B21)","v":"តំបន់ធម្មតាមត្តេយ្យរដ្ឋមាន៤ថ្នាក់ឡើង"},450000,8000,61101,"សោហ៊ុយទទួលភ្ញៀវជាតិ","61101៖សោហ៊ុយទទួលភ្ញៀវជាតិ",null,60053,"សម្ភារប្រើប្រាស់",{"$f":"CONCATENATE(Main!$J$21,\"៖\",Main!$K$21)","v":"60053៖សម្ភារប្រើប្រាស់"}]
[{"$f":"$C$41","v":"តំបន់ដាច់ស្រយាល និង ឬជួបការលំបាក"},"មត្តេយ្យរដ្ឋមាន៣ថ្នាក់ចុះ","តំបន់ដាច់ស្រយាល និង ឬជួបការលំបាកមត្តេយ្យរដ្ឋមាន៣ថ្នាក់ចុះ",450000,10000,61102,"សោហ៊ុយទទួលភ្ញៀវបរទេស","61102៖សោហ៊ុយទទួលភ្ញៀវបរទេស",null,60055,"សម្ភារនិងបរិក្ខារបច្ចេកទេសព័ត៌មានវិទ្យា",{"$f":"CONCATENATE(Main!$J$22,\"៖\",Main!$K$22)","v":"60055៖សម្ភារនិងបរិក្ខារបច្ចេកទេសព័ត៌មានវិទ្យា"}]
[{"$f":"$C$41","v":"តំបន់ដាច់ស្រយាល និង ឬជួបការលំបាក"},"មត្តេយ្យរដ្ឋមាន៤ថ្នាក់ឡើង","តំបន់ដាច់ស្រយាល និង ឬជួបការលំបាកមត្តេយ្យរដ្ឋមាន៤ថ្នាក់ឡើង",500000,9000,61103,"ប្រជុំ សិក្ខាសាលា និងសន្និសីទ","61103៖ប្រជុំ សិក្ខាសាលា និងសន្និសីទ",null,60061,"អគ្គិសនី ",{"$f":"CONCATENATE(Main!$J$23,\"៖\",Main!$K$23)","v":"60061៖អគ្គិសនី "}]
[null,null,null,null,null,61141,"សោហ៊ុយប្រៃសណីយ៍","61141៖សោហ៊ុយប្រៃសណីយ៍",null,60062,"ទឹកស្អាត",{"$f":"CONCATENATE(Main!$J$24,\"៖\",Main!$K$24)","v":"60062៖ទឹកស្អាត"}]
[{"$f":"$C$40","v":"តំបន់ធម្មតា"},"បឋមរដ្ឋមាន៦ថ្នាក់ចុះ",{"$f":"CONCATENATE(A25,B25)","v":"តំបន់ធម្មតាបឋមរដ្ឋមាន៦ថ្នាក់ចុះ"},800000,10000,61142,"សោហ៊ុយទូរគមនាគមន៍","61142៖សោហ៊ុយទូរគមនាគមន៍",null,60068,"ផ្សេងៗ",{"$f":"CONCATENATE(Main!$J$25,\"៖\",Main!$K$25)","v":"60068៖ផ្សេងៗ"}]
[{"$f":"$C$40","v":"តំបន់ធម្មតា"},"បឋមរដ្ឋមាន៧ថ្នាក់ឡើង","តំបន់ធម្មតាបឋមរដ្ឋមាន៧ថ្នាក់ឡើង",1000000,9000,null,null,null,null,61011,"សេវាអនាម័យ",{"$f":"CONCATENATE(Main!$J$26,\"៖\",Main!$K$26)","v":"61011៖សេវាអនាម័យ"}]
[{"$f":"$C$41","v":"តំបន់ដាច់ស្រយាល និង ឬជួបការលំបាក"},"បឋមរដ្ឋមាន៦ថ្នាក់ចុះ","តំបន់ដាច់ស្រយាល និង ឬជួបការលំបាកបឋមរដ្ឋមាន៦ថ្នាក់ចុះ",1000000,12000,null,null,null,null,61012,"សេវារដ្ឋបាល",{"$f":"CONCATENATE(Main!$J$27,\"៖\",Main!$K$27)","v":"61012៖សេវារដ្ឋបាល"}]
[{"$f":"$C$41","v":"តំបន់ដាច់ស្រយាល និង ឬជួបការលំបាក"},"បឋមរដ្ឋមាន៧ថ្នាក់ឡើង","តំបន់ដាច់ស្រយាល និង ឬជួបការលំបាកបឋមរដ្ឋមាន៧ថ្នាក់ឡើង",1200000,10000,null,null,null,null,61021,"ការជួលមធ្យោបាយដឹកជញ្ជូន",{"$f":"CONCATENATE(Main!$J$28,\"៖\",Main!$K$28)","v":"61021៖ការជួលមធ្យោបាយដឹកជញ្ជូន"}]
[null,null,null,null,null,null,null,null,null,61051,"ការថែទាំ ដីធ្លី សួនច្បារ ព្រៃឈើ តំបន់ឆ្នេរ និងដែននេសាទ ",{"$f":"CONCATENATE(Main!$J$29,\"៖\",Main!$K$29)","v":"61051៖ការថែទាំ ដីធ្លី សួនច្បារ ព្រៃឈើ តំបន់ឆ្នេរ និងដែននេសាទ "}]
[{"$f":"$C$40","v":"តំបន់ធម្មតា"},"អនុវិទ្យាល័យរដ្ឋមាន១០ថ្នាក់ចុះ",{"$f":"CONCATENATE(A30,B30)","v":"តំបន់ធម្មតាអនុវិទ្យាល័យរដ្ឋមាន១០ថ្នាក់ចុះ"},1500000,19000,null,null,null,null,61052,"ការថែទាំ ជួសជុលអគារផ្សេងៗ និងប្រាសាទ ",{"$f":"CONCATENATE(Main!$J$30,\"៖\",Main!$K$30)","v":"61052៖ការថែទាំ ជួសជុលអគារផ្សេងៗ និងប្រាសាទ "}]
[{"$f":"$C$40","v":"តំបន់ធម្មតា"},"អនុវិទ្យាល័យរដ្ឋមាន១១ថ្នាក់ឡើង","តំបន់ធម្មតាអនុវិទ្យាល័យរដ្ឋមាន១១ថ្នាក់ឡើង",2000000,17000,null,null,null,null,61053,"ការថែទាំ ជួសជុលផ្លូវ ផ្លូវលំ ស្ពាន និងលូ ",{"$f":"CONCATENATE(Main!$J$31,\"៖\",Main!$K$31)","v":"61053៖ការថែទាំ ជួសជុលផ្លូវ ផ្លូវលំ ស្ពាន និងលូ "}]
[{"$f":"$C$41","v":"តំបន់ដាច់ស្រយាល និង ឬជួបការលំបាក"},"អនុវិទ្យាល័យរដ្ឋមាន១០ថ្នាក់ចុះ","តំបន់ដាច់ស្រយាល និង ឬជួបការលំបាកអនុវិទ្យាល័យរដ្ឋមាន១០ថ្នាក់ចុះ",2000000,21000,null,null,null,null,61054,"ការថែទាំបណ្តាញផ្សេងៗ​  ",{"$f":"CONCATENATE(Main!$J$32,\"៖\",Main!$K$32)","v":"61054៖ការថែទាំបណ្តាញផ្សេងៗ​  "}]
[{"$f":"$C$41","v":"តំបន់ដាច់ស្រយាល និង ឬជួបការលំបាក"},"អនុវិទ្យាល័យរដ្ឋមាន១១ថ្នាក់ឡើង","តំបន់ដាច់ស្រយាល និង ឬជួបការលំបាកអនុវិទ្យាល័យរដ្ឋមាន១១ថ្នាក់ឡើង",2500000,19000,null,null,null,null,61057,"ការថែទាំ​ និងជួសជុលសម្ភារ និងឧបករណ៍បច្ចេកទេស ",{"$f":"CONCATENATE(Main!$J$33,\"៖\",Main!$K$33)","v":"61057៖ការថែទាំ​ និងជួសជុលសម្ភារ និងឧបករណ៍បច្ចេកទេស "}]
[null,null,null,null,null,null,null,null,null,61071,"សោហ៊ុយសិក្សាពិសោធន៍",{"$f":"CONCATENATE(Main!$J$34,\"៖\",Main!$K$34)","v":"61071៖សោហ៊ុយសិក្សាពិសោធន៍"}]
[{"$f":"$C$40","v":"តំបន់ធម្មតា"},"វិទ្យាល័យរដ្ឋមាន១០ថ្នាក់ចុះ",{"$f":"CONCATENATE(A35,B35)","v":"តំបន់ធម្មតាវិទ្យាល័យរដ្ឋមាន១០ថ្នាក់ចុះ"},1500000,19000,null,null,null,null,61081,"សោហ៊ុយជួលដឹកញ្ជូន សម្ភារ​ និងទំនិញ",{"$f":"CONCATENATE(Main!$J$35,\"៖\",Main!$K$35)","v":"61081៖សោហ៊ុយជួលដឹកញ្ជូន សម្ភារ​ និងទំនិញ"}]
[{"$f":"$C$40","v":"តំបន់ធម្មតា"},"វិទ្យាល័យរដ្ឋមាន១១ថ្នាក់ឡើង","តំបន់ធម្មតាវិទ្យាល័យរដ្ឋមាន១១ថ្នាក់ឡើង",2000000,17000,null,null,null,null,61101,"សោហ៊ុយទទួលភ្ញៀវជាតិ",{"$f":"CONCATENATE(Main!$J$36,\"៖\",Main!$K$36)","v":"61101៖សោហ៊ុយទទួលភ្ញៀវជាតិ"}]
[{"$f":"$C$41","v":"តំបន់ដាច់ស្រយាល និង ឬជួបការលំបាក"},"វិទ្យាល័យរដ្ឋមាន១០ថ្នាក់ចុះ","តំបន់ដាច់ស្រយាល និង ឬជួបការលំបាកវិទ្យាល័យរដ្ឋមាន១០ថ្នាក់ចុះ",2000000,21000,null,null,null,null,61102,"សោហ៊ុយទទួលភ្ញៀវបរទេស",{"$f":"CONCATENATE(Main!$J$37,\"៖\",Main!$K$37)","v":"61102៖សោហ៊ុយទទួលភ្ញៀវបរទេស"}]
[{"$f":"$C$41","v":"តំបន់ដាច់ស្រយាល និង ឬជួបការលំបាក"},"វិទ្យាល័យរដ្ឋមាន១១ថ្នាក់ឡើង","តំបន់ដាច់ស្រយាល និង ឬជួបការលំបាកវិទ្យាល័យរដ្ឋមាន១១ថ្នាក់ឡើង",2500000,19000,null,null,null,null,61103,"ប្រជុំ សិក្ខាសាលា និងសន្និសីទ",{"$f":"CONCATENATE(Main!$J$38,\"៖\",Main!$K$38)","v":"61103៖ប្រជុំ សិក្ខាសាលា និងសន្និសីទ"}]
[null,null,null,null,null,null,null,null,null,61141,"សោហ៊ុយប្រៃសណីយ៍",{"$f":"CONCATENATE(Main!$J$39,\"៖\",Main!$K$39)","v":"61141៖សោហ៊ុយប្រៃសណីយ៍"}]
[null,null,"តំបន់ធម្មតា",null,null,null,null,null,null,61142,"សោហ៊ុយទូរគមនាគមន៍",{"$f":"CONCATENATE(Main!$J$40,\"៖\",Main!$K$40)","v":"61142៖សោហ៊ុយទូរគមនាគមន៍"}]
[null,null,"តំបន់ដាច់ស្រយាល និង ឬជួបការលំបាក"]
[]
[null,null,"សាលាបឋមសិក្សា"]
[null,null,"សាលាមត្តេយ្យសិក្សានៅក្នុងសាលាបឋមសិក្សា"]
[]
[null,null,"អនុវិទ្យាល័យ"]
[null,null,"បឋមសិក្សានៅក្នុងអនុវិទ្យាល័យ"]
[]
[null,null,"វិទ្យាល័យ"]
[null,null,"អនុវិទ្យាល័យនៅក្នុងវិទ្យាល័យ"]
[]
[]
[]
[]
[]
[]
[]
[]
[]
[]
[]
[]
[]
[]
[]
[]
[]
[]
[]
[]
[]
[]
[]
[]
[]
[]
[]
[]
[]
[]
[]
[]
[]
[]
[]
[]
[]
[]
[]
[]
[]
[]
[]
[]
[]
[]
[]
[]
[]
[]
[]
[]
[]
[]
[]
[]
[]
[]
[]
[]
[]
[null,null,null,null,null,null,null,null,null," "]

{"sheet":"ស្ថិតិសិស្ស និងគម្រោងថវិកា","index":1,"n_rows":11,"n_cols":9,"rows_kept":11,"cut":false,"hidden":false,"merged":[[1,1,1,8],[10,1,10,8],[2,2,2,7]]}
[]
[null,"សូមបំពេញឆ្នាំគ្រោងថវិកា ចំនួនសិស្សតាមអនុវិស័យ (បើមាន) និងគម្រោងថវិកាប្រចាំឆ្នាំ ក្នុង​តារាងខាងក្រោម"]
[null,null,"ចំនួនសិស្ស"]
[null,"ឆ្នាំគ្រោងថវិកា","មត្តេយសិក្សា","បឋមសិក្សា","អនុវិទ្យាល័យ","វិទ្យាល័យ","ចំនួនសិស្សវិទ្យាល័យបច្ចេកទេស","ចំនួនសិស្សសរុប","គម្រោងថវិកាសរុបប្រចាំឆ្នាំ (រៀល)"]
[null,2014,null,null,null,null,null,{"$f":"SUM(C5:G5)","v":0}]
[null,2015,null,null,null,null,null,{"$f":"SUM(C6:G6)","v":0}]
[null,2016,null,null,null,null,null,0]
[null,2017,null,null,null,null,null,0]
[null,2018,null,null,null,null,null,{"$f":"SUM(C9:G9)","v":0}]
[null,2019,null,null,null,null,null,0]
[null,"បញ្ជាក់៖ សម្រាប់មត្តេយ្យសិក្សានៅក្នុងបឋមសិក្សា ឬ អនុវិទ្យាល័យនៅក្នុងវិទ្យាល័យចំនួនសិស្ស ត្រូវ​ញែកចេញពីគ្នា ហើយបញ្ចូលតែ 1 File"]

{"sheet":"កុមារតូច","index":2,"n_rows":8,"n_cols":8,"rows_kept":8,"cut":false,"hidden":true,"merged":[[0,1,0,7],[1,2,1,7],[3,2,3,7],[4,1,4,6],[2,1,2,7]]}
[null,"កញ្ចប់ថវិកាដំណើរការសាលាមត្តេយ្យសិក្សា\nប្រកាសអន្ដរក្រសួង លេខ ៥០៨ សហវ ប្រក ស្ដីពីគោលការណ៍ចំណាយសម្រាប់អនុវត្តថវិកាកម្មវិធី នៅ អ.យ.ក"]
[null,"ឈ្មោះការិយាល័យអប់រំ ក្រុង ស្រុក ខណ្ឌ"]
[null,"ការពង្រីកការអប់រំកុមារតូច"]
[null,"ឈ្មោះសាលា៖"]
[null,"កញ្ចប់ថវិកាសរុប",null,null,null,null,null,{"$f":"IFERROR(SUM(H7:H8),0)","v":0}]
[null,"តំបន់","ជ្រើសរើសចំនួនថ្នាក់","ចំណាយ","ចំនួនសិស្ស","ឧបត្តម្ភតាមច្បាប់","ថវិកាបន្ថែម","សរុប"]
[null,null,null,"ចំណាយថេរ",null,{"$f":"IFERROR(VLOOKUP(CONCATENATE(B7,C7),tableE,2,FALSE),\"\")","v":""},2500000,{"$f":"IFERROR(IF(E8<>0,(F7+G7),0),0)","v":0}]
[null,null,null,"ចំណាយអថេរ",null,{"$f":"IFERROR(IF(E8>0,VLOOKUP(CONCATENATE(B7,C7),tableE,3,FALSE),\"\"),\"\")","v":""},null,{"$f":"IFERROR((F8+G8)*E8,0)","v":0}]

{"sheet":"បឋម","index":3,"n_rows":9,"n_cols":8,"rows_kept":9,"cut":false,"hidden":true,"merged":[[8,1,8,2],[0,1,0,7],[1,2,1,7],[3,2,3,7],[5,1,5,6],[2,1,2,7],[4,2,4,7]]}
[null,"កញ្ចប់ថវិកាដំណើរការសាលាបឋមសិក្សា\nប្រកាសអន្ដរក្រសួង លេខ ៥០៨ សហវ ប្រក ស្ដីពីគោលការណ៍ចំណាយសម្រាប់អនុវត្តថវិកាកម្មវិធី នៅ អ.យ.ក"]
[null,"ឈ្មោះការិយាល័យអប់រំ ក្រុង ស្រុក ខណ្ឌ"]
[null,"ការពង្រឹងគុណភាព និងប្រសិទ្ធភាពនៃការអប់រំនៅបឋមសិក្សា"]
[null,"ឈ្មោះសាលា"]
[null,"ជ្រើសរើសប្រភេទសាលា"]
[null,"កញ្ចប់ថវិកាសរុប",null,null,null,null,null,{"$f":"IFERROR(SUM(H8:H9),0)","v":0}]
[null,"តំបន់","ជ្រើសរើសចំនួនថ្នាក់","ចំណាយ","ចំនួនសិស្ស","ឧបត្តម្ភតាមច្បាប់","ថវិកាបន្ថែម","សរុប"]
[null,null,null,"ចំណាយថេរ",null,{"$f":"IFERROR(IF(C5=Main!C43,VLOOKUP(CONCATENATE(B8,C8),tableP,2,FALSE),\"\"),\"\")","v":""},2500000,{"$f":"IFERROR((F8+G8),0)","v":0}]
[null,null,null,"ចំណាយអថេរ",null,{"$f":"IFERROR(IF(E9>0,VLOOKUP(CONCATENATE(B8,C8),tableP,3,FALSE),\"\"),\"\")","v":""},null,{"$f":"IFERROR((F9+G9)*E9,0)","v":0}]

{"sheet":"អនុវិទ្យាល័យ","index":4,"n_rows":9,"n_cols":8,"rows_kept":9,"cut":false,"hidden":true,"merged":[[8,1,8,2],[0,1,0,7],[2,1,2,7],[1,2,1,7],[3,2,3,7],[5,1,5,6],[4,2,4,7]]}
[null,"កញ្ចប់ថវិកាដំណើរការសាលាថវិកាដំណើរការអនុវិទ្យាល័យ\nប្រកាសអន្ដរក្រសួង លេខ ៥០៨ សហវ ប្រក ស្ដីពីគោលការណ៍ចំណាយសម្រាប់អនុវត្តថវិកាកម្មវិធី នៅ អ.យ.ក"]
[null,"ឈ្មោះការិយាល័យអប់រំ ក្រុង ស្រុក ខណ្ឌ"]
[null,"ការចូលរៀនប្រកបដោយសមធម៌ ការពង្រឹងគុណភាពនិងប្រសិទ្ធភាពនៃការអប់រំនៅមធ្យមសិក្សា"]
[null,"ឈ្មោះសាលា៖"]
[null,"ជ្រើសរើសប្រភេទសាលា"]
[null,"កញ្ចប់ថវិកាសរុប",null,null,null,null,null,{"$f":"IFERROR(SUM(H8:H9),0)","v":0}]
[null,"តំបន់","ជ្រើសរើសចំនួនថ្នាក់","ចំណាយ","ចំនួនសិស្ស","ឧបត្តម្ភតាមច្បាប់","ថវិកាបន្ថែម","សរុប"]
[null,null,null,"ចំណាយថេរ",null,{"$f":"IFERROR(IF(C5=Main!C46,VLOOKUP(CONCATENATE(B8,C8),tableS,2,FALSE),\"\"),\"\")","v":""},2500000,{"$f":"IFERROR((F8+G8),0)","v":0}]
[null,null,null,"ចំណាយអថេរ",null,{"$f":"IFERROR(IF(E9>0,VLOOKUP(CONCATENATE(B8,C8),tableS,3,FALSE),\"\"),\"\")","v":""},null,{"$f":"IFERROR((F9+G9)*E9,0)","v":0}]

{"sheet":"វិទ្យាល័យ","index":5,"n_rows":9,"n_cols":8,"rows_kept":9,"cut":false,"hidden":true,"merged":[[0,1,0,7],[1,2,1,7],[3,2,3,7],[5,1,5,6],[8,1,8,2],[2,1,2,7],[4,2,4,7]]}
[null,"កញ្ចប់ថវិកាដំណើរការសាលា\nប្រកាសអន្ដរក្រសួង លេខ ៥០៨ សហវ ប្រក ស្ដីពីគោលការណ៍ចំណាយសម្រាប់អនុវត្តថវិកាកម្មវិធី នៅ អ.យ.ក"]
[null,"ឈ្មោះការិយាល័យអប់រំ ក្រុង ស្រុក ខណ្ឌ"]
[null,"ការចូលរៀនប្រកបដោយសមធម៌ ការពង្រឹងគុណភាពនិងប្រសិទ្ធភាពនៃការអប់រំនៅមធ្យមសិក្សា"]
[null,"ឈ្មោះសាលា៖"]
[null,"ជ្រើសរើសប្រភេទសាលា"]
[null,"កញ្ចប់ថវិកាសរុប",null,null,null,null,null,{"$f":"IFERROR(SUM(H8:H9),0)","v":0}]
[null,"តំបន់","ជ្រើសរើសចំនួនថ្នាក់","ចំណាយ","ចំនួនសិស្ស","ឧបត្តម្ភតាមច្បាប់","ថវិកាបន្ថែម","សរុប"]
[null,null,null,"ចំណាយថេរ",null,{"$f":"IFERROR(IF(C5=Main!C49,VLOOKUP(CONCATENATE(B8,C8),tableH,2,FALSE),\"\"),\"\")","v":""},2500000,{"$f":"IFERROR((F8+G8),0)","v":0}]
[null,null,null,"ចំណាយអថេរ",null,{"$f":"IFERROR(IF(E9>0,VLOOKUP(CONCATENATE(B8,C8),tableH,3,FALSE),\"\"),\"\")","v":""},null,{"$f":"IFERROR((F9+G9)*E9,0)","v":0}]

{"sheet":"អគាធនធាន","index":6,"n_rows":7,"n_cols":8,"rows_kept":7,"cut":false,"hidden":true,"merged":[[6,1,6,3],[0,1,0,7],[1,2,1,7],[3,2,3,7],[4,1,4,6],[2,1,2,7],[5,1,5,3]]}
[null,"កញ្ចប់ថវិកាដំណើរការអគារធនធាន\nប្រកាសអន្ដរក្រសួង លេខ ៥០៨ សហវ ប្រក ស្ដីពីគោលការណ៍ចំណាយសម្រាប់អនុវត្តថវិកាកម្មវិធី នៅ អ.យ.ក"]
[null,"ឈ្មោះការិយាល័យអប់រំ ក្រុង ស្រុក ខណ្ឌ"]
[null,"ការចូលរៀនប្រកបដោយសមធម៌ ការពង្រឹងគុណភាពនិងប្រសិទ្ធភាពនៃការអប់រំនៅមធ្យមសិក្សា"]
[null,"ឈ្មោះសាលា៖"]
[null,"កញ្ចប់ថវិកាសរុប",null,null,null,null,null,{"$f":"IFERROR(H7,0)","v":0}]
[null,"អគារធនធាន",null,null,"ចំនួនអគារ","ឧបត្តម្ភតាមច្បាប់","ថវិកាបន្ថែម","សរុប"]
[null,"ផ្ដល់ថវិកាសម្រាប់ដំណើរការអគារធនធាន ៣៥លានរៀល ក្នុងមួយអគារ ក្នុងមួយឆ្នាំសិក្សា",null,null,null,35000000,null,{"$f":"(F7+G7)*E7","v":0}]

{"sheet":"វិទ្យាល័យបច្ចេកទេស","index":7,"n_rows":8,"n_cols":8,"rows_kept":8,"cut":false,"hidden":false,"merged":[[6,1,7,2],[2,1,2,7],[4,1,4,6],[0,1,0,7],[1,2,1,7],[3,2,3,7],[5,1,5,2]]}
[null,"កញ្ចប់ថវិកាដំណើរការវិទ្យាល័យបច្ចេកទេស\nប្រកាសអន្ដរក្រសួង លេខ ៥០៨ សហវ ប្រក ស្ដីពីគោលការណ៍ចំណាយសម្រាប់អនុវត្តថវិកាកម្មវិធី នៅ អ.យ.ក"]
[null,"ឈ្មោះការិយាល័យអប់រំ ក្រុង ស្រុក ខណ្ឌ"]
[null,"លើកកម្ពស់គុណភាព និងប្រសិទ្ធភាពនៃការអនុវត្តកម្មវិធីអប់រំបច្ចេកទេស"]
[null,"ឈ្មោះសាលា៖"]
[null,"កញ្ចប់ថវិកាសរុប",null,null,null,null,null,{"$f":"IFERROR(SUM(H7:H8),0)","v":0}]
[null,null,null,"ចំណាយ","សិស្ស","ឧបត្តម្ភតាមច្បាប់","ថវិកាបន្ថែម","សរុប"]
[null,null,null,"ចំណាយថេរ",null,50000000,null,{"$f":"IF(E8>0,F7+G7,0)","v":0}]
[null,null,null,"ចំណាយអថេរ",null,600000,null,{"$f":"IFERROR((F8+G8)*E8,0)","v":0}]

{"sheet":"គ្រោងថវិកា SOB","index":8,"n_rows":1178,"n_cols":16,"rows_kept":1178,"cut":false,"hidden":false,"merged":[[595,3,595,5],[698,1,698,5],[699,3,699,5],[1027,1,1027,5],[873,3,873,5],[751,3,751,5],[803,3,803,5],[802,1,802,5],[809,3,809,5],[821,1,821,5],[822,3,822,5],[647,3,647,5],[815,3,815,5],[924,1,924,5],[925,3,925,5],[976,3,976,5],[7,13,7,15],[3,1,3,10],[5,2,7,2],[9,1,9,5],[4,9,4,10],[4,1,4,8],[5,8,5,9],[5,6,5,7],[5,3,5,5],[6,3,7,3],[8,1,8,6],[750,1,750,5],[646,1,646,5],[544,3,544,5],[10,3,10,5],[83,3,83,5],[339,3,339,5],[390,3,390,5],[543,1,543,5],[61,3,61,5],[441,3,441,5],[492,3,492,5],[134,3,134,5],[185,1,185,5],[186,3,186,5],[237,3,237,5],[288,3,288,5]]}
[]
[null,{"$f":"IF(កុមារតូច!C2<>\"\",កុមារតូច!C2,IF(បឋម!C2<>\"\",បឋម!C2,IF(អនុវិទ្យាល័យ!C2<>\"\",អនុវិទ្យាល័យ!C2,IF(វិទ្យាល័យ!C2<>\"\",វិទ្យាល័យ!C2,IF(អគាធនធាន!C2<>\"\",អគាធនធាន!C2,IF(វិទ្យាល័យបច្ចេកទេស!C2<>\"\",វិទ្យាល័យបច្ចេកទេស!C2,\"\"))))))","v":""}]
[null,{"$f":"IF(កុមារតូច!C4<>\"\",កុមារតូច!C4,IF(បឋម!C4<>\"\",បឋម!C4,IF(អនុវិទ្យាល័យ!C4<>\"\",អនុវិទ្យាល័យ!C4,IF(វិទ្យាល័យ!C4<>\"\",វិទ្យាល័យ!C4,IF(អគាធនធាន!C4<>\"\",អគាធនធាន!C4,IF(វិទ្យាល័យបច្ចេកទេស!C4<>\"\",វិទ្យាល័យបច្ចេកទេស!C4,\"\"))))))","v":""}]
[null,"មូលដ្ឋានគិតគម្រោងចំណាយថវិកាសម្រាប់ឆ្នាំ ២០………."]
[null,"កញ្ច​ប់ថវិកា",null,null,null,null,null,null,null,{"$f":"SUM(កុមារតូច!H5,បឋម!H6,អនុវិទ្យាល័យ!H6,វិទ្យាល័យ!H6,អគាធនធាន!H5,វិទ្យាល័យបច្ចេកទេស!H5)","v":0},null,"ថវិកានៅសល់ត្រូវគ្រោង"]
[null,null,"អនុគណនី","សម្ភារ ឬ សកម្មភាព",null,null,"ចំណាយប្រចាំ",null,"ចំណាយមិនប្រចាំ",null,"សរុប",{"$f":"J5-K9","v":0}]
[null,null,null,"ឈ្មោះសម្ភារៈ","ឯកតា","តំលៃឯកតា(រៀល)","បរិមាណ","ចំណាយ","បរិមាណ","ចំណាយ"]
[null,null,null,null,1,2,3,"4=2*3",5,"6=2*5","7=4+6"]
[null,"សរុបរួម",null,null,null,null,null,{"$f":"SUM(H10,H186,H544,H699,H751,H803,H822,H1028,H647,H925,)","v":0},null,{"$f":"SUM(J10,J186,J544,J699,J751,J803,J822,J1028,J647,J925,)","v":0},{"$f":"SUM(K10,K186,K544,K699,K751,K803,K822,K1028,K647,K925,)","v":0},null,"អនុគណនី","សរុបប្រចាំ","សរុបមិនប្រចាំ","សរុប"]
[null,"សម្ភារមូលដ្ឋាន",null,null,null,null,null,{"$f":"SUM(H11,H84,H135,H62)","v":0},null,{"$f":"SUM(J11,J84,J135,J62)","v":0},{"$f":"SUM(K11,K84,K135,K62)","v":0},null,null,{"$f":"SUM(N11:N1178)","v":0},{"$f":"SUM(O11:O1178)","v":0},{"$f":"SUM(N10:O10)","v":0}]
[null,null,60021,"សម្ភារការិយាល័យ",null,null,null,{"$f":"SUM(H12:H61)","v":0},null,{"$f":"SUM(J12:J61)","v":0},{"$f":"SUM(J11,H11)","v":0},null,{"$f":"C11","v":60021},{"$f":"H11","v":0},{"$f":"J11","v":0},{"$f":"SUM(N11:O11)","v":0}]
[null,null,null,"ក្រដាសរ៉ាម","កេះស",null,null,{"$f":"F12*G12","v":0},null,{"$f":"F12*I12","v":0},{"$f":"SUM(J12,H12)","v":0}]
[null,null,null,"ខ្មៅដៃ",null,null,null,{"$f":"F13*G13","v":0},null,{"$f":"F13*I13","v":0},{"$f":"SUM(J13,H13)","v":0}]
[null,null,null,"បណ្តូលខ្មៅដៃចុច ",null,null,null,0,null,0,0]
[null,null,null,"ក្រដាសរ៉ាម",null,null,null,0,null,0,0]
[null,null,null,"សឺមីទន់",null,null,null,0,null,0,0]
[null,null,null,"សឺមីរឹង",null,null,null,0,null,0,0]
[null,null,null,"សឺមីចងខ្សែ",null,null,null,0,null,0,0]
[null,null,null,"កន្រ្តៃ",null,null,null,0,null,0,0]
[null,null,null,"ការបោន ",null,null,null,0,null,0,0]
[null,null,null,"ហ្វឺតសរសេរ",null,null,null,0,null,0,0]
[null,null,null,"ប៊ិចលុបអក្សរ",null,null,null,0,null,0,0]
[null,null,null,"ប្រដាប់កិប",null,null,null,0,null,0,0]
[null,null,null,"គ្រាប់កិប",null,null,null,0,null,0,0]
[null,null,null,"ក្រូណូស្ទាំង",null,null,null,0,null,0,0]
[null,null,null,"ស្រោមសមបុត្រ ",null,null,null,0,null,0,0]
[null,null,null,"ប្រដាប់ចោះរន្ធពីរ   ",null,null,null,0,null,0,0]
[null,null,null,"ឃ្នាបរូបត្រី  ",null,null,null,0,null,0,0]
[null,null,null,"ឃ្នាបខ្មៅ  ",null,null,null,0,null,0,0]
[null,null,null,"បន្ទាត់   ",null,null,null,0,null,0,0]
[null,null,null,"ជ័រកាវ  ",null,null,null,0,null,0,0]
[null,null,null,"ជ័រលុប  ",null,null,null,0,null,0,0]
[null,null,null,"ទឹកថ្នាំរ៉ូណេអូ ",null,null,null,0,null,0,0]
[null,null,null,"ទឹកថ្នាំព្រីនធ័រ   ",null,null,null,0,null,0,0]
[null,null,null,"ទឹកថ្នាំម៉ាស៊ីនថតចម្លង   ",null,null,null,0,null,0,0]
[null,null,null,"ទឹកថ្នាំម៉ាស៊ីនបោះពុម្ពឯកសា   ",null,null,null,0,null,0,0]
[null,null,null,"សៀវភៅ",null,null,null,0,null,0,0]
[null,null,null,"សរសេរ   ",null,null,null,0,null,0,0]
[null,null,null,"ប័ណ្ណសំគាល់ខ្លួនសិស្ស   ",null,null,null,0,null,0,0]
[null,null,null,"សៀវភៅសិក្ខាគារិក    ",null,null,null,0,null,0,0]
[null,null,null,"សៀវភៅតាមដានការសិក្សា   ",null,null,null,0,null,0,0]
[null,null,null,"សៀវភៅមូលប្បទានប័ត្រ  ",null,null,null,0,null,0,0]
[null,null,null,null,null,null,null,0,null,0,0]
[null,null,null,null,null,null,null,0,null,0,0]
[null,null,null,null,null,null,null,0,null,0,0]
[null,null,null,null,null,null,null,0,null,0,0]
[null,null,null,null,null,null,null,0,null,0,0]
[null,null,null,null,null,null,null,0,null,0,0]
[null,null,null,null,null,null,null,0,null,0,0]
[null,null,null,null,null,null,null,0,null,0,0]
[null,null,null,null,null,null,null,0,null,0,0]
[null,null,null,null,null,null,null,0,null,0,0]
[null,null,null,null,null,null,null,0,null,0,0]
[null,null,null,null,null,null,null,0,null,0,0]
[null,null,null,null,null,null,null,0,null,0,0]
[null,null,null,null,null,null,null,0,null,0,0]
[null,null,null,null,null,null,null,0,null,0,0]
[null,null,null,null,null,null,null,0,null,0,0]
[null,null,null,null,null,null,null,0,null,0,0]
[null,null,null,null,null,null,null,0,null,0,0]
[null,null,null,null,null,null,null,0,null,0,0]
[null,null,60022,"សៀវភៅមើល និងឯកសារផ្សេងៗ",null,null,null,{"$f":"SUM(H63:H83)","v":0},null,{"$f":"SUM(J63:J83)","v":0},{"$f":"SUM(J62,H62)","v":0},null,{"$f":"C62","v":60022},{"$f":"H62","v":0},{"$f":"J62","v":0},{"$f":"SUM(N62:O62)","v":0}]
[null,null,null,"វចនានុក្រម    ",null,null,null,{"$f":"F63*G63","v":0},null,{"$f":"F63*I63","v":0},{"$f":"SUM(J63,H63)","v":0}]
[null,null,null,"សៀវភៅធម៌ ",null,null,null,{"$f":"F64*G64","v":0},null,{"$f":"F64*I64","v":0},0]
[null,null,null,null,null,null,null,{"$f":"F65*G65","v":0},null,{"$f":"F65*I65","v":0},{"$f":"SUM(J65,H65)","v":0}]
[null,null,null,null,null,null,null,0,null,0,0]
[null,null,null,null,null,null,null,0,null,0,0]
[null,null,null,null,null,null,null,0,null,0,0]
[null,null,null,null,null,null,null,0,null,0,0]
[null,null,null,null,null,null,null,0,null,0,0]
[null,null,null,null,null,null,null,0,null,0,0]
[null,null,null,null,null,null,null,0,null,0,0]
[null,null,null,null,null,null,null,0,null,0,0]
[null,null,null,null,null,null,null,0,null,0,0]
[null,null,null,null,null,null,null,0,null,0,0]
[null,null,null,null,null,null,null,0,null,0,0]
[null,null,null,null,null,null,null,0,null,0,0]
[null,null,null,null,null,null,null,0,null,0,0]
[null,null,null,null,null,null,null,0,null,0,0]
[null,null,null,null,null,null,null,0,null,0,0]
[null,null,null,null,null,null,null,0,null,0,0]
[null,null,null,null,null,null,null,0,null,0,0]
[null,null,null,null,null,null,null,0,null,0,0]
[null,null,60023,"ការបោះពុម្ភ",null,null,null,{"$f":"SUM(H85:H134)","v":0},null,{"$f":"SUM(J85:J134)","v":0},{"$f":"SUM(J84,H84)","v":0},null,{"$f":"C84","v":60023},{"$f":"H84","v":0},{"$f":"J84","v":0},{"$f":"SUM(N84:O84)","v":0}]
[null,null,null,"បោះពុម្ពសៀវភៅ  ",null,null,null,{"$f":"F85*G85","v":0},null,{"$f":"F85*I85","v":0},{"$f":"SUM(J85,H85)","v":0}]
[null,null,null,"ឯកសារ  ",null,null,null,{"$f":"F86*G86","v":0},null,{"$f":"F86*I86","v":0},0]
[null,null,null,"បង្កាន់ដៃបង់បា្រក់  ",null,null,null,0,null,0,0]
[null,null,null,"តែម  ",null,null,null,0,null,0,0]
[null,null,null,"ទិដ្ឋាការ  ",null,null,null,0,null,0,0]
[null,null,null,"លតាប័ត្រ ",null,null,null,0,null,0,0]
[null,null,null,null,null,null,null,0,null,0,0]
[null,null,null,null,null,null,null,0,null,0,0]
[null,null,null,null,null,null,null,0,null,0,0]
[null,null,null,null,null,null,null,0,null,0,0]
[null,null,null,null,null,null,null,0,null,0,0]
[null,null,null,null,null,null,null,0,null,0,0]
[null,null,null,null,null,null,null,0,null,0,0]
[null,null,null,null,null,null,null,0,null,0,0]
[null,null,null,null,null,null,null,0,null,0,0]
[null,null,null,null,null,null,null,0,null,0,0]
[null,null,null,null,null,null,null,0,null,0,0]
[null,null,null,null,null,null,null,0,null,0,0]
[null,null,null,null,null,null,null,0,null,0,0]
[null,null,null,null,null,null,null,0,null,0,0]
[null,null,null,null,null,null,null,0,null,0,0]
[null,null,null,null,null,null,null,0,null,0,0]
[null,null,null,null,null,null,null,0,null,0,0]
[null,null,null,null,null,null,null,0,null,0,0]
[null,null,null,null,null,null,null,0,null,0,0]
[null,null,null,null,null,null,null,0,null,0,0]
[null,null,null,null,null,null,null,0,null,0,0]
[null,null,null,null,null,null,null,0,null,0,0]
[null,null,null,null,null,null,null,0,null,0,0]
[null,null,null,null,null,null,null,0,null,0,0]
[null,null,null,null,null,null,null,0,null,0,0]
[null,null,null,null,null,null,null,0,null,0,0]
[null,null,null,null,null,null,null,0,null,0,0]
[null,null,null,null,null,null,null,0,null,0,0]
[null,null,null,null,null,null,null,0,null,0,0]
[null,null,null,null,null,null,null,0,null,0,0]
[null,null,null,null,null,null,null,0,null,0,0]
[null,null,null,null,null,null,null,0,null,0,0]
[null,null,null,null,null,null,null,0,null,0,0]
[null,null,null,null,null,null,null,0,null,0,0]
[null,null,null,null,null,null,null,0,null,0,0]
[null,null,null,null,null,null,null,0,null,0,0]
[null,null,null,null,null,null,null,0,null,0,0]
[null,null,null,null,null,null,null,0,null,0,0]
[null,null,null,null,null,null,null,0,null,0,0]
[null,null,null,null,null,null,null,0,null,0,0]
[null,null,null,null,null,null,null,0,null,0,0]
[null,null,null,null,null,null,null,0,null,0,0]
[null,null,null,null,null,null,null,0,null,0,0]
[null,null,null,null,null,null,null,0,null,0,0]
[null,null,60053,"សម្ភារប្រើប្រាស់",null,null,null,{"$f":"SUM(H136:H185)","v":0},null,{"$f":"SUM(J136:J185)","v":0},{"$f":"SUM(J135,H135)","v":0},null,{"$f":"C135","v":60053},{"$f":"H135","v":0},{"$f":"J135","v":0},{"$f":"SUM(N135:O135)","v":0}]
[null,null,null,"ក្ខារខៀនសំពត ","រាយ",null,null,{"$f":"F136*G136","v":0},null,{"$f":"F136*I136","v":0},{"$f":"SUM(J136,H136)","v":0}]
[null,null,null,"លេខចល័ត ",null,null,null,{"$f":"F137*G137","v":0},null,{"$f":"F137*I137","v":0},0]
[null,null,null,"ក្ខារខៀនសំពត ",null,null,null,0,null,0,0]
[null,null,null,"ដូមីណូ  ",null,null,null,0,null,0,0]
[null,null,null," ផ្លាកសញ្ញាចរាចរ  ",null,null,null,0,null,0,0]
[null,null,null," នាឡិកា",null,null,null,0,null,0,0]
[null,null,null,null,null,null,null,0,null,0,0]
[null,null,null,null,null,null,null,0,null,0,0]
[null,null,null,null,null,null,null,0,null,0,0]
[null,null,null,null,null,null,null,0,null,0,0]
[null,null,null,null,null,null,null,0,null,0,0]
[null,null,null,null,null,null,null,0,null,0,0]
[null,null,null,null,null,null,null,0,null,0,0]
[null,null,null,null,null,null,null,0,null,0,0]
[null,null,null,null,null,null,null,0,null,0,0]
[null,null,null,null,null,null,null,0,null,0,0]
[null,null,null,null,null,null,null,0,null,0,0]
[null,null,null,null,null,null,null,0,null,0,0]
[null,null,null,null,null,null,null,0,null,0,0]
[null,null,null,null,null,null,null,0,null,0,0]
[null,null,null,null,null,null,null,0,null,0,0]
[null,null,null,null,null,null,null,0,null,0,0]
[null,null,null,null,null,null,null,0,null,0,0]
[null,null,null,null,null,null,null,0,null,0,0]
[null,null,null,null,null,null,null,0,null,0,0]
[null,null,null,null,null,null,null,0,null,0,0]
[null,null,null,null,null,null,null,0,null,0,0]
[null,null,null,null,null,null,null,0,null,0,0]
[null,null,null,null,null,null,null,0,null,0,0]
[null,null,null,null,null,null,null,0,null,0,0]
[null,null,null,null,null,null,null,0,null,0,0]
[null,null,null,null,null,null,null,0,null,0,0]
[null,null,null,null,null,null,null,0,null,0,0]
[null,null,null,null,null,null,null,0,null,0,0]
[null,null,null,null,null,null,null,0,null,0,0]
[null,null,null,null,null,null,null,0,null,0,0]
[null,null,null,null,null,null,null,0,null,0,0]
[null,null,null,null,null,null,null,0,null,0,0]
[null,null,null,null,null,null,null,0,null,0,0]
[null,null,null,null,null,null,null,0,null,0,0]
[null,null,null,null,null,null,null,0,null,0,0]
[null,null,null,null,null,null,null,0,null,0,0]
[null,null,null,null,null,null,null,0,null,0,0]
[null,null,null,null,null,null,null,0,null,0,0]
[null,null,null,null,null,null,null,0,null,0,0]
[null,null,null,null,null,null,null,0,null,0,0]
[null,null,null,null,null,null,null,0,null,0,0]
[null,null,null,null,null,null,null,0,null,0,0]
[null,null,null,null,null,null,null,0,null,0,0]
[null,null,null,null,null,null,null,0,null,0,0]
[null,"ការកែលម្អបរិស្ថាន សាលា និងថ្នាក់រៀន",null,null,null,null,null,{"$f":"SUM(H187,H238,H289,H340,H391,H442,H493)","v":0},null,{"$f":"SUM(J187,J238,J289,J340,J391,J442,J493)","v":0},{"$f":"SUM(K187,K238,K289,K340,K391,K442,K493)","v":0}]
[null,null,61051,"ការថែទាំ ដីធ្លី សួនច្បារ ព្រៃឈើ តំបន់ឆ្នេរ និងដែននេសាទ ",null,null,null,{"$f":"SUM(H188:H237)","v":0},null,{"$f":"SUM(J188:J237)","v":0},{"$f":"SUM(J187,H187)","v":0},null,{"$f":"C187","v":61051},{"$f":"H187","v":0},{"$f":"J187","v":0},{"$f":"SUM(N187:O187)","v":0}]
[null,null,null,"ថែទាំសួន",null,null,null,{"$f":"F188*G188","v":0},null,{"$f":"F188*I188","v":0},{"$f":"SUM(J188,H188)","v":0}]
[null,null,null,"ការកាប់ឆ្ការព្រៃ  ",null,null,null,{"$f":"F189*G189","v":0},null,{"$f":"F189*I189","v":0},0]
[null,null,null,"ការភ្ជួររាស់ដី  ",null,null,null,0,null,0,0]
[null,null,null,"សោហ៊ុយវាស់វែងដី ធ្វើប្លង់",null,null,null,0,null,0,0]
[null,null,null,null,null,null,null,0,null,0,0]
[null,null,null,null,null,null,null,0,null,0,0]
[null,null,null,null,null,null,null,0,null,0,0]
[null,null,null,null,null,null,null,0,null,0,0]
[null,null,null,null,null,null,null,0,null,0,0]
[null,null,null,null,null,null,null,0,null,0,0]
[null,null,null,null,null,null,null,0,null,0,0]
[null,null,null,null,null,null,null,0,null,0,0]
[null,null,null,null,null,null,null,0,null,0,0]
[null,null,null,null,null,null,null,0,null,0,0]
[null,null,null,null,null,null,null,0,null,0,0]
[null,null,null,null,null,null,null,0,null,0,0]
[null,null,null,null,null,null,null,0,null,0,0]
[null,null,null,null,null,null,null,0,null,0,0]
[null,null,null,null,null,null,null,0,null,0,0]
[null,null,null,null,null,null,null,0,null,0,0]
[null,null,null,null,null,null,null,0,null,0,0]
[null,null,null,null,null,null,null,0,null,0,0]
[null,null,null,null,null,null,null,0,null,0,0]
[null,null,null,null,null,null,null,0,null,0,0]
[null,null,null,null,null,null,null,0,null,0,0]
[null,null,null,null,null,null,null,0,null,0,0]
[null,null,null,null,null,null,null,0,null,0,0]
[null,null,null,null,null,null,null,0,null,0,0]
[null,null,null,null,null,null,null,0,null,0,0]
[null,null,null,null,null,null,null,0,null,0,0]
[null,null,null,null,null,null,null,0,null,0,0]
[null,null,null,null,null,null,null,0,null,0,0]
[null,null,null,null,null,null,null,0,null,0,0]
[null,null,null,null,null,null,null,0,null,0,0]
[null,null,null,null,null,null,null,0,null,0,0]
[null,null,null,null,null,null,null,0,null,0,0]
[null,null,null,null,null,null,null,0,null,0,0]
[null,null,null,null,null,null,null,0,null,0,0]
[null,null,null,null,null,null,null,0,null,0,0]
[null,null,null,null,null,null,null,0,null,0,0]
[null,null,null,null,null,null,null,0,null,0,0]
[null,null,null,null,null,null,null,0,null,0,0]
[null,null,null,null,null,null,null,0,null,0,0]
[null,null,null,null,null,null,null,0,null,0,0]
[null,null,null,null,null,null,null,0,null,0,0]
[null,null,null,null,null,null,null,0,null,0,0]
[null,null,null,null,null,null,null,0,null,0,0]
[null,null,null,null,null,null,null,0,null,0,0]
[null,null,null,null,null,null,null,0,null,0,0]
[null,null,null,null,null,null,null,0,null,0,0]
[null,null,61052,"ការថែទាំ ជួសជុលអគារផ្សេងៗ និងប្រាសាទ ",null,null,null,{"$f":"SUM(H239:H288)","v":0},null,{"$f":"SUM(J239:J288)","v":0},{"$f":"SUM(J238,H238)","v":0},null,{"$f":"C238","v":61052},{"$f":"H238","v":0},{"$f":"J238","v":0},{"$f":"SUM(N238:O238)","v":0}]
[null,null,null,null,null,null,null,{"$f":"F239*G239","v":0},null,{"$f":"F239*I239","v":0},{"$f":"SUM(J239,H239)","v":0}]
[null,null,null,"ជួសជុលអគារ   ",null,null,null,{"$f":"F240*G240","v":0},null,{"$f":"F240*I240","v":0},0]
[null,null,null,"បន្ទប់ទឹក   ",null,null,null,0,null,0,0]
[null,null,null,"ឃ្លាំង  ",null,null,null,0,null,0,0]
[null,null,null,"សួនច្បារ   ",null,null,null,0,null,0,0]
[null,null,null,"ក្លោងទ្វារ  ",null,null,null,0,null,0,0]
[null,null,null,"ខឿនទង់ជាតិ ​ ",null,null,null,0,null,0,0]
[null,null,null,"ចំណតរថយន្ត",null,null,null,0,null,0,0]
[null,null,null,null,null,null,null,0,null,0,0]
[null,null,null,null,null,null,null,0,null,0,0]
[null,null,null,null,null,null,null,0,null,0,0]
[null,null,null,null,null,null,null,0,null,0,0]
[null,null,null,null,null,null,null,0,null,0,0]
[null,null,null,null,null,null,null,0,null,0,0]
[null,null,null,null,null,null,null,0,null,0,0]
[null,null,null,null,null,null,null,0,null,0,0]
[null,null,null,null,null,null,null,0,null,0,0]
[null,null,null,null,null,null,null,0,null,0,0]
[null,null,null,null,null,null,null,0,null,0,0]
[null,null,null,null,null,null,null,0,null,0,0]
[null,null,null,null,null,null,null,0,null,0,0]
[null,null,null,null,null,null,null,0,null,0,0]
[null,null,null,null,null,null,null,0,null,0,0]
[null,null,null,null,null,null,null,0,null,0,0]
[null,null,null,null,null,null,null,0,null,0,0]
[null,null,null,null,null,null,null,0,null,0,0]
[null,null,null,null,null,null,null,0,null,0,0]
[null,null,null,null,null,null,null,0,null,0,0]
[null,null,null,null,null,null,null,0,null,0,0]
[null,null,null,null,null,null,null,0,null,0,0]
[null,null,null,null,null,null,null,0,null,0,0]
[null,null,null,null,null,null,null,0,null,0,0]
[null,null,null,null,null,null,null,0,null,0,0]
[null,null,null,null,null,null,null,0,null,0,0]
[null,null,null,null,null,null,null,0,null,0,0]
[null,null,null,null,null,null,null,0,null,0,0]
[null,null,null,null,null,null,null,0,null,0,0]
[null,null,null,null,null,null,null,0,null,0,0]
[null,null,null,null,null,null,null,0,null,0,0]
[null,null,null,null,null,null,null,0,null,0,0]
[null,null,null,null,null,null,null,0,null,0,0]
[null,null,null,null,null,null,null,0,null,0,0]
[null,null,null,null,null,null,null,0,null,0,0]
[null,null,null,null,null,null,null,0,null,0,0]
[null,null,null,null,null,null,null,0,null,0,0]
[null,null,null,null,null,null,null,0,null,0,0]
[null,null,null,null,null,null,null,0,null,0,0]
[null,null,null,null,null,null,null,0,null,0,0]
[null,null,null,null,null,null,null,0,null,0,0]
[null,null,null,null,null,null,null,0,null,0,0]
[null,null,61053,"ការថែទាំ ជួសជុលផ្លូវ ផ្លូវលំ ស្ពាន និងលូ ",null,null,null,{"$f":"SUM(H290:H339)","v":0},null,{"$f":"SUM(J290:J339)","v":0},{"$f":"SUM(J289,H289)","v":0},null,{"$f":"C289","v":61053},{"$f":"H289","v":0},{"$f":"J289","v":0},{"$f":"SUM(N289:O289)","v":0}]
[null,null,null,null,null,null,null,{"$f":"F290*G290","v":0},null,{"$f":"F290*I290","v":0},{"$f":"SUM(J290,H290)","v":0}]
[null,null,null,"ជួសជុលស្ពាន ",null,null,null,{"$f":"F291*G291","v":0},null,{"$f":"F291*I291","v":0},0]
[null,null,null,"ជួសជុលលូ  ",null,null,null,0,null,0,0]
[null,null,null,"ស្តារលូ  ",null,null,null,0,null,0,0]
[null,null,null,"ស្តារប្រឡាយ ",null,null,null,0,null,0,0]
[null,null,null,null,null,null,null,0,null,0,0]
[null,null,null,null,null,null,null,0,null,0,0]
[null,null,null,null,null,null,null,0,null,0,0]
[null,null,null,null,null,null,null,0,null,0,0]
[null,null,null,null,null,null,null,0,null,0,0]
[null,null,null,null,null,null,null,0,null,0,0]
[null,null,null,null,null,null,null,0,null,0,0]
[null,null,null,null,null,null,null,0,null,0,0]
[null,null,null,null,null,null,null,0,null,0,0]
[null,null,null,null,null,null,null,0,null,0,0]
[null,null,null,null,null,null,null,0,null,0,0]
[null,null,null,null,null,null,null,0,null,0,0]
[null,null,null,null,null,null,null,0,null,0,0]
[null,null,null,null,null,null,null,0,null,0,0]
[null,null,null,null,null,null,null,0,null,0,0]
[null,null,null,null,null,null,null,0,null,0,0]
[null,null,null,null,null,null,null,0,null,0,0]
[null,null,null,null,null,null,null,0,null,0,0]
[null,null,null,null,null,null,null,0,null,0,0]
[null,null,null,null,null,null,null,0,null,0,0]
[null,null,null,null,null,null,null,0,null,0,0]
[null,null,null,null,null,null,null,0,null,0,0]
[null,null,null,null,null,null,null,0,null,0,0]
[null,null,null,null,null,null,null,0,null,0,0]
[null,null,null,null,null,null,null,0,null,0,0]
[null,null,null,null,null,null,null,0,null,0,0]
[null,null,null,null,null,null,null,0,null,0,0]
[null,null,null,null,null,null,null,0,null,0,0]
[null,null,null,null,null,null,null,0,null,0,0]
[null,null,null,null,null,null,null,0,null,0,0]
[null,null,null,null,null,null,null,0,null,0,0]
[null,null,null,null,null,null,null,0,null,0,0]
[null,null,null,null,null,null,null,0,null,0,0]
[null,null,null,null,null,null,null,0,null,0,0]
[null,null,null,null,null,null,null,0,null,0,0]
[null,null,null,null,null,null,null,0,null,0,0]
[null,null,null,null,null,null,null,0,null,0,0]
[null,null,null,null,null,null,null,0,null,0,0]
[null,null,null,null,null,null,null,0,null,0,0]
[null,null,null,null,null,null,null,0,null,0,0]
[null,null,null,null,null,null,null,0,null,0,0]
[null,null,null,null,null,null,null,0,null,0,0]
[null,null,null,null,null,null,null,0,null,0,0]
[null,null,null,null,null,null,null,0,null,0,0]
[null,null,null,null,null,null,null,0,null,0,0]
[null,null,61054,"ការថែទាំបណ្តាញផ្សេងៗ​  ",null,null,null,{"$f":"SUM(H341:H390)","v":0},null,{"$f":"SUM(J341:J390)","v":0},{"$f":"SUM(J340,H340)","v":0},null,{"$f":"C340","v":61054},{"$f":"H340","v":0},{"$f":"J340","v":0},{"$f":"SUM(N340:O340)","v":0}]
[null,null,null,null,null,null,null,{"$f":"F341*G341","v":0},null,{"$f":"F341*I341","v":0},{"$f":"SUM(J341,H341)","v":0}]
[null,null,null,"ទឹកស្អាត  ",null,null,null,{"$f":"F342*G342","v":0},null,{"$f":"F342*I342","v":0},0]
[null,null,null,"វារីអគ្គិសនី",null,null,null,0,null,0,0]
[null,null,null,"បណ្តាញទូរស័ព្ទ   ",null,null,null,0,null,0,0]
[null,null,null,"តបណ្តាញអគ្គិសនី ",null,null,null,0,null,0,0]
[null,null,null,"ប្រព័ន្ធបណ្តាញព័ត៌មានវិទ្យា",null,null,null,0,null,0,0]
[null,null,null,null,null,null,null,0,null,0,0]
[null,null,null,null,null,null,null,0,null,0,0]
[null,null,null,null,null,null,null,0,null,0,0]
[null,null,null,null,null,null,null,0,null,0,0]
[null,null,null,null,null,null,null,0,null,0,0]
[null,null,null,null,null,null,null,0,null,0,0]
[null,null,null,null,null,null,null,0,null,0,0]
[null,null,null,null,null,null,null,0,null,0,0]
[null,null,null,null,null,null,null,0,null,0,0]
[null,null,null,null,null,null,null,0,null,0,0]
[null,null,null,null,null,null,null,0,null,0,0]
[null,null,null,null,null,null,null,0,null,0,0]
[null,null,null,null,null,null,null,0,null,0,0]
[null,null,null,null,null,null,null,0,null,0,0]
[null,null,null,null,null,null,null,0,null,0,0]
[null,null,null,null,null,null,null,0,null,0,0]
[null,null,null,null,null,null,null,0,null,0,0]
[null,null,null,null,null,null,null,0,null,0,0]
[null,null,null,null,null,null,null,0,null,0,0]
[null,null,null,null,null,null,null,0,null,0,0]
[null,null,null,null,null,null,null,0,null,0,0]
[null,null,null,null,null,null,null,0,null,0,0]
[null,null,null,null,null,null,null,0,null,0,0]
[null,null,null,null,null,null,null,0,null,0,0]
[null,null,null,null,null,null,null,0,null,0,0]
[null,null,null,null,null,null,null,0,null,0,0]
[null,null,null,null,null,null,null,0,null,0,0]
[null,null,null,null,null,null,null,0,null,0,0]
[null,null,null,null,null,null,null,0,null,0,0]
[null,null,null,null,null,null,null,0,null,0,0]
[null,null,null,null,null,null,null,0,null,0,0]
[null,null,null,null,null,null,null,0,null,0,0]
[null,null,null,null,null,null,null,0,null,0,0]
[null,null,null,null,null,null,null,0,null,0,0]
[null,null,null,null,null,null,null,0,null,0,0]
[null,null,null,null,null,null,null,0,null,0,0]
[null,null,null,null,null,null,null,0,null,0,0]
[null,null,null,null,null,null,null,0,null,0,0]
[null,null,null,null,null,null,null,0,null,0,0]
[null,null,null,null,null,null,null,0,null,0,0]
[null,null,null,null,null,null,null,0,null,0,0]
[null,null,null,null,null,null,null,0,null,0,0]
[null,null,null,null,null,null,null,0,null,0,0]
[null,null,null,null,null,null,null,0,null,0,0]
[null,null,60012,"សម្ភារផ្គត់ផ្គង់សម្រាប់ថែទាំអគារ បា្រសាទ និងសំណង់ផ្សេងៗ ",null,null,null,{"$f":"SUM(H392:H441)","v":0},null,{"$f":"SUM(J392:J441)","v":0},{"$f":"SUM(J391,H391)","v":0},null,{"$f":"C391","v":60012},{"$f":"H391","v":0},{"$f":"J391","v":0},{"$f":"SUM(N391:O391)","v":0}]
[null,null,null,null,null,null,null,{"$f":"F392*G392","v":0},null,{"$f":"F392*I392","v":0},{"$f":"SUM(J392,H392)","v":0}]
[null,null,null,"សួនច្បារ   ",null,null,null,{"$f":"F393*G393","v":0},null,{"$f":"F393*I393","v":0},0]
[null,null,null,"របង ",null,null,null,0,null,0,0]
[null,null,null,"ចំណតរថយន្ត  ",null,null,null,0,null,0,0]
[null,null,null,"បន្ទប់ទឹក ",null,null,null,0,null,0,0]
[null,null,null,"ឃ្លាំង ",null,null,null,0,null,0,0]
[null,null,null,"ដងទង់ជាតិ",null,null,null,0,null,0,0]
[null,null,null,null,null,null,null,0,null,0,0]
[null,null,null,null,null,null,null,0,null,0,0]
[null,null,null,null,null,null,null,0,null,0,0]
[null,null,null,null,null,null,null,0,null,0,0]
[null,null,null,null,null,null,null,0,null,0,0]
[null,null,null,null,null,null,null,0,null,0,0]
[null,null,null,null,null,null,null,0,null,0,0]
[null,null,null,null,null,null,null,0,null,0,0]
[null,null,null,null,null,null,null,0,null,0,0]
[null,null,null,null,null,null,null,0,null,0,0]
[null,null,null,null,null,null,null,0,null,0,0]
[null,null,null,null,null,null,null,0,null,0,0]
[null,null,null,null,null,null,null,0,null,0,0]
[null,null,null,null,null,null,null,0,null,0,0]
[null,null,null,null,null,null,null,0,null,0,0]
[null,null,null,null,null,null,null,0,null,0,0]
[null,null,null,null,null,null,null,0,null,0,0]
[null,null,null,null,null,null,null,0,null,0,0]
[null,null,null,null,null,null,null,0,null,0,0]
[null,null,null,null,null,null,null,0,null,0,0]
[null,null,null,null,null,null,null,0,null,0,0]
[null,null,null,null,null,null,null,0,null,0,0]
[null,null,null,null,null,null,null,0,null,0,0]
[null,null,null,null,null,null,null,0,null,0,0]
[null,null,null,null,null,null,null,0,null,0,0]
[null,null,null,null,null,null,null,0,null,0,0]
[null,null,null,null,null,null,null,0,null,0,0]
[null,null,null,null,null,null,null,0,null,0,0]
[null,null,null,null,null,null,null,0,null,0,0]
[null,null,null,null,null,null,null,0,null,0,0]
[null,null,null,null,null,null,null,0,null,0,0]
[null,null,null,null,null,null,null,0,null,0,0]
[null,null,null,null,null,null,null,0,null,0,0]
[null,null,null,null,null,null,null,0,null,0,0]
[null,null,null,null,null,null,null,0,null,0,0]
[null,null,null,null,null,null,null,0,null,0,0]
[null,null,null,null,null,null,null,0,null,0,0]
[null,null,null,null,null,null,null,0,null,0,0]
[null,null,null,null,null,null,null,0,null,0,0]
[null,null,null,null,null,null,null,0,null,0,0]
[null,null,null,null,null,null,null,0,null,0,0]
[null,null,null,null,null,null,null,0,null,0,0]
[null,null,null,null,null,null,null,0,null,0,0]
[null,null,60013,"សម្ភារផ្គត់ផ្គង់សម្រាប់ថែទាំផ្លូវថ្នល់ ស្ពាន និងលូ ",null,null,null,{"$f":"SUM(H443:H492)","v":0},null,{"$f":"SUM(J443:J492)","v":0},{"$f":"SUM(J442,H442)","v":0},null,{"$f":"C442","v":60013},{"$f":"H442","v":0},{"$f":"J442","v":0},{"$f":"SUM(N442:O442)","v":0}]
[null,null,null,null,null,null,null,{"$f":"F443*G443","v":0},null,{"$f":"F443*I443","v":0},{"$f":"SUM(J443,H443)","v":0}]
[null,null,null,"ស៊ីម៉ង់ ",null,null,null,{"$f":"F444*G444","v":0},null,{"$f":"F444*I444","v":0},0]
[null,null,null,"គ្រួស ",null,null,null,0,null,0,0]
[null,null,null,"ដី  ",null,null,null,0,null,0,0]
[null,null,null,"កំបោរ  ",null,null,null,0,null,0,0]
[null,null,null,"ឥដ្ឋ ",null,null,null,0,null,0,0]
[null,null,null,"ដែក  ",null,null,null,0,null,0,0]
[null,null,null,"ថ្នាំលាប ",null,null,null,0,null,0,0]
[null,null,null,"ម្នាងសិលា",null,null,null,0,null,0,0]
[null,null,null,null,null,null,null,0,null,0,0]
[null,null,null,null,null,null,null,0,null,0,0]
[null,null,null,null,null,null,null,0,null,0,0]
[null,null,null,null,null,null,null,0,null,0,0]
[null,null,null,null,null,null,null,0,null,0,0]
[null,null,null,null,null,null,null,0,null,0,0]
[null,null,null,null,null,null,null,0,null,0,0]
[null,null,null,null,null,null,null,0,null,0,0]
[null,null,null,null,null,null,null,0,null,0,0]
[null,null,null,null,null,null,null,0,null,0,0]
[null,null,null,null,null,null,null,0,null,0,0]
[null,null,null,null,null,null,null,0,null,0,0]
[null,null,null,null,null,null,null,0,null,0,0]
[null,null,null,null,null,null,null,0,null,0,0]
[null,null,null,null,null,null,null,0,null,0,0]
[null,null,null,null,null,null,null,0,null,0,0]
[null,null,null,null,null,null,null,0,null,0,0]
[null,null,null,null,null,null,null,0,null,0,0]
[null,null,null,null,null,null,null,0,null,0,0]
[null,null,null,null,null,null,null,0,null,0,0]
[null,null,null,null,null,null,null,0,null,0,0]
[null,null,null,null,null,null,null,0,null,0,0]
[null,null,null,null,null,null,null,0,null,0,0]
[null,null,null,null,null,null,null,0,null,0,0]
[null,null,null,null,null,null,null,0,null,0,0]
[null,null,null,null,null,null,null,0,null,0,0]
[null,null,null,null,null,null,null,0,null,0,0]
[null,null,null,null,null,null,null,0,null,0,0]
[null,null,null,null,null,null,null,0,null,0,0]
[null,null,null,null,null,null,null,0,null,0,0]
[null,null,null,null,null,null,null,0,null,0,0]
[null,null,null,null,null,null,null,0,null,0,0]
[null,null,null,null,null,null,null,0,null,0,0]
[null,null,null,null,null,null,null,0,null,0,0]
[null,null,null,null,null,null,null,0,null,0,0]
[null,null,null,null,null,null,null,0,null,0,0]
[null,null,null,null,null,null,null,0,null,0,0]
[null,null,null,null,null,null,null,0,null,0,0]
[null,null,null,null,null,null,null,0,null,0,0]
[null,null,null,null,null,null,null,0,null,0,0]
[null,null,null,null,null,null,null,0,null,0,0]
[null,null,60053,"សម្ភារប្រើបា្រស់ ",null,null,null,{"$f":"SUM(H494:H543)","v":0},null,{"$f":"SUM(J494:J543)","v":0},{"$f":"SUM(J493,H493)","v":0},null,{"$f":"C493","v":60053},{"$f":"H493","v":0},{"$f":"J493","v":0},{"$f":"SUM(N493:O493)","v":0}]
[null,null,null,null,null,null,null,{"$f":"F494*G494","v":0},null,{"$f":"F494*I494","v":0},{"$f":"SUM(J494,H494)","v":0}]
[null,null,null,"ស៊ីម៉ង់ ","បាវ",50000,null,{"$f":"F495*G495","v":0},null,{"$f":"F495*I495","v":0},0]
[null,null,null,"គ្រួស ",null,null,null,0,null,0,0]
[null,null,null,"ដី  ",null,null,null,0,null,0,0]
[null,null,null,"កំបោរ  ",null,null,null,0,null,0,0]
[null,null,null,"ឥដ្ឋ ",null,null,null,0,null,0,0]
[null,null,null,"ដែក  ",null,null,null,0,null,0,0]
[null,null,null,"ថ្នាំលាប ",null,null,null,0,null,0,0]
[null,null,null,"ម្នាងសិលា",null,null,null,0,null,0,0]
[null,null,null,null,null,null,null,0,null,0,0]
[null,null,null,null,null,null,null,0,null,0,0]
[null,null,null,null,null,null,null,0,null,0,0]
[null,null,null,null,null,null,null,0,null,0,0]
[null,null,null,null,null,null,null,0,null,0,0]
[null,null,null,null,null,null,null,0,null,0,0]
[null,null,null,null,null,null,null,0,null,0,0]
[null,null,null,null,null,null,null,0,null,0,0]
[null,null,null,null,null,null,null,0,null,0,0]
[null,null,null,null,null,null,null,0,null,0,0]
[null,null,null,null,null,null,null,0,null,0,0]
[null,null,null,null,null,null,null,0,null,0,0]
[null,null,null,null,null,null,null,0,null,0,0]
[null,null,null,null,null,null,null,0,null,0,0]
[null,null,null,null,null,null,null,0,null,0,0]
[null,null,null,null,null,null,null,0,null,0,0]
[null,null,null,null,null,null,null,0,null,0,0]
[null,null,null,null,null,null,null,0,null,0,0]
[null,null,null,null,null,null,null,0,null,0,0]
[null,null,null,null,null,null,null,0,null,0,0]
[null,null,null,null,null,null,null,0,null,0,0]
[null,null,null,null,null,null,null,0,null,0,0]
[null,null,null,null,null,null,null,0,null,0,0]
[null,null,null,null,null,null,null,0,null,0,0]
[null,null,null,null,null,null,null,0,null,0,0]
[null,null,null,null,null,null,null,0,null,0,0]
[null,null,null,null,null,null,null,0,null,0,0]
[null,null,null,null,null,null,null,0,null,0,0]
[null,null,null,null,null,null,null,0,null,0,0]
[null,null,null,null,null,null,null,0,null,0,0]
[null,null,null,null,null,null,null,0,null,0,0]
[null,null,null,null,null,null,null,0,null,0,0]
[null,null,null,null,null,null,null,0,null,0,0]
[null,null,null,null,null,null,null,0,null,0,0]
[null,null,null,null,null,null,null,0,null,0,0]
[null,null,null,null,null,null,null,0,null,0,0]
[null,null,null,null,null,null,null,0,null,0,0]
[null,null,null,null,null,null,null,0,null,0,0]
[null,null,null,null,null,null,null,0,null,0,0]
[null,null,null,null,null,null,null,0,null,0,0]
[null,null,null,null,null,null,null,0,null,0,0]
[null,"ការជួសជុលតូច (សង្ហារឹម បណ្ណាល័យ និងបរិក្ខារអេឡិចត្រូនិច)",null,null,null,null,null,{"$f":"SUM(H545,H596,)","v":0},null,{"$f":"SUM(J545,J596,)","v":0},{"$f":"SUM(K545,K596,)","v":0}]
[null,null,61052,"ការថែទាំ ជួសជុលអគារផ្សេងៗ និងប្រាសាទ ",null,null,null,{"$f":"SUM(H546:H595)","v":0},null,{"$f":"SUM(J546:J595)","v":0},{"$f":"SUM(J545,H545)","v":0},null,{"$f":"C545","v":61052},{"$f":"H545","v":0},{"$f":"J545","v":0},{"$f":"SUM(N545:O545)","v":0}]
[null,null,null,null,null,null,null,{"$f":"F546*G546","v":0},null,{"$f":"F546*I546","v":0},{"$f":"SUM(J546,H546)","v":0}]
[null,null,null,"ជួសជុលអគារ ",null,null,null,{"$f":"F547*G547","v":0},null,{"$f":"F547*I547","v":0},0]
[null,null,null," ជួសជុលរបង ",null,null,null,0,null,0,0]
[null,null,null,null,null,null,null,0,null,0,0]
[null,null,null,null,null,null,null,0,null,0,0]
[null,null,null,null,null,null,null,0,null,0,0]
[null,null,null,null,null,null,null,0,null,0,0]
[null,null,null,null,null,null,null,0,null,0,0]
[null,null,null,null,null,null,null,0,null,0,0]
[null,null,null,null,null,null,null,0,null,0,0]
[null,null,null,null,null,null,null,0,null,0,0]
[null,null,null,null,null,null,null,0,null,0,0]
[null,null,null,null,null,null,null,0,null,0,0]
[null,null,null,null,null,null,null,0,null,0,0]
[null,null,null,null,null,null,null,0,null,0,0]
[null,null,null,null,null,null,null,0,null,0,0]
[null,null,null,null,null,null,null,0,null,0,0]
[null,null,null,null,null,null,null,0,null,0,0]
[null,null,null,null,null,null,null,0,null,0,0]
[null,null,null,null,null,null,null,0,null,0,0]
[null,null,null,null,null,null,null,0,null,0,0]
[null,null,null,null,null,null,null,0,null,0,0]
[null,null,null,null,null,null,null,0,null,0,0]
[null,null,null,null,null,null,null,0,null,0,0]
[null,null,null,null,null,null,null,0,null,0,0]
[null,null,null,null,null,null,null,0,null,0,0]
[null,null,null,null,null,null,null,0,null,0,0]
[null,null,null,null,null,null,null,0,null,0,0]
[null,null,null,null,null,null,null,0,null,0,0]
[null,null,null,null,null,null,null,0,null,0,0]
[null,null,null,null,null,null,null,0,null,0,0]
[null,null,null,null,null,null,null,0,null,0,0]
[null,null,null,null,null,null,null,0,null,0,0]
[null,null,null,null,null,null,null,0,null,0,0]
[null,null,null,null,null,null,null,0,null,0,0]
[null,null,null,null,null,null,null,0,null,0,0]
[null,null,null,null,null,null,null,0,null,0,0]
[null,null,null,null,null,null,null,0,null,0,0]
[null,null,null,null,null,null,null,0,null,0,0]
[null,null,null,null,null,null,null,0,null,0,0]
[null,null,null,null,null,null,null,0,null,0,0]
[null,null,null,null,null,null,null,0,null,0,0]
[null,null,null,null,null,null,null,0,null,0,0]
[null,null,null,null,null,null,null,0,null,0,0]
[null,null,null,null,null,null,null,0,null,0,0]
[null,null,null,null,null,null,null,0,null,0,0]
[null,null,null,null,null,null,null,0,null,0,0]
[null,null,null,null,null,null,null,0,null,0,0]
[null,null,null,null,null,null,null,0,null,0,0]
[null,null,null,null,null,null,null,0,null,0,0]
[null,null,61057,"ការថែទាំ​ និងជួសជុលសម្ភារ និងឧបករណ៍បច្ចេកទេស ",null,null,null,{"$f":"SUM(H597:H646)","v":0},null,{"$f":"SUM(J597:J646)","v":0},{"$f":"SUM(J596,H596)","v":0},null,{"$f":"C596","v":61057},{"$f":"H596","v":0},{"$f":"J596","v":0},{"$f":"SUM(N596:O596)","v":0}]
[null,null,null,null,null,null,null,{"$f":"F597*G597","v":0},null,{"$f":"F597*I597","v":0},{"$f":"SUM(J597,H597)","v":0}]
[null,null,null,"ជួសជុលកៅអី  ",null,null,null,{"$f":"F598*G598","v":0},null,{"$f":"F598*I598","v":0},0]
[null,null,null,"ជួសជុលទូ  ",null,null,null,0,null,0,0]
[null,null,null,"ជួសជុលក្តារខៀន   ",null,null,null,0,null,0,0]
[null,null,null,"ជួសជុលម៉ាស៊ីនត្រជាក់  ",null,null,null,0,null,0,0]
[null,null,null,"ជួសជុលម៉ាស៊ីនថតចម្លង  ក",null,null,null,0,null,0,0]
[null,null,null,"ជួសជុលុំព្យូទ័រ ",null,null,null,0,null,0,0]
[null,null,null,"ជួសជុលម៉ាស៊ីនព្រីនធ័រ  ",null,null,null,0,null,0,0]
[null,null,null,"ជួសជុលទូរស័ព្ទ   ",null,null,null,0,null,0,0]
[null,null,null,"ជួសជុលវិទ្យុទាក់ទង ",null,null,null,0,null,0,0]
[null,null,null,"ជួសជុលម៉ាស៊ីនហ្វាក់  ",null,null,null,0,null,0,0]
[null,null,null,"ជួសជុលម៉ាស៊ីនផ្សាយទូរទស្សន៍  ",null,null,null,0,null,0,0]
[null,null,null,"ជួសជុលទូរទស្សន៍ ",null,null,null,0,null,0,0]
[null,null,null,null,null,null,null,0,null,0,0]
[null,null,null,null,null,null,null,0,null,0,0]
[null,null,null,null,null,null,null,0,null,0,0]
[null,null,null,null,null,null,null,0,null,0,0]
[null,null,null,null,null,null,null,0,null,0,0]
[null,null,null,null,null,null,null,0,null,0,0]
[null,null,null,null,null,null,null,0,null,0,0]
[null,null,null,null,null,null,null,0,null,0,0]
[null,null,null,null,null,null,null,0,null,0,0]
[null,null,null,null,null,null,null,0,null,0,0]
[null,null,null,null,null,null,null,0,null,0,0]
[null,null,null,null,null,null,null,0,null,0,0]
[null,null,null,null,null,null,null,0,null,0,0]
[null,null,null,null,null,null,null,0,null,0,0]
[null,null,null,null,null,null,null,0,null,0,0]
[null,null,null,null,null,null,null,0,null,0,0]
[null,null,null,null,null,null,null,0,null,0,0]
[null,null,null,null,null,null,null,0,null,0,0]
[null,null,null,null,null,null,null,0,null,0,0]
[null,null,null,null,null,null,null,0,null,0,0]
[null,null,null,null,null,null,null,0,null,0,0]
[null,null,null,null,null,null,null,0,null,0,0]
[null,null,null,null,null,null,null,0,null,0,0]
[null,null,null,null,null,null,null,0,null,0,0]
[null,null,null,null,null,null,null,0,null,0,0]
[null,null,null,null,null,null,null,0,null,0,0]
[null,null,null,null,null,null,null,0,null,0,0]
[null,null,null,null,null,null,null,0,null,0,0]
[null,null,null,null,null,null,null,0,null,0,0]
[null,null,null,null,null,null,null,0,null,0,0]
[null,null,null,null,null,null,null,0,null,0,0]
[null,null,null,null,null,null,null,0,null,0,0]
[null,null,null,null,null,null,null,0,null,0,0]
[null,null,null,null,null,null,null,0,null,0,0]
[null,null,null,null,null,null,null,0,null,0,0]
[null,null,null,null,null,null,null,0,null,0,0]
[null,null,null,null,null,null,null,0,null,0,0]
[null,"ការទិញសៀវភៅអានដាក់ក្នុងបណ្ណាល័យ",null,null,null,null,null,{"$f":"SUM(H648,)","v":0},null,{"$f":"SUM(J648,)","v":0},{"$f":"SUM(K648,)","v":0}]
[null,null,60022,"សៀវភៅមើល និងឯកសារផ្សេងៗ",null,null,null,{"$f":"SUM(H649:H698)","v":0},null,{"$f":"SUM(J649:J698)","v":0},{"$f":"SUM(J648,H648)","v":0},null,{"$f":"C648","v":60022},{"$f":"H648","v":0},{"$f":"J648","v":0},{"$f":"SUM(N648:O648)","v":0}]
[null,null,null,null,null,null,null,{"$f":"F649*G649","v":0},null,{"$f":"F649*I649","v":0},{"$f":"SUM(J649,H649)","v":0}]
[null,null,null,"វចនានុក្រម",null,null,null,{"$f":"F650*G650","v":0},null,{"$f":"F650*I650","v":0},0]
[null,null,null,"សៀវភៅធម៌​",null,null,null,0,null,0,0]
[null,null,null,null,null,null,null,0,null,0,0]
[null,null,null,null,null,null,null,0,null,0,0]
[null,null,null,null,null,null,null,0,null,0,0]
[null,null,null,null,null,null,null,0,null,0,0]
[null,null,null,null,null,null,null,0,null,0,0]
[null,null,null,null,null,null,null,0,null,0,0]
[null,null,null,null,null,null,null,0,null,0,0]
[null,null,null,null,null,null,null,0,null,0,0]
[null,null,null,null,null,null,null,0,null,0,0]
[null,null,null,null,null,null,null,0,null,0,0]
[null,null,null,null,null,null,null,0,null,0,0]
[null,null,null,null,null,null,null,0,null,0,0]
[null,null,null,null,null,null,null,0,null,0,0]
[null,null,null,null,null,null,null,0,null,0,0]
[null,null,null,null,null,null,null,0,null,0,0]
[null,null,null,null,null,null,null,0,null,0,0]
[null,null,null,null,null,null,null,0,null,0,0]
[null,null,null,null,null,null,null,0,null,0,0]
[null,null,null,null,null,null,null,0,null,0,0]
[null,null,null,null,null,null,null,0,null,0,0]
[null,null,null,null,null,null,null,0,null,0,0]
[null,null,null,null,null,null,null,0,null,0,0]
[null,null,null,null,null,null,null,0,null,0,0]
[null,null,null,null,null,null,null,0,null,0,0]
[null,null,null,null,null,null,null,0,null,0,0]
[null,null,null,null,null,null,null,0,null,0,0]
[null,null,null,null,null,null,null,0,null,0,0]
[null,null,null,null,null,null,null,0,null,0,0]
[null,null,null,null,null,null,null,0,null,0,0]
[null,null,null,null,null,null,null,0,null,0,0]
[null,null,null,null,null,null,null,0,null,0,0]
[null,null,null,null,null,null,null,0,null,0,0]
[null,null,null,null,null,null,null,0,null,0,0]
[null,null,null,null,null,null,null,0,null,0,0]
[null,null,null,null,null,null,null,0,null,0,0]
[null,null,null,null,null,null,null,0,null,0,0]
[null,null,null,null,null,null,null,0,null,0,0]
[null,null,null,null,null,null,null,0,null,0,0]
[null,null,null,null,null,null,null,0,null,0,0]
[null,null,null,null,null,null,null,0,null,0,0]
[null,null,null,null,null,null,null,0,null,0,0]
[null,null,null,null,null,null,null,0,null,0,0]
[null,null,null,null,null,null,null,0,null,0,0]
[null,null,null,null,null,null,null,0,null,0,0]
[null,null,null,null,null,null,null,0,null,0,0]
[null,null,null,null,null,null,null,0,null,0,0]
[null,null,null,null,null,null,null,0,null,0,0]
[null,"បំណិនជីវិត (កីឡា សិល្បៈ រោងជាង គេហវិជ្ជា និងកសិកម្ម)",null,null,null,null,null,{"$f":"SUM(H700,)","v":0},null,{"$f":"SUM(J700,)","v":0},{"$f":"SUM(K700,)","v":0}]
[null,null,60053,"សម្ភារប្រើបា្រស់",null,null,null,{"$f":"SUM(H701:H750)","v":0},null,{"$f":"SUM(J701:J750)","v":0},{"$f":"SUM(J700,H700)","v":0},null,{"$f":"C700","v":60053},{"$f":"H700","v":0},{"$f":"J700","v":0},{"$f":"SUM(N700:O700)","v":0}]
[null,null,null,null,null,null,null,{"$f":"F701*G701","v":0},null,{"$f":"F701*I701","v":0},{"$f":"SUM(J701,H701)","v":0}]
[null,null,null,"បាល់  ",null,null,null,{"$f":"F702*G702","v":0},null,{"$f":"F702*I702","v":0},0]
[null,null,null,"សំណាញ់",null,null,null,0,null,0,0]
[null,null,null," ស្បែកជើង ",null,null,null,0,null,0,0]
[null,null,null," ខ្សែពួរ  ",null,null,null,0,null,0,0]
[null,null,null," ដុំដែក  ",null,null,null,0,null,0,0]
[null,null,null," ថាសចោល ",null,null,null,0,null,0,0]
[null,null,null,"ស្គរ ទ្រ រនាត ",null,null,null,0,null,0,0]
[null,null,null,"ឃឹមតូច-ធំ  ",null,null,null,0,null,0,0]
[null,null,null,"ខ្លុយ  ",null,null,null,0,null,0,0]
[null,null,null,"ស្រឡៃ ",null,null,null,0,null,0,0]
[null,null,null,"គងតូច-ធំ",null,null,null,0,null,0,0]
[null,null,null,"ញញួរ  ",null,null,null,0,null,0,0]
[null,null,null,"រណារ  ",null,null,null,0,null,0,0]
[null,null,null,"ពូថៅ ",null,null,null,0,null,0,0]
[null,null,null,"កាំបិត  ",null,null,null,0,null,0,0]
[null,null,null,"ដែកខួង  ",null,null,null,0,null,0,0]
[null,null,null,"ផ្លែស្វាន  ",null,null,null,0,null,0,0]
[null,null,null,"ម៉ែត្រ  ",null,null,null,0,null,0,0]
[null,null,null,"ដង្កាប់",null,null,null,0,null,0,0]
[null,null,null,"ដែកឈូស ",null,null,null,0,null,0,0]
[null,null,null,"ពន្លាក  ",null,null,null,0,null,0,0]
[null,null,null,"ដែកដាប់  ",null,null,null,0,null,0,0]
[null,null,null,"ក្រដាសខាត់  ",null,null,null,0,null,0,0]
[null,null,null,"ម៉ាស៊ីនចោះ ឬខួង ",null,null,null,0,null,0,0]
[null,null,null,"ម៉ាស៊ីនខាត់",null,null,null,0,null,0,0]
[null,null,null,"កូនកន្រ្តៃ  ",null,null,null,0,null,0,0]
[null,null,null,"ឡាំ  ",null,null,null,0,null,0,0]
[null,null,null,"គ្រឿងបំលាស់ម៉ាស៊ីនដេរ",null,null,null,0,null,0,0]
[null,null,null,"ចបកាប់  ",null,null,null,0,null,0,0]
[null,null,null,"ចប  ",null,null,null,0,null,0,0]
[null,null,null,"បង្គី  ",null,null,null,0,null,0,0]
[null,null,null,"ប៉ែល  ",null,null,null,0,null,0,0]
[null,null,null,"ចបជីក ",null,null,null,0,null,0,0]
[null,null,null," រនាស់ ",null,null,null,0,null,0,0]
[null,null,null,"សោរទ្វារ  ",null,null,null,0,null,0,0]
[null,null,null,"គន្លឹះទ្វារ  ",null,null,null,0,null,0,0]
[null,null,null,"ត្រចៀកទ្វារ ",null,null,null,0,null,0,0]
[null,null,null," ត្រចៀកបង្អួច  ",null,null,null,0,null,0,0]
[null,null,null,"សោរចាក់ ",null,null,null,0,null,0,0]
[null,null,null,"តង់កៅស៊ូ   ",null,null,null,0,null,0,0]
[null,null,null,"ថ្មពិលគ្រប់ប្រភេទ  ",null,null,null,0,null,0,0]
[null,null,null," ហ្វិលថត  ",null,null,null,0,null,0,0]
[null,null,null," កាសែតថតចម្លង  ",null,null,null,0,null,0,0]
[null,null,null," កាសែតវិដេអូ  ",null,null,null,0,null,0,0]
[null,null,null,"កាសែតថតសំលេង  ",null,null,null,0,null,0,0]
[null,null,null,"វាំងនន  ",null,null,null,0,null,0,0]
[null,null,null,"កំរាលតុ",null,null,null,0,null,0,0]
[null,null,null,null,null,null,null,0,null,0,0]
[null,null,null,null,null,null,null,0,null,0,0]
[null,"ចំណាយសម្រាប់អនាម័យ",null,null,null,null,null,{"$f":"SUM(H752,)","v":0},null,{"$f":"SUM(J752,)","v":0},{"$f":"SUM(K752,)","v":0}]
[null,null,60011,"សម្ភារសម្អាត និងអនាម័យ",null,null,null,{"$f":"SUM(H753:H802)","v":0},null,{"$f":"SUM(J753:J802)","v":0},{"$f":"SUM(J752,H752)","v":0},null,{"$f":"C752","v":60011},{"$f":"H752","v":0},{"$f":"J752","v":0},{"$f":"SUM(N752:O752)","v":0}]
[null,null,null,"សាប៊ូលាងដៃ",null,null,null,{"$f":"F753*G753","v":0},null,{"$f":"F753*I753","v":0},{"$f":"SUM(J753,H753)","v":0}]
[null,null,null,"អូសាវែល  ",null,null,null,{"$f":"F754*G754","v":0},null,{"$f":"F754*I754","v":0},0]
[null,null,null,"ថ្នាំបាញ់កញ្ចក់  ",null,null,null,0,null,0,0]
[null,null,null,"ក្រដាសអនាម័យ  ",null,null,null,0,null,0,0]
[null,null,null,"ថ្នាំបាញ់បន្ទប់ ",null,null,null,0,null,0,0]
[null,null,null,"ចាស់  ",null,null,null,0,null,0,0]
[null,null,null,"កន្សែងដៃ ",null,null,null,0,null,0,0]
[null,null,null,"ថ្នាំបាញ់មូស  ",null,null,null,0,null,0,0]
[null,null,null,"ធុងសំរាម  ",null,null,null,0,null,0,0]
[null,null,null,"អំបោស  ",null,null,null,0,null,0,0]
[null,null,null,"ធុងចំរោះទឹកស្អាត  ",null,null,null,0,null,0,0]
[null,null,null,"ឡដុតសំរាម  ",null,null,null,0,null,0,0]
[null,null,null,"កន្រ្តៃកាត់",null,null,null,0,null,0,0]
[null,null,null,"ក្រចក ​ ",null,null,null,0,null,0,0]
[null,null,null,"ធុងទឹកលាងដៃ  ",null,null,null,0,null,0,0]
[null,null,null,"ទឹកក្រអូបបាញ់បន្ទប់",null,null,null,0,null,0,0]
[null,null,null,null,null,null,null,0,null,0,0]
[null,null,null,null,null,null,null,0,null,0,0]
[null,null,null,null,null,null,null,0,null,0,0]
[null,null,null,null,null,null,null,0,null,0,0]
[null,null,null,null,null,null,null,0,null,0,0]
[null,null,null,null,null,null,null,0,null,0,0]
[null,null,null,null,null,null,null,0,null,0,0]
[null,null,null,null,null,null,null,0,null,0,0]
[null,null,null,null,null,null,null,0,null,0,0]
[null,null,null,null,null,null,null,0,null,0,0]
[null,null,null,null,null,null,null,0,null,0,0]
[null,null,null,null,null,null,null,0,null,0,0]
[null,null,null,null,null,null,null,0,null,0,0]
[null,null,null,null,null,null,null,0,null,0,0]
[null,null,null,null,null,null,null,0,null,0,0]
[null,null,null,null,null,null,null,0,null,0,0]
[null,null,null,null,null,null,null,0,null,0,0]
[null,null,null,null,null,null,null,0,null,0,0]
[null,null,null,null,null,null,null,0,null,0,0]
[null,null,null,null,null,null,null,0,null,0,0]
[null,null,null,null,null,null,null,0,null,0,0]
[null,null,null,null,null,null,null,0,null,0,0]
[null,null,null,null,null,null,null,0,null,0,0]
[null,null,null,null,null,null,null,0,null,0,0]
[null,null,null,null,null,null,null,0,null,0,0]
[null,null,null,null,null,null,null,0,null,0,0]
[null,null,null,null,null,null,null,0,null,0,0]
[null,null,null,null,null,null,null,0,null,0,0]
[null,null,null,null,null,null,null,0,null,0,0]
[null,null,null,null,null,null,null,0,null,0,0]
[null,null,null,null,null,null,null,0,null,0,0]
[null,null,null,null,null,null,null,0,null,0,0]
[null,null,null,null,null,null,null,0,null,0,0]
[null,null,null,null,null,null,null,0,null,0,0]
[null,"ចំណាយទូទាត់ថ្លៃប្រើបា្រស់ថាមពលអគ្គិសនី និងទឹក",null,null,null,null,null,{"$f":"SUM(H804,H810,H816)","v":0},null,{"$f":"SUM(J804,J810,J816)","v":0},{"$f":"SUM(K804,K810,K816)","v":0}]
[null,null,60061,"អគ្គិសនី ",null,null,null,{"$f":"SUM(H805:H809)","v":0},null,{"$f":"SUM(J805:J809)","v":0},{"$f":"SUM(J804,H804)","v":0},null,{"$f":"C804","v":60061},{"$f":"H804","v":0},{"$f":"J804","v":0},{"$f":"SUM(N804:O804)","v":0}]
[null,null,null,null,null,null,null,{"$f":"F805*G805","v":0},null,{"$f":"F805*I805","v":0},{"$f":"SUM(J805,H805)","v":0}]
[null,null,null,null,null,null,null,{"$f":"F806*G806","v":0},null,{"$f":"F806*I806","v":0},{"$f":"SUM(J806,H806)","v":0}]
[null,null,null,null,null,null,null,0,null,0,0]
[null,null,null,null,null,null,null,0,null,0,0]
[null,null,null,null,null,null,null,0,null,0,0]
[null,null,60062,"ទឹកស្អាត",null,null,null,{"$f":"SUM(H811:H815)","v":0},null,{"$f":"SUM(J811:J815)","v":0},{"$f":"SUM(J810,H810)","v":0},null,{"$f":"C810","v":60062},{"$f":"H810","v":0},{"$f":"J810","v":0},{"$f":"SUM(N810:O810)","v":0}]
[null,null,null,null,null,null,null,{"$f":"F811*G811","v":0},null,{"$f":"F811*I811","v":0},{"$f":"SUM(J811,H811)","v":0}]
[null,null,null,null,null,null,null,{"$f":"F812*G812","v":0},null,{"$f":"F812*I812","v":0},{"$f":"SUM(J812,H812)","v":0}]
[null,null,null,null,null,null,null,0,null,0,0]
[null,null,null,null,null,null,null,0,null,0,0]
[null,null,null,null,null,null,null,0,null,0,0]
[null,null,60068,"ផ្សេងៗ",null,null,null,{"$f":"SUM(H817:H821)","v":0},null,{"$f":"SUM(J817:J821)","v":0},{"$f":"SUM(J816,H816)","v":0},null,{"$f":"C816","v":60068},{"$f":"H816","v":0},{"$f":"J816","v":0},{"$f":"SUM(N816:O816)","v":0}]
[null,null,null,null,null,null,null,{"$f":"F817*G817","v":0},null,{"$f":"F817*I817","v":0},{"$f":"SUM(J817,H817)","v":0}]
[null,null,null,null,null,null,null,0,null,0,0]
[null,null,null,null,null,null,null,0,null,0,0]
[null,null,null,null,null,null,null,0,null,0,0]
[null,null,null,"ហ្គាស ",null,null,null,{"$f":"F821*G821","v":0},null,{"$f":"F821*I821","v":0},{"$f":"SUM(J821,H821)","v":0}]
[null,"ការរៀបចំឯកសារធ្វើតេស្ត និងសម្ភារផ្សេងៗសម្រាប់ប្រឡងឆមាស  ",null,null,null,null,null,{"$f":"SUM(H823,H874)","v":0},null,{"$f":"SUM(J823,J874)","v":0},{"$f":"SUM(K823,K874)","v":0}]
[null,null,60021,"សម្ភារការិយាល័យ",null,null,null,{"$f":"SUM(H824:H873)","v":0},null,{"$f":"SUM(J824:J873)","v":0},{"$f":"SUM(J823,H823)","v":0},null,{"$f":"C823","v":60021},{"$f":"H823","v":0},{"$f":"J823","v":0},{"$f":"SUM(N823:O823)","v":0}]
[null,null,null,null,null,null,null,{"$f":"F824*G824","v":0},null,{"$f":"F824*I824","v":0},{"$f":"SUM(J824,H824)","v":0}]
[null,null,null,null,null,null,null,{"$f":"F825*G825","v":0},null,{"$f":"F825*I825","v":0},0]
[null,null,null,null,null,null,null,0,null,0,0]
[null,null,null,null,null,null,null,0,null,0,0]
[null,null,null,null,null,null,null,0,null,0,0]
[null,null,null,null,null,null,null,0,null,0,0]
[null,null,null,null,null,null,null,0,null,0,0]
[null,null,null,null,null,null,null,0,null,0,0]
[null,null,null,null,null,null,null,0,null,0,0]
[null,null,null,null,null,null,null,0,null,0,0]
[null,null,null,null,null,null,null,0,null,0,0]
[null,null,null,null,null,null,null,0,null,0,0]
[null,null,null,null,null,null,null,0,null,0,0]
[null,null,null,null,null,null,null,0,null,0,0]
[null,null,null,null,null,null,null,0,null,0,0]
[null,null,null,null,null,null,null,0,null,0,0]
[null,null,null,null,null,null,null,0,null,0,0]
[null,null,null,null,null,null,null,0,null,0,0]
[null,null,null,null,null,null,null,0,null,0,0]
[null,null,null,null,null,null,null,0,null,0,0]
[null,null,null,null,null,null,null,0,null,0,0]
[null,null,null,null,null,null,null,0,null,0,0]
[null,null,null,null,null,null,null,0,null,0,0]
[null,null,null,null,null,null,null,0,null,0,0]
[null,null,null,null,null,null,null,0,null,0,0]
[null,null,null,null,null,null,null,0,null,0,0]
[null,null,null,null,null,null,null,0,null,0,0]
[null,null,null,null,null,null,null,0,null,0,0]
[null,null,null,null,null,null,null,0,null,0,0]
[null,null,null,null,null,null,null,0,null,0,0]
[null,null,null,null,null,null,null,0,null,0,0]
[null,null,null,null,null,null,null,0,null,0,0]
[null,null,null,null,null,null,null,0,null,0,0]
[null,null,null,null,null,null,null,0,null,0,0]
[null,null,null,null,null,null,null,0,null,0,0]
[null,null,null,null,null,null,null,0,null,0,0]
[null,null,null,null,null,null,null,0,null,0,0]
[null,null,null,null,null,null,null,0,null,0,0]
[null,null,null,null,null,null,null,0,null,0,0]
[null,null,null,null,null,null,null,0,null,0,0]
[null,null,null,null,null,null,null,0,null,0,0]
[null,null,null,null,null,null,null,0,null,0,0]
[null,null,null,null,null,null,null,0,null,0,0]
[null,null,null,null,null,null,null,0,null,0,0]
[null,null,null,null,null,null,null,0,null,0,0]
[null,null,null,null,null,null,null,0,null,0,0]
[null,null,null,null,null,null,null,0,null,0,0]
[null,null,null,null,null,null,null,0,null,0,0]
[null,null,null,null,null,null,null,0,null,0,0]
[null,null,null,null,null,null,null,0,null,0,0]
[null,null,60023,"ការបោះពុម្ព",null,null,null,{"$f":"SUM(H875:H924)","v":0},null,{"$f":"SUM(J875:J924)","v":0},{"$f":"SUM(J874,H874)","v":0},null,{"$f":"C874","v":60023},{"$f":"H874","v":0},{"$f":"J874","v":0},{"$f":"SUM(N874:O874)","v":0}]
[null,null,null,"បោះពុម្ភ",null,null,null,{"$f":"F875*G875","v":0},null,{"$f":"F875*I875","v":0},{"$f":"SUM(J875,H875)","v":0}]
[null,null,null,null,null,null,null,{"$f":"F876*G876","v":0},null,{"$f":"F876*I876","v":0},0]
[null,null,null,null,null,null,null,0,null,0,0]
[null,null,null,null,null,null,null,0,null,0,0]
[null,null,null,null,null,null,null,0,null,0,0]
[null,null,null,null,null,null,null,0,null,0,0]
[null,null,null,null,null,null,null,0,null,0,0]
[null,null,null,null,null,null,null,0,null,0,0]
[null,null,null,null,null,null,null,0,null,0,0]
[null,null,null,null,null,null,null,0,null,0,0]
[null,null,null,null,null,null,null,0,null,0,0]
[null,null,null,null,null,null,null,0,null,0,0]
[null,null,null,null,null,null,null,0,null,0,0]
[null,null,null,null,null,null,null,0,null,0,0]
[null,null,null,null,null,null,null,0,null,0,0]
[null,null,null,null,null,null,null,0,null,0,0]
[null,null,null,null,null,null,null,0,null,0,0]
[null,null,null,null,null,null,null,0,null,0,0]
[null,null,null,null,null,null,null,0,null,0,0]
[null,null,null,null,null,null,null,0,null,0,0]
[null,null,null,null,null,null,null,0,null,0,0]
[null,null,null,null,null,null,null,0,null,0,0]
[null,null,null,null,null,null,null,0,null,0,0]
[null,null,null,null,null,null,null,0,null,0,0]
[null,null,null,null,null,null,null,0,null,0,0]
[null,null,null,null,null,null,null,0,null,0,0]
[null,null,null,null,null,null,null,0,null,0,0]
[null,null,null,null,null,null,null,0,null,0,0]
[null,null,null,null,null,null,null,0,null,0,0]
[null,null,null,null,null,null,null,0,null,0,0]
[null,null,null,null,null,null,null,0,null,0,0]
[null,null,null,null,null,null,null,0,null,0,0]
[null,null,null,null,null,null,null,0,null,0,0]
[null,null,null,null,null,null,null,0,null,0,0]
[null,null,null,null,null,null,null,0,null,0,0]
[null,null,null,null,null,null,null,0,null,0,0]
[null,null,null,null,null,null,null,0,null,0,0]
[null,null,null,null,null,null,null,0,null,0,0]
[null,null,null,null,null,null,null,0,null,0,0]
[null,null,null,null,null,null,null,0,null,0,0]
[null,null,null,null,null,null,null,0,null,0,0]
[null,null,null,null,null,null,null,0,null,0,0]
[null,null,null,null,null,null,null,0,null,0,0]
[null,null,null,null,null,null,null,0,null,0,0]
[null,null,null,null,null,null,null,0,null,0,0]
[null,null,null,null,null,null,null,0,null,0,0]
[null,null,null,null,null,null,null,0,null,0,0]
[null,null,null,null,null,null,null,0,null,0,0]
[null,null,null,null,null,null,null,0,null,0,0]
[null,null,null,null,null,null,null,0,null,0,0]
[null,"ចលនាបីល្អ (សិស្សល្អ មិត្តល្អ កូនល្អ) របស់ក្រុមប្រឹក្សាយុវជន",null,null,null,null,null,{"$f":"SUM(H926,H977)","v":0},null,{"$f":"SUM(J926,J977)","v":0},{"$f":"SUM(K926,K977)","v":0}]
[null,null,60021,"សម្ភារការិយាល័យ",null,null,null,{"$f":"SUM(H927:H976)","v":0},null,{"$f":"SUM(J927:J976)","v":0},{"$f":"SUM(J926,H926)","v":0},null,{"$f":"C926","v":60021},{"$f":"H926","v":0},{"$f":"J926","v":0},{"$f":"SUM(N926:O926)","v":0}]
[null,null,null,null,null,null,null,{"$f":"F927*G927","v":0},null,{"$f":"F927*I927","v":0},{"$f":"SUM(J927,H927)","v":0}]
[null,null,null,null,null,null,null,{"$f":"F928*G928","v":0},null,{"$f":"F928*I928","v":0},0]
[null,null,null,null,null,null,null,0,null,0,0]
[null,null,null,null,null,null,null,0,null,0,0]
[null,null,null,null,null,null,null,0,null,0,0]
[null,null,null,null,null,null,null,0,null,0,0]
[null,null,null,null,null,null,null,0,null,0,0]
[null,null,null,null,null,null,null,0,null,0,0]
[null,null,null,null,null,null,null,0,null,0,0]
[null,null,null,null,null,null,null,0,null,0,0]
[null,null,null,null,null,null,null,0,null,0,0]
[null,null,null,null,null,null,null,0,null,0,0]
[null,null,null,null,null,null,null,0,null,0,0]
[null,null,null,null,null,null,null,0,null,0,0]
[null,null,null,null,null,null,null,0,null,0,0]
[null,null,null,null,null,null,null,0,null,0,0]
[null,null,null,null,null,null,null,0,null,0,0]
[null,null,null,null,null,null,null,0,null,0,0]
[null,null,null,null,null,null,null,0,null,0,0]
[null,null,null,null,null,null,null,0,null,0,0]
[null,null,null,null,null,null,null,0,null,0,0]
[null,null,null,null,null,null,null,0,null,0,0]
[null,null,null,null,null,null,null,0,null,0,0]
[null,null,null,null,null,null,null,0,null,0,0]
[null,null,null,null,null,null,null,0,null,0,0]
[null,null,null,null,null,null,null,0,null,0,0]
[null,null,null,null,null,null,null,0,null,0,0]
[null,null,null,null,null,null,null,0,null,0,0]
[null,null,null,null,null,null,null,0,null,0,0]
[null,null,null,null,null,null,null,0,null,0,0]
[null,null,null,null,null,null,null,0,null,0,0]
[null,null,null,null,null,null,null,0,null,0,0]
[null,null,null,null,null,null,null,0,null,0,0]
[null,null,null,null,null,null,null,0,null,0,0]
[null,null,null,null,null,null,null,0,null,0,0]
[null,null,null,null,null,null,null,0,null,0,0]
[null,null,null,null,null,null,null,0,null,0,0]
[null,null,null,null,null,null,null,0,null,0,0]
[null,null,null,null,null,null,null,0,null,0,0]
[null,null,null,null,null,null,null,0,null,0,0]
[null,null,null,null,null,null,null,0,null,0,0]
[null,null,null,null,null,null,null,0,null,0,0]
[null,null,null,null,null,null,null,0,null,0,0]
[null,null,null,null,null,null,null,0,null,0,0]
[null,null,null,null,null,null,null,0,null,0,0]
[null,null,null,null,null,null,null,0,null,0,0]
[null,null,null,null,null,null,null,0,null,0,0]
[null,null,null,null,null,null,null,0,null,0,0]
[null,null,null,null,null,null,null,0,null,0,0]
[null,null,null,null,null,null,null,0,null,0,0]
[null,null,60053,"សម្ភារប្រើបា្រស់  ",null,null,null,{"$f":"SUM(H978:H1027)","v":0},null,{"$f":"SUM(J978:J1027)","v":0},{"$f":"SUM(J977,H977)","v":0},null,{"$f":"C977","v":60053},{"$f":"H977","v":0},{"$f":"J977","v":0},{"$f":"SUM(N977:O977)","v":0}]
[null,null,null,null,null,null,null,{"$f":"F978*G978","v":0},null,{"$f":"F978*I978","v":0},{"$f":"SUM(J978,H978)","v":0}]
[null,null,null,null,null,null,null,{"$f":"F979*G979","v":0},null,{"$f":"F979*I979","v":0},0]
[null,null,null,null,null,null,null,0,null,0,0]
[null,null,null,null,null,null,null,0,null,0,0]
[null,null,null,null,null,null,null,0,null,0,0]
[null,null,null,null,null,null,null,0,null,0,0]
[null,null,null,null,null,null,null,0,null,0,0]
[null,null,null,null,null,null,null,0,null,0,0]
[null,null,null,null,null,null,null,0,null,0,0]
[null,null,null,null,null,null,null,0,null,0,0]
[null,null,null,null,null,null,null,0,null,0,0]
[null,null,null,null,null,null,null,0,null,0,0]
[null,null,null,null,null,null,null,0,null,0,0]
[null,null,null,null,null,null,null,0,null,0,0]
[null,null,null,null,null,null,null,0,null,0,0]
[null,null,null,null,null,null,null,0,null,0,0]
[null,null,null,null,null,null,null,0,null,0,0]
[null,null,null,null,null,null,null,0,null,0,0]
[null,null,null,null,null,null,null,0,null,0,0]
[null,null,null,null,null,null,null,0,null,0,0]
[null,null,null,null,null,null,null,0,null,0,0]
[null,null,null,null,null,null,null,0,null,0,0]
[null,null,null,null,null,null,null,0,null,0,0]
[null,null,null,null,null,null,null,0,null,0,0]
[null,null,null,null,null,null,null,0,null,0,0]
[null,null,null,null,null,null,null,0,null,0,0]
[null,null,null,null,null,null,null,0,null,0,0]
[null,null,null,null,null,null,null,0,null,0,0]
[null,null,null,null,null,null,null,0,null,0,0]
[null,null,null,null,null,null,null,0,null,0,0]
[null,null,null,null,null,null,null,0,null,0,0]
[null,null,null,null,null,null,null,0,null,0,0]
[null,null,null,null,null,null,null,0,null,0,0]
[null,null,null,null,null,null,null,0,null,0,0]
[null,null,null,null,null,null,null,0,null,0,0]
[null,null,null,null,null,null,null,0,null,0,0]
[null,null,null,null,null,null,null,0,null,0,0]
[null,null,null,null,null,null,null,0,null,0,0]
[null,null,null,null,null,null,null,0,null,0,0]
[null,null,null,null,null,null,null,0,null,0,0]
[null,null,null,null,null,null,null,0,null,0,0]
[null,null,null,null,null,null,null,0,null,0,0]
[null,null,null,null,null,null,null,0,null,0,0]
[null,null,null,null,null,null,null,0,null,0,0]
[null,null,null,null,null,null,null,0,null,0,0]
[null,null,null,null,null,null,null,0,null,0,0]
[null,null,null,null,null,null,null,0,null,0,0]
[null,null,null,null,null,null,null,0,null,0,0]
[null,null,null,null,null,null,null,0,null,0,0]
[null,null,null,null,null,null,null,0,null,0,0]
[null,"ចំណាយផ្សេងៗ",null,null,null,null,null,{"$f":"SUM(H1029:H1178)","v":0},null,{"$f":"SUM(J1029:J1178)","v":0},{"$f":"SUM(K1029:K1178)","v":0}]
[null,null,null,null,null,null,null,{"$f":"IF(C1029<>\"\",F1029*G1029,0)","v":0},null,{"$f":"IF(C1029<>\"\",I1029*F1029,0)","v":0},{"$f":"SUM(J1029,H1029)","v":0},null,{"$f":"IF(C1029<>\"\",LEFT(C1029,SEARCH(\"៖\",C1029)-1),\"\")","v":""},{"$f":"H1029","v":0},{"$f":"J1029","v":0},{"$f":"SUM(N1029:O1029)","v":0}]
[null,null,null,null,null,null,null,{"$f":"IF(C1030<>\"\",F1030*G1030,0)","v":0},null,{"$f":"IF(C1030<>\"\",I1030*F1030,0)","v":0},0,null,{"$f":"IF(C1030<>\"\",LEFT(C1030,SEARCH(\"៖\",C1030)-1),\"\")","v":""},0,0,0]
[null,null,null,null,null,null,null,0,null,{"$f":"IF(C1031<>\"\",I1031*F1031,0)","v":0},0,null,"",0,0,0]
[null,null,null,null,null,null,null,0,null,0,0,null,"",0,0,0]
[null,null,null,null,null,null,null,0,null,0,0,null,"",0,0,0]
[null,null,null,null,null,null,null,0,null,0,0,null,"",0,0,0]
[null,null,null,null,null,null,null,0,null,0,0,null,{"$f":"IF(C1035<>\"\",LEFT(C1035,SEARCH(\"៖\",C1035)-1),\"\")","v":""},0,0,0]
[null,null,null,null,null,null,null,0,null,0,0,null,"",0,0,0]
[null,null,null,null,null,null,null,0,null,0,0,null,"",0,0,0]
[null,null,null,null,null,null,null,0,null,0,0,null,"",0,0,0]
[null,null,null,null,null,null,null,0,null,0,0,null,"",0,0,0]
[null,null,null,null,null,null,null,0,null,0,0,null,"",0,0,0]
[null,null,null,null,null,null,null,0,null,0,0,null,"",0,0,0]
[null,null,null,null,null,null,null,0,null,0,0,null,"",0,0,0]
[null,null,null,null,null,null,null,0,null,0,0,null,"",0,0,0]
[null,null,null,null,null,null,null,0,null,0,0,null,"",0,0,0]
[null,null,null,null,null,null,null,0,null,0,0,null,"",0,0,0]
[null,null,null,null,null,null,null,0,null,0,0,null,"",0,0,0]
[null,null,null,null,null,null,null,0,null,0,0,null,"",0,0,0]
[null,null,null,null,null,null,null,0,null,0,0,null,"",0,0,0]
[null,null,null,null,null,null,null,0,null,0,0,null,"",0,0,0]
[null,null,null,null,null,null,null,0,null,0,0,null,"",0,0,0]
[null,null,null,null,null,null,null,0,null,0,0,null,"",0,0,0]
[null,null,null,null,null,null,null,0,null,0,0,null,"",0,0,0]
[null,null,null,null,null,null,null,0,null,0,0,null,"",0,0,0]
[null,null,null,null,null,null,null,0,null,0,0,null,"",0,0,0]
[null,null,null,null,null,null,null,0,null,0,0,null,"",0,0,0]
[null,null,null,null,null,null,null,0,null,0,0,null,"",0,0,0]
[null,null,null,null,null,null,null,0,null,0,0,null,"",0,0,0]
[null,null,null,null,null,null,null,0,null,0,0,null,"",0,0,0]
[null,null,null,null,null,null,null,0,null,0,0,null,"",0,0,0]
[null,null,null,null,null,null,null,0,null,0,0,null,"",0,0,0]
[null,null,null,null,null,null,null,0,null,0,0,null,"",0,0,0]
[null,null,null,null,null,null,null,0,null,0,0,null,"",0,0,0]
[null,null,null,null,null,null,null,0,null,0,0,null,"",0,0,0]
[null,null,null,null,null,null,null,0,null,0,0,null,"",0,0,0]
[null,null,null,null,null,null,null,0,null,0,0,null,"",0,0,0]
[null,null,null,null,null,null,null,0,null,0,0,null,"",0,0,0]
[null,null,null,null,null,null,null,0,null,0,0,null,"",0,0,0]
[null,null,null,null,null,null,null,0,null,0,0,null,"",0,0,0]
[null,null,null,null,null,null,null,0,null,0,0,null,"",0,0,0]
[null,null,null,null,null,null,null,0,null,0,0,null,"",0,0,0]
[null,null,null,null,null,null,null,0,null,0,0,null,"",0,0,0]
[null,null,null,null,null,null,null,0,null,0,0,null,"",0,0,0]
[null,null,null,null,null,null,null,0,null,0,0,null,"",0,0,0]
[null,null,null,null,null,null,null,0,null,0,0,null,"",0,0,0]
[null,null,null,null,null,null,null,0,null,0,0,null,"",0,0,0]
[null,null,null,null,null,null,null,0,null,0,0,null,"",0,0,0]
[null,null,null,null,null,null,null,0,null,0,0,null,"",0,0,0]
[null,null,null,null,null,null,null,0,null,0,0,null,"",0,0,0]
[null,null,null,null,null,null,null,0,null,0,{"$f":"SUM(J1079,H1079)","v":0},null,"",0,0,0]
[null,null,null,null,null,null,null,0,null,0,0,null,"",0,0,0]
[null,null,null,null,null,null,null,0,null,0,0,null,"",0,0,0]
[null,null,null,null,null,null,null,0,null,0,0,null,"",0,0,0]
[null,null,null,null,null,null,null,0,null,0,0,null,"",0,0,0]
[null,null,null,null,null,null,null,0,null,0,0,null,"",0,0,0]
[null,null,null,null,null,null,null,0,null,0,0,null,"",0,0,0]
[null,null,null,null,null,null,null,0,null,0,0,null,"",0,0,0]
[null,null,null,null,null,null,null,0,null,0,0,null,"",0,0,0]
[null,null,null,null,null,null,null,0,null,0,0,null,"",0,0,0]
[null,null,null,null,null,null,null,0,null,0,0,null,"",0,0,0]
[null,null,null,null,null,null,null,0,null,0,0,null,"",0,0,0]
[null,null,null,null,null,null,null,0,null,0,0,null,"",0,0,0]
[null,null,null,null,null,null,null,0,null,0,0,null,"",0,0,0]
[null,null,null,null,null,null,null,0,null,0,0,null,"",{"$f":"H1093","v":0},{"$f":"J1093","v":0},{"$f":"SUM(N1093:O1093)","v":0}]
[null,null,null,null,null,null,null,{"$f":"IF(C1094<>\"\",F1094*G1094,0)","v":0},null,{"$f":"IF(C1094<>\"\",I1094*F1094,0)","v":0},0,null,{"$f":"IF(C1094<>\"\",LEFT(C1094,SEARCH(\"៖\",C1094)-1),\"\")","v":""},0,0,0]
[null,null,null,null,null,null,null,0,null,0,0,null,"",0,0,0]
[null,null,null,null,null,null,null,0,null,0,0,null,"",0,0,0]
[null,null,null,null,null,null,null,0,null,0,0,null,"",0,0,0]
[null,null,null,null,null,null,null,0,null,0,0,null,"",0,0,0]
[null,null,null,null,null,null,null,0,null,0,0,null,"",0,0,0]
[null,null,null,null,null,null,null,0,null,0,0,null,"",0,0,0]
[null,null,null,null,null,null,null,0,null,0,0,null,"",0,0,0]
[null,null,null,null,null,null,null,0,null,0,0,null,"",0,0,0]
[null,null,null,null,null,null,null,0,null,0,0,null,"",0,0,0]
[null,null,null,null,null,null,null,0,null,0,0,null,"",0,0,0]
[null,null,null,null,null,null,null,0,null,0,0,null,"",0,0,0]
[null,null,null,null,null,null,null,0,null,0,0,null,"",0,0,0]
[null,null,null,null,null,null,null,0,null,0,0,null,"",0,0,0]
[null,null,null,null,null,null,null,0,null,0,0,null,"",0,0,0]
[null,null,null,null,null,null,null,0,null,0,0,null,"",0,0,0]
[null,null,null,null,null,null,null,0,null,0,0,null,"",0,0,0]
[null,null,null,null,null,null,null,0,null,0,0,null,"",0,0,0]
[null,null,null,null,null,null,null,0,null,0,0,null,"",0,0,0]
[null,null,null,null,null,null,null,0,null,0,0,null,"",0,0,0]
[null,null,null,null,null,null,null,0,null,0,0,null,"",0,0,0]
[null,null,null,null,null,null,null,0,null,0,0,null,"",0,0,0]
[null,null,null,null,null,null,null,0,null,0,0,null,"",0,0,0]
[null,null,null,null,null,null,null,0,null,0,0,null,"",0,0,0]
[null,null,null,null,null,null,null,0,null,0,0,null,"",0,0,0]
[null,null,null,null,null,null,null,0,null,0,0,null,"",0,0,0]
[null,null,null,null,null,null,null,0,null,0,0,null,"",0,0,0]
[null,null,null,null,null,null,null,0,null,0,0,null,"",0,0,0]
[null,null,null,null,null,null,null,0,null,0,0,null,"",0,0,0]
[null,null,null,null,null,null,null,0,null,0,0,null,"",0,0,0]
[null,null,null,null,null,null,null,0,null,0,0,null,"",0,0,0]
[null,null,null,null,null,null,null,0,null,0,0,null,"",0,0,0]
[null,null,null,null,null,null,null,0,null,0,{"$f":"SUM(J1126,H1126)","v":0},null,"",0,0,0]
[null,null,null,null,null,null,null,0,null,0,0,null,"",0,0,0]
[null,null,null,null,null,null,null,0,null,0,0,null,"",0,0,0]
[null,null,null,null,null,null,null,0,null,0,0,null,"",0,0,0]
[null,null,null,null,null,null,null,0,null,0,0,null,"",0,0,0]
[null,null,null,null,null,null,null,0,null,0,0,null,"",0,0,0]
[null,null,null,null,null,null,null,0,null,0,0,null,"",0,0,0]
[null,null,null,null,null,null,null,0,null,0,0,null,"",0,0,0]
[null,null,null,null,null,null,null,0,null,0,0,null,"",0,0,0]
[null,null,null,null,null,null,null,0,null,0,0,null,"",0,0,0]
[null,null,null,null,null,null,null,0,null,0,0,null,"",0,0,0]
[null,null,null,null,null,null,null,0,null,0,0,null,"",0,0,0]
[null,null,null,null,null,null,null,0,null,0,0,null,"",0,0,0]
[null,null,null,null,null,null,null,0,null,0,0,null,"",0,0,0]
[null,null,null,null,null,null,null,0,null,0,0,null,"",0,0,0]
[null,null,null,null,null,null,null,0,null,0,0,null,"",0,0,0]
[null,null,null,null,null,null,null,0,null,0,0,null,"",0,0,0]
[null,null,null,null,null,null,null,0,null,0,0,null,"",0,0,0]
[null,null,null,null,null,null,null,0,null,0,0,null,"",0,0,0]
[null,null,null,null,null,null,null,0,null,0,0,null,"",0,0,0]
[null,null,null,null,null,null,null,0,null,0,0,null,"",0,0,0]
[null,null,null,null,null,null,null,0,null,0,0,null,"",0,0,0]
[null,null,null,null,null,null,null,0,null,0,0,null,"",0,0,0]
[null,null,null,null,null,null,null,0,null,0,0,null,"",0,0,0]
[null,null,null,null,null,null,null,0,null,0,0,null,"",0,0,0]
[null,null,null,null,null,null,null,0,null,0,0,null,"",0,0,0]
[null,null,null,null,null,null,null,0,null,0,0,null,"",0,0,0]
[null,null,null,null,null,null,null,0,null,0,0,null,"",0,0,0]
[null,null,null,null,null,null,null,0,null,0,0,null,"",0,0,0]
[null,null,null,null,null,null,null,0,null,0,0,null,"",0,0,0]
[null,null,null,null,null,null,null,0,null,0,0,null,"",0,0,0]
[null,null,null,null,null,null,null,0,null,0,0,null,"",{"$f":"H1157","v":0},{"$f":"J1157","v":0},{"$f":"SUM(N1157:O1157)","v":0}]
[null,null,null,null,null,null,null,{"$f":"IF(C1158<>\"\",F1158*G1158,0)","v":0},null,{"$f":"IF(C1158<>\"\",I1158*F1158,0)","v":0},0,null,{"$f":"IF(C1158<>\"\",LEFT(C1158,SEARCH(\"៖\",C1158)-1),\"\")","v":""},0,0,0]
[null,null,null,null,null,null,null,0,null,0,0,null,"",0,0,0]
[null,null,null,null,null,null,null,0,null,0,0,null,"",0,0,0]
[null,null,null,null,null,null,null,0,null,0,0,null,"",0,0,0]
[null,null,null,null,null,null,null,0,null,0,0,null,"",0,0,0]
[null,null,null,null,null,null,null,0,null,0,0,null,"",0,0,0]
[null,null,null,null,null,null,null,0,null,0,0,null,"",0,0,0]
[null,null,null,null,null,null,null,0,null,0,0,null,"",0,0,0]
[null,null,null,null,null,null,null,0,null,0,0,null,"",0,0,0]
[null,null,null,null,null,null,null,0,null,0,{"$f":"SUM(J1167,H1167)","v":0},null,"",0,0,0]
[null,null,null,null,null,null,null,0,null,0,0,null,"",0,0,0]
[null,null,null,null,null,null,null,0,null,0,0,null,"",0,0,0]
[null,null,null,null,null,null,null,0,null,0,0,null,"",0,0,0]
[null,null,null,null,null,null,null,0,null,0,0,null,"",0,0,0]
[null,null,null,null,null,null,null,0,null,0,0,null,"",0,0,0]
[null,null,null,null,null,null,null,0,null,0,0,null,"",0,0,0]
[null,null,null,null,null,null,null,0,null,0,0,null,"",0,0,0]
[null,null,null,null,null,null,null,0,null,0,0,null,"",0,0,0]
[null,null,null,null,null,null,null,0,null,0,0,null,"",0,0,0]
[null,null,null,null,null,null,null,0,null,0,0,null,"",0,0,0]
[null,null,null,null,null,null,null,0,null,0,0,null,"",0,0,0]

{"sheet":"TotalByExp","index":9,"n_rows":65,"n_cols":12,"rows_kept":65,"cut":false,"hidden":false,"merged":[[5,7,5,11],[5,6,6,6],[5,5,6,5],[5,4,6,4],[5,1,6,3],[3,1,3,11],[4,1,4,11],[60,1,60,3],[62,1,62,3],[63,1,63,3],[8,1,8,3],[9,1,9,3],[10,1,13,1],[41,1,41,3],[42,1,58,1],[36,1,37,1],[38,1,38,3],[39,1,40,1],[31,1,31,3],[35,1,35,3],[27,1,27,3],[7,1,7,3],[14,1,14,3],[15,1,21,1],[59,1,59,3],[22,1,22,3],[23,1,24,1],[25,1,25,3],[29,1,29,3],[32,1,34,1]]}
[]
[null,{"$f":"IF(កុមារតូច!C2<>\"\",កុមារតូច!C2,IF(បឋម!C2<>\"\",បឋម!C2,IF(អនុវិទ្យាល័យ!C2<>\"\",អនុវិទ្យាល័យ!C2,IF(វិទ្យាល័យ!C2<>\"\",វិទ្យាល័យ!C2,IF(អគាធនធាន!C2<>\"\",អគាធនធាន!C2,IF(វិទ្យាល័យបច្ចេកទេស!C2<>\"\",វិទ្យាល័យបច្ចេកទេស!C2,\"\"))))))","v":""}]
[null,{"$f":"IF(កុមារតូច!C4<>\"\",កុមារតូច!C4,IF(បឋម!C4<>\"\",បឋម!C4,IF(អនុវិទ្យាល័យ!C4<>\"\",អនុវិទ្យាល័យ!C4,IF(វិទ្យាល័យ!C4<>\"\",វិទ្យាល័យ!C4,IF(អគាធនធាន!C4<>\"\",អគាធនធាន!C4,IF(វិទ្យាល័យបច្ចេកទេស!C4<>\"\",វិទ្យាល័យបច្ចេកទេស!C4,\"\"))))))","v":""}]
[null,"តារាងសរុបគម្រោងថវិកាដំណើការសាលាតាមមុខសញ្ញាចំណាយ"]
[null,"ឯកតា៖ រៀល"]
[null,"អនុគណនី",null,null,"ចំណាយប្រចាំ","ចំណាយមិ​នប្រចាំ","សរុប","បំណែងចែកតាមត្រីមាស"]
[null,null,null,null,null,null,null,1,2,3,4,"សរុប"]
[null,"សរុបរួម(ថវិកាដំណើការសាលា+អាហារូបករណ៍+​បង្គន់អនាម័យ)",null,null,{"$f":"SUM(E9,E60,E63)","v":0},0,0,null,null,null,null,0]
[null,"សរុបថវិកាដំណើការសាលា",null,null,{"$f":"SUM(E10,E15,E23,E28,E30,E32,E36,E42,E26,E39)","v":0},{"$f":"SUM(F10,F15,F23,F28,F30,F32,F36,F42,F26,F39)","v":0},0,0,0,0,0,0]
[null,"សម្ភារមូលដ្ឋាន",null,null,{"$f":"SUM(E11:E14)","v":0},{"$f":"SUM(F11:F14)","v":0},{"$f":"SUM(G11:G14)","v":0},{"$f":"SUM(H11:H14)","v":0},0,0,0,{"$f":"SUM(L11:L14)","v":0}]
[null,null,60021,"សម្ភារការិយាល័យ",{"$f":"'គ្រោងថវិកា SOB'!N11","v":0},{"$f":"'គ្រោងថវិកា SOB'!O11","v":0},{"$f":"SUM(F11,E11)","v":0},{"$f":"QUOTIENT(G11,4)+MOD(G11,4)","v":0},{"$f":"QUOTIENT(G11,4)","v":0},{"$f":"QUOTIENT(G11,4)","v":0},{"$f":"QUOTIENT(G11,4)","v":0},{"$f":"SUM(H11:K11)","v":0}]
[null,null,60022,"សៀវភៅមើល និងឯកសារផ្សេងៗ",{"$f":"'គ្រោងថវិកា SOB'!N62","v":0},{"$f":"'គ្រោងថវិកា SOB'!O62","v":0},{"$f":"SUM(F12,E12)","v":0},{"$f":"QUOTIENT(G12,4)+MOD(G12,4)","v":0},{"$f":"QUOTIENT(G12,4)","v":0},{"$f":"QUOTIENT(G12,4)","v":0},{"$f":"QUOTIENT(G12,4)","v":0},{"$f":"SUM(H12:K12)","v":0}]
[null,null,60023,"ការបោះពុម្ភ",{"$f":"'គ្រោងថវិកា SOB'!N84","v":0},{"$f":"'គ្រោងថវិកា SOB'!O84","v":0},0,0,0,0,0,0]
[null,null,60053,"សម្ភារប្រើប្រាស់",{"$f":"'គ្រោងថវិកា SOB'!N135","v":0},{"$f":"'គ្រោងថវិកា SOB'!O135","v":0},0,0,0,0,0,0]
[null,"ការកែលម្អបរិស្ថាន សាលា និងថ្នាក់រៀន",null,null,{"$f":"SUM(E16:E22)","v":0},{"$f":"SUM(F16:F22)","v":0},{"$f":"SUM(G16:G22)","v":0},{"$f":"SUM(H16:H22)","v":0},{"$f":"SUM(I16:I22)","v":0},{"$f":"SUM(J16:J22)","v":0},{"$f":"SUM(K16:K22)","v":0},{"$f":"SUM(L16:L22)","v":0}]
[null,null,61051,"ការថែទាំ ដីធ្លី សួនច្បារ ព្រៃឈើ តំបន់ឆ្នេរ និងដែននេសាទ ",{"$f":"'គ្រោងថវិកា SOB'!N187","v":0},{"$f":"'គ្រោងថវិកា SOB'!O187","v":0},{"$f":"SUM(F16,E16)","v":0},0,{"$f":"QUOTIENT(G16,4)","v":0},{"$f":"QUOTIENT(G16,4)","v":0},{"$f":"QUOTIENT(G16,4)","v":0},{"$f":"SUM(H16:K16)","v":0}]
[null,null,61052,"ការថែទាំ ជួសជុលអគារផ្សេងៗ និងប្រាសាទ ",{"$f":"'គ្រោងថវិកា SOB'!N238","v":0},{"$f":"'គ្រោងថវិកា SOB'!O238","v":0},{"$f":"SUM(F17,E17)","v":0},0,{"$f":"QUOTIENT(G17,4)","v":0},{"$f":"QUOTIENT(G17,4)","v":0},{"$f":"QUOTIENT(G17,4)","v":0},{"$f":"SUM(H17:K17)","v":0}]
[null,null,61053,"ការថែទាំ ជួសជុលផ្លូវ ផ្លូវលំ ស្ពាន និងលូ ",{"$f":"'គ្រោងថវិកា SOB'!N289","v":0},{"$f":"'គ្រោងថវិកា SOB'!O289","v":0},0,0,0,0,0,0]
[null,null,61054,"ការថែទាំបណ្តាញផ្សេងៗ​  ",{"$f":"'គ្រោងថវិកា SOB'!N340","v":0},{"$f":"'គ្រោងថវិកា SOB'!O340","v":0},0,0,0,0,0,0]
[null,null,60012,"សម្ភារផ្គត់ផ្គង់សម្រាប់ថែទាំអគារ បា្រសាទ និងសំណង់ផ្សេងៗ ",{"$f":"'គ្រោងថវិកា SOB'!N391","v":0},{"$f":"'គ្រោងថវិកា SOB'!O391","v":0},0,0,0,0,0,0]
[null,null,60013,"សម្ភារផ្គត់ផ្គង់សម្រាប់ថែទាំផ្លូវថ្នល់ ស្ពាន និងលូ ",{"$f":"'គ្រោងថវិកា SOB'!N442","v":0},{"$f":"'គ្រោងថវិកា SOB'!O442","v":0},0,0,0,0,0,0]
[null,null,60053,"សម្ភារប្រើបា្រស់ ",{"$f":"'គ្រោងថវិកា SOB'!N493","v":0},{"$f":"'គ្រោងថវិកា SOB'!O493","v":0},0,0,0,0,0,0]
[null,"ការជួសជុលតូច (សង្ហារឹម បណ្ណាល័យ និងបរិក្ខារអេឡិចត្រូនិច)",null,null,{"$f":"SUM(E24:E25)","v":0},{"$f":"SUM(F24:F25)","v":0},{"$f":"SUM(G24:G25)","v":0},0,0,0,0,0]
[null,null,61052,"ការថែទាំ ជួសជុលអគារផ្សេងៗ និងប្រាសាទ ",{"$f":"'គ្រោងថវិកា SOB'!N545","v":0},{"$f":"'គ្រោងថវិកា SOB'!O545","v":0},{"$f":"SUM(F24,E24)","v":0},0,{"$f":"QUOTIENT(G24,4)","v":0},{"$f":"QUOTIENT(G24,4)","v":0},{"$f":"QUOTIENT(G24,4)","v":0},{"$f":"SUM(H24:K24)","v":0}]
[null,null,61057,"ការថែទាំ​ និងជួសជុលសម្ភារ និងឧបករណ៍បច្ចេកទេស ",{"$f":"'គ្រោងថវិកា SOB'!N596","v":0},{"$f":"'គ្រោងថវិកា SOB'!O596","v":0},0,0,0,0,0,0]
[null,"ការទិញសៀវភៅអានដាក់ក្នុងបណ្ណាល័យ",null,null,{"$f":"SUM(E27)","v":0},{"$f":"SUM(F27)","v":0},{"$f":"SUM(G27)","v":0},{"$f":"SUM(H27)","v":0},0,0,0,{"$f":"SUM(L27)","v":0}]
[null,null,60022,"សៀវភៅមើល និងឯកសារផ្សេងៗ",{"$f":"'គ្រោងថវិកា SOB'!N648","v":0},{"$f":"'គ្រោងថវិកា SOB'!O648","v":0},{"$f":"SUM(F27,E27)","v":0},0,{"$f":"QUOTIENT(G27,4)","v":0},{"$f":"QUOTIENT(G27,4)","v":0},{"$f":"QUOTIENT(G27,4)","v":0},{"$f":"SUM(H27:K27)","v":0}]
[null,"បំណិនជីវិត (កីឡា សិល្បៈ រោងជាង គេហវិជ្ជា និងកសិកម្ម)",null,null,{"$f":"SUM(E29)","v":0},{"$f":"SUM(F29)","v":0},{"$f":"SUM(G29)","v":0},{"$f":"SUM(H29)","v":0},0,0,0,{"$f":"SUM(L29)","v":0}]
[null,null,60053,"សម្ភារប្រើបា្រស់",{"$f":"'គ្រោងថវិកា SOB'!N700","v":0},{"$f":"'គ្រោងថវិកា SOB'!O700","v":0},{"$f":"SUM(F29,E29)","v":0},0,{"$f":"QUOTIENT(G29,4)","v":0},{"$f":"QUOTIENT(G29,4)","v":0},{"$f":"QUOTIENT(G29,4)","v":0},{"$f":"SUM(H29:K29)","v":0}]
[null,"ចំណាយសម្រាប់អនាម័យ",null,null,{"$f":"SUM(E31)","v":0},{"$f":"SUM(F31)","v":0},{"$f":"SUM(G31)","v":0},{"$f":"SUM(H31)","v":0},{"$f":"SUM(I31)","v":0},{"$f":"SUM(J31)","v":0},{"$f":"SUM(K31)","v":0},{"$f":"SUM(L31)","v":0}]
[null,null,60011,"សម្ភារសម្អាត និងអនាម័យ",{"$f":"'គ្រោងថវិកា SOB'!N752","v":0},{"$f":"'គ្រោងថវិកា SOB'!O752","v":0},{"$f":"SUM(F31,E31)","v":0},0,{"$f":"QUOTIENT(G31,4)","v":0},{"$f":"QUOTIENT(G31,4)","v":0},{"$f":"QUOTIENT(G31,4)","v":0},{"$f":"SUM(H31:K31)","v":0}]
[null,"ចំណាយទូទាត់ថ្លៃប្រើបា្រស់ថាមពលអគ្គិសនី និងទឹក",null,null,{"$f":"SUM(E33:E35)","v":0},{"$f":"SUM(F33:F35)","v":0},{"$f":"SUM(G33:G35)","v":0},0,0,0,0,0]
[null,null,60061,"អគ្គិសនី ",{"$f":"'គ្រោងថវិកា SOB'!N804","v":0},{"$f":"'គ្រោងថវិកា SOB'!O804","v":0},{"$f":"SUM(F33,E33)","v":0},0,{"$f":"QUOTIENT(G33,4)","v":0},{"$f":"QUOTIENT(G33,4)","v":0},{"$f":"QUOTIENT(G33,4)","v":0},{"$f":"SUM(H33:K33)","v":0}]
[null,null,60062,"ទឹកស្អាត",{"$f":"'គ្រោងថវិកា SOB'!N810","v":0},{"$f":"'គ្រោងថវិកា SOB'!O810","v":0},0,0,0,0,0,0]
[null,null,60068,"ផ្សេងៗ",{"$f":"'គ្រោងថវិកា SOB'!N816","v":0},{"$f":"'គ្រោងថវិកា SOB'!O816","v":0},0,0,0,0,0,0]
[null,"ការរៀបចំឯកសារធ្វើតេស្ត និងសម្ភារផ្សេងៗសម្រាប់ប្រឡងឆមាស  ",null,null,{"$f":"SUM(E37:E38)","v":0},{"$f":"SUM(F37:F38)","v":0},{"$f":"SUM(G37:G38)","v":0},0,0,0,0,0]
[null,null,60021,"សម្ភារការិយាល័យ",{"$f":"'គ្រោងថវិកា SOB'!N823","v":0},{"$f":"'គ្រោងថវិកា SOB'!O823","v":0},{"$f":"SUM(F37,E37)","v":0},0,{"$f":"QUOTIENT(G37,4)","v":0},{"$f":"QUOTIENT(G37,4)","v":0},{"$f":"QUOTIENT(G37,4)","v":0},{"$f":"SUM(H37:K37)","v":0}]
[null,null,60023,"ការបោះពុម្ព",{"$f":"'គ្រោងថវិកា SOB'!N874","v":0},{"$f":"'គ្រោងថវិកា SOB'!O874","v":0},0,0,0,0,0,0]
[null,"ចលនាបីល្អ (សិស្សល្អ មិត្តល្អ កូនល្អ) របស់ក្រុមប្រឹក្សាយុវជន",null,null,{"$f":"SUM(E40:E41)","v":0},{"$f":"SUM(F40:F41)","v":0},{"$f":"SUM(G40:G41)","v":0},0,0,0,0,0]
[null,null,60021,"សម្ភារការិយាល័យ",{"$f":"'គ្រោងថវិកា SOB'!N926","v":0},{"$f":"'គ្រោងថវិកា SOB'!O926","v":0},{"$f":"SUM(F40,E40)","v":0},0,{"$f":"QUOTIENT(G40,4)","v":0},{"$f":"QUOTIENT(G40,4)","v":0},{"$f":"QUOTIENT(G40,4)","v":0},{"$f":"SUM(H40:K40)","v":0}]
[null,null,60053,"សម្ភារប្រើបា្រស់  ",{"$f":"'គ្រោងថវិកា SOB'!N977","v":0},{"$f":"'គ្រោងថវិកា SOB'!O977","v":0},0,0,0,0,0,0]
[null,"ចំណាយផ្សេងៗ",null,null,{"$f":"SUM(E43:E59)","v":0},0,0,0,0,0,0,0]
[null,null,{"$f":"Main!F9","v":60014},{"$f":"Main!G9","v":"សម្ភារផ្គត់ផ្គង់សម្រាប់​ថែទាំសម្ភារឧបករណ៍"},{"$f":"SUMIFS('គ្រោងថវិកា SOB'!N1029:N1178,'គ្រោងថវិកា SOB'!$M$1029:$M$1178,$C$43)","v":0},{"$f":"SUMIFS('គ្រោងថវិកា SOB'!O1029:O1178,'គ្រោងថវិកា SOB'!$M$1029:$M$1178,$C$43)","v":0},{"$f":"SUM(F43,E43)","v":0},0,{"$f":"QUOTIENT(G43,4)","v":0},{"$f":"QUOTIENT(G43,4)","v":0},{"$f":"QUOTIENT(G43,4)","v":0},{"$f":"SUM(H43:K43)","v":0}]
[null,null,{"$f":"Main!F10","v":60032},{"$f":"Main!G10","v":"ចំណីសត្វ"},{"$f":"SUMIFS('គ្រោងថវិកា SOB'!N1029:N1178,'គ្រោងថវិកា SOB'!$M$1029:$M$1178,$C$44)","v":0},{"$f":"SUMIFS('គ្រោងថវិកា SOB'!O1029:O1178,'គ្រោងថវិកា SOB'!$M$1029:$M$1178,$C$44)","v":0},0,0,{"$f":"QUOTIENT(G44,4)","v":0},{"$f":"QUOTIENT(G44,4)","v":0},{"$f":"QUOTIENT(G44,4)","v":0},0]
[null,null,{"$f":"Main!F11","v":60033},{"$f":"Main!G11","v":"ពូជ និងកូនរុក្ខជាតិ"},{"$f":"SUMIFS('គ្រោងថវិកា SOB'!N1029:N1178,'គ្រោងថវិកា SOB'!$M$1029:$M$1178,$C$45)","v":0},{"$f":"SUMIFS('គ្រោងថវិកា SOB'!O1029:O1178,'គ្រោងថវិកា SOB'!$M$1029:$M$1178,$C$45)","v":0},0,0,0,0,0,0]
[null,null,{"$f":"Main!F12","v":60035},{"$f":"Main!G12","v":"ពូជសត្វ"},{"$f":"SUMIFS('គ្រោងថវិកា SOB'!N1029:N1178,'គ្រោងថវិកា SOB'!$M$1029:$M$1178,$C$46)","v":0},{"$f":"SUMIFS('គ្រោងថវិកា SOB'!O1029:O1178,'គ្រោងថវិកា SOB'!$M$1029:$M$1178,$C$46)","v":0},0,0,0,0,0,0]
[null,null,{"$f":"Main!F13","v":60051},{"$f":"Main!G13","v":"សម្ភារនិងបរិក្ខារបច្ចេកទេសមិនមែនព័ត៌មានវិទ្យា"},{"$f":"SUMIFS('គ្រោងថវិកា SOB'!N1029:N1178,'គ្រោងថវិកា SOB'!$M$1029:$M$1178,$C$47)","v":0},{"$f":"SUMIFS('គ្រោងថវិកា SOB'!O1029:O1178,'គ្រោងថវិកា SOB'!$M$1029:$M$1178,$C$47)","v":0},0,0,0,0,0,0]
[null,null,{"$f":"Main!F14","v":60052},{"$f":"Main!G14","v":"សង្ហារឹម"},{"$f":"SUMIFS('គ្រោងថវិកា SOB'!N1029:N1178,'គ្រោងថវិកា SOB'!$M$1029:$M$1178,$C$48)","v":0},{"$f":"SUMIFS('គ្រោងថវិកា SOB'!O1029:O1178,'គ្រោងថវិកា SOB'!$M$1029:$M$1178,$C$48)","v":0},0,0,0,0,0,0]
[null,null,{"$f":"Main!F15","v":60055},{"$f":"Main!G15","v":"សម្ភារនិងបរិក្ខារបច្ចេកទេសព័ត៌មានវិទ្យា"},{"$f":"SUMIFS('គ្រោងថវិកា SOB'!N1029:N1178,'គ្រោងថវិកា SOB'!$M$1029:$M$1178,$C$49)","v":0},{"$f":"SUMIFS('គ្រោងថវិកា SOB'!O1029:O1178,'គ្រោងថវិកា SOB'!$M$1029:$M$1178,$C$49)","v":0},0,0,0,0,0,0]
[null,null,{"$f":"Main!F16","v":61011},{"$f":"Main!G16","v":"សេវាអនាម័យ"},{"$f":"SUMIFS('គ្រោងថវិកា SOB'!N1029:N1178,'គ្រោងថវិកា SOB'!$M$1029:$M$1178,$C$50)","v":0},{"$f":"SUMIFS('គ្រោងថវិកា SOB'!O1029:O1178,'គ្រោងថវិកា SOB'!$M$1029:$M$1178,$C$50)","v":0},0,0,0,0,0,0]
[null,null,{"$f":"Main!F17","v":61012},{"$f":"Main!G17","v":"សេវារដ្ឋបាល"},{"$f":"SUMIFS('គ្រោងថវិកា SOB'!N1029:N1178,'គ្រោងថវិកា SOB'!$M$1029:$M$1178,$C$51)","v":0},{"$f":"SUMIFS('គ្រោងថវិកា SOB'!O1029:O1178,'គ្រោងថវិកា SOB'!$M$1029:$M$1178,$C$51)","v":0},0,0,0,0,0,0]
[null,null,{"$f":"Main!F18","v":61021},{"$f":"Main!G18","v":"ការជួលមធ្យោបាយដឹកជញ្ជូន"},{"$f":"SUMIFS('គ្រោងថវិកា SOB'!N1029:N1178,'គ្រោងថវិកា SOB'!$M$1029:$M$1178,$C$52)","v":0},{"$f":"SUMIFS('គ្រោងថវិកា SOB'!O1029:O1178,'គ្រោងថវិកា SOB'!$M$1029:$M$1178,$C$52)","v":0},0,0,0,0,0,0]
[null,null,{"$f":"Main!F19","v":61071},{"$f":"Main!G19","v":"សោហ៊ុយសិក្សាពិសោធន៍"},{"$f":"SUMIFS('គ្រោងថវិកា SOB'!N1029:N1178,'គ្រោងថវិកា SOB'!$M$1029:$M$1178,$C$53)","v":0},{"$f":"SUMIFS('គ្រោងថវិកា SOB'!O1029:O1178,'គ្រោងថវិកា SOB'!$M$1029:$M$1178,$C$53)","v":0},0,0,0,0,0,0]
[null,null,{"$f":"Main!F20","v":61081},{"$f":"Main!G20","v":"សោហ៊ុយជួលដឹកញ្ជូន សម្ភារ​ និងទំនិញ"},{"$f":"SUMIFS('គ្រោងថវិកា SOB'!N1029:N1178,'គ្រោងថវិកា SOB'!$M$1029:$M$1178,$C$54)","v":0},{"$f":"SUMIFS('គ្រោងថវិកា SOB'!O1029:O1178,'គ្រោងថវិកា SOB'!$M$1029:$M$1178,$C$54)","v":0},0,0,0,0,0,0]
[null,null,{"$f":"Main!F21","v":61101},{"$f":"Main!G21","v":"សោហ៊ុយទទួលភ្ញៀវជាតិ"},{"$f":"SUMIFS('គ្រោងថវិកា SOB'!N1029:N1178,'គ្រោងថវិកា SOB'!$M$1029:$M$1178,$C$55)","v":0},{"$f":"SUMIFS('គ្រោងថវិកា SOB'!O1029:O1178,'គ្រោងថវិកា SOB'!$M$1029:$M$1178,$C$55)","v":0},0,0,0,0,0,0]
[null,null,{"$f":"Main!F22","v":61102},{"$f":"Main!G22","v":"សោហ៊ុយទទួលភ្ញៀវបរទេស"},{"$f":"SUMIFS('គ្រោងថវិកា SOB'!N1029:N1178,'គ្រោងថវិកា SOB'!$M$1029:$M$1178,$C$56)","v":0},{"$f":"SUMIFS('គ្រោងថវិកា SOB'!O1029:O1178,'គ្រោងថវិកា SOB'!$M$1029:$M$1178,$C$56)","v":0},0,0,0,0,0,0]
[null,null,{"$f":"Main!F23","v":61103},{"$f":"Main!G23","v":"ប្រជុំ សិក្ខាសាលា និងសន្និសីទ"},{"$f":"SUMIFS('គ្រោងថវិកា SOB'!N1029:N1178,'គ្រោងថវិកា SOB'!$M$1029:$M$1178,$C$57)","v":0},{"$f":"SUMIFS('គ្រោងថវិកា SOB'!O1029:O1178,'គ្រោងថវិកា SOB'!$M$1029:$M$1178,$C$57)","v":0},0,0,0,0,0,0]
[null,null,{"$f":"Main!F24","v":61141},{"$f":"Main!G24","v":"សោហ៊ុយប្រៃសណីយ៍"},{"$f":"SUMIFS('គ្រោងថវិកា SOB'!N1029:N1178,'គ្រោងថវិកា SOB'!$M$1029:$M$1178,$C$58)","v":0},{"$f":"SUMIFS('គ្រោងថវិកា SOB'!O1029:O1178,'គ្រោងថវិកា SOB'!$M$1029:$M$1178,$C$58)","v":0},0,{"$f":"QUOTIENT(G58,4)+MOD(G58,4)","v":0},0,0,0,0]
[null,null,{"$f":"Main!F25","v":61142},{"$f":"Main!G25","v":"សោហ៊ុយទូរគមនាគមន៍"},{"$f":"SUMIFS('គ្រោងថវិកា SOB'!N1029:N1178,'គ្រោងថវិកា SOB'!$M$1029:$M$1178,$C$59)","v":0},{"$f":"SUMIFS('គ្រោងថវិកា SOB'!O1029:O1178,'គ្រោងថវិកា SOB'!$M$1029:$M$1178,$C$59)","v":0},0,0,0,0,0,0]
[null,"សរុបថវិកាអាហារូបករណ៍",null,null,{"$f":"E61","v":0},0,0,null,null,null,null,0]
[null,"អាហារូបករណ៍",null,null,0,0,0,null,null,null,null,{"$f":"L62","v":0}]
[null,null,62025,"អាហារូបករណ៍សម្រាប់​ការសិក្សា-ស្រាវជ្រាវក្នុងប្រទេស",{"$f":"គ្រោងអាហារូបករណ៍!D25","v":0},{"$f":"គ្រោងអាហារូបករណ៍!E25","v":0},{"$f":"SUM(F62,E62)","v":0},null,null,null,null,{"$f":"G62","v":0}]
[null,"សរុបថវិកាបង្គន់-ទឹកស្អាត-អនាម័យ",null,null,{"$f":"E64","v":0},0,0,null,null,null,null,{"$f":"L64","v":0}]
[null,"បង្គន់អនាម័យ",null,null,0,0,0,null,null,null,null,{"$f":"L65","v":0}]
[null,null,61052,"ការថែទាំ  ជួសជុលអគារផ្សេងៗ និងប្រាសាទ",{"$f":"គ្រោងបង្គន់!C12","v":0},{"$f":"គ្រោងបង្គន់!D12","v":0},{"$f":"SUM(F65,E65)","v":0},null,null,null,null,{"$f":"G65","v":0}]

{"sheet":"គ្រោងអាហារូបករណ៍","index":10,"n_rows":32,"n_cols":9,"rows_kept":32,"cut":false,"hidden":false,"merged":[[8,1,8,3],[15,1,15,3],[5,1,5,7],[4,1,4,7],[9,1,9,7],[22,1,22,5],[0,1,1,8],[2,1,2,2],[2,3,2,4],[2,5,2,7],[3,1,3,3],[16,1,16,3],[17,1,17,3],[18,1,18,3],[6,1,6,3],[7,1,7,3],[10,1,10,3],[11,1,11,3],[14,1,14,7],[12,1,12,3],[13,1,13,3]]}
[null,"គ្រោងចំណាយលើអាហារូបករណ៍"]
[]
[null,"ប្រភេទចំណាយ",null,"ចំណាយប្រចាំ"]
[null,"ប្រភេទសិស្ស",null,null,"ចំនួនសិស្ស\nអាហារូបករណ៍សរុប","ចំនួនសិស្ស\nត្រូវទទួលអាហារូបករណ៍","រយៈពេលសិក្សា","ឧបត្តម្ភ (៛)","សរុប"]
[null,"សរុប (62025)",null,null,null,null,null,null,{"$f":"SUM(I6,I10,I15)","v":0}]
[null,"សិស្សក្រីក្រ",null,null,null,null,null,null,{"$f":"SUM(I7:I9)","v":0}]
[null,"បឋមសិក្សា",null,null,null,{"$f":"E7","v":0},"1 ឆ្នាំ",240000,{"$f":"IFERROR(H7*F7,0)","v":0}]
[null,"មធ្យមសិក្សាបឋមភូមិ",null,null,null,{"$f":"E8","v":0},"1 ឆ្នាំ",240000,{"$f":"IFERROR(H8*F8,0)","v":0}]
[null,"មធ្យមសិក្សាទុតិយភូមិ",null,null,null,{"$f":"E9","v":0},"1 ឆ្នាំ",360000,{"$f":"IFERROR(H9*F9,0)","v":0}]
[null,"សិស្ស-និស្សិត",null,null,null,null,null,null,{"$f":"SUM(I11:I14)","v":0}]
[null,"កម្រិតក្រោយបរិញ្ញាបត្រ",null,null,null,{"$f":"E11*25%","v":0},null,80000,{"$f":"IFERROR(H11*G11*F11,0)","v":0}]
[null,"កម្រិតបរិញ្ញាបត្រ",null,null,null,{"$f":"E12*10%","v":0}," ",45000,{"$f":"IFERROR(H12*G12*F12,0)","v":0}]
[null,"កម្រិតមធ្យមសិក្សាឯកទេស",null,null,null,{"$f":"E13*30%","v":0},null,40000,0]
[null,"កម្រិតបឋមសិក្សាឯកទេស",null,null,null,{"$f":"E14*35%","v":0},null,30000,{"$f":"IFERROR(H14*G14*F14,0)","v":0}]
[null,"គរុសិស្ស-គរុនិស្សិត",null,null,null,null,null,null,{"$f":"SUM(I16:I19)","v":0}]
[null,"ក្រោយបរិញ្ញាបត្រ",null,null,null,{"$f":"E16","v":0},null,80000,{"$f":"IFERROR(H16*G16*F16,0)","v":0}]
[null,"បរិញ្ញាបត្រ",null,null,null,{"$f":"E17","v":0},null,45000,{"$f":"IFERROR(H17*G17*F17,0)","v":0}]
[null,"មធ្យមសិក្សាឯកទេស",null,null,null,0,null,40000,0]
[null,"បឋមសិក្សាឯកទេស",null,null,null,0,null,30000,0]
[]
[]
[]
[null,"គ្រោងចំណាយលើអាហារូបករណ៍"]
[null,null,"ប្រភេទសិស្ស","សរុបប្រចាំ","សរុបមិនប្រចាំ","សរុប"]
[null,"សរុប អនុគណនី 62025",null,{"$f":"SUM(D26,D30)","v":0},{"$f":"SUM(E26,E30)","v":0},{"$f":"SUM(F26,F30)","v":0}]
[null,"សិស្សក្រីក្រ",null,{"$f":"SUM(D27:D29)","v":0},{"$f":"SUM(E27:E29)","v":0},{"$f":"SUM(F27:F29)","v":0}]
[null,null,"បឋមសិក្សា",{"$f":"IF($D$3=Main!$B$2,គ្រោងអាហារូបករណ៍!I7,0)","v":0},{"$f":"IF($D$3=Main!$B$3,គ្រោងអាហារូបករណ៍!I7,0)","v":0},{"$f":"SUM(D27:E27)","v":0}]
[null,null,"មធ្យមសិក្សាបឋមភូមិ",{"$f":"IF($D$3=Main!$B$2,គ្រោងអាហារូបករណ៍!I8,0)","v":0},{"$f":"IF($D$3=Main!$B$3,គ្រោងអាហារូបករណ៍!I8,0)","v":0},{"$f":"SUM(D28:E28)","v":0}]
[null,null,"មធ្យមសិក្សាទុតិយភូមិ",{"$f":"IF($D$3=Main!$B$2,គ្រោងអាហារូបករណ៍!I9,0)","v":0},{"$f":"IF($D$3=Main!$B$3,គ្រោងអាហារូបករណ៍!I9,0)","v":0},{"$f":"SUM(D29:E29)","v":0}]
[null,"សិស្ស-និស្សិត",null,{"$f":"SUM(D31:D32)","v":0},{"$f":"SUM(E31:E32)","v":0},{"$f":"SUM(F31:F32)","v":0}]
[null,null,"កម្រិតមធ្យមសិក្សាឯកទេស",{"$f":"IF($D$3=Main!$B$2,គ្រោងអាហារូបករណ៍!I13,0)","v":0},{"$f":"IF($D$3=Main!$B$3,គ្រោងអាហារូបករណ៍!I13,0)","v":0},{"$f":"SUM(D31:E31)","v":0}]
[null,null,"កម្រិតបឋមសិក្សាឯកទេស",{"$f":"IF($D$3=Main!$B$2,គ្រោងអាហារូបករណ៍!I14,0)","v":0},{"$f":"IF($D$3=Main!$B$3,គ្រោងអាហារូបករណ៍!I14,0)","v":0},{"$f":"SUM(D32:E32)","v":0}]

{"sheet":"គ្រោងបង្គន់","index":11,"n_rows":12,"n_cols":5,"rows_kept":12,"cut":false,"hidden":false,"merged":[[8,1,8,4],[1,1,2,4]]}
[]
[null,"តារាងគ្រោងបង្គន់-ទឹកស្អាត-អនាម័យ"]
[]
[null,"ប្រភេទចំណាយ","ចំណាយប្រចាំ","តម្លៃឯកតា","សរុប"]
[null,"សរុប",null,null,{"$f":"E6","v":0}]
[null,"ចំនួនបង្គន់អនាម័យ",null,13800000,{"$f":"D6*C6","v":0}]
[]
[]
[null,"គ្រោងចំណាយលើបង្គន់-ទឹកស្អាត-អនាម័យ"]
[null,null,"សរុបប្រចាំ","សរុបមិនប្រចាំ","សរុប"]
[null,"សរុប អនុគណនី 61052",{"$f":"C12","v":0},{"$f":"D12","v":0},{"$f":"E12","v":0}]
[null,"បង្គន់អនាម័យ",{"$f":"IF($C$4=Main!$B$2,E6,0)","v":0},{"$f":"IF($C$4=Main!$B$3,E6,0)","v":0},{"$f":"SUM(C12:D12)","v":0}]

{"sheet":"Total_SOB_SCL_Tiolet","index":12,"n_rows":448,"n_cols":7,"rows_kept":448,"cut":false,"hidden":false,"merged":[[8,0,8,3],[9,0,9,3],[10,0,10,3],[3,0,3,6],[5,0,6,0],[5,1,6,1],[5,2,6,2],[5,3,6,3],[7,0,7,3]]}
[]
[{"$f":"IF(កុមារតូច!C2<>\"\",កុមារតូច!C2,IF(បឋម!C2<>\"\",បឋម!C2,IF(អនុវិទ្យាល័យ!C2<>\"\",អនុវិទ្យាល័យ!C2,IF(វិទ្យាល័យ!C2<>\"\",វិទ្យាល័យ!C2,IF(អគាធនធាន!C2<>\"\",អគាធនធាន!C2,IF(វិទ្យាល័យបច្ចេកទេស!C2<>\"\",វិទ្យាល័យបច្ចេកទេស!C2,\"\"))))))","v":""}]
[{"$f":"IF(កុមារតូច!C4<>\"\",កុមារតូច!C4,IF(បឋម!C4<>\"\",បឋម!C4,IF(អនុវិទ្យាល័យ!C4<>\"\",អនុវិទ្យាល័យ!C4,IF(វិទ្យាល័យ!C4<>\"\",វិទ្យាល័យ!C4,IF(អគាធនធាន!C4<>\"\",អគាធនធាន!C4,IF(វិទ្យាល័យបច្ចេកទេស!C4<>\"\",វិទ្យាល័យបច្ចេកទេស!C4,\"\"))))))","v":""}]
["គម្រោងចំណាយថវិកាប្រចាំឆ្នាំ"]
[null,null,null,null,null,null,"ឯកតា៖ រៀល"]
["ជំពូក","គណនី","អនុគណនី","បរិយាយ","ចំណាយប្រចាំ","ចំណាយមិនប្រចាំ","សរុប"]
[null,null,null,null,1,2,"3=1+2"]
["សរុបរួមចំណាយថវិកា (ក+ខ)",null,null,null,{"$f":"SUM(E9+E330)","v":0},{"$f":"SUM(F9+F330)","v":0},{"$f":"SUM(G9+G330)","v":0}]
["ក. សរុបចំណាយចរន្ត​ (ក្រុមទី ១+ក្រុមទី ២)",null,null,null,{"$f":"SUM(E10+E311)","v":0},{"$f":"SUM(F10+F311)","v":0},{"$f":"SUM(G10+G311)","v":0}]
["ក្រុមទី ១ : ចំណាយពិត (ប្រភេទទី ១ + ប្រភេទទី ២ + ប្រភេទទី ៣ + ប្រភេទទី ៤)",null,null,null,{"$f":"SUM(E11+E194+E208+E282)","v":0},{"$f":"SUM(F11+F194+F208+F282)","v":0},{"$f":"SUM(G11+G194+G208+G282)","v":0}]
["ប្រភេទទី ១ : មធ្យោបាយ និងសេវា",null,null,null,{"$f":"SUM(E12+E56+E141)","v":0},{"$f":"SUM(F12+F56+F141)","v":0},{"$f":"SUM(G12+G56+G141)","v":0}]
[60,null,null,"ការទិញ",{"$f":"SUM(E13+E20+E25+E34+E39+E46+E50+E54)","v":0},{"$f":"SUM(F13+F20+F25+F34+F39+F46+F50+F54)","v":0},{"$f":"SUM(G13+G20+G25+G34+G39+G46+G50+G54)","v":0}]
[null,6001,null,"សម្ភារផ្គត់ផ្គង់ថែទាំ",{"$f":"SUM(E14:E19)","v":0},{"$f":"SUM(F14:F19)","v":0},{"$f":"SUM(G14:G19)","v":0}]
[null,null,60011,"សម្ភារផ្គត់ផ្គង់សម្អាត​ និងអនាម័យ ",{"$f":"SUMIFS('គ្រោងថវិកា SOB'!$N$11:$N$1178,'គ្រោងថវិកា SOB'!$M$11:$M$1178,C14)","v":0},{"$f":"SUMIFS('គ្រោងថវិកា SOB'!$O$11:$O$1178,'គ្រោងថវិកា SOB'!$M$11:$M$1178,C14)","v":0},{"$f":"SUM(E14:F14)","v":0}]
[null,null,60012,"សម្ភារផ្គត់ផ្គង់សម្រាប់​ថែទាំអគារ ប្រាសាទ និងសំណង់ផ្សេងៗ",{"$f":"SUMIFS('គ្រោងថវិកា SOB'!$N$11:$N$1178,'គ្រោងថវិកា SOB'!$M$11:$M$1178,C15)","v":0},{"$f":"SUMIFS('គ្រោងថវិកា SOB'!$O$11:$O$1178,'គ្រោងថវិកា SOB'!$M$11:$M$1178,C15)","v":0},{"$f":"SUM(E15:F15)","v":0}]
[null,null,60013,"សម្ភារផ្គត់ផ្គង់សម្រាប់​ថែទាំផ្លូវថ្នល់ ស្ពាន និងលូ",{"$f":"SUMIFS('គ្រោងថវិកា SOB'!$N$11:$N$1178,'គ្រោងថវិកា SOB'!$M$11:$M$1178,C16)","v":0},{"$f":"SUMIFS('គ្រោងថវិកា SOB'!$O$11:$O$1178,'គ្រោងថវិកា SOB'!$M$11:$M$1178,C16)","v":0},0]
[null,null,60014,"សម្ភារផ្គត់ផ្គង់សម្រាប់​ថែទាំសម្ភារឧបករណ៍",{"$f":"SUMIFS('គ្រោងថវិកា SOB'!$N$11:$N$1178,'គ្រោងថវិកា SOB'!$M$11:$M$1178,C17)","v":0},{"$f":"SUMIFS('គ្រោងថវិកា SOB'!$O$11:$O$1178,'គ្រោងថវិកា SOB'!$M$11:$M$1178,C17)","v":0},0]
[null,null,60015,"ប្រេងឥន្ធនៈ និងប្រេងរំអិល",{"$f":"SUMIFS('គ្រោងថវិកា SOB'!$N$11:$N$1178,'គ្រោងថវិកា SOB'!$M$11:$M$1178,C18)","v":0},{"$f":"SUMIFS('គ្រោងថវិកា SOB'!$O$11:$O$1178,'គ្រោងថវិកា SOB'!$M$11:$M$1178,C18)","v":0},0]
[null,null,60018,"សម្ភារផ្គត់ផ្គង់ថែទាំផ្សេងៗ",{"$f":"SUMIFS('គ្រោងថវិកា SOB'!$N$11:$N$1178,'គ្រោងថវិកា SOB'!$M$11:$M$1178,C19)","v":0},{"$f":"SUMIFS('គ្រោងថវិកា SOB'!$O$11:$O$1178,'គ្រោងថវិកា SOB'!$M$11:$M$1178,C19)","v":0},0]
[null,6002,null,"សម្ភារផ្គត់ផ្គង់ផ្នែករដ្ឋបាល",{"$f":"SUM(E21:E24)","v":0},{"$f":"SUM(F21:F24)","v":0},{"$f":"SUM(G21:G24)","v":0}]
[null,null,60021,"សម្ភារការិយាល័យ",{"$f":"SUMIFS('គ្រោងថវិកា SOB'!$N$11:$N$1178,'គ្រោងថវិកា SOB'!$M$11:$M$1178,C21)","v":0},{"$f":"SUMIFS('គ្រោងថវិកា SOB'!$O$11:$O$1178,'គ្រោងថវិកា SOB'!$M$11:$M$1178,C21)","v":0},{"$f":"SUM(E21:F21)","v":0}]
[null,null,60022,"សៀវភៅមើល និងឯកសារ",{"$f":"SUMIFS('គ្រោងថវិកា SOB'!$N$11:$N$1178,'គ្រោងថវិកា SOB'!$M$11:$M$1178,C22)","v":0},{"$f":"SUMIFS('គ្រោងថវិកា SOB'!$O$11:$O$1178,'គ្រោងថវិកា SOB'!$M$11:$M$1178,C22)","v":0},0]
[null,null,60023,"ការបោះពុម្ព",{"$f":"SUMIFS('គ្រោងថវិកា SOB'!$N$11:$N$1178,'គ្រោងថវិកា SOB'!$M$11:$M$1178,C23)","v":0},{"$f":"SUMIFS('គ្រោងថវិកា SOB'!$O$11:$O$1178,'គ្រោងថវិកា SOB'!$M$11:$M$1178,C23)","v":0},0]
[null,null,60028,"សម្ភារផ្គត់ផ្គង់ផ្នែករដ្ឋបាលផ្សេងៗ",{"$f":"SUMIFS('គ្រោងថវិកា SOB'!$N$11:$N$1178,'គ្រោងថវិកា SOB'!$M$11:$M$1178,C24)","v":0},{"$f":"SUMIFS('គ្រោងថវិកា SOB'!$O$11:$O$1178,'គ្រោងថវិកា SOB'!$M$11:$M$1178,C24)","v":0},0]
[null,6003,null,"ស្បៀងអាហារ និងផលិតផលកសិកម្ម",{"$f":"SUM(E26:E33)","v":0},{"$f":"SUM(F26:F33)","v":0},{"$f":"SUM(G26:G33)","v":0}]
[null,null,60031,"ស្បៀង",{"$f":"SUMIFS('គ្រោងថវិកា SOB'!$N$11:$N$1178,'គ្រោងថវិកា SOB'!$M$11:$M$1178,C26)","v":0},{"$f":"SUMIFS('គ្រោងថវិកា SOB'!$O$11:$O$1178,'គ្រោងថវិកា SOB'!$M$11:$M$1178,C26)","v":0},{"$f":"SUM(E26:F26)","v":0}]
[null,null,60032,"ចំណីសត្វ",{"$f":"SUMIFS('គ្រោងថវិកា SOB'!$N$11:$N$1178,'គ្រោងថវិកា SOB'!$M$11:$M$1178,C27)","v":0},{"$f":"SUMIFS('គ្រោងថវិកា SOB'!$O$11:$O$1178,'គ្រោងថវិកា SOB'!$M$11:$M$1178,C27)","v":0},0]
[null,null,60033,"ពូជ និងកូនរុក្ខជាតិ",{"$f":"SUMIFS('គ្រោងថវិកា SOB'!$N$11:$N$1178,'គ្រោងថវិកា SOB'!$M$11:$M$1178,C28)","v":0},{"$f":"SUMIFS('គ្រោងថវិកា SOB'!$O$11:$O$1178,'គ្រោងថវិកា SOB'!$M$11:$M$1178,C28)","v":0},0]
[null,null,60034,"ផលិតផលការពារសុខុមាលភាពរុក្ខជាតិ និងជី",{"$f":"SUMIFS('គ្រោងថវិកា SOB'!$N$11:$N$1178,'គ្រោងថវិកា SOB'!$M$11:$M$1178,C29)","v":0},{"$f":"SUMIFS('គ្រោងថវិកា SOB'!$O$11:$O$1178,'គ្រោងថវិកា SOB'!$M$11:$M$1178,C29)","v":0},0]
[null,null,60035,"ពូជសត្វ",{"$f":"SUMIFS('គ្រោងថវិកា SOB'!$N$11:$N$1178,'គ្រោងថវិកា SOB'!$M$11:$M$1178,C30)","v":0},{"$f":"SUMIFS('គ្រោងថវិកា SOB'!$O$11:$O$1178,'គ្រោងថវិកា SOB'!$M$11:$M$1178,C30)","v":0},0]
[null,null,60036,"ឱសថ និងវត្ថុធាតុសម្រាប់​បសុពេទ្យ",{"$f":"SUMIFS('គ្រោងថវិកា SOB'!$N$11:$N$1178,'គ្រោងថវិកា SOB'!$M$11:$M$1178,C31)","v":0},{"$f":"SUMIFS('គ្រោងថវិកា SOB'!$O$11:$O$1178,'គ្រោងថវិកា SOB'!$M$11:$M$1178,C31)","v":0},0]
[null,null,60037,"ស្បៀងសម្រាប់​រដ្ឋបាល",{"$f":"SUMIFS('គ្រោងថវិកា SOB'!$N$11:$N$1178,'គ្រោងថវិកា SOB'!$M$11:$M$1178,C32)","v":0},{"$f":"SUMIFS('គ្រោងថវិកា SOB'!$O$11:$O$1178,'គ្រោងថវិកា SOB'!$M$11:$M$1178,C32)","v":0},0]
[null,null,60038,"ស្បៀងអាហារ និងផលិតផលកសិកម្មផ្សេងៗ",{"$f":"SUMIFS('គ្រោងថវិកា SOB'!$N$11:$N$1178,'គ្រោងថវិកា SOB'!$M$11:$M$1178,C33)","v":0},{"$f":"SUMIFS('គ្រោងថវិកា SOB'!$O$11:$O$1178,'គ្រោងថវិកា SOB'!$M$11:$M$1178,C33)","v":0},0]
[null,6004,null,"សំលៀកបំពាក់ និងការតុបតែង",{"$f":"SUM(E35:E38)","v":0},{"$f":"SUM(F35:F38)","v":0},{"$f":"SUM(G35:G38)","v":0}]
[null,null,60041,"ឯកសណ្ឋាន",{"$f":"SUMIFS('គ្រោងថវិកា SOB'!$N$11:$N$1178,'គ្រោងថវិកា SOB'!$M$11:$M$1178,C35)","v":0},{"$f":"SUMIFS('គ្រោងថវិកា SOB'!$O$11:$O$1178,'គ្រោងថវិកា SOB'!$M$11:$M$1178,C35)","v":0},{"$f":"SUM(E35:F35)","v":0}]
[null,null,60042,"សំលៀកបំពាក់ការពារសុវត្ថិភាព",{"$f":"SUMIFS('គ្រោងថវិកា SOB'!$N$11:$N$1178,'គ្រោងថវិកា SOB'!$M$11:$M$1178,C36)","v":0},{"$f":"SUMIFS('គ្រោងថវិកា SOB'!$O$11:$O$1178,'គ្រោងថវិកា SOB'!$M$11:$M$1178,C36)","v":0},{"$f":"SUM(E36:F36)","v":0}]
[null,null,60043,"មេដាយ(គ្រឿងឥស្សរិយយស)",{"$f":"SUMIFS('គ្រោងថវិកា SOB'!$N$11:$N$1178,'គ្រោងថវិកា SOB'!$M$11:$M$1178,C37)","v":0},{"$f":"SUMIFS('គ្រោងថវិកា SOB'!$O$11:$O$1178,'គ្រោងថវិកា SOB'!$M$11:$M$1178,C37)","v":0},{"$f":"SUM(E37:F37)","v":0}]
[null,null,60048,"សំលៀកបំពាក់ និងការតុបតែងផ្សេងៗ",{"$f":"SUMIFS('គ្រោងថវិកា SOB'!$N$11:$N$1178,'គ្រោងថវិកា SOB'!$M$11:$M$1178,C38)","v":0},{"$f":"SUMIFS('គ្រោងថវិកា SOB'!$O$11:$O$1178,'គ្រោងថវិកា SOB'!$M$11:$M$1178,C38)","v":0},{"$f":"SUM(E38:F38)","v":0}]
[null,6005,null,"សម្ភារតូចតាច សង្ហារឹម និងសម្ភារបរិក្ខារ",{"$f":"SUM(E40:E45)","v":0},{"$f":"SUM(F40:F45)","v":0},{"$f":"SUM(G40:G45)","v":0}]
[null,null,60051,"សម្ភារនិងបរិក្ខារបច្ចេកទេសមិនមែនព័ត៌មានវិទ្យា",{"$f":"SUMIFS('គ្រោងថវិកា SOB'!$N$11:$N$1178,'គ្រោងថវិកា SOB'!$M$11:$M$1178,C40)","v":0},{"$f":"SUMIFS('គ្រោងថវិកា SOB'!$O$11:$O$1178,'គ្រោងថវិកា SOB'!$M$11:$M$1178,C40)","v":0},{"$f":"SUM(E40:F40)","v":0}]
[null,null,60052,"សង្ហារឹម",{"$f":"SUMIFS('គ្រោងថវិកា SOB'!$N$11:$N$1178,'គ្រោងថវិកា SOB'!$M$11:$M$1178,C41)","v":0},{"$f":"SUMIFS('គ្រោងថវិកា SOB'!$O$11:$O$1178,'គ្រោងថវិកា SOB'!$M$11:$M$1178,C41)","v":0},0]
[null,null,60053,"សម្ភារប្រើប្រាស់",{"$f":"SUMIFS('គ្រោងថវិកា SOB'!$N$11:$N$1178,'គ្រោងថវិកា SOB'!$M$11:$M$1178,C42)","v":0},{"$f":"SUMIFS('គ្រោងថវិកា SOB'!$O$11:$O$1178,'គ្រោងថវិកា SOB'!$M$11:$M$1178,C42)","v":0},0]
[null,null,60054,"សម្ភារ និងឧបករណ៍ដឹកជញ្ជូន",{"$f":"SUMIFS('គ្រោងថវិកា SOB'!$N$11:$N$1178,'គ្រោងថវិកា SOB'!$M$11:$M$1178,C43)","v":0},{"$f":"SUMIFS('គ្រោងថវិកា SOB'!$O$11:$O$1178,'គ្រោងថវិកា SOB'!$M$11:$M$1178,C43)","v":0},0]
[null,null,60055,"សម្ភារនិងបរិក្ខារបច្ចេកទេសព័ត៌មានវិទ្យា",{"$f":"SUMIFS('គ្រោងថវិកា SOB'!$N$11:$N$1178,'គ្រោងថវិកា SOB'!$M$11:$M$1178,C44)","v":0},{"$f":"SUMIFS('គ្រោងថវិកា SOB'!$O$11:$O$1178,'គ្រោងថវិកា SOB'!$M$11:$M$1178,C44)","v":0},0]
[null,null,60058,"សម្ភារតូចតាច សង្ហារឹម និងសម្ភារបរិក្ខារផ្សេងៗ",{"$f":"SUMIFS('គ្រោងថវិកា SOB'!$N$11:$N$1178,'គ្រោងថវិកា SOB'!$M$11:$M$1178,C45)","v":0},{"$f":"SUMIFS('គ្រោងថវិកា SOB'!$O$11:$O$1178,'គ្រោងថវិកា SOB'!$M$11:$M$1178,C45)","v":0},0]
[null,6006,null,"ថាមពលនិងទឹក",{"$f":"SUM(E47:E49)","v":0},{"$f":"SUM(F47:F49)","v":0},{"$f":"SUM(G47:G49)","v":0}]
[null,null,60061,"អគ្គិសនី",{"$f":"SUMIFS('គ្រោងថវិកា SOB'!$N$11:$N$1178,'គ្រោងថវិកា SOB'!$M$11:$M$1178,C47)","v":0},{"$f":"SUMIFS('គ្រោងថវិកា SOB'!$O$11:$O$1178,'គ្រោងថវិកា SOB'!$M$11:$M$1178,C47)","v":0},{"$f":"SUM(E47:F47)","v":0}]
[null,null,60062,"ទឹក",{"$f":"SUMIFS('គ្រោងថវិកា SOB'!$N$11:$N$1178,'គ្រោងថវិកា SOB'!$M$11:$M$1178,C48)","v":0},{"$f":"SUMIFS('គ្រោងថវិកា SOB'!$O$11:$O$1178,'គ្រោងថវិកា SOB'!$M$11:$M$1178,C48)","v":0},{"$f":"SUM(E48:F48)","v":0}]
[null,null,60068,"ផ្សេងៗ",{"$f":"SUMIFS('គ្រោងថវិកា SOB'!$N$11:$N$1178,'គ្រោងថវិកា SOB'!$M$11:$M$1178,C49)","v":0},{"$f":"SUMIFS('គ្រោងថវិកា SOB'!$O$11:$O$1178,'គ្រោងថវិកា SOB'!$M$11:$M$1178,C49)","v":0},{"$f":"SUM(E49:F49)","v":0}]
[null,6007,null,"សម្ភារបរិក្ខារថែទាំសុខភាព",{"$f":"SUM(E51:E53)","v":0},{"$f":"SUM(F51:F53)","v":0},{"$f":"SUM(G51:G53)","v":0}]
[null,null,60071,"បំពង់ហ្គាសនិងអុកស៊ីសែន",{"$f":"SUMIFS('គ្រោងថវិកា SOB'!$N$11:$N$1178,'គ្រោងថវិកា SOB'!$M$11:$M$1178,C51)","v":0},{"$f":"SUMIFS('គ្រោងថវិកា SOB'!$O$11:$O$1178,'គ្រោងថវិកា SOB'!$M$11:$M$1178,C51)","v":0},{"$f":"SUM(E51:F51)","v":0}]
[null,null,60072,"សម្ភារបរិក្ខារពេទ្យ",{"$f":"SUMIFS('គ្រោងថវិកា SOB'!$N$11:$N$1178,'គ្រោងថវិកា SOB'!$M$11:$M$1178,C52)","v":0},{"$f":"SUMIFS('គ្រោងថវិកា SOB'!$O$11:$O$1178,'គ្រោងថវិកា SOB'!$M$11:$M$1178,C52)","v":0},{"$f":"SUM(E52:F52)","v":0}]
[null,null,60078,"សម្ភារបរិក្ខារថែទាំសុខភាពផ្សេងៗ",{"$f":"SUMIFS('គ្រោងថវិកា SOB'!$N$11:$N$1178,'គ្រោងថវិកា SOB'!$M$11:$M$1178,C53)","v":0},{"$f":"SUMIFS('គ្រោងថវិកា SOB'!$O$11:$O$1178,'គ្រោងថវិកា SOB'!$M$11:$M$1178,C53)","v":0},{"$f":"SUM(E53:F53)","v":0}]
[null,6098,null,"សម្ភារផ្គត់ផ្គង់ផ្សេងៗ",{"$f":"SUM(E55)","v":0},{"$f":"SUM(F55)","v":0},{"$f":"SUM(G55)","v":0}]
[null,null,60981,"សម្ភារផ្គត់ផ្គង់ផ្សេងៗ",{"$f":"SUMIFS('គ្រោងថវិកា SOB'!$N$11:$N$1178,'គ្រោងថវិកា SOB'!$M$11:$M$1178,C55)","v":0},{"$f":"SUMIFS('គ្រោងថវិកា SOB'!$O$11:$O$1178,'គ្រោងថវិកា SOB'!$M$11:$M$1178,C55)","v":0},{"$f":"SUM(E55:F55)","v":0}]
[61,null,null,"សេវាកម្ម",{"$f":"SUM(E57+E61+E64+E68+E71+E80+E85+E91+E94+E100+E109+E114+E119+E124+E128+E130+E139)","v":0},{"$f":"SUM(F57+F61+F64+F68+F71+F80+F85+F91+F94+F100+F109+F114+F119+F124+F128+F130+F139)","v":0},{"$f":"SUM(G57+G61+G64+G68+G71+G80+G85+G91+G94+G100+G109+G114+G119+G124+G128+G130+G139)","v":0}]
[null,6101,null,"កិច្ចសន្យានៃការផ្តល់សេវាជាមួយសហគ្រាស",{"$f":"SUM(E58:E60)","v":0},{"$f":"SUM(F58:F60)","v":0},{"$f":"SUM(G58:G60)","v":0}]
[null,null,61011,"សេវាអនាម័យ",{"$f":"SUMIFS('គ្រោងថវិកា SOB'!$N$11:$N$1178,'គ្រោងថវិកា SOB'!$M$11:$M$1178,C58)","v":0},{"$f":"SUMIFS('គ្រោងថវិកា SOB'!$O$11:$O$1178,'គ្រោងថវិកា SOB'!$M$11:$M$1178,C58)","v":0},{"$f":"SUM(E58:F58)","v":0}]
[null,null,61012,"សេវារដ្ឋបាល",{"$f":"SUMIFS('គ្រោងថវិកា SOB'!$N$11:$N$1178,'គ្រោងថវិកា SOB'!$M$11:$M$1178,C59)","v":0},{"$f":"SUMIFS('គ្រោងថវិកា SOB'!$O$11:$O$1178,'គ្រោងថវិកា SOB'!$M$11:$M$1178,C59)","v":0},{"$f":"SUM(E59:F59)","v":0}]
[null,null,61018,"សេវាផ្សេងៗ",{"$f":"SUMIFS('គ្រោងថវិកា SOB'!$N$11:$N$1178,'គ្រោងថវិកា SOB'!$M$11:$M$1178,C60)","v":0},{"$f":"SUMIFS('គ្រោងថវិកា SOB'!$O$11:$O$1178,'គ្រោងថវិកា SOB'!$M$11:$M$1178,C60)","v":0},{"$f":"SUM(E60:F60)","v":0}]
[null,6102,null,"ការជួលមធ្យោបាយដឹកជញ្ជូន",{"$f":"SUM(E62:E63)","v":0},{"$f":"SUM(F62:F63)","v":0},{"$f":"SUM(G62:G63)","v":0}]
[null,null,61021,"ការជួលមធ្យោបាយដឹកជញ្ជូន",{"$f":"SUMIFS('គ្រោងថវិកា SOB'!$N$11:$N$1178,'គ្រោងថវិកា SOB'!$M$11:$M$1178,C62)","v":0},{"$f":"SUMIFS('គ្រោងថវិកា SOB'!$O$11:$O$1178,'គ្រោងថវិកា SOB'!$M$11:$M$1178,C62)","v":0},{"$f":"SUM(E62:F62)","v":0}]
[null,null,61028,"ការជួលមធ្យោបាយដឹកជញ្ជូនផ្សេងៗ",{"$f":"SUMIFS('គ្រោងថវិកា SOB'!$N$11:$N$1178,'គ្រោងថវិកា SOB'!$M$11:$M$1178,C63)","v":0},{"$f":"SUMIFS('គ្រោងថវិកា SOB'!$O$11:$O$1178,'គ្រោងថវិកា SOB'!$M$11:$M$1178,C63)","v":0},{"$f":"SUM(E63:F63)","v":0}]
[null,6103,null,"ថ្លៃឈ្នួល និងបន្ទុក(អសង្ហារឹម) ក្នុងនិងក្រៅប្រទេស",{"$f":"SUM(E65:E67)","v":0},{"$f":"SUM(F65:F67)","v":0},{"$f":"SUM(G65:G67)","v":0}]
[null,null,61031,"ថ្លៃឈ្នួល និងបន្ទុក(អសង្ហារឹម) ក្នុងប្រទេស",{"$f":"SUMIFS('គ្រោងថវិកា SOB'!$N$11:$N$1178,'គ្រោងថវិកា SOB'!$M$11:$M$1178,C65)","v":0},{"$f":"SUMIFS('គ្រោងថវិកា SOB'!$O$11:$O$1178,'គ្រោងថវិកា SOB'!$M$11:$M$1178,C65)","v":0},{"$f":"SUM(E65:F65)","v":0}]
[null,null,61032,"ថ្លៃឈ្នួល និងបន្ទុក(អសង្ហារឹម) ក្រៅប្រទេស",{"$f":"SUMIFS('គ្រោងថវិកា SOB'!$N$11:$N$1178,'គ្រោងថវិកា SOB'!$M$11:$M$1178,C66)","v":0},{"$f":"SUMIFS('គ្រោងថវិកា SOB'!$O$11:$O$1178,'គ្រោងថវិកា SOB'!$M$11:$M$1178,C66)","v":0},{"$f":"SUM(E66:F66)","v":0}]
[null,null,61038,"ថ្លៃឈ្នួល និងបន្ទុក(អសង្ហារឹម) ផ្សេងៗ",{"$f":"SUMIFS('គ្រោងថវិកា SOB'!$N$11:$N$1178,'គ្រោងថវិកា SOB'!$M$11:$M$1178,C67)","v":0},{"$f":"SUMIFS('គ្រោងថវិកា SOB'!$O$11:$O$1178,'គ្រោងថវិកា SOB'!$M$11:$M$1178,C67)","v":0},{"$f":"SUM(E67:F67)","v":0}]
[null,6104,null,"សោហ៊ុយបណ្តុះបណ្តាល ក្នុងនិងក្រៅប្រទេស",{"$f":"SUM(E69:E70)","v":0},{"$f":"SUM(F69:F70)","v":0},{"$f":"SUM(G69:G70)","v":0}]
[null,null,61041,"សោហ៊ុយបណ្តុះបណ្តាលក្នុងនិងក្រៅប្រទេស",{"$f":"SUMIFS('គ្រោងថវិកា SOB'!$N$11:$N$1178,'គ្រោងថវិកា SOB'!$M$11:$M$1178,C69)","v":0},{"$f":"SUMIFS('គ្រោងថវិកា SOB'!$O$11:$O$1178,'គ្រោងថវិកា SOB'!$M$11:$M$1178,C69)","v":0},{"$f":"SUM(E69:F69)","v":0}]
[null,null,61048,"សោហ៊ុយបណ្តុះបណ្តាលផ្សេងៗ ក្នុងនិងក្រៅប្រទេស",{"$f":"SUMIFS('គ្រោងថវិកា SOB'!$N$11:$N$1178,'គ្រោងថវិកា SOB'!$M$11:$M$1178,C70)","v":0},{"$f":"SUMIFS('គ្រោងថវិកា SOB'!$O$11:$O$1178,'គ្រោងថវិកា SOB'!$M$11:$M$1178,C70)","v":0},{"$f":"SUM(E70:F70)","v":0}]
[null,6105,null,"ការថែទាំនិងជួសជុល",{"$f":"SUM(E72:E79)","v":0},{"$f":"SUM(F72:F79)","v":0},{"$f":"SUM(G72:G79)","v":0}]
[null,null,61051,"ការថែទាំដីធ្លី សួនច្បារ ព្រៃឈើ តំបន់ឆ្នេរ និងដែននេសាទ",{"$f":"SUMIFS('គ្រោងថវិកា SOB'!$N$11:$N$1178,'គ្រោងថវិកា SOB'!$M$11:$M$1178,C72)","v":0},{"$f":"SUMIFS('គ្រោងថវិកា SOB'!$O$11:$O$1178,'គ្រោងថវិកា SOB'!$M$11:$M$1178,C72)","v":0},{"$f":"SUM(E72:F72)","v":0}]
[null,null,61052,"ការថែទាំ  ជួសជុលអគារផ្សេងៗ និងប្រាសាទ",{"$f":"SUMIFS('គ្រោងថវិកា SOB'!$N$11:$N$1178,'គ្រោងថវិកា SOB'!$M$11:$M$1178,C73)+TotalByExp!E65","v":0},{"$f":"SUMIFS('គ្រោងថវិកា SOB'!$O$11:$O$1178,'គ្រោងថវិកា SOB'!$M$11:$M$1178,C73)+TotalByExp!F65","v":0},0]
[null,null,61053,"ការថែទាំ ជួសជុលផ្លូវ ផ្លូវលំ ស្ពាន ​និងលូ",{"$f":"SUMIFS('គ្រោងថវិកា SOB'!$N$11:$N$1178,'គ្រោងថវិកា SOB'!$M$11:$M$1178,C74)","v":0},{"$f":"SUMIFS('គ្រោងថវិកា SOB'!$O$11:$O$1178,'គ្រោងថវិកា SOB'!$M$11:$M$1178,C74)","v":0},0]
[null,null,61054,"ការថែទាំបណ្តាញផ្សេងៗ",{"$f":"SUMIFS('គ្រោងថវិកា SOB'!$N$11:$N$1178,'គ្រោងថវិកា SOB'!$M$11:$M$1178,C75)","v":0},{"$f":"SUMIFS('គ្រោងថវិកា SOB'!$O$11:$O$1178,'គ្រោងថវិកា SOB'!$M$11:$M$1178,C75)","v":0},0]
[null,null,61055,"ការថែទាំប្រព័ន្ធធារាសាស្ត្រ",{"$f":"SUMIFS('គ្រោងថវិកា SOB'!$N$11:$N$1178,'គ្រោងថវិកា SOB'!$M$11:$M$1178,C76)","v":0},{"$f":"SUMIFS('គ្រោងថវិកា SOB'!$O$11:$O$1178,'គ្រោងថវិកា SOB'!$M$11:$M$1178,C76)","v":0},0]
[null,null,61056,"ការថែទាំ និងជួសជុលមធ្យោបាយដឹកជញ្ជូន",{"$f":"SUMIFS('គ្រោងថវិកា SOB'!$N$11:$N$1178,'គ្រោងថវិកា SOB'!$M$11:$M$1178,C77)","v":0},{"$f":"SUMIFS('គ្រោងថវិកា SOB'!$O$11:$O$1178,'គ្រោងថវិកា SOB'!$M$11:$M$1178,C77)","v":0},0]
[null,null,61057,"ការថែទាំនិងជួសជុលសម្ភារ និងឧបករណ៍បច្ចេកទេស",{"$f":"SUMIFS('គ្រោងថវិកា SOB'!$N$11:$N$1178,'គ្រោងថវិកា SOB'!$M$11:$M$1178,C78)","v":0},{"$f":"SUMIFS('គ្រោងថវិកា SOB'!$O$11:$O$1178,'គ្រោងថវិកា SOB'!$M$11:$M$1178,C78)","v":0},0]
[null,null,61058,"ការថែទាំនិងជួសជុលផ្សេងៗ",{"$f":"SUMIFS('គ្រោងថវិកា SOB'!$N$11:$N$1178,'គ្រោងថវិកា SOB'!$M$11:$M$1178,C79)","v":0},{"$f":"SUMIFS('គ្រោងថវិកា SOB'!$O$11:$O$1178,'គ្រោងថវិកា SOB'!$M$11:$M$1178,C79)","v":0},0]
[null,6106,null,"សោហ៊ុយធានារ៉ាប់រង",{"$f":"SUM(E81:E84)","v":0},{"$f":"SUM(F81:F84)","v":0},{"$f":"SUM(G81:G84)","v":0}]
[null,null,61061,"សោហ៊ុយធានារ៉ាប់រងលើអគារ",{"$f":"SUMIFS('គ្រោងថវិកា SOB'!$N$11:$N$1178,'គ្រោងថវិកា SOB'!$M$11:$M$1178,C81)","v":0},{"$f":"SUMIFS('គ្រោងថវិកា SOB'!$O$11:$O$1178,'គ្រោងថវិកា SOB'!$M$11:$M$1178,C81)","v":0},{"$f":"SUM(E81:F81)","v":0}]
[null,null,61062,"សោហ៊ុយធានារ៉ាប់រងលើយានយន្ត",{"$f":"SUMIFS('គ្រោងថវិកា SOB'!$N$11:$N$1178,'គ្រោងថវិកា SOB'!$M$11:$M$1178,C82)","v":0},{"$f":"SUMIFS('គ្រោងថវិកា SOB'!$O$11:$O$1178,'គ្រោងថវិកា SOB'!$M$11:$M$1178,C82)","v":0},{"$f":"SUM(E82:F82)","v":0}]
[null,null,61063,"សោហ៊ុយធានារ៉ាប់រងលើសុខភាព",{"$f":"SUMIFS('គ្រោងថវិកា SOB'!$N$11:$N$1178,'គ្រោងថវិកា SOB'!$M$11:$M$1178,C83)","v":0},{"$f":"SUMIFS('គ្រោងថវិកា SOB'!$O$11:$O$1178,'គ្រោងថវិកា SOB'!$M$11:$M$1178,C83)","v":0},{"$f":"SUM(E83:F83)","v":0}]
[null,null,61068,"សោហ៊ុយធានារ៉ាប់រងផ្សេងៗទៀត",{"$f":"SUMIFS('គ្រោងថវិកា SOB'!$N$11:$N$1178,'គ្រោងថវិកា SOB'!$M$11:$M$1178,C84)","v":0},{"$f":"SUMIFS('គ្រោងថវិកា SOB'!$O$11:$O$1178,'គ្រោងថវិកា SOB'!$M$11:$M$1178,C84)","v":0},{"$f":"SUM(E84:F84)","v":0}]
[null,6107,null,"សោហ៊ុយសិក្សាពិសោធន៍, សោហ៊ុយនៃការប្រើ-ប្រាស់សេវា, សោហ៊ុយនៃការប្រើប្រាស់សិទ្ធិនិង​សំណងផ្សេងៗ",{"$f":"SUM(E86:E90)","v":0},{"$f":"SUM(F86:F90)","v":0},{"$f":"SUM(G86:G90)","v":0}]
[null,null,61071,"សោហ៊ុយសិក្សាពិសោធន៍",{"$f":"SUMIFS('គ្រោងថវិកា SOB'!$N$11:$N$1178,'គ្រោងថវិកា SOB'!$M$11:$M$1178,C86)","v":0},{"$f":"SUMIFS('គ្រោងថវិកា SOB'!$O$11:$O$1178,'គ្រោងថវិកា SOB'!$M$11:$M$1178,C86)","v":0},{"$f":"SUM(E86:F86)","v":0}]
[null,null,61072,"សោហ៊ុយនៃការប្រើប្រាស់សេវា",{"$f":"SUMIFS('គ្រោងថវិកា SOB'!$N$11:$N$1178,'គ្រោងថវិកា SOB'!$M$11:$M$1178,C87)","v":0},{"$f":"SUMIFS('គ្រោងថវិកា SOB'!$O$11:$O$1178,'គ្រោងថវិកា SOB'!$M$11:$M$1178,C87)","v":0},{"$f":"SUM(E87:F87)","v":0}]
[null,null,61073,"សោហ៊ុយនៃការប្រើប្រាស់សិទ្ធិ",{"$f":"SUMIFS('គ្រោងថវិកា SOB'!$N$11:$N$1178,'គ្រោងថវិកា SOB'!$M$11:$M$1178,C88)","v":0},{"$f":"SUMIFS('គ្រោងថវិកា SOB'!$O$11:$O$1178,'គ្រោងថវិកា SOB'!$M$11:$M$1178,C88)","v":0},{"$f":"SUM(E88:F88)","v":0}]
[null,null,61074,"សំណងផ្នែកស៊ីវិល",{"$f":"SUMIFS('គ្រោងថវិកា SOB'!$N$11:$N$1178,'គ្រោងថវិកា SOB'!$M$11:$M$1178,C89)","v":0},{"$f":"SUMIFS('គ្រោងថវិកា SOB'!$O$11:$O$1178,'គ្រោងថវិកា SOB'!$M$11:$M$1178,C89)","v":0},{"$f":"SUM(E89:F89)","v":0}]
[null,null,61078,"សោហ៊ុយនិង​សំណងផ្សេងៗ",{"$f":"SUMIFS('គ្រោងថវិកា SOB'!$N$11:$N$1178,'គ្រោងថវិកា SOB'!$M$11:$M$1178,C90)","v":0},{"$f":"SUMIFS('គ្រោងថវិកា SOB'!$O$11:$O$1178,'គ្រោងថវិកា SOB'!$M$11:$M$1178,C90)","v":0},{"$f":"SUM(E90:F90)","v":0}]
[null,6108,null,"សោហ៊ុយដឹកជញ្ជូន",{"$f":"SUM(E92:E93)","v":0},{"$f":"SUM(F92:F93)","v":0},{"$f":"SUM(G92:G93)","v":0}]
[null,null,61081,"សម្ភារ​ និងទំនិញ",{"$f":"SUMIFS('គ្រោងថវិកា SOB'!$N$11:$N$1178,'គ្រោងថវិកា SOB'!$M$11:$M$1178,C92)","v":0},{"$f":"SUMIFS('គ្រោងថវិកា SOB'!$O$11:$O$1178,'គ្រោងថវិកា SOB'!$M$11:$M$1178,C92)","v":0},{"$f":"SUM(E92:F92)","v":0}]
[null,null,61088,"សោហ៊ុយដឹកជញ្ជូនផ្សេងៗ",{"$f":"SUMIFS('គ្រោងថវិកា SOB'!$N$11:$N$1178,'គ្រោងថវិកា SOB'!$M$11:$M$1178,C93)","v":0},{"$f":"SUMIFS('គ្រោងថវិកា SOB'!$O$11:$O$1178,'គ្រោងថវិកា SOB'!$M$11:$M$1178,C93)","v":0},{"$f":"SUM(E93:F93)","v":0}]
[null,6109,null,"បុគ្គលិកខាងក្រៅ",{"$f":"SUM(E95:E99)","v":0},{"$f":"SUM(F95:F99)","v":0},{"$f":"SUM(G95:G99)","v":0}]
[null,null,61091,"ភ្នាក់ងារជាតិជាប់កិច្ចសន្យា",{"$f":"SUMIFS('គ្រោងថវិកា SOB'!$N$11:$N$1178,'គ្រោងថវិកា SOB'!$M$11:$M$1178,C95)","v":0},{"$f":"SUMIFS('គ្រោងថវិកា SOB'!$O$11:$O$1178,'គ្រោងថវិកា SOB'!$M$11:$M$1178,C95)","v":0},{"$f":"SUM(E95:F95)","v":0}]
[null,null,61092,"ភ្នាក់ងារបរទេសជាប់កិច្ចសន្យា",{"$f":"SUMIFS('គ្រោងថវិកា SOB'!$N$11:$N$1178,'គ្រោងថវិកា SOB'!$M$11:$M$1178,C96)","v":0},{"$f":"SUMIFS('គ្រោងថវិកា SOB'!$O$11:$O$1178,'គ្រោងថវិកា SOB'!$M$11:$M$1178,C96)","v":0},{"$f":"SUM(E96:F96)","v":0}]
[null,null,61093,"បុគ្គលិកសមូហភាពសាធារណៈផ្សេងៗ",{"$f":"SUMIFS('គ្រោងថវិកា SOB'!$N$11:$N$1178,'គ្រោងថវិកា SOB'!$M$11:$M$1178,C97)","v":0},{"$f":"SUMIFS('គ្រោងថវិកា SOB'!$O$11:$O$1178,'គ្រោងថវិកា SOB'!$M$11:$M$1178,C97)","v":0},{"$f":"SUM(E97:F97)","v":0}]
[null,null,61094,"ប្រាក់វិភាជន៍សង្គមសម្រាប់បុគ្គលិកខាងក្រៅ",{"$f":"SUMIFS('គ្រោងថវិកា SOB'!$N$11:$N$1178,'គ្រោងថវិកា SOB'!$M$11:$M$1178,C98)","v":0},{"$f":"SUMIFS('គ្រោងថវិកា SOB'!$O$11:$O$1178,'គ្រោងថវិកា SOB'!$M$11:$M$1178,C98)","v":0},{"$f":"SUM(E98:F98)","v":0}]
[null,null,61098,"បុគ្គលិកខាងក្រៅផ្សេងៗ",{"$f":"SUMIFS('គ្រោងថវិកា SOB'!$N$11:$N$1178,'គ្រោងថវិកា SOB'!$M$11:$M$1178,C99)","v":0},{"$f":"SUMIFS('គ្រោងថវិកា SOB'!$O$11:$O$1178,'គ្រោងថវិកា SOB'!$M$11:$M$1178,C99)","v":0},{"$f":"SUM(E99:F99)","v":0}]
[null,6110,null,"ទំនាក់ទំនងសាធារណៈ និងផ្សព្វផ្សាយ",{"$f":"SUM(E101:E108)","v":0},{"$f":"SUM(F101:F108)","v":0},{"$f":"SUM(G101:G108)","v":0}]
[null,null,61101,"សោហ៊ុយទទួលភ្ញៀវជាតិ",{"$f":"SUMIFS('គ្រោងថវិកា SOB'!$N$11:$N$1178,'គ្រោងថវិកា SOB'!$M$11:$M$1178,C101)","v":0},{"$f":"SUMIFS('គ្រោងថវិកា SOB'!$O$11:$O$1178,'គ្រោងថវិកា SOB'!$M$11:$M$1178,C101)","v":0},{"$f":"SUM(E101:F101)","v":0}]
[null,null,61102,"សោហ៊ុយទទួលភ្ញៀវបរទេស",{"$f":"SUMIFS('គ្រោងថវិកា SOB'!$N$11:$N$1178,'គ្រោងថវិកា SOB'!$M$11:$M$1178,C102)","v":0},{"$f":"SUMIFS('គ្រោងថវិកា SOB'!$O$11:$O$1178,'គ្រោងថវិកា SOB'!$M$11:$M$1178,C102)","v":0},0]
[null,null,61103,"ប្រជុំ សិក្ខាសាលា និងសន្និសីទ",{"$f":"SUMIFS('គ្រោងថវិកា SOB'!$N$11:$N$1178,'គ្រោងថវិកា SOB'!$M$11:$M$1178,C103)","v":0},{"$f":"SUMIFS('គ្រោងថវិកា SOB'!$O$11:$O$1178,'គ្រោងថវិកា SOB'!$M$11:$M$1178,C103)","v":0},0]
[null,null,61104,"ចំណាយរៀបចំពិធីបុណ្យ",{"$f":"SUMIFS('គ្រោងថវិកា SOB'!$N$11:$N$1178,'គ្រោងថវិកា SOB'!$M$11:$M$1178,C104)","v":0},{"$f":"SUMIFS('គ្រោងថវិកា SOB'!$O$11:$O$1178,'គ្រោងថវិកា SOB'!$M$11:$M$1178,C104)","v":0},0]
[null,null,61105,"ចំណាយសម្រាប់​វត្ថុអនុស្សាវរីយ៍ នៅក្នុងនិង\nក្រៅប្រទេស",{"$f":"SUMIFS('គ្រោងថវិកា SOB'!$N$11:$N$1178,'គ្រោងថវិកា SOB'!$M$11:$M$1178,C105)","v":0},{"$f":"SUMIFS('គ្រោងថវិកា SOB'!$O$11:$O$1178,'គ្រោងថវិកា SOB'!$M$11:$M$1178,C105)","v":0},0]
[null,null,61106,"ចំណាយសម្រាប់​ការតាំងពិពណ៌ នៅក្នុងនិង\nក្រៅប្រទេស",{"$f":"SUMIFS('គ្រោងថវិកា SOB'!$N$11:$N$1178,'គ្រោងថវិកា SOB'!$M$11:$M$1178,C106)","v":0},{"$f":"SUMIFS('គ្រោងថវិកា SOB'!$O$11:$O$1178,'គ្រោងថវិកា SOB'!$M$11:$M$1178,C106)","v":0},0]
[null,null,61107,"ការឃោសនានិងផ្សព្វផ្សាយព័ត៌មានសាធារណៈ",{"$f":"SUMIFS('គ្រោងថវិកា SOB'!$N$11:$N$1178,'គ្រោងថវិកា SOB'!$M$11:$M$1178,C107)","v":0},{"$f":"SUMIFS('គ្រោងថវិកា SOB'!$O$11:$O$1178,'គ្រោងថវិកា SOB'!$M$11:$M$1178,C107)","v":0},0]
[null,null,61108,"ទំនាក់ទំនងសាធារណៈនិងផ្សព្វផ្សាយផ្សេងៗ",{"$f":"SUMIFS('គ្រោងថវិកា SOB'!$N$11:$N$1178,'គ្រោងថវិកា SOB'!$M$11:$M$1178,C108)","v":0},{"$f":"SUMIFS('គ្រោងថវិកា SOB'!$O$11:$O$1178,'គ្រោងថវិកា SOB'!$M$11:$M$1178,C108)","v":0},0]
[null,6111,null,"សារព័ត៌មាន និងឯកសារ",{"$f":"SUM(E110:E113)","v":0},{"$f":"SUM(F110:F113)","v":0},{"$f":"SUM(G110:G113)","v":0}]
[null,null,61111,"ចំណាយលើការជាវសារព័ត៌មាន",{"$f":"SUMIFS('គ្រោងថវិកា SOB'!$N$11:$N$1178,'គ្រោងថវិកា SOB'!$M$11:$M$1178,C110)","v":0},{"$f":"SUMIFS('គ្រោងថវិកា SOB'!$O$11:$O$1178,'គ្រោងថវិកា SOB'!$M$11:$M$1178,C110)","v":0},{"$f":"SUM(E110:F110)","v":0}]
[null,null,61112,"ចំណាយលើការជាវទស្សនាវដ្តី",{"$f":"SUMIFS('គ្រោងថវិកា SOB'!$N$11:$N$1178,'គ្រោងថវិកា SOB'!$M$11:$M$1178,C111)","v":0},{"$f":"SUMIFS('គ្រោងថវិកា SOB'!$O$11:$O$1178,'គ្រោងថវិកា SOB'!$M$11:$M$1178,C111)","v":0},{"$f":"SUM(E111:F111)","v":0}]
[null,null,61113,"ចំណាយលើការជាវសៀវភៅរាជកិច្ច",{"$f":"SUMIFS('គ្រោងថវិកា SOB'!$N$11:$N$1178,'គ្រោងថវិកា SOB'!$M$11:$M$1178,C112)","v":0},{"$f":"SUMIFS('គ្រោងថវិកា SOB'!$O$11:$O$1178,'គ្រោងថវិកា SOB'!$M$11:$M$1178,C112)","v":0},{"$f":"SUM(E112:F112)","v":0}]
[null,null,61118,"ចំណាយលើការជាវសារព័ត៌មាន និងឯកសារផ្សេងៗ",{"$f":"SUMIFS('គ្រោងថវិកា SOB'!$N$11:$N$1178,'គ្រោងថវិកា SOB'!$M$11:$M$1178,C113)","v":0},{"$f":"SUMIFS('គ្រោងថវិកា SOB'!$O$11:$O$1178,'គ្រោងថវិកា SOB'!$M$11:$M$1178,C113)","v":0},{"$f":"SUM(E113:F113)","v":0}]
[null,6112,null,"សោហ៊ុយបេសកកម្មក្នុងប្រទេស",{"$f":"SUM(E115:E118)","v":0},{"$f":"SUM(F115:F118)","v":0},{"$f":"SUM(G115:G118)","v":0}]
[null,null,61121,"សោហ៊ុយដឹកជញ្ជូន",{"$f":"SUMIFS('គ្រោងថវិកា SOB'!$N$11:$N$1178,'គ្រោងថវិកា SOB'!$M$11:$M$1178,C115)","v":0},{"$f":"SUMIFS('គ្រោងថវិកា SOB'!$O$11:$O$1178,'គ្រោងថវិកា SOB'!$M$11:$M$1178,C115)","v":0},{"$f":"SUM(E115:F115)","v":0}]
[null,null,61122,"សោហ៊ុយបេសកកម្ម",{"$f":"SUMIFS('គ្រោងថវិកា SOB'!$N$11:$N$1178,'គ្រោងថវិកា SOB'!$M$11:$M$1178,C116)","v":0},{"$f":"SUMIFS('គ្រោងថវិកា SOB'!$O$11:$O$1178,'គ្រោងថវិកា SOB'!$M$11:$M$1178,C116)","v":0},{"$f":"SUM(E116:F116)","v":0}]
[null,null,61123,"សោហ៊ុយស្នាក់នៅ",{"$f":"SUMIFS('គ្រោងថវិកា SOB'!$N$11:$N$1178,'គ្រោងថវិកា SOB'!$M$11:$M$1178,C117)","v":0},{"$f":"SUMIFS('គ្រោងថវិកា SOB'!$O$11:$O$1178,'គ្រោងថវិកា SOB'!$M$11:$M$1178,C117)","v":0},{"$f":"SUM(E117:F117)","v":0}]
[null,null,61128,"សោហ៊ុយក្នុងប្រទេសផ្សេងៗ",{"$f":"SUMIFS('គ្រោងថវិកា SOB'!$N$11:$N$1178,'គ្រោងថវិកា SOB'!$M$11:$M$1178,C118)","v":0},{"$f":"SUMIFS('គ្រោងថវិកា SOB'!$O$11:$O$1178,'គ្រោងថវិកា SOB'!$M$11:$M$1178,C118)","v":0},{"$f":"SUM(E118:F118)","v":0}]
[null,6113,null,"សោហ៊ុយបេសកកម្មក្រៅប្រទេស",{"$f":"SUM(E120:E123)","v":0},{"$f":"SUM(F120:F123)","v":0},{"$f":"SUM(G120:G123)","v":0}]
[null,null,61131,"សោហ៊ុយដឹកជញ្ជូន",{"$f":"SUMIFS('គ្រោងថវិកា SOB'!$N$11:$N$1178,'គ្រោងថវិកា SOB'!$M$11:$M$1178,C120)","v":0},{"$f":"SUMIFS('គ្រោងថវិកា SOB'!$O$11:$O$1178,'គ្រោងថវិកា SOB'!$M$11:$M$1178,C120)","v":0},{"$f":"SUM(E120:F120)","v":0}]
[null,null,61132,"សោហ៊ុយបេសកកម្ម",{"$f":"SUMIFS('គ្រោងថវិកា SOB'!$N$11:$N$1178,'គ្រោងថវិកា SOB'!$M$11:$M$1178,C121)","v":0},{"$f":"SUMIFS('គ្រោងថវិកា SOB'!$O$11:$O$1178,'គ្រោងថវិកា SOB'!$M$11:$M$1178,C121)","v":0},{"$f":"SUM(E121:F121)","v":0}]
[null,null,61133,"សោហ៊ុយស្នាក់នៅ",{"$f":"SUMIFS('គ្រោងថវិកា SOB'!$N$11:$N$1178,'គ្រោងថវិកា SOB'!$M$11:$M$1178,C122)","v":0},{"$f":"SUMIFS('គ្រោងថវិកា SOB'!$O$11:$O$1178,'គ្រោងថវិកា SOB'!$M$11:$M$1178,C122)","v":0},{"$f":"SUM(E122:F122)","v":0}]
[null,null,61138,"សោហ៊ុយក្រៅប្រទេសផ្សេងៗ",{"$f":"SUMIFS('គ្រោងថវិកា SOB'!$N$11:$N$1178,'គ្រោងថវិកា SOB'!$M$11:$M$1178,C123)","v":0},{"$f":"SUMIFS('គ្រោងថវិកា SOB'!$O$11:$O$1178,'គ្រោងថវិកា SOB'!$M$11:$M$1178,C123)","v":0},{"$f":"SUM(E123:F123)","v":0}]
[null,6114,null,"សោហ៊ុយប្រៃសណីយ៍ និងទូរគមនាគមន៍",{"$f":"SUM(E125:E127)","v":0},{"$f":"SUM(F125:F127)","v":0},{"$f":"SUM(G125:G127)","v":0}]
[null,null,61141,"សោហ៊ុយប្រៃសណីយ៍",{"$f":"SUMIFS('គ្រោងថវិកា SOB'!$N$11:$N$1178,'គ្រោងថវិកា SOB'!$M$11:$M$1178,C125)","v":0},{"$f":"SUMIFS('គ្រោងថវិកា SOB'!$O$11:$O$1178,'គ្រោងថវិកា SOB'!$M$11:$M$1178,C125)","v":0},{"$f":"SUM(E125:F125)","v":0}]
[null,null,61142,"សោហ៊ុយទូរគមនាគមន៍",{"$f":"SUMIFS('គ្រោងថវិកា SOB'!$N$11:$N$1178,'គ្រោងថវិកា SOB'!$M$11:$M$1178,C126)","v":0},{"$f":"SUMIFS('គ្រោងថវិកា SOB'!$O$11:$O$1178,'គ្រោងថវិកា SOB'!$M$11:$M$1178,C126)","v":0},{"$f":"SUM(E126:F126)","v":0}]
[null,null,61148,"សោហ៊ុយទូរគមនាគមន៍ផ្សេងៗ",{"$f":"SUMIFS('គ្រោងថវិកា SOB'!$N$11:$N$1178,'គ្រោងថវិកា SOB'!$M$11:$M$1178,C127)","v":0},{"$f":"SUMIFS('គ្រោងថវិកា SOB'!$O$11:$O$1178,'គ្រោងថវិកា SOB'!$M$11:$M$1178,C127)","v":0},{"$f":"SUM(E127:F127)","v":0}]
[null,6115,null,"សោហ៊ុយធនាគារ",{"$f":"SUM(E129)","v":0},{"$f":"SUM(F129)","v":0},{"$f":"SUM(G129)","v":0}]
[null,null,61151,"សោហ៊ុយធនាគារ",{"$f":"SUMIFS('គ្រោងថវិកា SOB'!$N$11:$N$1178,'គ្រោងថវិកា SOB'!$M$11:$M$1178,C129)","v":0},{"$f":"SUMIFS('គ្រោងថវិកា SOB'!$O$11:$O$1178,'គ្រោងថវិកា SOB'!$M$11:$M$1178,C129)","v":0},{"$f":"SUM(E129:F129)","v":0}]
[null,6116,null,"សំណងកិច្ចសន្យា",{"$f":"SUM(E131:E138)","v":0},{"$f":"SUM(F131:F138)","v":0},{"$f":"SUM(G131:G138)","v":0}]
[null,null,61161,"ផ្លូវថ្នល់ ផ្លូវទឹក",{"$f":"SUMIFS('គ្រោងថវិកា SOB'!$N$11:$N$1178,'គ្រោងថវិកា SOB'!$M$11:$M$1178,C131)","v":0},{"$f":"SUMIFS('គ្រោងថវិកា SOB'!$O$11:$O$1178,'គ្រោងថវិកា SOB'!$M$11:$M$1178,C131)","v":0},{"$f":"SUM(E131:F131)","v":0}]
[null,null,61162,"ធារាសាស្ត្រ",{"$f":"SUMIFS('គ្រោងថវិកា SOB'!$N$11:$N$1178,'គ្រោងថវិកា SOB'!$M$11:$M$1178,C132)","v":0},{"$f":"SUMIFS('គ្រោងថវិកា SOB'!$O$11:$O$1178,'គ្រោងថវិកា SOB'!$M$11:$M$1178,C132)","v":0},0]
[null,null,61163,"អាយស្ម័យយាន",{"$f":"SUMIFS('គ្រោងថវិកា SOB'!$N$11:$N$1178,'គ្រោងថវិកា SOB'!$M$11:$M$1178,C133)","v":0},{"$f":"SUMIFS('គ្រោងថវិកា SOB'!$O$11:$O$1178,'គ្រោងថវិកា SOB'!$M$11:$M$1178,C133)","v":0},0]
[null,null,61164,"អាកាសយានដ្ឋាន",{"$f":"SUMIFS('គ្រោងថវិកា SOB'!$N$11:$N$1178,'គ្រោងថវិកា SOB'!$M$11:$M$1178,C134)","v":0},{"$f":"SUMIFS('គ្រោងថវិកា SOB'!$O$11:$O$1178,'គ្រោងថវិកា SOB'!$M$11:$M$1178,C134)","v":0},0]
[null,null,61165,"ទូរគមនាគមន៍",{"$f":"SUMIFS('គ្រោងថវិកា SOB'!$N$11:$N$1178,'គ្រោងថវិកា SOB'!$M$11:$M$1178,C135)","v":0},{"$f":"SUMIFS('គ្រោងថវិកា SOB'!$O$11:$O$1178,'គ្រោងថវិកា SOB'!$M$11:$M$1178,C135)","v":0},0]
[null,null,61166,"អគ្គិសនី",{"$f":"SUMIFS('គ្រោងថវិកា SOB'!$N$11:$N$1178,'គ្រោងថវិកា SOB'!$M$11:$M$1178,C136)","v":0},{"$f":"SUMIFS('គ្រោងថវិកា SOB'!$O$11:$O$1178,'គ្រោងថវិកា SOB'!$M$11:$M$1178,C136)","v":0},0]
[null,null,61167,"បណ្តាញបង្ហូរទឹក និងអនាម័យ",{"$f":"SUMIFS('គ្រោងថវិកា SOB'!$N$11:$N$1178,'គ្រោងថវិកា SOB'!$M$11:$M$1178,C137)","v":0},{"$f":"SUMIFS('គ្រោងថវិកា SOB'!$O$11:$O$1178,'គ្រោងថវិកា SOB'!$M$11:$M$1178,C137)","v":0},0]
[null,null,61168,"ហេដ្ឋារចនាសម្ព័ន្ធផ្សេងៗ",{"$f":"SUMIFS('គ្រោងថវិកា SOB'!$N$11:$N$1178,'គ្រោងថវិកា SOB'!$M$11:$M$1178,C138)","v":0},{"$f":"SUMIFS('គ្រោងថវិកា SOB'!$O$11:$O$1178,'គ្រោងថវិកា SOB'!$M$11:$M$1178,C138)","v":0},0]
[null,6198,null,"សេវាកម្មផ្សេងៗទៀត",{"$f":"SUM(E140)","v":0},{"$f":"SUM(F140)","v":0},{"$f":"SUM(G140)","v":0}]
[null,null,61981,"សេវាកម្មផ្សេងៗទៀត",{"$f":"SUMIFS('គ្រោងថវិកា SOB'!$N$11:$N$1178,'គ្រោងថវិកា SOB'!$M$11:$M$1178,C140)","v":0},{"$f":"SUMIFS('គ្រោងថវិកា SOB'!$O$11:$O$1178,'គ្រោងថវិកា SOB'!$M$11:$M$1178,C140)","v":0},{"$f":"SUM(E140:F140)","v":0}]
[64,null,null,"បន្ទុកបុគ្គលិក",{"$f":"SUM(E142+E151+E160+E166+E170+E178+E183+E192)","v":0},{"$f":"SUM(F142+F151+F160+F166+F170+F178+F183+F192)","v":0},{"$f":"SUM(G142+G151+G160+G166+G170+G178+G183+G192)","v":0}]
[null,6401,null,"លាភការ និងប្រាក់បំណាច់នៃអំណាចសាធារណៈ",{"$f":"SUM(E143:E150)","v":0},{"$f":"SUM(F143:F150)","v":0},{"$f":"SUM(G143:G150)","v":0}]
[null,null,64011,"ខុទ្ទកាល័យព្រះបរមរាជវាំង",{"$f":"SUMIFS('គ្រោងថវិកា SOB'!$N$11:$N$1178,'គ្រោងថវិកា SOB'!$M$11:$M$1178,C143)","v":0},{"$f":"SUMIFS('គ្រោងថវិកា SOB'!$O$11:$O$1178,'គ្រោងថវិកា SOB'!$M$11:$M$1178,C143)","v":0},{"$f":"SUM(E143:F143)","v":0}]
[null,null,64012,"ប្រាក់បំណាច់ ប្រធាន អនុប្រធាន និងសមាជិកស្ថាប័នកំពូល",{"$f":"SUMIFS('គ្រោងថវិកា SOB'!$N$11:$N$1178,'គ្រោងថវិកា SOB'!$M$11:$M$1178,C144)","v":0},{"$f":"SUMIFS('គ្រោងថវិកា SOB'!$O$11:$O$1178,'គ្រោងថវិកា SOB'!$M$11:$M$1178,C144)","v":0},0]
[null,null,64013,"ប្រាក់បំណាច់ នាយករដ្ឋមន្ត្រី និងឧបនាយករដ្ឋមន្ត្រី",{"$f":"SUMIFS('គ្រោងថវិកា SOB'!$N$11:$N$1178,'គ្រោងថវិកា SOB'!$M$11:$M$1178,C145)","v":0},{"$f":"SUMIFS('គ្រោងថវិកា SOB'!$O$11:$O$1178,'គ្រោងថវិកា SOB'!$M$11:$M$1178,C145)","v":0},0]
[null,null,64014,"ប្រាក់បំណាច់ រដ្ឋមន្ត្រី រដ្ឋលេខាធិការ និងអនុរដ្ឋលេខាធិការ",{"$f":"SUMIFS('គ្រោងថវិកា SOB'!$N$11:$N$1178,'គ្រោងថវិកា SOB'!$M$11:$M$1178,C146)","v":0},{"$f":"SUMIFS('គ្រោងថវិកា SOB'!$O$11:$O$1178,'គ្រោងថវិកា SOB'!$M$11:$M$1178,C146)","v":0},0]
[null,null,64015,"ប្រាក់បំណាច់អង្គទូត",{"$f":"SUMIFS('គ្រោងថវិកា SOB'!$N$11:$N$1178,'គ្រោងថវិកា SOB'!$M$11:$M$1178,C147)","v":0},{"$f":"SUMIFS('គ្រោងថវិកា SOB'!$O$11:$O$1178,'គ្រោងថវិកា SOB'!$M$11:$M$1178,C147)","v":0},0]
[null,null,64016,"លាភការទី ប្រឹក្សា",{"$f":"SUMIFS('គ្រោងថវិកា SOB'!$N$11:$N$1178,'គ្រោងថវិកា SOB'!$M$11:$M$1178,C148)","v":0},{"$f":"SUMIFS('គ្រោងថវិកា SOB'!$O$11:$O$1178,'គ្រោងថវិកា SOB'!$M$11:$M$1178,C148)","v":0},0]
[null,null,64017,"លាភការបេសកជន",{"$f":"SUMIFS('គ្រោងថវិកា SOB'!$N$11:$N$1178,'គ្រោងថវិកា SOB'!$M$11:$M$1178,C149)","v":0},{"$f":"SUMIFS('គ្រោងថវិកា SOB'!$O$11:$O$1178,'គ្រោងថវិកា SOB'!$M$11:$M$1178,C149)","v":0},0]
[null,null,64018,"លាភការអ្នកជំនួយការ",{"$f":"SUMIFS('គ្រោងថវិកា SOB'!$N$11:$N$1178,'គ្រោងថវិកា SOB'!$M$11:$M$1178,C150)","v":0},{"$f":"SUMIFS('គ្រោងថវិកា SOB'!$O$11:$O$1178,'គ្រោងថវិកា SOB'!$M$11:$M$1178,C150)","v":0},0]
[null,6402,null,"លាភការនិងប្រាក់បំណាច់ បុគ្គលិកក្របខ័ណ្ឌ\nអចិន្ត្រៃយ៍",{"$f":"SUM(E152:E159)","v":0},{"$f":"SUM(F152:F159)","v":0},{"$f":"SUM(G152:G159)","v":0}]
[null,null,64021,"បៀវត្សមូលដ្ឋាន",{"$f":"SUMIFS('គ្រោងថវិកា SOB'!$N$11:$N$1178,'គ្រោងថវិកា SOB'!$M$11:$M$1178,C152)","v":0},{"$f":"SUMIFS('គ្រោងថវិកា SOB'!$O$11:$O$1178,'គ្រោងថវិកា SOB'!$M$11:$M$1178,C152)","v":0},{"$f":"SUM(E152:F152)","v":0}]
[null,null,64022,"ប្រាក់បំណាច់មុខងារ",{"$f":"SUMIFS('គ្រោងថវិកា SOB'!$N$11:$N$1178,'គ្រោងថវិកា SOB'!$M$11:$M$1178,C153)","v":0},{"$f":"SUMIFS('គ្រោងថវិកា SOB'!$O$11:$O$1178,'គ្រោងថវិកា SOB'!$M$11:$M$1178,C153)","v":0},0]
[null,null,64023,"ប្រាក់បំណាច់ម៉ោងបន្ថែម",{"$f":"SUMIFS('គ្រោងថវិកា SOB'!$N$11:$N$1178,'គ្រោងថវិកា SOB'!$M$11:$M$1178,C154)","v":0},{"$f":"SUMIFS('គ្រោងថវិកា SOB'!$O$11:$O$1178,'គ្រោងថវិកា SOB'!$M$11:$M$1178,C154)","v":0},0]
[null,null,64024,"ប្រាក់កំរៃគរុកោសល្យ",{"$f":"SUMIFS('គ្រោងថវិកា SOB'!$N$11:$N$1178,'គ្រោងថវិកា SOB'!$M$11:$M$1178,C155)","v":0},{"$f":"SUMIFS('គ្រោងថវិកា SOB'!$O$11:$O$1178,'គ្រោងថវិកា SOB'!$M$11:$M$1178,C155)","v":0},0]
[null,null,64025,"ប្រាក់បំប៉នជីវភាពពិសេស",{"$f":"SUMIFS('គ្រោងថវិកា SOB'!$N$11:$N$1178,'គ្រោងថវិកា SOB'!$M$11:$M$1178,C156)","v":0},{"$f":"SUMIFS('គ្រោងថវិកា SOB'!$O$11:$O$1178,'គ្រោងថវិកា SOB'!$M$11:$M$1178,C156)","v":0},0]
[null,null,64026,"ប្រាក់បំណាច់តំបន់",{"$f":"SUMIFS('គ្រោងថវិកា SOB'!$N$11:$N$1178,'គ្រោងថវិកា SOB'!$M$11:$M$1178,C157)","v":0},{"$f":"SUMIFS('គ្រោងថវិកា SOB'!$O$11:$O$1178,'គ្រោងថវិកា SOB'!$M$11:$M$1178,C157)","v":0},0]
[null,null,64027,"ប្រាក់បំណាច់ទទួលខុសត្រូវ",{"$f":"SUMIFS('គ្រោងថវិកា SOB'!$N$11:$N$1178,'គ្រោងថវិកា SOB'!$M$11:$M$1178,C158)","v":0},{"$f":"SUMIFS('គ្រោងថវិកា SOB'!$O$11:$O$1178,'គ្រោងថវិកា SOB'!$M$11:$M$1178,C158)","v":0},0]
[null,null,64028,"ប្រាក់បំណាច់ការងារធ្ងន់ និងប៉ះពាល់សុខភាព",{"$f":"SUMIFS('គ្រោងថវិកា SOB'!$N$11:$N$1178,'គ្រោងថវិកា SOB'!$M$11:$M$1178,C159)","v":0},{"$f":"SUMIFS('គ្រោងថវិកា SOB'!$O$11:$O$1178,'គ្រោងថវិកា SOB'!$M$11:$M$1178,C159)","v":0},0]
[null,6403,null,"ប្រាក់បំណាច់ផ្សេងៗ",{"$f":"SUM(E161:E165)","v":0},{"$f":"SUM(F161:F165)","v":0},{"$f":"SUM(G161:G165)","v":0}]
[null,null,64033,"រង្វាន់​",{"$f":"SUMIFS('គ្រោងថវិកា SOB'!$N$11:$N$1178,'គ្រោងថវិកា SOB'!$M$11:$M$1178,C161)","v":0},{"$f":"SUMIFS('គ្រោងថវិកា SOB'!$O$11:$O$1178,'គ្រោងថវិកា SOB'!$M$11:$M$1178,C161)","v":0},{"$f":"SUM(E161:F161)","v":0}]
[null,null,64034,"ប្រាក់បំណាច់បុគ្គលិកអង្គភាពផ្សេងៗ",{"$f":"SUMIFS('គ្រោងថវិកា SOB'!$N$11:$N$1178,'គ្រោងថវិកា SOB'!$M$11:$M$1178,C162)","v":0},{"$f":"SUMIFS('គ្រោងថវិកា SOB'!$O$11:$O$1178,'គ្រោងថវិកា SOB'!$M$11:$M$1178,C162)","v":0},{"$f":"SUM(E162:F162)","v":0}]
[null,null,64035,"ប្រាក់បំណាច់គ្រូបង្គោលអង្គភាពផ្សេងៗ",{"$f":"SUMIFS('គ្រោងថវិកា SOB'!$N$11:$N$1178,'គ្រោងថវិកា SOB'!$M$11:$M$1178,C163)","v":0},{"$f":"SUMIFS('គ្រោងថវិកា SOB'!$O$11:$O$1178,'គ្រោងថវិកា SOB'!$M$11:$M$1178,C163)","v":0},{"$f":"SUM(E163:F163)","v":0}]
[null,null,64037,"ប្រាក់ឧបត្ថម្ភក្រុមប្រឹក្សាភិបាលរបស់គ្រឹះស្ថាន\nសាធារណៈរដ្ឋបាល និងរបស់អង្គភាពដទៃទៀត",{"$f":"SUMIFS('គ្រោងថវិកា SOB'!$N$11:$N$1178,'គ្រោងថវិកា SOB'!$M$11:$M$1178,C164)","v":0},{"$f":"SUMIFS('គ្រោងថវិកា SOB'!$O$11:$O$1178,'គ្រោងថវិកា SOB'!$M$11:$M$1178,C164)","v":0},{"$f":"SUM(E164:F164)","v":0}]
[null,null,64038,"ប្រាក់បំណាច់ផ្សេងៗ",{"$f":"SUMIFS('គ្រោងថវិកា SOB'!$N$11:$N$1178,'គ្រោងថវិកា SOB'!$M$11:$M$1178,C165)","v":0},{"$f":"SUMIFS('គ្រោងថវិកា SOB'!$O$11:$O$1178,'គ្រោងថវិកា SOB'!$M$11:$M$1178,C165)","v":0},{"$f":"SUM(E165:F165)","v":0}]
[null,6404,null,"លាភការ និងប្រាក់បំណាច់បុគ្គលិកមិនមែនក្របខ័ណ្ឌ",{"$f":"SUM(E167:E169)","v":0},{"$f":"SUM(F167:F169)","v":0},{"$f":"SUM(G167:G169)","v":0}]
[null,null,64041,"បៀវត្សមូលដ្ឋាន បុគ្គលិកជាប់កិច្ចសន្យា",{"$f":"SUMIFS('គ្រោងថវិកា SOB'!$N$11:$N$1178,'គ្រោងថវិកា SOB'!$M$11:$M$1178,C167)","v":0},{"$f":"SUMIFS('គ្រោងថវិកា SOB'!$O$11:$O$1178,'គ្រោងថវិកា SOB'!$M$11:$M$1178,C167)","v":0},{"$f":"SUM(E167:F167)","v":0}]
[null,null,64042,"លាភការផ្សេងៗទៀត បុគ្គលិកជាប់កិច្ចសន្យា",{"$f":"SUMIFS('គ្រោងថវិកា SOB'!$N$11:$N$1178,'គ្រោងថវិកា SOB'!$M$11:$M$1178,C168)","v":0},{"$f":"SUMIFS('គ្រោងថវិកា SOB'!$O$11:$O$1178,'គ្រោងថវិកា SOB'!$M$11:$M$1178,C168)","v":0},{"$f":"SUM(E168:F168)","v":0}]
[null,null,64048,"លាភការផ្សេងៗ",{"$f":"SUMIFS('គ្រោងថវិកា SOB'!$N$11:$N$1178,'គ្រោងថវិកា SOB'!$M$11:$M$1178,C169)","v":0},{"$f":"SUMIFS('គ្រោងថវិកា SOB'!$O$11:$O$1178,'គ្រោងថវិកា SOB'!$M$11:$M$1178,C169)","v":0},{"$f":"SUM(E169:F169)","v":0}]
[null,6405,null,"ប្រាក់វិភាជន៍សង្គមសម្រាប់មន្ត្រីរាជការ និងបុគ្គលិកផ្សេងៗ",{"$f":"SUM(E171:E177)","v":0},{"$f":"SUM(F171:F177)","v":0},{"$f":"SUM(G171:G177)","v":0}]
[null,null,64051,"មន្ត្រីមានជម្ងឺ",{"$f":"SUMIFS('គ្រោងថវិកា SOB'!$N$11:$N$1178,'គ្រោងថវិកា SOB'!$M$11:$M$1178,C171)","v":0},{"$f":"SUMIFS('គ្រោងថវិកា SOB'!$O$11:$O$1178,'គ្រោងថវិកា SOB'!$M$11:$M$1178,C171)","v":0},{"$f":"SUM(E171:F171)","v":0}]
[null,null,64052,"អ្នកសម្រាលកូន",{"$f":"SUMIFS('គ្រោងថវិកា SOB'!$N$11:$N$1178,'គ្រោងថវិកា SOB'!$M$11:$M$1178,C172)","v":0},{"$f":"SUMIFS('គ្រោងថវិកា SOB'!$O$11:$O$1178,'គ្រោងថវិកា SOB'!$M$11:$M$1178,C172)","v":0},0]
[null,null,64053,"មរណៈភាព",{"$f":"SUMIFS('គ្រោងថវិកា SOB'!$N$11:$N$1178,'គ្រោងថវិកា SOB'!$M$11:$M$1178,C173)","v":0},{"$f":"SUMIFS('គ្រោងថវិកា SOB'!$O$11:$O$1178,'គ្រោងថវិកា SOB'!$M$11:$M$1178,C173)","v":0},0]
[null,null,64054,"ឧបត្ថម្ភនិវត្តជន",{"$f":"SUMIFS('គ្រោងថវិកា SOB'!$N$11:$N$1178,'គ្រោងថវិកា SOB'!$M$11:$M$1178,C174)","v":0},{"$f":"SUMIFS('គ្រោងថវិកា SOB'!$O$11:$O$1178,'គ្រោងថវិកា SOB'!$M$11:$M$1178,C174)","v":0},0]
[null,null,64055,"ឧបត្ថម្ភដល់អ្នកសុំឈប់ពីការងារ",{"$f":"SUMIFS('គ្រោងថវិកា SOB'!$N$11:$N$1178,'គ្រោងថវិកា SOB'!$M$11:$M$1178,C175)","v":0},{"$f":"SUMIFS('គ្រោងថវិកា SOB'!$O$11:$O$1178,'គ្រោងថវិកា SOB'!$M$11:$M$1178,C175)","v":0},0]
[null,null,64056,"គ្រោះថ្នាក់ក្នុងការងារនិងទព្វលភាព",{"$f":"SUMIFS('គ្រោងថវិកា SOB'!$N$11:$N$1178,'គ្រោងថវិកា SOB'!$M$11:$M$1178,C176)","v":0},{"$f":"SUMIFS('គ្រោងថវិកា SOB'!$O$11:$O$1178,'គ្រោងថវិកា SOB'!$M$11:$M$1178,C176)","v":0},0]
[null,null,64058,"ប្រាក់វិភាជន៍សង្គមផ្សេងៗទៀតសម្រាប់មន្ត្រីរាជការ និងបុគ្គលិកផ្សេងៗ",{"$f":"SUMIFS('គ្រោងថវិកា SOB'!$N$11:$N$1178,'គ្រោងថវិកា SOB'!$M$11:$M$1178,C177)","v":0},{"$f":"SUMIFS('គ្រោងថវិកា SOB'!$O$11:$O$1178,'គ្រោងថវិកា SOB'!$M$11:$M$1178,C177)","v":0},0]
[null,6406,null,"ប្រាក់វិភាជន៍សង្គមសម្រាប់គ្រួសារមន្ត្រីរាជការ",{"$f":"SUM(E179:E182)","v":0},{"$f":"SUM(F179:F182)","v":0},{"$f":"SUM(G179:G182)","v":0}]
[null,null,64061,"កូនមានអាយុចាប់ពី២០ឆ្នាំចុះ",{"$f":"SUMIFS('គ្រោងថវិកា SOB'!$N$11:$N$1178,'គ្រោងថវិកា SOB'!$M$11:$M$1178,C179)","v":0},{"$f":"SUMIFS('គ្រោងថវិកា SOB'!$O$11:$O$1178,'គ្រោងថវិកា SOB'!$M$11:$M$1178,C179)","v":0},{"$f":"SUM(E179:F179)","v":0}]
[null,null,64063,"ប្រាក់បំណាច់អ្នកក្នុងបន្ទុក",{"$f":"SUMIFS('គ្រោងថវិកា SOB'!$N$11:$N$1178,'គ្រោងថវិកា SOB'!$M$11:$M$1178,C180)","v":0},{"$f":"SUMIFS('គ្រោងថវិកា SOB'!$O$11:$O$1178,'គ្រោងថវិកា SOB'!$M$11:$M$1178,C180)","v":0},{"$f":"SUM(E180:F180)","v":0}]
[null,null,64064,"ឧបត្ថម្ភដល់កូនកំព្រារបស់មន្ដ្រីរាជការ",{"$f":"SUMIFS('គ្រោងថវិកា SOB'!$N$11:$N$1178,'គ្រោងថវិកា SOB'!$M$11:$M$1178,C181)","v":0},{"$f":"SUMIFS('គ្រោងថវិកា SOB'!$O$11:$O$1178,'គ្រោងថវិកា SOB'!$M$11:$M$1178,C181)","v":0},{"$f":"SUM(E181:F181)","v":0}]
[null,null,64068,"ប្រាក់វិភាជន៍សង្គមផ្សេងៗទៀតសម្រាប់គ្រួសារ\nមន្ត្រីរាជការ",{"$f":"SUMIFS('គ្រោងថវិកា SOB'!$N$11:$N$1178,'គ្រោងថវិកា SOB'!$M$11:$M$1178,C182)","v":0},{"$f":"SUMIFS('គ្រោងថវិកា SOB'!$O$11:$O$1178,'គ្រោងថវិកា SOB'!$M$11:$M$1178,C182)","v":0},{"$f":"SUM(E182:F182)","v":0}]
[null,6407,null,"លាភការ និងប្រាក់បំណាច់នៃអំណាចរដ្ឋបាលថ្នាក់ក្រោមជាតិ",{"$f":"SUM(E184:E191)","v":0},{"$f":"SUM(F184:F191)","v":0},{"$f":"SUM(G184:G191)","v":0}]
[null,null,64071,"ប្រាក់បំណាច់អភិបាល (រាជធានី-ខេត្ត ក្រុង-ស្រុក-ខណ្ឌ)",{"$f":"SUMIFS('គ្រោងថវិកា SOB'!$N$11:$N$1178,'គ្រោងថវិកា SOB'!$M$11:$M$1178,C184)","v":0},{"$f":"SUMIFS('គ្រោងថវិកា SOB'!$O$11:$O$1178,'គ្រោងថវិកា SOB'!$M$11:$M$1178,C184)","v":0},{"$f":"SUM(E184:F184)","v":0}]
[null,null,64072,"ប្រាក់បំណាច់អភិបាលរង (រាជធានី-ខេត្ត ក្រុង-ស្រុក-ខណ្ឌ)",{"$f":"SUMIFS('គ្រោងថវិកា SOB'!$N$11:$N$1178,'គ្រោងថវិកា SOB'!$M$11:$M$1178,C185)","v":0},{"$f":"SUMIFS('គ្រោងថវិកា SOB'!$O$11:$O$1178,'គ្រោងថវិកា SOB'!$M$11:$M$1178,C185)","v":0},0]
[null,null,64073,"ប្រាក់ឧបត្ថម្ភសមាជិកក្រុមប្រឹក្សា (រាជធានី-ខេត្ត ក្រុង-ស្រុក-ខណ្ឌ ឃុំ-សង្កាត់)",{"$f":"SUMIFS('គ្រោងថវិកា SOB'!$N$11:$N$1178,'គ្រោងថវិកា SOB'!$M$11:$M$1178,C186)","v":0},{"$f":"SUMIFS('គ្រោងថវិកា SOB'!$O$11:$O$1178,'គ្រោងថវិកា SOB'!$M$11:$M$1178,C186)","v":0},0]
[null,null,64074,"ប្រាក់ឧបត្ថម្ភមន្រ្តីភូមិ ",{"$f":"SUMIFS('គ្រោងថវិកា SOB'!$N$11:$N$1178,'គ្រោងថវិកា SOB'!$M$11:$M$1178,C187)","v":0},{"$f":"SUMIFS('គ្រោងថវិកា SOB'!$O$11:$O$1178,'គ្រោងថវិកា SOB'!$M$11:$M$1178,C187)","v":0},0]
[null,null,64075,"លាភការទី ប្រឹក្សា",{"$f":"SUMIFS('គ្រោងថវិកា SOB'!$N$11:$N$1178,'គ្រោងថវិកា SOB'!$M$11:$M$1178,C188)","v":0},{"$f":"SUMIFS('គ្រោងថវិកា SOB'!$O$11:$O$1178,'គ្រោងថវិកា SOB'!$M$11:$M$1178,C188)","v":0},0]
[null,null,64076,"លាភការបេសកជន",{"$f":"SUMIFS('គ្រោងថវិកា SOB'!$N$11:$N$1178,'គ្រោងថវិកា SOB'!$M$11:$M$1178,C189)","v":0},{"$f":"SUMIFS('គ្រោងថវិកា SOB'!$O$11:$O$1178,'គ្រោងថវិកា SOB'!$M$11:$M$1178,C189)","v":0},0]
[null,null,64077,"លាភការអ្នកជំនួយការ",{"$f":"SUMIFS('គ្រោងថវិកា SOB'!$N$11:$N$1178,'គ្រោងថវិកា SOB'!$M$11:$M$1178,C190)","v":0},{"$f":"SUMIFS('គ្រោងថវិកា SOB'!$O$11:$O$1178,'គ្រោងថវិកា SOB'!$M$11:$M$1178,C190)","v":0},0]
[null,null,64078,"ប្រាក់បំណាច់ផ្សេងៗទៀត",{"$f":"SUMIFS('គ្រោងថវិកា SOB'!$N$11:$N$1178,'គ្រោងថវិកា SOB'!$M$11:$M$1178,C191)","v":0},{"$f":"SUMIFS('គ្រោងថវិកា SOB'!$O$11:$O$1178,'គ្រោងថវិកា SOB'!$M$11:$M$1178,C191)","v":0},0]
[null,6498,null,"បន្ទុកបុគ្គលិកផ្សេងៗទៀត",{"$f":"SUM(E193)","v":0},{"$f":"SUM(F193)","v":0},{"$f":"SUM(G193)","v":0}]
[null,null,64981,"បន្ទុកបុគ្គលិកផ្សេងៗទៀត",{"$f":"SUMIFS('គ្រោងថវិកា SOB'!$N$11:$N$1178,'គ្រោងថវិកា SOB'!$M$11:$M$1178,C193)","v":0},{"$f":"SUMIFS('គ្រោងថវិកា SOB'!$O$11:$O$1178,'គ្រោងថវិកា SOB'!$M$11:$M$1178,C193)","v":0},{"$f":"SUM(E193:F193)","v":0}]
[null,null,null," ប្រភេទទី ២ : បន្ទុកហិរញ្ញវត្ថុ",{"$f":"E195","v":0},{"$f":"F195","v":0},{"$f":"SUM(G195)","v":0}]
[66,null,null,"បន្ទុកហិរញ្ញវត្ថុ",{"$f":"SUM(E196+E202+E205)","v":0},0,{"$f":"SUM(G196+G202+G205)","v":0}]
[null,6601,null,"ការប្រាក់នៃបំណុលក្នុងប្រទេស",{"$f":"SUM(E197:E201)","v":0},{"$f":"SUM(F197:F201)","v":0},{"$f":"SUM(G197:G201)","v":0}]
[null,null,66011,"ធនាគារជាតិនៃកម្ពុជា",{"$f":"SUMIFS('គ្រោងថវិកា SOB'!$N$11:$N$1178,'គ្រោងថវិកា SOB'!$M$11:$M$1178,C197)","v":0},{"$f":"SUMIFS('គ្រោងថវិកា SOB'!$O$11:$O$1178,'គ្រោងថវិកា SOB'!$M$11:$M$1178,C197)","v":0},{"$f":"SUM(E197:F197)","v":0}]
[null,null,66012,"ធនាគារពាណិជ្ជ",{"$f":"SUMIFS('គ្រោងថវិកា SOB'!$N$11:$N$1178,'គ្រោងថវិកា SOB'!$M$11:$M$1178,C198)","v":0},{"$f":"SUMIFS('គ្រោងថវិកា SOB'!$O$11:$O$1178,'គ្រោងថវិកា SOB'!$M$11:$M$1178,C198)","v":0},{"$f":"SUM(E198:F198)","v":0}]
[null,null,66013,"ប័ណ្ណរតនាគារ",{"$f":"SUMIFS('គ្រោងថវិកា SOB'!$N$11:$N$1178,'គ្រោងថវិកា SOB'!$M$11:$M$1178,C199)","v":0},{"$f":"SUMIFS('គ្រោងថវិកា SOB'!$O$11:$O$1178,'គ្រោងថវិកា SOB'!$M$11:$M$1178,C199)","v":0},{"$f":"SUM(E199:F199)","v":0}]
[null,null,66014,"សញ្ញាប័ណ្ណ",{"$f":"SUMIFS('គ្រោងថវិកា SOB'!$N$11:$N$1178,'គ្រោងថវិកា SOB'!$M$11:$M$1178,C200)","v":0},{"$f":"SUMIFS('គ្រោងថវិកា SOB'!$O$11:$O$1178,'គ្រោងថវិកា SOB'!$M$11:$M$1178,C200)","v":0},{"$f":"SUM(E200:F200)","v":0}]
[null,null,66018,"ផ្សេងៗ",{"$f":"SUMIFS('គ្រោងថវិកា SOB'!$N$11:$N$1178,'គ្រោងថវិកា SOB'!$M$11:$M$1178,C201)","v":0},{"$f":"SUMIFS('គ្រោងថវិកា SOB'!$O$11:$O$1178,'គ្រោងថវិកា SOB'!$M$11:$M$1178,C201)","v":0},{"$f":"SUM(E201:F201)","v":0}]
[null,6602,null,"ការប្រាក់នៃបំណុលក្រៅប្រទេស",{"$f":"SUM(E203:E204)","v":0},{"$f":"SUM(F203:F204)","v":0},{"$f":"SUM(G203:G204)","v":0}]
[null,null,66021,"ពហុភាគី",{"$f":"SUMIFS('គ្រោងថវិកា SOB'!$N$11:$N$1178,'គ្រោងថវិកា SOB'!$M$11:$M$1178,C203)","v":0},{"$f":"SUMIFS('គ្រោងថវិកា SOB'!$O$11:$O$1178,'គ្រោងថវិកា SOB'!$M$11:$M$1178,C203)","v":0},{"$f":"SUM(E203:F203)","v":0}]
[null,null,66022,"ទ្វេភាគី",{"$f":"SUMIFS('គ្រោងថវិកា SOB'!$N$11:$N$1178,'គ្រោងថវិកា SOB'!$M$11:$M$1178,C204)","v":0},{"$f":"SUMIFS('គ្រោងថវិកា SOB'!$O$11:$O$1178,'គ្រោងថវិកា SOB'!$M$11:$M$1178,C204)","v":0},{"$f":"SUM(E204:F204)","v":0}]
[null,6698,null,"បន្ទុកហិរញ្ញវត្ថុផ្សេងៗទៀត",{"$f":"SUM(E206:E207)","v":0},{"$f":"SUM(F206:F207)","v":0},{"$f":"SUM(G206:G207)","v":0}]
[null,null,66981,"ខាតពីការប្តូរប្រាក់",{"$f":"SUMIFS('គ្រោងថវិកា SOB'!$N$11:$N$1178,'គ្រោងថវិកា SOB'!$M$11:$M$1178,C206)","v":0},{"$f":"SUMIFS('គ្រោងថវិកា SOB'!$O$11:$O$1178,'គ្រោងថវិកា SOB'!$M$11:$M$1178,C206)","v":0},{"$f":"SUM(E206:F206)","v":0}]
[null,null,66988,"បន្ទុកហិរញ្ញវត្ថុផ្សេងៗទៀត",{"$f":"SUMIFS('គ្រោងថវិកា SOB'!$N$11:$N$1178,'គ្រោងថវិកា SOB'!$M$11:$M$1178,C207)","v":0},{"$f":"SUMIFS('គ្រោងថវិកា SOB'!$O$11:$O$1178,'គ្រោងថវិកា SOB'!$M$11:$M$1178,C207)","v":0},{"$f":"SUM(E207:F207)","v":0}]
[null,null,null,"ប្រភេទទី ៣ : អន្ដរាគមន៍សាធារណៈ",{"$f":"SUM(E209+E239)","v":0},{"$f":"SUM(F209+F239)","v":0},{"$f":"SUM(G209+G239)","v":0}]
[62,null,null,"អត្ថប្រយោជន៍សង្គម",{"$f":"SUM(E210+E212+E221+E230+E232+E234+E237)","v":0},{"$f":"SUM(F210+F212+F221+F230+F232+F234+F237)","v":0},{"$f":"SUM(G210+G212+G221+G230+G232+G234+G237)","v":0}]
[null,6201,null,"អត្ថប្រយោជន៍សន្តិសុខសង្គម",{"$f":"SUM(E211)","v":0},{"$f":"SUM(F211)","v":0},{"$f":"SUM(G211)","v":0}]
[null,null,62011,"អត្ថប្រយោជន៍សន្តិសុខសង្គម",{"$f":"SUMIFS('គ្រោងថវិកា SOB'!$N$11:$N$1178,'គ្រោងថវិកា SOB'!$M$11:$M$1178,C211)","v":0},{"$f":"SUMIFS('គ្រោងថវិកា SOB'!$O$11:$O$1178,'គ្រោងថវិកា SOB'!$M$11:$M$1178,C211)","v":0},{"$f":"SUM(E211:F211)","v":0}]
[null,6202,null,"ជំនួយសង្គមដល់ប្រជាពលរដ្ឋ",{"$f":"SUM(E213:E220)","v":0},{"$f":"SUM(F213:F220)","v":0},{"$f":"SUM(G213:G220)","v":0}]
[null,null,62021,"ជំនួយដល់ប្រជាជនសម្រាកពេទ្យ និងចំណាយដំណើរការ របស់មណ្ឌលថែទាំសុខភាព",{"$f":"SUMIFS('គ្រោងថវិកា SOB'!$N$11:$N$1178,'គ្រោងថវិកា SOB'!$M$11:$M$1178,C213)","v":0},{"$f":"SUMIFS('គ្រោងថវិកា SOB'!$O$11:$O$1178,'គ្រោងថវិកា SOB'!$M$11:$M$1178,C213)","v":0},{"$f":"SUM(E213:F213)","v":0}]
[null,null,62022,"ឱសថ",{"$f":"SUMIFS('គ្រោងថវិកា SOB'!$N$11:$N$1178,'គ្រោងថវិកា SOB'!$M$11:$M$1178,C214)","v":0},{"$f":"SUMIFS('គ្រោងថវិកា SOB'!$O$11:$O$1178,'គ្រោងថវិកា SOB'!$M$11:$M$1178,C214)","v":0},0]
[null,null,62023,"អាហារនិងសម្ភារៈ (ស្បៀង)",{"$f":"SUMIFS('គ្រោងថវិកា SOB'!$N$11:$N$1178,'គ្រោងថវិកា SOB'!$M$11:$M$1178,C215)","v":0},{"$f":"SUMIFS('គ្រោងថវិកា SOB'!$O$11:$O$1178,'គ្រោងថវិកា SOB'!$M$11:$M$1178,C215)","v":0},0]
[null,null,62024,"ជួយជនរងគ្រោះដោយគ្រោះធម្មជាតិ",{"$f":"SUMIFS('គ្រោងថវិកា SOB'!$N$11:$N$1178,'គ្រោងថវិកា SOB'!$M$11:$M$1178,C216)","v":0},{"$f":"SUMIFS('គ្រោងថវិកា SOB'!$O$11:$O$1178,'គ្រោងថវិកា SOB'!$M$11:$M$1178,C216)","v":0},0]
[null,null,62025,"អាហារូបករណ៍សម្រាប់​ការសិក្សា-ស្រាវជ្រាវក្នុងប្រទេស",{"$f":"SUMIFS('គ្រោងថវិកា SOB'!$N$11:$N$1178,'គ្រោងថវិកា SOB'!$M$11:$M$1178,C217)+TotalByExp!E62","v":0},{"$f":"SUMIFS('គ្រោងថវិកា SOB'!$O$11:$O$1178,'គ្រោងថវិកា SOB'!$M$11:$M$1178,C217)+TotalByExp!F62","v":0},0]
[null,null,62026,"អាហារូបករណ៍សម្រាប់​ការសិក្សា-ស្រាវជ្រាវក្រៅប្រទេស",{"$f":"SUMIFS('គ្រោងថវិកា SOB'!$N$11:$N$1178,'គ្រោងថវិកា SOB'!$M$11:$M$1178,C218)","v":0},{"$f":"SUMIFS('គ្រោងថវិកា SOB'!$O$11:$O$1178,'គ្រោងថវិកា SOB'!$M$11:$M$1178,C218)","v":0},0]
[null,null,62027,"សំណងខូចខាតដោយសារឧបទ្ទវហេតុសាធារណៈ",{"$f":"SUMIFS('គ្រោងថវិកា SOB'!$N$11:$N$1178,'គ្រោងថវិកា SOB'!$M$11:$M$1178,C219)","v":0},{"$f":"SUMIFS('គ្រោងថវិកា SOB'!$O$11:$O$1178,'គ្រោងថវិកា SOB'!$M$11:$M$1178,C219)","v":0},0]
[null,null,62028,"ជំនួយសង្គមផ្សេងៗទៀត",{"$f":"SUMIFS('គ្រោងថវិកា SOB'!$N$11:$N$1178,'គ្រោងថវិកា SOB'!$M$11:$M$1178,C220)","v":0},{"$f":"SUMIFS('គ្រោងថវិកា SOB'!$O$11:$O$1178,'គ្រោងថវិកា SOB'!$M$11:$M$1178,C220)","v":0},0]
[null,6203,null,"ឧបត្ថម្ភដល់អង្គភាពដែលមានលក្ខណៈសង្គម និងវប្បធម៌",{"$f":"SUM(E222:E229)","v":0},{"$f":"SUM(F222:F229)","v":0},{"$f":"SUM(G222:G229)","v":0}]
[null,null,62031,"ឧបត្ថម្ភសហគមន៍​ និងរក្សាសណ្តាប់ធ្នាប់ សន្តិសុខសង្គម",{"$f":"SUMIFS('គ្រោងថវិកា SOB'!$N$11:$N$1178,'គ្រោងថវិកា SOB'!$M$11:$M$1178,C222)","v":0},{"$f":"SUMIFS('គ្រោងថវិកា SOB'!$O$11:$O$1178,'គ្រោងថវិកា SOB'!$M$11:$M$1178,C222)","v":0},{"$f":"SUM(E222:F222)","v":0}]
[null,null,62032,"ឧបត្ថម្ភមណ្ឌលកុមារកំព្រា",{"$f":"SUMIFS('គ្រោងថវិកា SOB'!$N$11:$N$1178,'គ្រោងថវិកា SOB'!$M$11:$M$1178,C223)","v":0},{"$f":"SUMIFS('គ្រោងថវិកា SOB'!$O$11:$O$1178,'គ្រោងថវិកា SOB'!$M$11:$M$1178,C223)","v":0},0]
[null,null,62033,"ឧបត្ថម្ភដំណើរលំហែ និងសិក្សា",{"$f":"SUMIFS('គ្រោងថវិកា SOB'!$N$11:$N$1178,'គ្រោងថវិកា SOB'!$M$11:$M$1178,C224)","v":0},{"$f":"SUMIFS('គ្រោងថវិកា SOB'!$O$11:$O$1178,'គ្រោងថវិកា SOB'!$M$11:$M$1178,C224)","v":0},0]
[null,null,62034,"ឧបត្ថម្ភកាកបាទក្រហម",{"$f":"SUMIFS('គ្រោងថវិកា SOB'!$N$11:$N$1178,'គ្រោងថវិកា SOB'!$M$11:$M$1178,C225)","v":0},{"$f":"SUMIFS('គ្រោងថវិកា SOB'!$O$11:$O$1178,'គ្រោងថវិកា SOB'!$M$11:$M$1178,C225)","v":0},0]
[null,null,62035,"ឧបត្ថម្ភសហគមន៍ កីឡា និងវប្បធម៌",{"$f":"SUMIFS('គ្រោងថវិកា SOB'!$N$11:$N$1178,'គ្រោងថវិកា SOB'!$M$11:$M$1178,C226)","v":0},{"$f":"SUMIFS('គ្រោងថវិកា SOB'!$O$11:$O$1178,'គ្រោងថវិកា SOB'!$M$11:$M$1178,C226)","v":0},0]
[null,null,62036,"ឧបត្ថម្ភមណ្ឌលស្តារលទ្ធភាពពលកម្ម នីតិសម្បទា និងបណ្តុះបណ្តាលអភិវឌ្ឍន៍",{"$f":"SUMIFS('គ្រោងថវិកា SOB'!$N$11:$N$1178,'គ្រោងថវិកា SOB'!$M$11:$M$1178,C227)","v":0},{"$f":"SUMIFS('គ្រោងថវិកា SOB'!$O$11:$O$1178,'គ្រោងថវិកា SOB'!$M$11:$M$1178,C227)","v":0},0]
[null,null,62037,"ចំណាយសង្គមកិច្ចរបស់ព្រះមហាក្សត្រ",{"$f":"SUMIFS('គ្រោងថវិកា SOB'!$N$11:$N$1178,'គ្រោងថវិកា SOB'!$M$11:$M$1178,C228)","v":0},{"$f":"SUMIFS('គ្រោងថវិកា SOB'!$O$11:$O$1178,'គ្រោងថវិកា SOB'!$M$11:$M$1178,C228)","v":0},0]
[null,null,62038,"ឧបត្ថម្ភដល់អង្គភាពផ្សេងៗទៀត",{"$f":"SUMIFS('គ្រោងថវិកា SOB'!$N$11:$N$1178,'គ្រោងថវិកា SOB'!$M$11:$M$1178,C229)","v":0},{"$f":"SUMIFS('គ្រោងថវិកា SOB'!$O$11:$O$1178,'គ្រោងថវិកា SOB'!$M$11:$M$1178,C229)","v":0},0]
[null,6204,null,"ឧបត្ថម្ភដល់អង្គការមូលដ្ឋាន និងគាំទ្រកម្មវិធី-   ផ្សេងៗ",{"$f":"SUM(E231)","v":0},{"$f":"SUM(F231)","v":0},{"$f":"SUM(G231)","v":0}]
[null,null,62041,"ឧបត្ថម្ភដល់អង្គការមូលដ្ឋាន និងគាំទ្រកម្មវិធីផ្សេងៗ",{"$f":"SUMIFS('គ្រោងថវិកា SOB'!$N$11:$N$1178,'គ្រោងថវិកា SOB'!$M$11:$M$1178,C231)","v":0},{"$f":"SUMIFS('គ្រោងថវិកា SOB'!$O$11:$O$1178,'គ្រោងថវិកា SOB'!$M$11:$M$1178,C231)","v":0},{"$f":"SUM(E231:F231)","v":0}]
[null,6205,null,"ចំណាយអន្តរាគមន៍ផ្នែកសេដ្ឋកិច្ច",{"$f":"SUM(E233)","v":0},{"$f":"SUM(F233)","v":0},{"$f":"SUM(G233)","v":0}]
[null,null,62051,"ចំណាយអន្តរាគមន៍ផ្នែកសេដ្ឋកិច្ច",{"$f":"SUMIFS('គ្រោងថវិកា SOB'!$N$11:$N$1178,'គ្រោងថវិកា SOB'!$M$11:$M$1178,C233)","v":0},{"$f":"SUMIFS('គ្រោងថវិកា SOB'!$O$11:$O$1178,'គ្រោងថវិកា SOB'!$M$11:$M$1178,C233)","v":0},{"$f":"SUM(E233:F233)","v":0}]
[null,6206,null,"ចំណាយអន្តរាគមន៍ផ្នែក​សង្គមកិច្ចនិងវប្បធម៌",{"$f":"SUM(E235:E236)","v":0},{"$f":"SUM(F235:F236)","v":0},{"$f":"SUM(G235:G236)","v":0}]
[null,null,62061,"ចំណាយលើការប្រឡង-ប្រឡងប្រជែង",{"$f":"SUMIFS('គ្រោងថវិកា SOB'!$N$11:$N$1178,'គ្រោងថវិកា SOB'!$M$11:$M$1178,C235)","v":0},{"$f":"SUMIFS('គ្រោងថវិកា SOB'!$O$11:$O$1178,'គ្រោងថវិកា SOB'!$M$11:$M$1178,C235)","v":0},{"$f":"SUM(E235:F235)","v":0}]
[null,null,62068,"ចំណាយអន្តរាគមន៍ផ្នែក​សង្គមកិច្ចនិងវប្បធម៌ផ្សេងៗទៀត",{"$f":"SUMIFS('គ្រោងថវិកា SOB'!$N$11:$N$1178,'គ្រោងថវិកា SOB'!$M$11:$M$1178,C236)","v":0},{"$f":"SUMIFS('គ្រោងថវិកា SOB'!$O$11:$O$1178,'គ្រោងថវិកា SOB'!$M$11:$M$1178,C236)","v":0},{"$f":"SUM(E236:F236)","v":0}]
[null,6298,null,"អត្ថប្រយោជន៍សង្គមផ្សេងទៀត",{"$f":"SUM(E238)","v":0},{"$f":"SUM(F238)","v":0},{"$f":"SUM(G238)","v":0}]
[null,null,62981,"អត្ថប្រយោជន៍សង្គមផ្សេងទៀត",{"$f":"SUMIFS('គ្រោងថវិកា SOB'!$N$11:$N$1178,'គ្រោងថវិកា SOB'!$M$11:$M$1178,C238)","v":0},{"$f":"SUMIFS('គ្រោងថវិកា SOB'!$O$11:$O$1178,'គ្រោងថវិកា SOB'!$M$11:$M$1178,C238)","v":0},{"$f":"SUM(E238:F238)","v":0}]
[65,null,null,"ឧបត្ថម្ភធន",{"$f":"SUM(E240+E246+E255+E258+E264+E267+E274+E277+E280)","v":0},{"$f":"SUM(F240+F246+F255+F258+F264+F267+F274+F277+F280)","v":0},{"$f":"SUM(G240+G246+G255+G258+G264+G267+G274+G277+G280)","v":0}]
[null,6501,null,"ឧបត្ថម្ភធនរវាងរដ្ឋបាលសាធារណៈ",{"$f":"SUM(E241:E245)","v":0},{"$f":"SUM(F241:F245)","v":0},{"$f":"SUM(G241:G245)","v":0}]
[null,null,65011,"ឧបត្ថម្ភធនដល់រាជធានី-ខេត្ត",{"$f":"SUMIFS('គ្រោងថវិកា SOB'!$N$11:$N$1178,'គ្រោងថវិកា SOB'!$M$11:$M$1178,C241)","v":0},{"$f":"SUMIFS('គ្រោងថវិកា SOB'!$O$11:$O$1178,'គ្រោងថវិកា SOB'!$M$11:$M$1178,C241)","v":0},{"$f":"SUM(E241:F241)","v":0}]
[null,null,65012,"ឧបត្ថម្ភធនដល់ក្រុង-ស្រុក-ខណ្ឌ",{"$f":"SUMIFS('គ្រោងថវិកា SOB'!$N$11:$N$1178,'គ្រោងថវិកា SOB'!$M$11:$M$1178,C242)","v":0},{"$f":"SUMIFS('គ្រោងថវិកា SOB'!$O$11:$O$1178,'គ្រោងថវិកា SOB'!$M$11:$M$1178,C242)","v":0},{"$f":"SUM(E242:F242)","v":0}]
[null,null,65013,"ឧបត្ថម្ភធនដល់ឃុំ-សង្កាត់",{"$f":"SUMIFS('គ្រោងថវិកា SOB'!$N$11:$N$1178,'គ្រោងថវិកា SOB'!$M$11:$M$1178,C243)","v":0},{"$f":"SUMIFS('គ្រោងថវិកា SOB'!$O$11:$O$1178,'គ្រោងថវិកា SOB'!$M$11:$M$1178,C243)","v":0},{"$f":"SUM(E243:F243)","v":0}]
[null,null,65014,"ឧបត្ថម្ភ​ធនដល់ក្រសួង-ស្ថាប័ន",{"$f":"SUMIFS('គ្រោងថវិកា SOB'!$N$11:$N$1178,'គ្រោងថវិកា SOB'!$M$11:$M$1178,C244)","v":0},{"$f":"SUMIFS('គ្រោងថវិកា SOB'!$O$11:$O$1178,'គ្រោងថវិកា SOB'!$M$11:$M$1178,C244)","v":0},{"$f":"SUM(E244:F244)","v":0}]
[null,null,65018,"ផ្សេងៗ",{"$f":"SUMIFS('គ្រោងថវិកា SOB'!$N$11:$N$1178,'គ្រោងថវិកា SOB'!$M$11:$M$1178,C245)","v":0},{"$f":"SUMIFS('គ្រោងថវិកា SOB'!$O$11:$O$1178,'គ្រោងថវិកា SOB'!$M$11:$M$1178,C245)","v":0},{"$f":"SUM(E245:F245)","v":0}]
[null,6502,null,"ឧបត្ថម្ភធនដល់អង្គការសាធារណៈ",{"$f":"SUM(E247:E254)","v":0},{"$f":"SUM(F247:F254)","v":0},{"$f":"SUM(G247:G254)","v":0}]
[null,null,65021,"ឧបត្ថម្ភធនដល់អង្គភាពដែលមានលក្ខណៈសេដ្ឋកិច្ច",{"$f":"SUMIFS('គ្រោងថវិកា SOB'!$N$11:$N$1178,'គ្រោងថវិកា SOB'!$M$11:$M$1178,C247)","v":0},{"$f":"SUMIFS('គ្រោងថវិកា SOB'!$O$11:$O$1178,'គ្រោងថវិកា SOB'!$M$11:$M$1178,C247)","v":0},{"$f":"SUM(E247:F247)","v":0}]
[null,null,65022,"ឧបត្ថម្ភធនដល់អង្គភាពដែលមានលក្ខណៈសង្គម",{"$f":"SUMIFS('គ្រោងថវិកា SOB'!$N$11:$N$1178,'គ្រោងថវិកា SOB'!$M$11:$M$1178,C248)","v":0},{"$f":"SUMIFS('គ្រោងថវិកា SOB'!$O$11:$O$1178,'គ្រោងថវិកា SOB'!$M$11:$M$1178,C248)","v":0},0]
[null,null,65023,"ឧបត្ថម្ភធនដល់អង្គភាពដែលមានលក្ខណៈអប់រំ និងកីឡា",{"$f":"SUMIFS('គ្រោងថវិកា SOB'!$N$11:$N$1178,'គ្រោងថវិកា SOB'!$M$11:$M$1178,C249)","v":0},{"$f":"SUMIFS('គ្រោងថវិកា SOB'!$O$11:$O$1178,'គ្រោងថវិកា SOB'!$M$11:$M$1178,C249)","v":0},0]
[null,null,65024,"ឧបត្ថម្ភធនដល់អង្គភាពដែលមានលក្ខណៈសន្តិសុខនិងសណ្តាប់ធ្នាប់សង្គម",{"$f":"SUMIFS('គ្រោងថវិកា SOB'!$N$11:$N$1178,'គ្រោងថវិកា SOB'!$M$11:$M$1178,C250)","v":0},{"$f":"SUMIFS('គ្រោងថវិកា SOB'!$O$11:$O$1178,'គ្រោងថវិកា SOB'!$M$11:$M$1178,C250)","v":0},0]
[null,null,65025,"ឧបត្ថម្ភធនដល់អង្គភាពដែលមានលក្ខណៈវប្បធម៌",{"$f":"SUMIFS('គ្រោងថវិកា SOB'!$N$11:$N$1178,'គ្រោងថវិកា SOB'!$M$11:$M$1178,C251)","v":0},{"$f":"SUMIFS('គ្រោងថវិកា SOB'!$O$11:$O$1178,'គ្រោងថវិកា SOB'!$M$11:$M$1178,C251)","v":0},0]
[null,null,65026,"ឧបត្ថម្ភធនដល់អង្គភាពដែលមានលក្ខណៈរដ្ឋបាល",{"$f":"SUMIFS('គ្រោងថវិកា SOB'!$N$11:$N$1178,'គ្រោងថវិកា SOB'!$M$11:$M$1178,C252)","v":0},{"$f":"SUMIFS('គ្រោងថវិកា SOB'!$O$11:$O$1178,'គ្រោងថវិកា SOB'!$M$11:$M$1178,C252)","v":0},0]
[null,null,65027,"ឧបត្ថម្ភធនដល់អង្គភាពដែលមានលក្ខណៈច្បាប់",{"$f":"SUMIFS('គ្រោងថវិកា SOB'!$N$11:$N$1178,'គ្រោងថវិកា SOB'!$M$11:$M$1178,C253)","v":0},{"$f":"SUMIFS('គ្រោងថវិកា SOB'!$O$11:$O$1178,'គ្រោងថវិកា SOB'!$M$11:$M$1178,C253)","v":0},0]
[null,null,65028,"ផ្សេងៗ",{"$f":"SUMIFS('គ្រោងថវិកា SOB'!$N$11:$N$1178,'គ្រោងថវិកា SOB'!$M$11:$M$1178,C254)","v":0},{"$f":"SUMIFS('គ្រោងថវិកា SOB'!$O$11:$O$1178,'គ្រោងថវិកា SOB'!$M$11:$M$1178,C254)","v":0},0]
[null,6503,null,"ឧបត្ថម្ភធនដល់គ្រឹះស្ថានសាធារណៈមាន\nលក្ខណៈរដ្ឋបាល",{"$f":"SUM(E256:E257)","v":0},{"$f":"SUM(F256:F257)","v":0},{"$f":"SUM(G256:G257)","v":0}]
[null,null,65031,"ឧបត្ថម្ភធនជាហិរញ្ញវត្ថុដល់គ្រឹះស្ថានសាធារណៈមានលក្ខណៈរដ្ឋបាល",{"$f":"SUMIFS('គ្រោងថវិកា SOB'!$N$11:$N$1178,'គ្រោងថវិកា SOB'!$M$11:$M$1178,C256)","v":0},{"$f":"SUMIFS('គ្រោងថវិកា SOB'!$O$11:$O$1178,'គ្រោងថវិកា SOB'!$M$11:$M$1178,C256)","v":0},{"$f":"SUM(E256:F256)","v":0}]
[null,null,65032,"ឧបត្ថម្ភធនមិនមែនហិរញ្ញវត្ថុដល់គ្រឹះស្ថានសាធារណៈមានលក្ខណៈរដ្ឋបាល",{"$f":"SUMIFS('គ្រោងថវិកា SOB'!$N$11:$N$1178,'គ្រោងថវិកា SOB'!$M$11:$M$1178,C257)","v":0},{"$f":"SUMIFS('គ្រោងថវិកា SOB'!$O$11:$O$1178,'គ្រោងថវិកា SOB'!$M$11:$M$1178,C257)","v":0},{"$f":"SUM(E257:F257)","v":0}]
[null,6504,null,"ឧបត្ថម្ភធនដល់សហគ្រាសសាធារណៈ",{"$f":"SUM(E259:E263)","v":0},{"$f":"SUM(F259:F263)","v":0},{"$f":"SUM(G259:G263)","v":0}]
[null,null,65041,"ឧបត្ថម្ភធនដល់ក្រុមហ៊ុនរដ្ឋ ដែលមានលក្ខណៈហិរញ្ញវត្ថុ",{"$f":"SUMIFS('គ្រោងថវិកា SOB'!$N$11:$N$1178,'គ្រោងថវិកា SOB'!$M$11:$M$1178,C259)","v":0},{"$f":"SUMIFS('គ្រោងថវិកា SOB'!$O$11:$O$1178,'គ្រោងថវិកា SOB'!$M$11:$M$1178,C259)","v":0},{"$f":"SUM(E259:F259)","v":0}]
[null,null,65042,"ឧបត្ថម្ភធនដល់ក្រុមហ៊ុនចម្រុះ ដែលមានលក្ខណៈហិរញ្ញវត្ថុ",{"$f":"SUMIFS('គ្រោងថវិកា SOB'!$N$11:$N$1178,'គ្រោងថវិកា SOB'!$M$11:$M$1178,C260)","v":0},{"$f":"SUMIFS('គ្រោងថវិកា SOB'!$O$11:$O$1178,'គ្រោងថវិកា SOB'!$M$11:$M$1178,C260)","v":0},{"$f":"SUM(E260:F260)","v":0}]
[null,null,65043,"ឧបត្ថម្ភកធនដល់គ្រឹះស្ថានសាធារណៈ ដែលមានលក្ខណៈសេដ្ឋកិច្ច",{"$f":"SUMIFS('គ្រោងថវិកា SOB'!$N$11:$N$1178,'គ្រោងថវិកា SOB'!$M$11:$M$1178,C261)","v":0},{"$f":"SUMIFS('គ្រោងថវិកា SOB'!$O$11:$O$1178,'គ្រោងថវិកា SOB'!$M$11:$M$1178,C261)","v":0},{"$f":"SUM(E261:F261)","v":0}]
[null,null,65044,"ឧបត្ថម្ភធនដល់ក្រុមហ៊ុនរដ្ឋ ដែលមានលក្ខណៈមិនមែនហិរញ្ញវត្ថុ",{"$f":"SUMIFS('គ្រោងថវិកា SOB'!$N$11:$N$1178,'គ្រោងថវិកា SOB'!$M$11:$M$1178,C262)","v":0},{"$f":"SUMIFS('គ្រោងថវិកា SOB'!$O$11:$O$1178,'គ្រោងថវិកា SOB'!$M$11:$M$1178,C262)","v":0},{"$f":"SUM(E262:F262)","v":0}]
[null,null,65045,"ឧបត្ថម្ភធនដល់ក្រុមហ៊ុនចម្រុះ ដែលមានលក្ខណៈមិនមែនហិរញ្ញវត្ថុ",{"$f":"SUMIFS('គ្រោងថវិកា SOB'!$N$11:$N$1178,'គ្រោងថវិកា SOB'!$M$11:$M$1178,C263)","v":0},{"$f":"SUMIFS('គ្រោងថវិកា SOB'!$O$11:$O$1178,'គ្រោងថវិកា SOB'!$M$11:$M$1178,C263)","v":0},{"$f":"SUM(E263:F263)","v":0}]
[null,6505,null,"ឧបត្ថម្ភធនដល់សហគ្រាសឯកជន",{"$f":"SUM(E265:E266)","v":0},{"$f":"SUM(F265:F266)","v":0},{"$f":"SUM(G265:G266)","v":0}]
[null,null,65051,"ឧបត្ថម្ភធនដល់សហគ្រាសឯកជនដែលមានលក្ខណៈហិរញ្ញវត្ថុ ",{"$f":"SUMIFS('គ្រោងថវិកា SOB'!$N$11:$N$1178,'គ្រោងថវិកា SOB'!$M$11:$M$1178,C265)","v":0},{"$f":"SUMIFS('គ្រោងថវិកា SOB'!$O$11:$O$1178,'គ្រោងថវិកា SOB'!$M$11:$M$1178,C265)","v":0},{"$f":"SUM(E265:F265)","v":0}]
[null,null,65052,"ឧបត្ថម្ភធនដល់សហគ្រាសឯកជនដែលមានលក្ខណៈមិនមែនហិរញ្ញវត្ថុ ",{"$f":"SUMIFS('គ្រោងថវិកា SOB'!$N$11:$N$1178,'គ្រោងថវិកា SOB'!$M$11:$M$1178,C266)","v":0},{"$f":"SUMIFS('គ្រោងថវិកា SOB'!$O$11:$O$1178,'គ្រោងថវិកា SOB'!$M$11:$M$1178,C266)","v":0},{"$f":"SUM(E266:F266)","v":0}]
[null,6506,null,"វិភាគទាន​ដល់​អង្គការ​ សមាគម សហព័ន្ធអន្តរជាតិ​នានា​",{"$f":"SUM(E268:E273)","v":0},{"$f":"SUM(F268:F273)","v":0},{"$f":"SUM(G268:G273)","v":0}]
[null,null,65061,"អង្គការសហប្រជាជាតិ",{"$f":"SUMIFS('គ្រោងថវិកា SOB'!$N$11:$N$1178,'គ្រោងថវិកា SOB'!$M$11:$M$1178,C268)","v":0},{"$f":"SUMIFS('គ្រោងថវិកា SOB'!$O$11:$O$1178,'គ្រោងថវិកា SOB'!$M$11:$M$1178,C268)","v":0},{"$f":"SUM(E268:F268)","v":0}]
[null,null,65062,"ធនាគារពិភពលោក",{"$f":"SUMIFS('គ្រោងថវិកា SOB'!$N$11:$N$1178,'គ្រោងថវិកា SOB'!$M$11:$M$1178,C269)","v":0},{"$f":"SUMIFS('គ្រោងថវិកា SOB'!$O$11:$O$1178,'គ្រោងថវិកា SOB'!$M$11:$M$1178,C269)","v":0},0]
[null,null,65063,"ធនាគារអភិវឌ្ឍន៍អាស៊ី",{"$f":"SUMIFS('គ្រោងថវិកា SOB'!$N$11:$N$1178,'គ្រោងថវិកា SOB'!$M$11:$M$1178,C270)","v":0},{"$f":"SUMIFS('គ្រោងថវិកា SOB'!$O$11:$O$1178,'គ្រោងថវិកា SOB'!$M$11:$M$1178,C270)","v":0},0]
[null,null,65064,"សហព័ន្ធអន្តរជាតិខាងកីឡាផ្សេងៗ",{"$f":"SUMIFS('គ្រោងថវិកា SOB'!$N$11:$N$1178,'គ្រោងថវិកា SOB'!$M$11:$M$1178,C271)","v":0},{"$f":"SUMIFS('គ្រោងថវិកា SOB'!$O$11:$O$1178,'គ្រោងថវិកា SOB'!$M$11:$M$1178,C271)","v":0},0]
[null,null,65065,"សមាគមអាស៊ាន",{"$f":"SUMIFS('គ្រោងថវិកា SOB'!$N$11:$N$1178,'គ្រោងថវិកា SOB'!$M$11:$M$1178,C272)","v":0},{"$f":"SUMIFS('គ្រោងថវិកា SOB'!$O$11:$O$1178,'គ្រោងថវិកា SOB'!$M$11:$M$1178,C272)","v":0},0]
[null,null,65068,"អង្គការ សមាគម សហព័ន្ធអន្តរជាតិផ្សេងៗទៀត",{"$f":"SUMIFS('គ្រោងថវិកា SOB'!$N$11:$N$1178,'គ្រោងថវិកា SOB'!$M$11:$M$1178,C273)","v":0},{"$f":"SUMIFS('គ្រោងថវិកា SOB'!$O$11:$O$1178,'គ្រោងថវិកា SOB'!$M$11:$M$1178,C273)","v":0},0]
[null,6507,null,"ការចូលរួមក្នុងការអនុវត្តគម្រោង",{"$f":"SUM(E275:E276)","v":0},{"$f":"SUM(F275:F276)","v":0},{"$f":"SUM(G275:G276)","v":0}]
[null,null,65071,"ការចូលរួមក្នុងការអនុវត្តគម្រោងថវិកាបដិភាគ",{"$f":"SUMIFS('គ្រោងថវិកា SOB'!$N$11:$N$1178,'គ្រោងថវិកា SOB'!$M$11:$M$1178,C275)","v":0},{"$f":"SUMIFS('គ្រោងថវិកា SOB'!$O$11:$O$1178,'គ្រោងថវិកា SOB'!$M$11:$M$1178,C275)","v":0},{"$f":"SUM(E275:F275)","v":0}]
[null,null,65072,"ការចូលរួមក្នុងការអនុវត្តគម្រោងមូលនិធិទ្រទ្រង់ថវិកា",{"$f":"SUMIFS('គ្រោងថវិកា SOB'!$N$11:$N$1178,'គ្រោងថវិកា SOB'!$M$11:$M$1178,C276)","v":0},{"$f":"SUMIFS('គ្រោងថវិកា SOB'!$O$11:$O$1178,'គ្រោងថវិកា SOB'!$M$11:$M$1178,C276)","v":0},{"$f":"SUM(E276:F276)","v":0}]
[null,6508,null,"ឧបត្ថម្ភអង្គការអន្តរជាតិ និងប្រទេសផ្សេងៗ",{"$f":"SUM(E278:E279)","v":0},{"$f":"SUM(F278:F279)","v":0},{"$f":"SUM(G278:G279)","v":0}]
[null,null,65081,"ឧបត្ថម្ភជាហិរញ្ញវត្ថុ",{"$f":"SUMIFS('គ្រោងថវិកា SOB'!$N$11:$N$1178,'គ្រោងថវិកា SOB'!$M$11:$M$1178,C278)","v":0},{"$f":"SUMIFS('គ្រោងថវិកា SOB'!$O$11:$O$1178,'គ្រោងថវិកា SOB'!$M$11:$M$1178,C278)","v":0},{"$f":"SUM(E278:F278)","v":0}]
[null,null,65082,"ឧបត្ថម្ភមិនមែនហិរញ្ញវត្ថុ",{"$f":"SUMIFS('គ្រោងថវិកា SOB'!$N$11:$N$1178,'គ្រោងថវិកា SOB'!$M$11:$M$1178,C279)","v":0},{"$f":"SUMIFS('គ្រោងថវិកា SOB'!$O$11:$O$1178,'គ្រោងថវិកា SOB'!$M$11:$M$1178,C279)","v":0},{"$f":"SUM(E279:F279)","v":0}]
[null,6598,null,"ឧបត្ថម្ភធនផ្សេងៗ",{"$f":"SUM(E281)","v":0},{"$f":"SUM(F281)","v":0},{"$f":"SUM(G281)","v":0}]
[null,null,65981,"ឧបត្ថម្ភធនផ្សេងៗ",{"$f":"SUMIFS('គ្រោងថវិកា SOB'!$N$11:$N$1178,'គ្រោងថវិកា SOB'!$M$11:$M$1178,C281)","v":0},{"$f":"SUMIFS('គ្រោងថវិកា SOB'!$O$11:$O$1178,'គ្រោងថវិកា SOB'!$M$11:$M$1178,C281)","v":0},{"$f":"SUM(E281:F281)","v":0}]
[null,null,null,"ប្រភេទទី ៤ : ចំណាយផ្សេងៗ",{"$f":"SUM(E283)","v":0},{"$f":"SUM(F283)","v":0},{"$f":"SUM(G283)","v":0}]
[63,null,null,"ពន្ធ និងអាករ",{"$f":"SUM(E284+E286+E291+E295+E297+E301+E306+E308)","v":0},{"$f":"SUM(F284+F286+F291+F295+F297+F301+F306+F308)","v":0},{"$f":"SUM(G284+G286+G291+G295+G297+G301+G306+G308)","v":0}]
[null,6301,null,"លតាប័ត្រ",{"$f":"SUM(E285)","v":0},{"$f":"SUM(F285)","v":0},{"$f":"SUM(G285)","v":0}]
[null,null,63011,"លតាប័ត្រ",{"$f":"SUMIFS('គ្រោងថវិកា SOB'!$N$11:$N$1178,'គ្រោងថវិកា SOB'!$M$11:$M$1178,C285)","v":0},{"$f":"SUMIFS('គ្រោងថវិកា SOB'!$O$11:$O$1178,'គ្រោងថវិកា SOB'!$M$11:$M$1178,C285)","v":0},{"$f":"SUM(E285:F285)","v":0}]
[null,6302,null,"បន្ទុកពន្ធគយលើការនាំចូលទំនិញ និងសម្ភារ",{"$f":"SUM(E287:E290)","v":0},{"$f":"SUM(F287:F290)","v":0},{"$f":"SUM(G287:G290)","v":0}]
[null,null,63021,"បន្ទុកពន្ធគយលើការនាំចូលទំនិញ និងសម្ភារ",{"$f":"SUMIFS('គ្រោងថវិកា SOB'!$N$11:$N$1178,'គ្រោងថវិកា SOB'!$M$11:$M$1178,C287)","v":0},{"$f":"SUMIFS('គ្រោងថវិកា SOB'!$O$11:$O$1178,'គ្រោងថវិកា SOB'!$M$11:$M$1178,C287)","v":0},{"$f":"SUM(E287:F287)","v":0}]
[null,null,63022,"បន្ទុកពន្ធគយលើការនាំចូលទំនិញ និងសម្ភារកសិកម្ម(ជាបន្ទុករបស់រដ្ឋ)",{"$f":"SUMIFS('គ្រោងថវិកា SOB'!$N$11:$N$1178,'គ្រោងថវិកា SOB'!$M$11:$M$1178,C288)","v":0},{"$f":"SUMIFS('គ្រោងថវិកា SOB'!$O$11:$O$1178,'គ្រោងថវិកា SOB'!$M$11:$M$1178,C288)","v":0},{"$f":"SUM(E288:F288)","v":0}]
[null,null,63023,"បន្ទុកពន្ធគយលើការនាំចូលទំនិញជាវត្ថុធាតុដើមសម្រាប់  ផលិតឱសថ(ជាបន្ទុករបស់រដ្ឋ)",{"$f":"SUMIFS('គ្រោងថវិកា SOB'!$N$11:$N$1178,'គ្រោងថវិកា SOB'!$M$11:$M$1178,C289)","v":0},{"$f":"SUMIFS('គ្រោងថវិកា SOB'!$O$11:$O$1178,'គ្រោងថវិកា SOB'!$M$11:$M$1178,C289)","v":0},{"$f":"SUM(E289:F289)","v":0}]
[null,null,63028,"ផ្សេងៗ",{"$f":"SUMIFS('គ្រោងថវិកា SOB'!$N$11:$N$1178,'គ្រោងថវិកា SOB'!$M$11:$M$1178,C290)","v":0},{"$f":"SUMIFS('គ្រោងថវិកា SOB'!$O$11:$O$1178,'គ្រោងថវិកា SOB'!$M$11:$M$1178,C290)","v":0},{"$f":"SUM(E290:F290)","v":0}]
[null,6303,null,"បន្ទុកពន្ធប្រថាប់ត្រា",{"$f":"SUM(E292:E294)","v":0},{"$f":"SUM(F292:F294)","v":0},{"$f":"SUM(G292:G294)","v":0}]
[null,null,63031,"ពន្ធប្រថាប់ត្រាលើការផ្ទេរកម្មសិទ្ធិ ឬ សិទ្ធិ​កាន់កាប់​អចលនទ្រព្យ​",{"$f":"SUMIFS('គ្រោងថវិកា SOB'!$N$11:$N$1178,'គ្រោងថវិកា SOB'!$M$11:$M$1178,C292)","v":0},{"$f":"SUMIFS('គ្រោងថវិកា SOB'!$O$11:$O$1178,'គ្រោងថវិកា SOB'!$M$11:$M$1178,C292)","v":0},{"$f":"SUM(E292:F292)","v":0}]
[null,null,63032,"ពន្ធប្រថាប់ត្រាលើការផ្ទេរកម្មសិទ្ធិ ឬ សិទ្ធិ​កាន់កាប់​អចលនទ្រព្យ​ក្នុង​រង្វង់ញាតិ និង​ការអនុគ្រោះពន្ធ ជាបន្ទុករបស់រដ្ឋ",{"$f":"SUMIFS('គ្រោងថវិកា SOB'!$N$11:$N$1178,'គ្រោងថវិកា SOB'!$M$11:$M$1178,C293)","v":0},{"$f":"SUMIFS('គ្រោងថវិកា SOB'!$O$11:$O$1178,'គ្រោងថវិកា SOB'!$M$11:$M$1178,C293)","v":0},{"$f":"SUM(E293:F293)","v":0}]
[null,null,63038,"ផ្សេងៗ",{"$f":"SUMIFS('គ្រោងថវិកា SOB'!$N$11:$N$1178,'គ្រោងថវិកា SOB'!$M$11:$M$1178,C294)","v":0},{"$f":"SUMIFS('គ្រោងថវិកា SOB'!$O$11:$O$1178,'គ្រោងថវិកា SOB'!$M$11:$M$1178,C294)","v":0},{"$f":"SUM(E294:F294)","v":0}]
[null,6304,null,"បន្ទុកពន្ធលើផលទុននៃដីធ្លី ផ្ទះសម្បែង",{"$f":"SUM(E296)","v":0},{"$f":"SUM(F296)","v":0},{"$f":"SUM(G296)","v":0}]
[null,null,63041,"បន្ទុកពន្ធលើផលទុននៃដីធ្លី ផ្ទះសម្បែង",{"$f":"SUMIFS('គ្រោងថវិកា SOB'!$N$11:$N$1178,'គ្រោងថវិកា SOB'!$M$11:$M$1178,C296)","v":0},{"$f":"SUMIFS('គ្រោងថវិកា SOB'!$O$11:$O$1178,'គ្រោងថវិកា SOB'!$M$11:$M$1178,C296)","v":0},{"$f":"SUM(E296:F296)","v":0}]
[null,6305,null,"អាករលើតម្លៃបន្ថែម​លើទំនិញ និងសេវាជា\nបន្ទុករបស់​រដ្ឋ",{"$f":"SUM(E298:E300)","v":0},{"$f":"SUM(F298:F300)","v":0},{"$f":"SUM(G298:G300)","v":0}]
[null,null,63051,"អាករលើតម្លៃបន្ថែម​លើទំនិញជាបន្ទុករបស់​រដ្ឋ",{"$f":"SUMIFS('គ្រោងថវិកា SOB'!$N$11:$N$1178,'គ្រោងថវិកា SOB'!$M$11:$M$1178,C298)","v":0},{"$f":"SUMIFS('គ្រោងថវិកា SOB'!$O$11:$O$1178,'គ្រោងថវិកា SOB'!$M$11:$M$1178,C298)","v":0},{"$f":"SUM(E298:F298)","v":0}]
[null,null,63052,"អាករលើតម្លៃបន្ថែម​លើសេវាជាបន្ទុករបស់​រដ្ឋ",{"$f":"SUMIFS('គ្រោងថវិកា SOB'!$N$11:$N$1178,'គ្រោងថវិកា SOB'!$M$11:$M$1178,C299)","v":0},{"$f":"SUMIFS('គ្រោងថវិកា SOB'!$O$11:$O$1178,'គ្រោងថវិកា SOB'!$M$11:$M$1178,C299)","v":0},{"$f":"SUM(E299:F299)","v":0}]
[null,null,63058,"ផ្សេងៗ",{"$f":"SUMIFS('គ្រោងថវិកា SOB'!$N$11:$N$1178,'គ្រោងថវិកា SOB'!$M$11:$M$1178,C300)","v":0},{"$f":"SUMIFS('គ្រោងថវិកា SOB'!$O$11:$O$1178,'គ្រោងថវិកា SOB'!$M$11:$M$1178,C300)","v":0},{"$f":"SUM(E300:F300)","v":0}]
[null,6306,null,"ពន្ធលើមធ្យោបាយដឹកជញ្ជូន និង​យានជំនិះគ្រប់ប្រភេទ ពន្ធលើអចលនទ្រព្យ និងពន្ទលើប្រាក់ចំណូល",{"$f":"SUM(E302:E305)","v":0},{"$f":"SUM(F302:F305)","v":0},{"$f":"SUM(G302:G305)","v":0}]
[null,null,63061,"ពន្ធលើមធ្យោបាយដឹកជញ្ជូន និង​យានជំនិះគ្រប់ប្រភេទជាបន្ទុករបស់រដ្ឋ",{"$f":"SUMIFS('គ្រោងថវិកា SOB'!$N$11:$N$1178,'គ្រោងថវិកា SOB'!$M$11:$M$1178,C302)","v":0},{"$f":"SUMIFS('គ្រោងថវិកា SOB'!$O$11:$O$1178,'គ្រោងថវិកា SOB'!$M$11:$M$1178,C302)","v":0},{"$f":"SUM(E302:F302)","v":0}]
[null,null,63062,"ពន្ធលើអចលនទ្រព្យជាបន្ទុករបស់រដ្ឋ",{"$f":"SUMIFS('គ្រោងថវិកា SOB'!$N$11:$N$1178,'គ្រោងថវិកា SOB'!$M$11:$M$1178,C303)","v":0},{"$f":"SUMIFS('គ្រោងថវិកា SOB'!$O$11:$O$1178,'គ្រោងថវិកា SOB'!$M$11:$M$1178,C303)","v":0},{"$f":"SUM(E303:F303)","v":0}]
[null,null,63063,"ពន្ធលើប្រាក់ចំណូលនីតិបុគ្គលជាបន្ទុករបស់រដ្ឋ",{"$f":"SUMIFS('គ្រោងថវិកា SOB'!$N$11:$N$1178,'គ្រោងថវិកា SOB'!$M$11:$M$1178,C304)","v":0},{"$f":"SUMIFS('គ្រោងថវិកា SOB'!$O$11:$O$1178,'គ្រោងថវិកា SOB'!$M$11:$M$1178,C304)","v":0},{"$f":"SUM(E304:F304)","v":0}]
[null,null,63068,"ផ្សេងៗ",{"$f":"SUMIFS('គ្រោងថវិកា SOB'!$N$11:$N$1178,'គ្រោងថវិកា SOB'!$M$11:$M$1178,C305)","v":0},{"$f":"SUMIFS('គ្រោងថវិកា SOB'!$O$11:$O$1178,'គ្រោងថវិកា SOB'!$M$11:$M$1178,C305)","v":0},{"$f":"SUM(E305:F305)","v":0}]
[null,6398,null,"ពន្ធនិងអាករផ្សេងៗ",{"$f":"SUM(E307)","v":0},{"$f":"SUM(F307)","v":0},{"$f":"SUM(G307)","v":0}]
[null,null,63981,"ពន្ធនិងអាករផ្សេងៗ",{"$f":"SUMIFS('គ្រោងថវិកា SOB'!$N$11:$N$1178,'គ្រោងថវិកា SOB'!$M$11:$M$1178,C307)","v":0},{"$f":"SUMIFS('គ្រោងថវិកា SOB'!$O$11:$O$1178,'គ្រោងថវិកា SOB'!$M$11:$M$1178,C307)","v":0},{"$f":"SUM(E307:F307)","v":0}]
[null,7009,null,"ការបង្វិលសងវិញនូវពន្ធនិងអាករផ្សេងៗ",{"$f":"SUM(E309:E310)","v":0},{"$f":"SUM(F309:F310)","v":0},{"$f":"SUM(G309:G310)","v":0}]
[null,null,70091,"ការបង្វិលសងវិញនូវពន្ធនិងអាករ",{"$f":"SUMIFS('គ្រោងថវិកា SOB'!$N$11:$N$1178,'គ្រោងថវិកា SOB'!$M$11:$M$1178,C309)","v":0},{"$f":"SUMIFS('គ្រោងថវិកា SOB'!$O$11:$O$1178,'គ្រោងថវិកា SOB'!$M$11:$M$1178,C309)","v":0},{"$f":"SUM(E309:F309)","v":0}]
[null,null,70098,"ផ្សេងៗ",{"$f":"SUMIFS('គ្រោងថវិកា SOB'!$N$11:$N$1178,'គ្រោងថវិកា SOB'!$M$11:$M$1178,C310)","v":0},{"$f":"SUMIFS('គ្រោងថវិកា SOB'!$O$11:$O$1178,'គ្រោងថវិកា SOB'!$M$11:$M$1178,C310)","v":0},{"$f":"SUM(E310:F310)","v":0}]
[null,null,null,"ក្រុមទី ២ : ចំណាយតាមដីកា និងចំណាយមិនបានគ្រោងទុក  (ប្រភេទទី ៥ + ប្រភេទទី ៦)",{"$f":"SUM(E312+E322)","v":0},{"$f":"SUM(F312+F322)","v":0},{"$f":"SUM(G312+G322)","v":0}]
[null,null,null,"ប្រភេទទី ៥ : ចំណាយតាមដីកា(មិនឆ្លងកាត់សាច់ប្រាក់)",{"$f":"SUM(E313+E318)","v":0},{"$f":"SUM(F313+F318)","v":0},{"$f":"SUM(G313+G318)","v":0}]
[67,null,null,"បន្ទុកពិសេស",{"$f":"SUM(E314+E316)","v":0},{"$f":"SUM(F314+F316)","v":0},{"$f":"SUM(G314+G316)","v":0}]
[null,6701,null,"ឥណទេយ្យដែលទទួលស្គាល់តែទារមិនបាន",{"$f":"SUM(E315)","v":0},{"$f":"SUM(F315)","v":0},{"$f":"SUM(G315)","v":0}]
[null,null,67011,"ការកាត់កង បំណុលតឹងទារ ដែលទារមិនបាន"]
[null,6705,null,"តម្លៃគណនេយ្យនៃចំណែកសកម្មបានលក់ (តម្លៃនៅសល់)",{"$f":"SUM(E317)","v":0},{"$f":"SUM(F317)","v":0},{"$f":"SUM(G317)","v":0}]
[null,null,67051,"តម្លៃគណនេយ្យនៃចំណែកសកម្មបានលក់ (តម្លៃនៅសល់)"]
[68,null,null,"ទាយជ្ជទានឱ្យដល់រំលស់អចលកម្ម",{"$f":"SUM(E319)","v":0},{"$f":"SUM(F319)","v":0},{"$f":"SUM(G319)","v":0}]
[null,6801,null,"ទាយជ្ជទានឱ្យដល់រំលស់អចលកម្ម",{"$f":"SUM(E320:E321)","v":0},{"$f":"SUM(F320:F321)","v":0},{"$f":"SUM(G320:G321)","v":0}]
[null,null,68011,"ទាយជ្ជទានឱ្យដល់រំលស់អចលកម្មអរូបី"]
[null,null,68012,"ទាយជ្ជទានឱ្យដល់រំលស់អចលកម្មរូបី"]
[null,null,null,"ប្រភេទទី ៦ : ចំណាយមិនបានគ្រោងទុក",{"$f":"SUM(E323)","v":0},{"$f":"SUM(F323)","v":0},{"$f":"SUM(G323)","v":0}]
[69,null,null,"ចំណាយមិនបានគ្រោងទុក",{"$f":"SUM(E324+E326+E328)","v":0},{"$f":"SUM(F324+F326+F328)","v":0},{"$f":"SUM(G324+G326+G328)","v":0}]
[null,6901,null,"ចំណាយមិនបានគ្រោងទុកមានមុខសញ្ញាច្បាស់លាស់",{"$f":"SUM(E325)","v":0},{"$f":"SUM(F325)","v":0},{"$f":"SUM(G325)","v":0}]
[null,null,69011,"ចំណាយមិនបានគ្រោងទុកមានមុខសញ្ញាច្បាស់លាស់"]
[null,6902,null,"ចំណាយមិនបានគ្រោងទុកផ្សេងៗ",{"$f":"SUM(E327)","v":0},{"$f":"SUM(F327)","v":0},{"$f":"SUM(G327)","v":0}]
[null,null,69021,"ចំណាយមិនបានគ្រោងទុកផ្សេងៗ"]
[null,6908,null,"ចំណាយមិនបានគ្រោងទុកផ្សេងទៀត",{"$f":"SUM(E329)","v":0},{"$f":"SUM(F329)","v":0},{"$f":"SUM(G329)","v":0}]
[null,null,69081,"ចំណាយមិនបានគ្រោងទុកផ្សេងទៀត"]
[null,null,null,"ខ.សរុបចំណាយមូលធន (ក្រុមទី ១ + ក្រុមទី ២)",{"$f":"SUM(E331+E447)","v":0},{"$f":"SUM(F331+F447)","v":0},{"$f":"SUM(G331+G447)","v":0}]
[null,null,null,"ក្រុមទី ១ :ចំណាយពិត(ប្រភេទទី ១+ប្រភេទទី ២)",{"$f":"SUM(E332+E344)","v":0},{"$f":"SUM(F332+F344)","v":0},{"$f":"SUM(G332+G344)","v":0}]
[null,null,null,"ប្រភេទទី ១ : ការទូទាត់ប្រាក់ខ្ចី  និងបំណុលប្រហាក់ប្រហែល",{"$f":"SUM(E333)","v":0},{"$f":"SUM(F333)","v":0},{"$f":"SUM(G333)","v":0}]
[50,null,null,"ការខ្ចី",{"$f":"SUM(E334+E338+E341)","v":0},{"$f":"SUM(F334+F338+F341)","v":0},{"$f":"SUM(G334+G338+G341)","v":0}]
[null,5001,null,"ការខ្ចី ក្នុងប្រទេស",{"$f":"SUM(E335:E337)","v":0},{"$f":"SUM(F335:F337)","v":0},{"$f":"SUM(G335:G337)","v":0}]
[null,null,50011,"ធនាគារជាតិនៃកម្ពុជា"]
[null,null,50012,"ធនាគារពាណិជ្ជ"]
[null,null,50018,"ផ្សេងៗ"]
[null,5002,null,"ការខ្ចីក្រៅប្រទេស",{"$f":"SUM(E339:E340)","v":0},{"$f":"SUM(F339:F340)","v":0},{"$f":"SUM(G339:G340)","v":0}]
[null,null,50021,"ការខ្ចីក្រៅប្រទេស-ពហុភាគី"]
[null,null,50022,"ការខ្ចីក្រៅប្រទេស-ទ្វេភាគី"]
[null,5004,null,"ការខ្ចី ពីទី ផ្សារហិរញ្ញវត្ថុរយៈពេលវែង",{"$f":"SUM(E342:E343)","v":0},{"$f":"SUM(F342:F343)","v":0},{"$f":"SUM(G342:G343)","v":0}]
[null,null,50041,"សញ្ញាប័ណ្ណ"]
[null,null,50042,"ប័ណ្ណរដ្ឋាភិបាល"]
[null,null,null,"ប្រភេទទី  ២ : អចលកម្ម",{"$f":"SUM(E345+E355+E399+E403+E429+E438)","v":0},{"$f":"SUM(F345+F355+F399+F403+F429+F438)","v":0},{"$f":"SUM(G345+G355+G399+G403+G429+G438)","v":0}]
[20,null,null,"អចលកម្មអរូបី",{"$f":"SUM(E346+E349)","v":0},{"$f":"SUM(F346+F349)","v":0},{"$f":"SUM(G346+G349)","v":0}]
[null,2003,null,"សោហ៊ុយលើការសិក្សាស្រាវជ្រាវនិងអភិវឌ្ឍន៍",{"$f":"SUM(E347:E348)","v":0},{"$f":"SUM(F347:F348)","v":0},{"$f":"SUM(G347:G348)","v":0}]
[null,null,20031,"សោហ៊ុយលើការសិក្សាស្រាវជ្រាវនិងអភិវឌ្ឍន៍"]
[null,null,20038,"ផ្សេងៗ"]
[null,2005,null,"ប្រកាសនីយប័ត្រ អាជ្ញាប័ណ្ណ និងសិទ្ធិប្រហាក់ប្រហែល",{"$f":"SUM(E350:E354)","v":0},{"$f":"SUM(F350:F354)","v":0},{"$f":"SUM(G350:G354)","v":0}]
[null,null,20051,"ប្រកាសនីយប័ត្រ"]
[null,null,20052,"អាជ្ញាប័ណ្ណ"]
[null,null,20053,"សិទ្ធិប្រហាក់ប្រហែល"]
[null,null,20054,"កម្មវិធីកុំព្យូទ័រ"]
[null,null,20058,"ផ្សេងៗ"]
[21,null,null,"អចលកម្មរូបី",{"$f":"SUM(E356+E360+E364+E368+E377+E382+E384+E390)","v":0},{"$f":"SUM(F356+F360+F364+F368+F377+F382+F384+F390)","v":0},{"$f":"SUM(G356+G360+G364+G368+G377+G382+G384+G390)","v":0}]
[null,2101,null,"ដីធ្លី ដីរ៉ែ និងសម្បត្តិធម្មជាតិផ្សេងៗ",{"$f":"SUM(E357:E359)","v":0},{"$f":"SUM(F357:F359)","v":0},{"$f":"SUM(G357:G359)","v":0}]
[null,null,21011,"ដីធ្លី"]
[null,null,21012,"ដីរ៉ែ"]
[null,null,21018,"សម្បត្តិធម្មជាតិផ្សេងៗ"]
[null,2102,null,"ការរៀបចំកែលម្អ ដីធ្លី ដីរ៉ែ និងសម្បត្តិធម្មជាតិផ្សេងៗ",{"$f":"SUM(E361:E363)","v":0},{"$f":"SUM(F361:F363)","v":0},{"$f":"SUM(G361:G363)","v":0}]
[null,null,21021,"ការរៀបចំកែលម្អដីធ្លី"]
[null,null,21022,"ការរៀបចំកែលម្អដីរ៉ែ"]
[null,null,21028,"ការរៀបចំកែលម្អសម្បត្តិធម្មជាតិផ្សេងៗ"]
[null,2103,null,"សំណង់អគារ និងការកែលម្អ",{"$f":"SUM(E365:E367)","v":0},{"$f":"SUM(F365:F367)","v":0},{"$f":"SUM(G365:G367)","v":0}]
[null,null,21031,"សំណង់អគារ"]
[null,null,21032,"ការកែលម្អអគារ"]
[null,null,21038,"សំណង់ផ្សេងៗ"]
[null,2104,null,"ហេដ្ឋារចនាសម្ព័ន្ធ",{"$f":"SUM(E369:E376)","v":0},{"$f":"SUM(F369:F376)","v":0},{"$f":"SUM(G369:G376)","v":0}]
[null,null,21041,"ផ្លូវថ្នល់ ផ្លូវទឹក"]
[null,null,21042,"ធារាសាស្ត្រ"]
[null,null,21043,"អាយស្ម័យយាន"]
[null,null,21044,"អាកាសយានដ្ឋាន"]
[null,null,21045,"ទូរគមនាគមន៍"]
[null,null,21046,"អគ្គិសនី"]
[null,null,21047,"បណ្តាញបង្ហូរទឹក និងអនាម័យ"]
[null,null,21048,"ហេដ្ឋារចនាសម្ព័ន្ធផ្សេងៗ"]
[null,2105,null,"ឋបនកម្មបច្ចេកទេស សម្ភារ និងហត្ថូបករណ៍",{"$f":"SUM(E378:E381)","v":0},{"$f":"SUM(F378:F381)","v":0},{"$f":"SUM(G378:G381)","v":0}]
[null,null,21051,"ឋបនកម្មបច្ចេកទេស"]
[null,null,21052,"សម្ភារ"]
[null,null,21053,"គ្រឿងឧបករណ៍ (ហត្ថូបករណ៍)"]
[null,null,21058,"ផ្សេងៗ"]
[null,2106,null,"ស្នាដៃសិល្បៈនិងការប្រមូល (សន្សំ)",{"$f":"SUM(E383)","v":0},{"$f":"SUM(F383)","v":0},{"$f":"SUM(G383)","v":0}]
[null,null,21061,"ស្នាដៃសិល្បៈនិងការប្រមូល (សន្សំ)"]
[null,2108,null,"អចលកម្មរូបីផ្សេងទៀត",{"$f":"SUM(E385:E389)","v":0},{"$f":"SUM(F385:F389)","v":0},{"$f":"SUM(G385:G389)","v":0}]
[null,null,21081,"សម្ភារ ឧបករណ៍ដឹកជញ្ជូន"]
[null,null,21082,"សម្ភារ ឧបករណ៍ការិយាល័យ"]
[null,null,21083,"សម្ភារ ព័ត៌មានវិទ្យា និងទូរគមនាគមន៍"]
[null,null,21084,"សង្ហារឹម"]
[null,null,21088,"អចលកម្មរូបីផ្សេងៗ"]
[null,2109,null,"សំណងកិច្ចសន្យាលើហេដ្ឋារចនាសម្ព័ន្ធ",{"$f":"SUM(E391:E398)","v":0},{"$f":"SUM(F391:F398)","v":0},{"$f":"SUM(G391:G398)","v":0}]
[null,null,21091,"ផ្លូវថ្នល់ ផ្លូវទឹក"]
[null,null,21092,"ធារាសាស្ត្រ"]
[null,null,21093,"អាយស្ម័យយាន"]
[null,null,21094,"អាកាសយានដ្ឋាន"]
[null,null,21095,"ទូរគមនាគមន៍"]
[null,null,21096,"អគ្គិសនី"]
[null,null,21097,"បណ្តាញបង្ហូរទឹក និងអនាម័យ"]
[null,null,21098,"ហេដ្ឋារចនាសម្ព័ន្ធផ្សេងៗ"]
[22,null,null,"ទ្រព្យសម្បត្តិវិនិយោគរយៈពេលវែង",{"$f":"SUM(E400)","v":0},{"$f":"SUM(F400)","v":0},{"$f":"SUM(G400)","v":0}]
[null,2201,null,"ទ្រព្យសម្បត្តិវិនិយោគរយៈពេលវែង",{"$f":"SUM(E401:E402)","v":0},{"$f":"SUM(F401:F402)","v":0},{"$f":"SUM(G401:G402)","v":0}]
[null,null,22011,"ទ្រព្យសម្បត្តិវិនិយោគ ដីធ្លី"]
[null,null,22012,"ទ្រព្យសម្បត្តិវិនិយោគ អគារ និងសំណង់"]
[23,null,null,"អចលកម្មកំពុងដំណើរការ",{"$f":"SUM(E404+E407+E411+E415+E424)","v":0},{"$f":"SUM(F404+F407+F411+F415+F424)","v":0},{"$f":"SUM(G404+G407+G411+G415+G424)","v":0}]
[null,2300,null,"អចលកម្មអរូបី(កំពុងដំណើរការ)",{"$f":"SUM(E405:E406)","v":0},{"$f":"SUM(F405:F406)","v":0},{"$f":"SUM(G405:G406)","v":0}]
[null,null,23003,"សោហ៊ុយលើការសិក្សាស្រាវជ្រាវ និងអភិវឌ្ឍន៍\n(កំពុងដំណើរការ)"]
[null,null,23005,"ប្រកាសនីយប័ត្រ អាជ្ញាប័ណ្ណ និងសិទ្ធិប្រហាក់ប្រហែល(កំពុងដំណើរការ)"]
[null,2302,null,"ការរៀបចំកែលម្អ ដីធ្លី ដីរ៉ែ និងសម្បត្តិធម្មជាតិផ្សេងៗ (កំពុងដំណើរការ)",{"$f":"SUM(E408:E410)","v":0},{"$f":"SUM(F408:F410)","v":0},{"$f":"SUM(G408:G410)","v":0}]
[null,null,23021,"ការរៀបចំកែលម្អដីធ្លី (កំពុងដំណើរការ)"]
[null,null,23022,"ការរៀបចំកែលម្អដីរ៉ែ (កំពុងដំណើរការ)"]
[null,null,23028,"ការរៀបចំកែលម្អសម្បត្តិធម្មជាតិផ្សេងៗ\n (កំពុងដំណើរការ)"]
[null,2303,null,"សំណង់អគារ និងការកែលម្អ (កំពុងដំណើរការ)",{"$f":"SUM(E412:E414)","v":0},{"$f":"SUM(F412:F414)","v":0},{"$f":"SUM(G412:G414)","v":0}]
[null,null,23031,"សំណង់អគារ (កំពុងដំណើរការ)"]
[null,null,23032,"ការកែលម្អអគារ (កំពុងដំណើរការ)"]
[null,null,23038,"សំណង់ផ្សេងៗ (កំពុងដំណើរការ)"]
[null,2304,null,"ហេដ្ឋារចនាសម្ព័ន្ធ (កំពុងដំណើរការ)",{"$f":"SUM(E416:E423)","v":0},{"$f":"SUM(F416:F423)","v":0},{"$f":"SUM(G416:G423)","v":0}]
[null,null,23041,"ផ្លូវថ្នល់ ផ្លូវទឹក (កំពុងដំណើរការ)"]
[null,null,23042,"ធារាសាស្ត្រ (កំពុងដំណើរការ)"]
[null,null,23043,"អាយស្ម័យយាន (កំពុងដំណើរការ)"]
[null,null,23044,"អាកាសយានដ្ឋាន (កំពុងដំណើរការ)"]
[null,null,23045,"ទូរគមនាគមន៍ (កំពុងដំណើរការ)"]
[null,null,23046,"អគ្គិសនី (កំពុងដំណើរការ)"]
[null,null,23047,"បណ្តាញបង្ហូរទឹក និងអនាម័យ (កំពុងដំណើរការ)"]
[null,null,23048,"ហេដ្ឋារចនាសម្ព័ន្ធផ្សេងៗ (កំពុងដំណើរការ)"]
[null,2305,null,"ឋបនកម្មបច្ចេកទេស សម្ភារ និងហត្ថូបករណ៍ (កំពុងដំណើរការ)",{"$f":"SUM(E425:E428)","v":0},{"$f":"SUM(F425:F428)","v":0},{"$f":"SUM(G425:G428)","v":0}]
[null,null,23051,"ឋបនកម្មបច្ចេកទេស (កំពុងដំណើរការ)"]
[null,null,23052,"សម្ភារ (កំពុងដំណើរការ)"]
[null,null,23053,"គ្រឿងឧបករណ៍ (ហត្ថូបករណ៍) (កំពុងដំណើរការ)"]
[null,null,23058,"ផ្សេងៗ (កំពុងដំណើរការ)"]
[26,null,null,"ការវិនិយោគ",{"$f":"SUM(E430+E434)","v":0},{"$f":"SUM(F430+F434)","v":0},{"$f":"SUM(G430+G434)","v":0}]
[null,2601,null,"ការវិនិយោគក្នុងញាតិសម្ព័ន្ធនិង\nការវិនិយោគទុនរួមគ្នា",{"$f":"SUM(E431:E433)","v":0},{"$f":"SUM(F431:F433)","v":0},{"$f":"SUM(G431:G433)","v":0}]
[null,null,26011,"ការវិនិយោគក្នុងញាតិសម្ព័ន្ធ"]
[null,null,26012,"ការវិនិយោគទុនរួមគ្នា"]
[null,null,26013,"ការវិនិយោគក្នុងសហគ្រាសសាធារណៈ"]
[null,2602,null,"ការបែងចែកប្រាក់ចំណេញ ឬ ខាតនៃក្រុមហ៊ុនញាតិសម្ព័ន្ធ និងក្រុមហ៊ុនដាក់ទុនរួមគ្នា",{"$f":"SUM(E435:E437)","v":0},{"$f":"SUM(F435:F437)","v":0},{"$f":"SUM(G435:G437)","v":0}]
[null,null,26021,"ការបែងចែកប្រាក់ចំណេញ ឬ ខាតនៃក្រុមហ៊ុនញាតិសម្ព័ន្ធ"]
[null,null,26022,"ការបែងចែកប្រាក់ចំណេញ ឬ ខាតនៃក្រុមហ៊ុនដាក់ទុនរួមគ្នា"]
[null,null,26023,"ការបែងចែកប្រាក់ចំណេញ ឬ ខាតនៃសហគ្រាស\nសាធារណៈ"]
[27,null,null,"អចលកម្មហិរញ្ញវត្ថុផ្សេងៗ",{"$f":"SUM(E439+E444)","v":0},{"$f":"SUM(F439+F444)","v":0},{"$f":"SUM(G439+G444)","v":0}]
[null,2701,null,"ការឱ្យខ្ចី",{"$f":"SUM(E440:E443)","v":0},{"$f":"SUM(F440:F443)","v":0},{"$f":"SUM(G440:G443)","v":0}]
[null,null,27011,"ការឱ្យខ្ចី ទៅសហគ្រាសសាធារណៈ"]
[null,null,27012,"ការឱ្យខ្ចី ទៅសហគ្រាសឯកជន"]
[null,null,27013,"ការឱ្យខ្ចី ទៅអង្គការមិនមែនរដ្ឋាភិបាល"]
[null,null,27018,"ការឱ្យខ្ចីផ្សេងៗ"]
[null,2702,null,"អចលកម្មហិរញ្ញវត្ថុផ្សេងៗទៀត",{"$f":"SUM(E445:E446)","v":0},{"$f":"SUM(F445:F446)","v":0},{"$f":"SUM(G445:G446)","v":0}]
[null,null,27022,"មូលប័ត្រ"]
[null,null,27028,"ផ្សេងៗ"]
[null,null,null,"ក្រុមទី  ២ : ចំណាយតាមដីកា (ប្រភេទទី ៣)"]
[null,null,null,"ប្រភេទទី  ៣ : ចំណាយតាមដីកា"]

{"sheet":"TotalSOBBySubAccount","index":13,"n_rows":448,"n_cols":7,"rows_kept":448,"cut":false,"hidden":false,"merged":[[3,0,3,6],[9,0,9,3],[10,0,10,3],[5,0,6,0],[5,1,6,1],[5,2,6,2],[5,3,6,3],[7,0,7,3],[8,0,8,3]]}
[]
[{"$f":"IF(កុមារតូច!C2<>\"\",កុមារតូច!C2,IF(បឋម!C2<>\"\",បឋម!C2,IF(អនុវិទ្យាល័យ!C2<>\"\",អនុវិទ្យាល័យ!C2,IF(វិទ្យាល័យ!C2<>\"\",វិទ្យាល័យ!C2,IF(អគាធនធាន!C2<>\"\",អគាធនធាន!C2,IF(វិទ្យាល័យបច្ចេកទេស!C2<>\"\",វិទ្យាល័យបច្ចេកទេស!C2,\"\"))))))","v":""}]
[{"$f":"IF(កុមារតូច!C4<>\"\",កុមារតូច!C4,IF(បឋម!C4<>\"\",បឋម!C4,IF(អនុវិទ្យាល័យ!C4<>\"\",អនុវិទ្យាល័យ!C4,IF(វិទ្យាល័យ!C4<>\"\",វិទ្យាល័យ!C4,IF(អគាធនធាន!C4<>\"\",អគាធនធាន!C4,IF(វិទ្យាល័យបច្ចេកទេស!C4<>\"\",វិទ្យាល័យបច្ចេកទេស!C4,\"\"))))))","v":""}]
["គម្រោងចំណាយថវិកាប្រចាំឆ្នាំ"]
[null,null,null,null,null,null,"ឯកតា៖ រៀល"]
["ជំពូក","គណនី","អនុគណនី","បរិយាយ","ចំណាយប្រចាំ","ចំណាយមិនប្រចាំ","សរុប"]
[null,null,null,null,1,2,"3=1+2"]
["សរុបរួមចំណាយថវិកា (ក+ខ)",null,null,null,{"$f":"SUM(E9+E330)","v":0},{"$f":"SUM(F9+F330)","v":0},{"$f":"SUM(G9+G330)","v":0}]
["ក. សរុបចំណាយចរន្ត​ (ក្រុមទី ១+ក្រុមទី ២)",null,null,null,{"$f":"SUM(E10+E311)","v":0},{"$f":"SUM(F10+F311)","v":0},{"$f":"SUM(G10+G311)","v":0}]
["ក្រុមទី ១ : ចំណាយពិត (ប្រភេទទី ១ + ប្រភេទទី ២ + ប្រភេទទី ៣ + ប្រភេទទី ៤)",null,null,null,{"$f":"SUM(E11+E194+E208+E282)","v":0},{"$f":"SUM(F11+F194+F208+F282)","v":0},{"$f":"SUM(G11+G194+G208+G282)","v":0}]
["ប្រភេទទី ១ : មធ្យោបាយ និងសេវា",null,null,null,{"$f":"SUM(E12+E56+E141)","v":0},{"$f":"SUM(F12+F56+F141)","v":0},{"$f":"SUM(G12+G56+G141)","v":0}]
[60,null,null,"ការទិញ",{"$f":"SUM(E13+E20+E25+E34+E39+E46+E50+E54)","v":0},{"$f":"SUM(F13+F20+F25+F34+F39+F46+F50+F54)","v":0},{"$f":"SUM(G13+G20+G25+G34+G39+G46+G50+G54)","v":0}]
[null,6001,null,"សម្ភារផ្គត់ផ្គង់ថែទាំ",{"$f":"SUM(E14:E19)","v":0},{"$f":"SUM(F14:F19)","v":0},{"$f":"SUM(G14:G19)","v":0}]
[null,null,60011,"សម្ភារផ្គត់ផ្គង់សម្អាត​ និងអនាម័យ ",{"$f":"SUMIFS('គ្រោងថវិកា SOB'!$N$11:$N$1178,'គ្រោងថវិកា SOB'!$M$11:$M$1178,C14)","v":0},{"$f":"SUMIFS('គ្រោងថវិកា SOB'!$O$11:$O$1178,'គ្រោងថវិកា SOB'!$M$11:$M$1178,C14)","v":0},{"$f":"SUM(E14:F14)","v":0}]
[null,null,60012,"សម្ភារផ្គត់ផ្គង់សម្រាប់​ថែទាំអគារ ប្រាសាទ និងសំណង់ផ្សេងៗ",{"$f":"SUMIFS('គ្រោងថវិកា SOB'!$N$11:$N$1178,'គ្រោងថវិកា SOB'!$M$11:$M$1178,C15)","v":0},{"$f":"SUMIFS('គ្រោងថវិកា SOB'!$O$11:$O$1178,'គ្រោងថវិកា SOB'!$M$11:$M$1178,C15)","v":0},{"$f":"SUM(E15:F15)","v":0}]
[null,null,60013,"សម្ភារផ្គត់ផ្គង់សម្រាប់​ថែទាំផ្លូវថ្នល់ ស្ពាន និងលូ",{"$f":"SUMIFS('គ្រោងថវិកា SOB'!$N$11:$N$1178,'គ្រោងថវិកា SOB'!$M$11:$M$1178,C16)","v":0},{"$f":"SUMIFS('គ្រោងថវិកា SOB'!$O$11:$O$1178,'គ្រោងថវិកា SOB'!$M$11:$M$1178,C16)","v":0},0]
[null,null,60014,"សម្ភារផ្គត់ផ្គង់សម្រាប់​ថែទាំសម្ភារឧបករណ៍",{"$f":"SUMIFS('គ្រោងថវិកា SOB'!$N$11:$N$1178,'គ្រោងថវិកា SOB'!$M$11:$M$1178,C17)","v":0},{"$f":"SUMIFS('គ្រោងថវិកា SOB'!$O$11:$O$1178,'គ្រោងថវិកា SOB'!$M$11:$M$1178,C17)","v":0},0]
[null,null,60015,"ប្រេងឥន្ធនៈ និងប្រេងរំអិល",{"$f":"SUMIFS('គ្រោងថវិកា SOB'!$N$11:$N$1178,'គ្រោងថវិកា SOB'!$M$11:$M$1178,C18)","v":0},{"$f":"SUMIFS('គ្រោងថវិកា SOB'!$O$11:$O$1178,'គ្រោងថវិកា SOB'!$M$11:$M$1178,C18)","v":0},0]
[null,null,60018,"សម្ភារផ្គត់ផ្គង់ថែទាំផ្សេងៗ",{"$f":"SUMIFS('គ្រោងថវិកា SOB'!$N$11:$N$1178,'គ្រោងថវិកា SOB'!$M$11:$M$1178,C19)","v":0},{"$f":"SUMIFS('គ្រោងថវិកា SOB'!$O$11:$O$1178,'គ្រោងថវិកា SOB'!$M$11:$M$1178,C19)","v":0},0]
[null,6002,null,"សម្ភារផ្គត់ផ្គង់ផ្នែករដ្ឋបាល",{"$f":"SUM(E21:E24)","v":0},{"$f":"SUM(F21:F24)","v":0},{"$f":"SUM(G21:G24)","v":0}]
[null,null,60021,"សម្ភារការិយាល័យ",{"$f":"SUMIFS('គ្រោងថវិកា SOB'!$N$11:$N$1178,'គ្រោងថវិកា SOB'!$M$11:$M$1178,C21)","v":0},{"$f":"SUMIFS('គ្រោងថវិកា SOB'!$O$11:$O$1178,'គ្រោងថវិកា SOB'!$M$11:$M$1178,C21)","v":0},{"$f":"SUM(E21:F21)","v":0}]
[null,null,60022,"សៀវភៅមើល និងឯកសារ",{"$f":"SUMIFS('គ្រោងថវិកា SOB'!$N$11:$N$1178,'គ្រោងថវិកា SOB'!$M$11:$M$1178,C22)","v":0},{"$f":"SUMIFS('គ្រោងថវិកា SOB'!$O$11:$O$1178,'គ្រោងថវិកា SOB'!$M$11:$M$1178,C22)","v":0},0]
[null,null,60023,"ការបោះពុម្ព",{"$f":"SUMIFS('គ្រោងថវិកា SOB'!$N$11:$N$1178,'គ្រោងថវិកា SOB'!$M$11:$M$1178,C23)","v":0},{"$f":"SUMIFS('គ្រោងថវិកា SOB'!$O$11:$O$1178,'គ្រោងថវិកា SOB'!$M$11:$M$1178,C23)","v":0},0]
[null,null,60028,"សម្ភារផ្គត់ផ្គង់ផ្នែករដ្ឋបាលផ្សេងៗ",{"$f":"SUMIFS('គ្រោងថវិកា SOB'!$N$11:$N$1178,'គ្រោងថវិកា SOB'!$M$11:$M$1178,C24)","v":0},{"$f":"SUMIFS('គ្រោងថវិកា SOB'!$O$11:$O$1178,'គ្រោងថវិកា SOB'!$M$11:$M$1178,C24)","v":0},0]
[null,6003,null,"ស្បៀងអាហារ និងផលិតផលកសិកម្ម",{"$f":"SUM(E26:E33)","v":0},{"$f":"SUM(F26:F33)","v":0},{"$f":"SUM(G26:G33)","v":0}]
[null,null,60031,"ស្បៀង",{"$f":"SUMIFS('គ្រោងថវិកា SOB'!$N$11:$N$1178,'គ្រោងថវិកា SOB'!$M$11:$M$1178,C26)","v":0},{"$f":"SUMIFS('គ្រោងថវិកា SOB'!$O$11:$O$1178,'គ្រោងថវិកា SOB'!$M$11:$M$1178,C26)","v":0},{"$f":"SUM(E26:F26)","v":0}]
[null,null,60032,"ចំណីសត្វ",{"$f":"SUMIFS('គ្រោងថវិកា SOB'!$N$11:$N$1178,'គ្រោងថវិកា SOB'!$M$11:$M$1178,C27)","v":0},{"$f":"SUMIFS('គ្រោងថវិកា SOB'!$O$11:$O$1178,'គ្រោងថវិកា SOB'!$M$11:$M$1178,C27)","v":0},0]
[null,null,60033,"ពូជ និងកូនរុក្ខជាតិ",{"$f":"SUMIFS('គ្រោងថវិកា SOB'!$N$11:$N$1178,'គ្រោងថវិកា SOB'!$M$11:$M$1178,C28)","v":0},{"$f":"SUMIFS('គ្រោងថវិកា SOB'!$O$11:$O$1178,'គ្រោងថវិកា SOB'!$M$11:$M$1178,C28)","v":0},0]
[null,null,60034,"ផលិតផលការពារសុខុមាលភាពរុក្ខជាតិ និងជី",{"$f":"SUMIFS('គ្រោងថវិកា SOB'!$N$11:$N$1178,'គ្រោងថវិកា SOB'!$M$11:$M$1178,C29)","v":0},{"$f":"SUMIFS('គ្រោងថវិកា SOB'!$O$11:$O$1178,'គ្រោងថវិកា SOB'!$M$11:$M$1178,C29)","v":0},0]
[null,null,60035,"ពូជសត្វ",{"$f":"SUMIFS('គ្រោងថវិកា SOB'!$N$11:$N$1178,'គ្រោងថវិកា SOB'!$M$11:$M$1178,C30)","v":0},{"$f":"SUMIFS('គ្រោងថវិកា SOB'!$O$11:$O$1178,'គ្រោងថវិកា SOB'!$M$11:$M$1178,C30)","v":0},0]
[null,null,60036,"ឱសថ និងវត្ថុធាតុសម្រាប់​បសុពេទ្យ",{"$f":"SUMIFS('គ្រោងថវិកា SOB'!$N$11:$N$1178,'គ្រោងថវិកា SOB'!$M$11:$M$1178,C31)","v":0},{"$f":"SUMIFS('គ្រោងថវិកា SOB'!$O$11:$O$1178,'គ្រោងថវិកា SOB'!$M$11:$M$1178,C31)","v":0},0]
[null,null,60037,"ស្បៀងសម្រាប់​រដ្ឋបាល",{"$f":"SUMIFS('គ្រោងថវិកា SOB'!$N$11:$N$1178,'គ្រោងថវិកា SOB'!$M$11:$M$1178,C32)","v":0},{"$f":"SUMIFS('គ្រោងថវិកា SOB'!$O$11:$O$1178,'គ្រោងថវិកា SOB'!$M$11:$M$1178,C32)","v":0},0]
[null,null,60038,"ស្បៀងអាហារ និងផលិតផលកសិកម្មផ្សេងៗ",{"$f":"SUMIFS('គ្រោងថវិកា SOB'!$N$11:$N$1178,'គ្រោងថវិកា SOB'!$M$11:$M$1178,C33)","v":0},{"$f":"SUMIFS('គ្រោងថវិកា SOB'!$O$11:$O$1178,'គ្រោងថវិកា SOB'!$M$11:$M$1178,C33)","v":0},0]
[null,6004,null,"សំលៀកបំពាក់ និងការតុបតែង",{"$f":"SUM(E35:E38)","v":0},{"$f":"SUM(F35:F38)","v":0},{"$f":"SUM(G35:G38)","v":0}]
[null,null,60041,"ឯកសណ្ឋាន",{"$f":"SUMIFS('គ្រោងថវិកា SOB'!$N$11:$N$1178,'គ្រោងថវិកា SOB'!$M$11:$M$1178,C35)","v":0},{"$f":"SUMIFS('គ្រោងថវិកា SOB'!$O$11:$O$1178,'គ្រោងថវិកា SOB'!$M$11:$M$1178,C35)","v":0},{"$f":"SUM(E35:F35)","v":0}]
[null,null,60042,"សំលៀកបំពាក់ការពារសុវត្ថិភាព",{"$f":"SUMIFS('គ្រោងថវិកា SOB'!$N$11:$N$1178,'គ្រោងថវិកា SOB'!$M$11:$M$1178,C36)","v":0},{"$f":"SUMIFS('គ្រោងថវិកា SOB'!$O$11:$O$1178,'គ្រោងថវិកា SOB'!$M$11:$M$1178,C36)","v":0},{"$f":"SUM(E36:F36)","v":0}]
[null,null,60043,"មេដាយ(គ្រឿងឥស្សរិយយស)",{"$f":"SUMIFS('គ្រោងថវិកា SOB'!$N$11:$N$1178,'គ្រោងថវិកា SOB'!$M$11:$M$1178,C37)","v":0},{"$f":"SUMIFS('គ្រោងថវិកា SOB'!$O$11:$O$1178,'គ្រោងថវិកា SOB'!$M$11:$M$1178,C37)","v":0},{"$f":"SUM(E37:F37)","v":0}]
[null,null,60048,"សំលៀកបំពាក់ និងការតុបតែងផ្សេងៗ",{"$f":"SUMIFS('គ្រោងថវិកា SOB'!$N$11:$N$1178,'គ្រោងថវិកា SOB'!$M$11:$M$1178,C38)","v":0},{"$f":"SUMIFS('គ្រោងថវិកា SOB'!$O$11:$O$1178,'គ្រោងថវិកា SOB'!$M$11:$M$1178,C38)","v":0},{"$f":"SUM(E38:F38)","v":0}]
[null,6005,null,"សម្ភារតូចតាច សង្ហារឹម និងសម្ភារបរិក្ខារ",{"$f":"SUM(E40:E45)","v":0},{"$f":"SUM(F40:F45)","v":0},{"$f":"SUM(G40:G45)","v":0}]
[null,null,60051,"សម្ភារនិងបរិក្ខារបច្ចេកទេសមិនមែនព័ត៌មានវិទ្យា",{"$f":"SUMIFS('គ្រោងថវិកា SOB'!$N$11:$N$1178,'គ្រោងថវិកា SOB'!$M$11:$M$1178,C40)","v":0},{"$f":"SUMIFS('គ្រោងថវិកា SOB'!$O$11:$O$1178,'គ្រោងថវិកា SOB'!$M$11:$M$1178,C40)","v":0},{"$f":"SUM(E40:F40)","v":0}]
[null,null,60052,"សង្ហារឹម",{"$f":"SUMIFS('គ្រោងថវិកា SOB'!$N$11:$N$1178,'គ្រោងថវិកា SOB'!$M$11:$M$1178,C41)","v":0},{"$f":"SUMIFS('គ្រោងថវិកា SOB'!$O$11:$O$1178,'គ្រោងថវិកា SOB'!$M$11:$M$1178,C41)","v":0},0]
[null,null,60053,"សម្ភារប្រើប្រាស់",{"$f":"SUMIFS('គ្រោងថវិកា SOB'!$N$11:$N$1178,'គ្រោងថវិកា SOB'!$M$11:$M$1178,C42)","v":0},{"$f":"SUMIFS('គ្រោងថវិកា SOB'!$O$11:$O$1178,'គ្រោងថវិកា SOB'!$M$11:$M$1178,C42)","v":0},0]
[null,null,60054,"សម្ភារ និងឧបករណ៍ដឹកជញ្ជូន",{"$f":"SUMIFS('គ្រោងថវិកា SOB'!$N$11:$N$1178,'គ្រោងថវិកា SOB'!$M$11:$M$1178,C43)","v":0},{"$f":"SUMIFS('គ្រោងថវិកា SOB'!$O$11:$O$1178,'គ្រោងថវិកា SOB'!$M$11:$M$1178,C43)","v":0},0]
[null,null,60055,"សម្ភារនិងបរិក្ខារបច្ចេកទេសព័ត៌មានវិទ្យា",{"$f":"SUMIFS('គ្រោងថវិកា SOB'!$N$11:$N$1178,'គ្រោងថវិកា SOB'!$M$11:$M$1178,C44)","v":0},{"$f":"SUMIFS('គ្រោងថវិកា SOB'!$O$11:$O$1178,'គ្រោងថវិកា SOB'!$M$11:$M$1178,C44)","v":0},0]
[null,null,60058,"សម្ភារតូចតាច សង្ហារឹម និងសម្ភារបរិក្ខារផ្សេងៗ",{"$f":"SUMIFS('គ្រោងថវិកា SOB'!$N$11:$N$1178,'គ្រោងថវិកា SOB'!$M$11:$M$1178,C45)","v":0},{"$f":"SUMIFS('គ្រោងថវិកា SOB'!$O$11:$O$1178,'គ្រោងថវិកា SOB'!$M$11:$M$1178,C45)","v":0},0]
[null,6006,null,"ថាមពលនិងទឹក",{"$f":"SUM(E47:E49)","v":0},{"$f":"SUM(F47:F49)","v":0},{"$f":"SUM(G47:G49)","v":0}]
[null,null,60061,"អគ្គិសនី",{"$f":"SUMIFS('គ្រោងថវិកា SOB'!$N$11:$N$1178,'គ្រោងថវិកា SOB'!$M$11:$M$1178,C47)","v":0},{"$f":"SUMIFS('គ្រោងថវិកា SOB'!$O$11:$O$1178,'គ្រោងថវិកា SOB'!$M$11:$M$1178,C47)","v":0},{"$f":"SUM(E47:F47)","v":0}]
[null,null,60062,"ទឹក",{"$f":"SUMIFS('គ្រោងថវិកា SOB'!$N$11:$N$1178,'គ្រោងថវិកា SOB'!$M$11:$M$1178,C48)","v":0},{"$f":"SUMIFS('គ្រោងថវិកា SOB'!$O$11:$O$1178,'គ្រោងថវិកា SOB'!$M$11:$M$1178,C48)","v":0},{"$f":"SUM(E48:F48)","v":0}]
[null,null,60068,"ផ្សេងៗ",{"$f":"SUMIFS('គ្រោងថវិកា SOB'!$N$11:$N$1178,'គ្រោងថវិកា SOB'!$M$11:$M$1178,C49)","v":0},{"$f":"SUMIFS('គ្រោងថវិកា SOB'!$O$11:$O$1178,'គ្រោងថវិកា SOB'!$M$11:$M$1178,C49)","v":0},{"$f":"SUM(E49:F49)","v":0}]
[null,6007,null,"សម្ភារបរិក្ខារថែទាំសុខភាព",{"$f":"SUM(E51:E53)","v":0},{"$f":"SUM(F51:F53)","v":0},{"$f":"SUM(G51:G53)","v":0}]
[null,null,60071,"បំពង់ហ្គាសនិងអុកស៊ីសែន",{"$f":"SUMIFS('គ្រោងថវិកា SOB'!$N$11:$N$1178,'គ្រោងថវិកា SOB'!$M$11:$M$1178,C51)","v":0},{"$f":"SUMIFS('គ្រោងថវិកា SOB'!$O$11:$O$1178,'គ្រោងថវិកា SOB'!$M$11:$M$1178,C51)","v":0},{"$f":"SUM(E51:F51)","v":0}]
[null,null,60072,"សម្ភារបរិក្ខារពេទ្យ",{"$f":"SUMIFS('គ្រោងថវិកា SOB'!$N$11:$N$1178,'គ្រោងថវិកា SOB'!$M$11:$M$1178,C52)","v":0},{"$f":"SUMIFS('គ្រោងថវិកា SOB'!$O$11:$O$1178,'គ្រោងថវិកា SOB'!$M$11:$M$1178,C52)","v":0},{"$f":"SUM(E52:F52)","v":0}]
[null,null,60078,"សម្ភារបរិក្ខារថែទាំសុខភាពផ្សេងៗ",{"$f":"SUMIFS('គ្រោងថវិកា SOB'!$N$11:$N$1178,'គ្រោងថវិកា SOB'!$M$11:$M$1178,C53)","v":0},{"$f":"SUMIFS('គ្រោងថវិកា SOB'!$O$11:$O$1178,'គ្រោងថវិកា SOB'!$M$11:$M$1178,C53)","v":0},{"$f":"SUM(E53:F53)","v":0}]
[null,6098,null,"សម្ភារផ្គត់ផ្គង់ផ្សេងៗ",{"$f":"SUM(E55)","v":0},{"$f":"SUM(F55)","v":0},{"$f":"SUM(G55)","v":0}]
[null,null,60981,"សម្ភារផ្គត់ផ្គង់ផ្សេងៗ",{"$f":"SUMIFS('គ្រោងថវិកា SOB'!$N$11:$N$1178,'គ្រោងថវិកា SOB'!$M$11:$M$1178,C55)","v":0},{"$f":"SUMIFS('គ្រោងថវិកា SOB'!$O$11:$O$1178,'គ្រោងថវិកា SOB'!$M$11:$M$1178,C55)","v":0},{"$f":"SUM(E55:F55)","v":0}]
[61,null,null,"សេវាកម្ម",{"$f":"SUM(E57+E61+E64+E68+E71+E80+E85+E91+E94+E100+E109+E114+E119+E124+E128+E130+E139)","v":0},{"$f":"SUM(F57+F61+F64+F68+F71+F80+F85+F91+F94+F100+F109+F114+F119+F124+F128+F130+F139)","v":0},{"$f":"SUM(G57+G61+G64+G68+G71+G80+G85+G91+G94+G100+G109+G114+G119+G124+G128+G130+G139)","v":0}]
[null,6101,null,"កិច្ចសន្យានៃការផ្តល់សេវាជាមួយសហគ្រាស",{"$f":"SUM(E58:E60)","v":0},{"$f":"SUM(F58:F60)","v":0},{"$f":"SUM(G58:G60)","v":0}]
[null,null,61011,"សេវាអនាម័យ",{"$f":"SUMIFS('គ្រោងថវិកា SOB'!$N$11:$N$1178,'គ្រោងថវិកា SOB'!$M$11:$M$1178,C58)","v":0},{"$f":"SUMIFS('គ្រោងថវិកា SOB'!$O$11:$O$1178,'គ្រោងថវិកា SOB'!$M$11:$M$1178,C58)","v":0},{"$f":"SUM(E58:F58)","v":0}]
[null,null,61012,"សេវារដ្ឋបាល",{"$f":"SUMIFS('គ្រោងថវិកា SOB'!$N$11:$N$1178,'គ្រោងថវិកា SOB'!$M$11:$M$1178,C59)","v":0},{"$f":"SUMIFS('គ្រោងថវិកា SOB'!$O$11:$O$1178,'គ្រោងថវិកា SOB'!$M$11:$M$1178,C59)","v":0},{"$f":"SUM(E59:F59)","v":0}]
[null,null,61018,"សេវាផ្សេងៗ",{"$f":"SUMIFS('គ្រោងថវិកា SOB'!$N$11:$N$1178,'គ្រោងថវិកា SOB'!$M$11:$M$1178,C60)","v":0},{"$f":"SUMIFS('គ្រោងថវិកា SOB'!$O$11:$O$1178,'គ្រោងថវិកា SOB'!$M$11:$M$1178,C60)","v":0},{"$f":"SUM(E60:F60)","v":0}]
[null,6102,null,"ការជួលមធ្យោបាយដឹកជញ្ជូន",{"$f":"SUM(E62:E63)","v":0},{"$f":"SUM(F62:F63)","v":0},{"$f":"SUM(G62:G63)","v":0}]
[null,null,61021,"ការជួលមធ្យោបាយដឹកជញ្ជូន",{"$f":"SUMIFS('គ្រោងថវិកា SOB'!$N$11:$N$1178,'គ្រោងថវិកា SOB'!$M$11:$M$1178,C62)","v":0},{"$f":"SUMIFS('គ្រោងថវិកា SOB'!$O$11:$O$1178,'គ្រោងថវិកា SOB'!$M$11:$M$1178,C62)","v":0},{"$f":"SUM(E62:F62)","v":0}]
[null,null,61028,"ការជួលមធ្យោបាយដឹកជញ្ជូនផ្សេងៗ",{"$f":"SUMIFS('គ្រោងថវិកា SOB'!$N$11:$N$1178,'គ្រោងថវិកា SOB'!$M$11:$M$1178,C63)","v":0},{"$f":"SUMIFS('គ្រោងថវិកា SOB'!$O$11:$O$1178,'គ្រោងថវិកា SOB'!$M$11:$M$1178,C63)","v":0},{"$f":"SUM(E63:F63)","v":0}]
[null,6103,null,"ថ្លៃឈ្នួល និងបន្ទុក(អសង្ហារឹម) ក្នុងនិងក្រៅប្រទេស",{"$f":"SUM(E65:E67)","v":0},{"$f":"SUM(F65:F67)","v":0},{"$f":"SUM(G65:G67)","v":0}]
[null,null,61031,"ថ្លៃឈ្នួល និងបន្ទុក(អសង្ហារឹម) ក្នុងប្រទេស",{"$f":"SUMIFS('គ្រោងថវិកា SOB'!$N$11:$N$1178,'គ្រោងថវិកា SOB'!$M$11:$M$1178,C65)","v":0},{"$f":"SUMIFS('គ្រោងថវិកា SOB'!$O$11:$O$1178,'គ្រោងថវិកា SOB'!$M$11:$M$1178,C65)","v":0},{"$f":"SUM(E65:F65)","v":0}]
[null,null,61032,"ថ្លៃឈ្នួល និងបន្ទុក(អសង្ហារឹម) ក្រៅប្រទេស",{"$f":"SUMIFS('គ្រោងថវិកា SOB'!$N$11:$N$1178,'គ្រោងថវិកា SOB'!$M$11:$M$1178,C66)","v":0},{"$f":"SUMIFS('គ្រោងថវិកា SOB'!$O$11:$O$1178,'គ្រោងថវិកា SOB'!$M$11:$M$1178,C66)","v":0},{"$f":"SUM(E66:F66)","v":0}]
[null,null,61038,"ថ្លៃឈ្នួល និងបន្ទុក(អសង្ហារឹម) ផ្សេងៗ",{"$f":"SUMIFS('គ្រោងថវិកា SOB'!$N$11:$N$1178,'គ្រោងថវិកា SOB'!$M$11:$M$1178,C67)","v":0},{"$f":"SUMIFS('គ្រោងថវិកា SOB'!$O$11:$O$1178,'គ្រោងថវិកា SOB'!$M$11:$M$1178,C67)","v":0},{"$f":"SUM(E67:F67)","v":0}]
[null,6104,null,"សោហ៊ុយបណ្តុះបណ្តាល ក្នុងនិងក្រៅប្រទេស",{"$f":"SUM(E69:E70)","v":0},{"$f":"SUM(F69:F70)","v":0},{"$f":"SUM(G69:G70)","v":0}]
[null,null,61041,"សោហ៊ុយបណ្តុះបណ្តាលក្នុងនិងក្រៅប្រទេស",{"$f":"SUMIFS('គ្រោងថវិកា SOB'!$N$11:$N$1178,'គ្រោងថវិកា SOB'!$M$11:$M$1178,C69)","v":0},{"$f":"SUMIFS('គ្រោងថវិកា SOB'!$O$11:$O$1178,'គ្រោងថវិកា SOB'!$M$11:$M$1178,C69)","v":0},{"$f":"SUM(E69:F69)","v":0}]
[null,null,61048,"សោហ៊ុយបណ្តុះបណ្តាលផ្សេងៗ ក្នុងនិងក្រៅប្រទេស",{"$f":"SUMIFS('គ្រោងថវិកា SOB'!$N$11:$N$1178,'គ្រោងថវិកា SOB'!$M$11:$M$1178,C70)","v":0},{"$f":"SUMIFS('គ្រោងថវិកា SOB'!$O$11:$O$1178,'គ្រោងថវិកា SOB'!$M$11:$M$1178,C70)","v":0},{"$f":"SUM(E70:F70)","v":0}]
[null,6105,null,"ការថែទាំនិងជួសជុល",{"$f":"SUM(E72:E79)","v":0},{"$f":"SUM(F72:F79)","v":0},{"$f":"SUM(G72:G79)","v":0}]
[null,null,61051,"ការថែទាំដីធ្លី សួនច្បារ ព្រៃឈើ តំបន់ឆ្នេរ និងដែននេសាទ",{"$f":"SUMIFS('គ្រោងថវិកា SOB'!$N$11:$N$1178,'គ្រោងថវិកា SOB'!$M$11:$M$1178,C72)","v":0},{"$f":"SUMIFS('គ្រោងថវិកា SOB'!$O$11:$O$1178,'គ្រោងថវិកា SOB'!$M$11:$M$1178,C72)","v":0},{"$f":"SUM(E72:F72)","v":0}]
[null,null,61052,"ការថែទាំ  ជួសជុលអគារផ្សេងៗ និងប្រាសាទ",{"$f":"SUMIFS('គ្រោងថវិកា SOB'!$N$11:$N$1178,'គ្រោងថវិកា SOB'!$M$11:$M$1178,C73)","v":0},{"$f":"SUMIFS('គ្រោងថវិកា SOB'!$O$11:$O$1178,'គ្រោងថវិកា SOB'!$M$11:$M$1178,C73)","v":0},0]
[null,null,61053,"ការថែទាំ ជួសជុលផ្លូវ ផ្លូវលំ ស្ពាន ​និងលូ",{"$f":"SUMIFS('គ្រោងថវិកា SOB'!$N$11:$N$1178,'គ្រោងថវិកា SOB'!$M$11:$M$1178,C74)","v":0},{"$f":"SUMIFS('គ្រោងថវិកា SOB'!$O$11:$O$1178,'គ្រោងថវិកា SOB'!$M$11:$M$1178,C74)","v":0},0]
[null,null,61054,"ការថែទាំបណ្តាញផ្សេងៗ",{"$f":"SUMIFS('គ្រោងថវិកា SOB'!$N$11:$N$1178,'គ្រោងថវិកា SOB'!$M$11:$M$1178,C75)","v":0},{"$f":"SUMIFS('គ្រោងថវិកា SOB'!$O$11:$O$1178,'គ្រោងថវិកា SOB'!$M$11:$M$1178,C75)","v":0},0]
[null,null,61055,"ការថែទាំប្រព័ន្ធធារាសាស្ត្រ",{"$f":"SUMIFS('គ្រោងថវិកា SOB'!$N$11:$N$1178,'គ្រោងថវិកា SOB'!$M$11:$M$1178,C76)","v":0},{"$f":"SUMIFS('គ្រោងថវិកា SOB'!$O$11:$O$1178,'គ្រោងថវិកា SOB'!$M$11:$M$1178,C76)","v":0},0]
[null,null,61056,"ការថែទាំ និងជួសជុលមធ្យោបាយដឹកជញ្ជូន",{"$f":"SUMIFS('គ្រោងថវិកា SOB'!$N$11:$N$1178,'គ្រោងថវិកា SOB'!$M$11:$M$1178,C77)","v":0},{"$f":"SUMIFS('គ្រោងថវិកា SOB'!$O$11:$O$1178,'គ្រោងថវិកា SOB'!$M$11:$M$1178,C77)","v":0},0]
[null,null,61057,"ការថែទាំនិងជួសជុលសម្ភារ និងឧបករណ៍បច្ចេកទេស",{"$f":"SUMIFS('គ្រោងថវិកា SOB'!$N$11:$N$1178,'គ្រោងថវិកា SOB'!$M$11:$M$1178,C78)","v":0},{"$f":"SUMIFS('គ្រោងថវិកា SOB'!$O$11:$O$1178,'គ្រោងថវិកា SOB'!$M$11:$M$1178,C78)","v":0},0]
[null,null,61058,"ការថែទាំនិងជួសជុលផ្សេងៗ",{"$f":"SUMIFS('គ្រោងថវិកា SOB'!$N$11:$N$1178,'គ្រោងថវិកា SOB'!$M$11:$M$1178,C79)","v":0},{"$f":"SUMIFS('គ្រោងថវិកា SOB'!$O$11:$O$1178,'គ្រោងថវិកា SOB'!$M$11:$M$1178,C79)","v":0},0]
[null,6106,null,"សោហ៊ុយធានារ៉ាប់រង",{"$f":"SUM(E81:E84)","v":0},{"$f":"SUM(F81:F84)","v":0},{"$f":"SUM(G81:G84)","v":0}]
[null,null,61061,"សោហ៊ុយធានារ៉ាប់រងលើអគារ",{"$f":"SUMIFS('គ្រោងថវិកា SOB'!$N$11:$N$1178,'គ្រោងថវិកា SOB'!$M$11:$M$1178,C81)","v":0},{"$f":"SUMIFS('គ្រោងថវិកា SOB'!$O$11:$O$1178,'គ្រោងថវិកា SOB'!$M$11:$M$1178,C81)","v":0},{"$f":"SUM(E81:F81)","v":0}]
[null,null,61062,"សោហ៊ុយធានារ៉ាប់រងលើយានយន្ត",{"$f":"SUMIFS('គ្រោងថវិកា SOB'!$N$11:$N$1178,'គ្រោងថវិកា SOB'!$M$11:$M$1178,C82)","v":0},{"$f":"SUMIFS('គ្រោងថវិកា SOB'!$O$11:$O$1178,'គ្រោងថវិកា SOB'!$M$11:$M$1178,C82)","v":0},{"$f":"SUM(E82:F82)","v":0}]
[null,null,61063,"សោហ៊ុយធានារ៉ាប់រងលើសុខភាព",{"$f":"SUMIFS('គ្រោងថវិកា SOB'!$N$11:$N$1178,'គ្រោងថវិកា SOB'!$M$11:$M$1178,C83)","v":0},{"$f":"SUMIFS('គ្រោងថវិកា SOB'!$O$11:$O$1178,'គ្រោងថវិកា SOB'!$M$11:$M$1178,C83)","v":0},{"$f":"SUM(E83:F83)","v":0}]
[null,null,61068,"សោហ៊ុយធានារ៉ាប់រងផ្សេងៗទៀត",{"$f":"SUMIFS('គ្រោងថវិកា SOB'!$N$11:$N$1178,'គ្រោងថវិកា SOB'!$M$11:$M$1178,C84)","v":0},{"$f":"SUMIFS('គ្រោងថវិកា SOB'!$O$11:$O$1178,'គ្រោងថវិកា SOB'!$M$11:$M$1178,C84)","v":0},{"$f":"SUM(E84:F84)","v":0}]
[null,6107,null,"សោហ៊ុយសិក្សាពិសោធន៍, សោហ៊ុយនៃការប្រើ-ប្រាស់សេវា, សោហ៊ុយនៃការប្រើប្រាស់សិទ្ធិនិង​សំណងផ្សេងៗ",{"$f":"SUM(E86:E90)","v":0},{"$f":"SUM(F86:F90)","v":0},{"$f":"SUM(G86:G90)","v":0}]
[null,null,61071,"សោហ៊ុយសិក្សាពិសោធន៍",{"$f":"SUMIFS('គ្រោងថវិកា SOB'!$N$11:$N$1178,'គ្រោងថវិកា SOB'!$M$11:$M$1178,C86)","v":0},{"$f":"SUMIFS('គ្រោងថវិកា SOB'!$O$11:$O$1178,'គ្រោងថវិកា SOB'!$M$11:$M$1178,C86)","v":0},{"$f":"SUM(E86:F86)","v":0}]
[null,null,61072,"សោហ៊ុយនៃការប្រើប្រាស់សេវា",{"$f":"SUMIFS('គ្រោងថវិកា SOB'!$N$11:$N$1178,'គ្រោងថវិកា SOB'!$M$11:$M$1178,C87)","v":0},{"$f":"SUMIFS('គ្រោងថវិកា SOB'!$O$11:$O$1178,'គ្រោងថវិកា SOB'!$M$11:$M$1178,C87)","v":0},{"$f":"SUM(E87:F87)","v":0}]
[null,null,61073,"សោហ៊ុយនៃការប្រើប្រាស់សិទ្ធិ",{"$f":"SUMIFS('គ្រោងថវិកា SOB'!$N$11:$N$1178,'គ្រោងថវិកា SOB'!$M$11:$M$1178,C88)","v":0},{"$f":"SUMIFS('គ្រោងថវិកា SOB'!$O$11:$O$1178,'គ្រោងថវិកា SOB'!$M$11:$M$1178,C88)","v":0},{"$f":"SUM(E88:F88)","v":0}]
[null,null,61074,"សំណងផ្នែកស៊ីវិល",{"$f":"SUMIFS('គ្រោងថវិកា SOB'!$N$11:$N$1178,'គ្រោងថវិកា SOB'!$M$11:$M$1178,C89)","v":0},{"$f":"SUMIFS('គ្រោងថវិកា SOB'!$O$11:$O$1178,'គ្រោងថវិកា SOB'!$M$11:$M$1178,C89)","v":0},{"$f":"SUM(E89:F89)","v":0}]
[null,null,61078,"សោហ៊ុយនិង​សំណងផ្សេងៗ",{"$f":"SUMIFS('គ្រោងថវិកា SOB'!$N$11:$N$1178,'គ្រោងថវិកា SOB'!$M$11:$M$1178,C90)","v":0},{"$f":"SUMIFS('គ្រោងថវិកា SOB'!$O$11:$O$1178,'គ្រោងថវិកា SOB'!$M$11:$M$1178,C90)","v":0},{"$f":"SUM(E90:F90)","v":0}]
[null,6108,null,"សោហ៊ុយដឹកជញ្ជូន",{"$f":"SUM(E92:E93)","v":0},{"$f":"SUM(F92:F93)","v":0},{"$f":"SUM(G92:G93)","v":0}]
[null,null,61081,"សម្ភារ​ និងទំនិញ",{"$f":"SUMIFS('គ្រោងថវិកា SOB'!$N$11:$N$1178,'គ្រោងថវិកា SOB'!$M$11:$M$1178,C92)","v":0},{"$f":"SUMIFS('គ្រោងថវិកា SOB'!$O$11:$O$1178,'គ្រោងថវិកា SOB'!$M$11:$M$1178,C92)","v":0},{"$f":"SUM(E92:F92)","v":0}]
[null,null,61088,"សោហ៊ុយដឹកជញ្ជូនផ្សេងៗ",{"$f":"SUMIFS('គ្រោងថវិកា SOB'!$N$11:$N$1178,'គ្រោងថវិកា SOB'!$M$11:$M$1178,C93)","v":0},{"$f":"SUMIFS('គ្រោងថវិកា SOB'!$O$11:$O$1178,'គ្រោងថវិកា SOB'!$M$11:$M$1178,C93)","v":0},{"$f":"SUM(E93:F93)","v":0}]
[null,6109,null,"បុគ្គលិកខាងក្រៅ",{"$f":"SUM(E95:E99)","v":0},{"$f":"SUM(F95:F99)","v":0},{"$f":"SUM(G95:G99)","v":0}]
[null,null,61091,"ភ្នាក់ងារជាតិជាប់កិច្ចសន្យា",{"$f":"SUMIFS('គ្រោងថវិកា SOB'!$N$11:$N$1178,'គ្រោងថវិកា SOB'!$M$11:$M$1178,C95)","v":0},{"$f":"SUMIFS('គ្រោងថវិកា SOB'!$O$11:$O$1178,'គ្រោងថវិកា SOB'!$M$11:$M$1178,C95)","v":0},{"$f":"SUM(E95:F95)","v":0}]
[null,null,61092,"ភ្នាក់ងារបរទេសជាប់កិច្ចសន្យា",{"$f":"SUMIFS('គ្រោងថវិកា SOB'!$N$11:$N$1178,'គ្រោងថវិកា SOB'!$M$11:$M$1178,C96)","v":0},{"$f":"SUMIFS('គ្រោងថវិកា SOB'!$O$11:$O$1178,'គ្រោងថវិកា SOB'!$M$11:$M$1178,C96)","v":0},{"$f":"SUM(E96:F96)","v":0}]
[null,null,61093,"បុគ្គលិកសមូហភាពសាធារណៈផ្សេងៗ",{"$f":"SUMIFS('គ្រោងថវិកា SOB'!$N$11:$N$1178,'គ្រោងថវិកា SOB'!$M$11:$M$1178,C97)","v":0},{"$f":"SUMIFS('គ្រោងថវិកា SOB'!$O$11:$O$1178,'គ្រោងថវិកា SOB'!$M$11:$M$1178,C97)","v":0},{"$f":"SUM(E97:F97)","v":0}]
[null,null,61094,"ប្រាក់វិភាជន៍សង្គមសម្រាប់បុគ្គលិកខាងក្រៅ",{"$f":"SUMIFS('គ្រោងថវិកា SOB'!$N$11:$N$1178,'គ្រោងថវិកា SOB'!$M$11:$M$1178,C98)","v":0},{"$f":"SUMIFS('គ្រោងថវិកា SOB'!$O$11:$O$1178,'គ្រោងថវិកា SOB'!$M$11:$M$1178,C98)","v":0},{"$f":"SUM(E98:F98)","v":0}]
[null,null,61098,"បុគ្គលិកខាងក្រៅផ្សេងៗ",{"$f":"SUMIFS('គ្រោងថវិកា SOB'!$N$11:$N$1178,'គ្រោងថវិកា SOB'!$M$11:$M$1178,C99)","v":0},{"$f":"SUMIFS('គ្រោងថវិកា SOB'!$O$11:$O$1178,'គ្រោងថវិកា SOB'!$M$11:$M$1178,C99)","v":0},{"$f":"SUM(E99:F99)","v":0}]
[null,6110,null,"ទំនាក់ទំនងសាធារណៈ និងផ្សព្វផ្សាយ",{"$f":"SUM(E101:E108)","v":0},{"$f":"SUM(F101:F108)","v":0},{"$f":"SUM(G101:G108)","v":0}]
[null,null,61101,"សោហ៊ុយទទួលភ្ញៀវជាតិ",{"$f":"SUMIFS('គ្រោងថវិកា SOB'!$N$11:$N$1178,'គ្រោងថវិកា SOB'!$M$11:$M$1178,C101)","v":0},{"$f":"SUMIFS('គ្រោងថវិកា SOB'!$O$11:$O$1178,'គ្រោងថវិកា SOB'!$M$11:$M$1178,C101)","v":0},{"$f":"SUM(E101:F101)","v":0}]
[null,null,61102,"សោហ៊ុយទទួលភ្ញៀវបរទេស",{"$f":"SUMIFS('គ្រោងថវិកា SOB'!$N$11:$N$1178,'គ្រោងថវិកា SOB'!$M$11:$M$1178,C102)","v":0},{"$f":"SUMIFS('គ្រោងថវិកា SOB'!$O$11:$O$1178,'គ្រោងថវិកា SOB'!$M$11:$M$1178,C102)","v":0},0]
[null,null,61103,"ប្រជុំ សិក្ខាសាលា និងសន្និសីទ",{"$f":"SUMIFS('គ្រោងថវិកា SOB'!$N$11:$N$1178,'គ្រោងថវិកា SOB'!$M$11:$M$1178,C103)","v":0},{"$f":"SUMIFS('គ្រោងថវិកា SOB'!$O$11:$O$1178,'គ្រោងថវិកា SOB'!$M$11:$M$1178,C103)","v":0},0]
[null,null,61104,"ចំណាយរៀបចំពិធីបុណ្យ",{"$f":"SUMIFS('គ្រោងថវិកា SOB'!$N$11:$N$1178,'គ្រោងថវិកា SOB'!$M$11:$M$1178,C104)","v":0},{"$f":"SUMIFS('គ្រោងថវិកា SOB'!$O$11:$O$1178,'គ្រោងថវិកា SOB'!$M$11:$M$1178,C104)","v":0},0]
[null,null,61105,"ចំណាយសម្រាប់​វត្ថុអនុស្សាវរីយ៍ នៅក្នុងនិង\nក្រៅប្រទេស",{"$f":"SUMIFS('គ្រោងថវិកា SOB'!$N$11:$N$1178,'គ្រោងថវិកា SOB'!$M$11:$M$1178,C105)","v":0},{"$f":"SUMIFS('គ្រោងថវិកា SOB'!$O$11:$O$1178,'គ្រោងថវិកា SOB'!$M$11:$M$1178,C105)","v":0},0]
[null,null,61106,"ចំណាយសម្រាប់​ការតាំងពិពណ៌ នៅក្នុងនិង\nក្រៅប្រទេស",{"$f":"SUMIFS('គ្រោងថវិកា SOB'!$N$11:$N$1178,'គ្រោងថវិកា SOB'!$M$11:$M$1178,C106)","v":0},{"$f":"SUMIFS('គ្រោងថវិកា SOB'!$O$11:$O$1178,'គ្រោងថវិកា SOB'!$M$11:$M$1178,C106)","v":0},0]
[null,null,61107,"ការឃោសនានិងផ្សព្វផ្សាយព័ត៌មានសាធារណៈ",{"$f":"SUMIFS('គ្រោងថវិកា SOB'!$N$11:$N$1178,'គ្រោងថវិកា SOB'!$M$11:$M$1178,C107)","v":0},{"$f":"SUMIFS('គ្រោងថវិកា SOB'!$O$11:$O$1178,'គ្រោងថវិកា SOB'!$M$11:$M$1178,C107)","v":0},0]
[null,null,61108,"ទំនាក់ទំនងសាធារណៈនិងផ្សព្វផ្សាយផ្សេងៗ",{"$f":"SUMIFS('គ្រោងថវិកា SOB'!$N$11:$N$1178,'គ្រោងថវិកា SOB'!$M$11:$M$1178,C108)","v":0},{"$f":"SUMIFS('គ្រោងថវិកា SOB'!$O$11:$O$1178,'គ្រោងថវិកា SOB'!$M$11:$M$1178,C108)","v":0},0]
[null,6111,null,"សារព័ត៌មាន និងឯកសារ",{"$f":"SUM(E110:E113)","v":0},{"$f":"SUM(F110:F113)","v":0},{"$f":"SUM(G110:G113)","v":0}]
[null,null,61111,"ចំណាយលើការជាវសារព័ត៌មាន",{"$f":"SUMIFS('គ្រោងថវិកា SOB'!$N$11:$N$1178,'គ្រោងថវិកា SOB'!$M$11:$M$1178,C110)","v":0},{"$f":"SUMIFS('គ្រោងថវិកា SOB'!$O$11:$O$1178,'គ្រោងថវិកា SOB'!$M$11:$M$1178,C110)","v":0},{"$f":"SUM(E110:F110)","v":0}]
[null,null,61112,"ចំណាយលើការជាវទស្សនាវដ្តី",{"$f":"SUMIFS('គ្រោងថវិកា SOB'!$N$11:$N$1178,'គ្រោងថវិកា SOB'!$M$11:$M$1178,C111)","v":0},{"$f":"SUMIFS('គ្រោងថវិកា SOB'!$O$11:$O$1178,'គ្រោងថវិកា SOB'!$M$11:$M$1178,C111)","v":0},{"$f":"SUM(E111:F111)","v":0}]
[null,null,61113,"ចំណាយលើការជាវសៀវភៅរាជកិច្ច",{"$f":"SUMIFS('គ្រោងថវិកា SOB'!$N$11:$N$1178,'គ្រោងថវិកា SOB'!$M$11:$M$1178,C112)","v":0},{"$f":"SUMIFS('គ្រោងថវិកា SOB'!$O$11:$O$1178,'គ្រោងថវិកា SOB'!$M$11:$M$1178,C112)","v":0},{"$f":"SUM(E112:F112)","v":0}]
[null,null,61118,"ចំណាយលើការជាវសារព័ត៌មាន និងឯកសារផ្សេងៗ",{"$f":"SUMIFS('គ្រោងថវិកា SOB'!$N$11:$N$1178,'គ្រោងថវិកា SOB'!$M$11:$M$1178,C113)","v":0},{"$f":"SUMIFS('គ្រោងថវិកា SOB'!$O$11:$O$1178,'គ្រោងថវិកា SOB'!$M$11:$M$1178,C113)","v":0},{"$f":"SUM(E113:F113)","v":0}]
[null,6112,null,"សោហ៊ុយបេសកកម្មក្នុងប្រទេស",{"$f":"SUM(E115:E118)","v":0},{"$f":"SUM(F115:F118)","v":0},{"$f":"SUM(G115:G118)","v":0}]
[null,null,61121,"សោហ៊ុយដឹកជញ្ជូន",{"$f":"SUMIFS('គ្រោងថវិកា SOB'!$N$11:$N$1178,'គ្រោងថវិកា SOB'!$M$11:$M$1178,C115)","v":0},{"$f":"SUMIFS('គ្រោងថវិកា SOB'!$O$11:$O$1178,'គ្រោងថវិកា SOB'!$M$11:$M$1178,C115)","v":0},{"$f":"SUM(E115:F115)","v":0}]
[null,null,61122,"សោហ៊ុយបេសកកម្ម",{"$f":"SUMIFS('គ្រោងថវិកា SOB'!$N$11:$N$1178,'គ្រោងថវិកា SOB'!$M$11:$M$1178,C116)","v":0},{"$f":"SUMIFS('គ្រោងថវិកា SOB'!$O$11:$O$1178,'គ្រោងថវិកា SOB'!$M$11:$M$1178,C116)","v":0},{"$f":"SUM(E116:F116)","v":0}]
[null,null,61123,"សោហ៊ុយស្នាក់នៅ",{"$f":"SUMIFS('គ្រោងថវិកា SOB'!$N$11:$N$1178,'គ្រោងថវិកា SOB'!$M$11:$M$1178,C117)","v":0},{"$f":"SUMIFS('គ្រោងថវិកា SOB'!$O$11:$O$1178,'គ្រោងថវិកា SOB'!$M$11:$M$1178,C117)","v":0},{"$f":"SUM(E117:F117)","v":0}]
[null,null,61128,"សោហ៊ុយក្នុងប្រទេសផ្សេងៗ",{"$f":"SUMIFS('គ្រោងថវិកា SOB'!$N$11:$N$1178,'គ្រោងថវិកា SOB'!$M$11:$M$1178,C118)","v":0},{"$f":"SUMIFS('គ្រោងថវិកា SOB'!$O$11:$O$1178,'គ្រោងថវិកា SOB'!$M$11:$M$1178,C118)","v":0},{"$f":"SUM(E118:F118)","v":0}]
[null,6113,null,"សោហ៊ុយបេសកកម្មក្រៅប្រទេស",{"$f":"SUM(E120:E123)","v":0},{"$f":"SUM(F120:F123)","v":0},{"$f":"SUM(G120:G123)","v":0}]
[null,null,61131,"សោហ៊ុយដឹកជញ្ជូន",{"$f":"SUMIFS('គ្រោងថវិកា SOB'!$N$11:$N$1178,'គ្រោងថវិកា SOB'!$M$11:$M$1178,C120)","v":0},{"$f":"SUMIFS('គ្រោងថវិកា SOB'!$O$11:$O$1178,'គ្រោងថវិកា SOB'!$M$11:$M$1178,C120)","v":0},{"$f":"SUM(E120:F120)","v":0}]
[null,null,61132,"សោហ៊ុយបេសកកម្ម",{"$f":"SUMIFS('គ្រោងថវិកា SOB'!$N$11:$N$1178,'គ្រោងថវិកា SOB'!$M$11:$M$1178,C121)","v":0},{"$f":"SUMIFS('គ្រោងថវិកា SOB'!$O$11:$O$1178,'គ្រោងថវិកា SOB'!$M$11:$M$1178,C121)","v":0},{"$f":"SUM(E121:F121)","v":0}]
[null,null,61133,"សោហ៊ុយស្នាក់នៅ",{"$f":"SUMIFS('គ្រោងថវិកា SOB'!$N$11:$N$1178,'គ្រោងថវិកា SOB'!$M$11:$M$1178,C122)","v":0},{"$f":"SUMIFS('គ្រោងថវិកា SOB'!$O$11:$O$1178,'គ្រោងថវិកា SOB'!$M$11:$M$1178,C122)","v":0},{"$f":"SUM(E122:F122)","v":0}]
[null,null,61138,"សោហ៊ុយក្រៅប្រទេសផ្សេងៗ",{"$f":"SUMIFS('គ្រោងថវិកា SOB'!$N$11:$N$1178,'គ្រោងថវិកា SOB'!$M$11:$M$1178,C123)","v":0},{"$f":"SUMIFS('គ្រោងថវិកា SOB'!$O$11:$O$1178,'គ្រោងថវិកា SOB'!$M$11:$M$1178,C123)","v":0},{"$f":"SUM(E123:F123)","v":0}]
[null,6114,null,"សោហ៊ុយប្រៃសណីយ៍ និងទូរគមនាគមន៍",{"$f":"SUM(E125:E127)","v":0},{"$f":"SUM(F125:F127)","v":0},{"$f":"SUM(G125:G127)","v":0}]
[null,null,61141,"សោហ៊ុយប្រៃសណីយ៍",{"$f":"SUMIFS('គ្រោងថវិកា SOB'!$N$11:$N$1178,'គ្រោងថវិកា SOB'!$M$11:$M$1178,C125)","v":0},{"$f":"SUMIFS('គ្រោងថវិកា SOB'!$O$11:$O$1178,'គ្រោងថវិកា SOB'!$M$11:$M$1178,C125)","v":0},{"$f":"SUM(E125:F125)","v":0}]
[null,null,61142,"សោហ៊ុយទូរគមនាគមន៍",{"$f":"SUMIFS('គ្រោងថវិកា SOB'!$N$11:$N$1178,'គ្រោងថវិកា SOB'!$M$11:$M$1178,C126)","v":0},{"$f":"SUMIFS('គ្រោងថវិកា SOB'!$O$11:$O$1178,'គ្រោងថវិកា SOB'!$M$11:$M$1178,C126)","v":0},{"$f":"SUM(E126:F126)","v":0}]
[null,null,61148,"សោហ៊ុយទូរគមនាគមន៍ផ្សេងៗ",{"$f":"SUMIFS('គ្រោងថវិកា SOB'!$N$11:$N$1178,'គ្រោងថវិកា SOB'!$M$11:$M$1178,C127)","v":0},{"$f":"SUMIFS('គ្រោងថវិកា SOB'!$O$11:$O$1178,'គ្រោងថវិកា SOB'!$M$11:$M$1178,C127)","v":0},{"$f":"SUM(E127:F127)","v":0}]
[null,6115,null,"សោហ៊ុយធនាគារ",{"$f":"SUM(E129)","v":0},{"$f":"SUM(F129)","v":0},{"$f":"SUM(G129)","v":0}]
[null,null,61151,"សោហ៊ុយធនាគារ",{"$f":"SUMIFS('គ្រោងថវិកា SOB'!$N$11:$N$1178,'គ្រោងថវិកា SOB'!$M$11:$M$1178,C129)","v":0},{"$f":"SUMIFS('គ្រោងថវិកា SOB'!$O$11:$O$1178,'គ្រោងថវិកា SOB'!$M$11:$M$1178,C129)","v":0},{"$f":"SUM(E129:F129)","v":0}]
[null,6116,null,"សំណងកិច្ចសន្យា",{"$f":"SUM(E131:E138)","v":0},{"$f":"SUM(F131:F138)","v":0},{"$f":"SUM(G131:G138)","v":0}]
[null,null,61161,"ផ្លូវថ្នល់ ផ្លូវទឹក",{"$f":"SUMIFS('គ្រោងថវិកា SOB'!$N$11:$N$1178,'គ្រោងថវិកា SOB'!$M$11:$M$1178,C131)","v":0},{"$f":"SUMIFS('គ្រោងថវិកា SOB'!$O$11:$O$1178,'គ្រោងថវិកា SOB'!$M$11:$M$1178,C131)","v":0},{"$f":"SUM(E131:F131)","v":0}]
[null,null,61162,"ធារាសាស្ត្រ",{"$f":"SUMIFS('គ្រោងថវិកា SOB'!$N$11:$N$1178,'គ្រោងថវិកា SOB'!$M$11:$M$1178,C132)","v":0},{"$f":"SUMIFS('គ្រោងថវិកា SOB'!$O$11:$O$1178,'គ្រោងថវិកា SOB'!$M$11:$M$1178,C132)","v":0},0]
[null,null,61163,"អាយស្ម័យយាន",{"$f":"SUMIFS('គ្រោងថវិកា SOB'!$N$11:$N$1178,'គ្រោងថវិកា SOB'!$M$11:$M$1178,C133)","v":0},{"$f":"SUMIFS('គ្រោងថវិកា SOB'!$O$11:$O$1178,'គ្រោងថវិកា SOB'!$M$11:$M$1178,C133)","v":0},0]
[null,null,61164,"អាកាសយានដ្ឋាន",{"$f":"SUMIFS('គ្រោងថវិកា SOB'!$N$11:$N$1178,'គ្រោងថវិកា SOB'!$M$11:$M$1178,C134)","v":0},{"$f":"SUMIFS('គ្រោងថវិកា SOB'!$O$11:$O$1178,'គ្រោងថវិកា SOB'!$M$11:$M$1178,C134)","v":0},0]
[null,null,61165,"ទូរគមនាគមន៍",{"$f":"SUMIFS('គ្រោងថវិកា SOB'!$N$11:$N$1178,'គ្រោងថវិកា SOB'!$M$11:$M$1178,C135)","v":0},{"$f":"SUMIFS('គ្រោងថវិកា SOB'!$O$11:$O$1178,'គ្រោងថវិកា SOB'!$M$11:$M$1178,C135)","v":0},0]
[null,null,61166,"អគ្គិសនី",{"$f":"SUMIFS('គ្រោងថវិកា SOB'!$N$11:$N$1178,'គ្រោងថវិកា SOB'!$M$11:$M$1178,C136)","v":0},{"$f":"SUMIFS('គ្រោងថវិកា SOB'!$O$11:$O$1178,'គ្រោងថវិកា SOB'!$M$11:$M$1178,C136)","v":0},0]
[null,null,61167,"បណ្តាញបង្ហូរទឹក និងអនាម័យ",{"$f":"SUMIFS('គ្រោងថវិកា SOB'!$N$11:$N$1178,'គ្រោងថវិកា SOB'!$M$11:$M$1178,C137)","v":0},{"$f":"SUMIFS('គ្រោងថវិកា SOB'!$O$11:$O$1178,'គ្រោងថវិកា SOB'!$M$11:$M$1178,C137)","v":0},0]
[null,null,61168,"ហេដ្ឋារចនាសម្ព័ន្ធផ្សេងៗ",{"$f":"SUMIFS('គ្រោងថវិកា SOB'!$N$11:$N$1178,'គ្រោងថវិកា SOB'!$M$11:$M$1178,C138)","v":0},{"$f":"SUMIFS('គ្រោងថវិកា SOB'!$O$11:$O$1178,'គ្រោងថវិកា SOB'!$M$11:$M$1178,C138)","v":0},0]
[null,6198,null,"សេវាកម្មផ្សេងៗទៀត",{"$f":"SUM(E140)","v":0},{"$f":"SUM(F140)","v":0},{"$f":"SUM(G140)","v":0}]
[null,null,61981,"សេវាកម្មផ្សេងៗទៀត",{"$f":"SUMIFS('គ្រោងថវិកា SOB'!$N$11:$N$1178,'គ្រោងថវិកា SOB'!$M$11:$M$1178,C140)","v":0},{"$f":"SUMIFS('គ្រោងថវិកា SOB'!$O$11:$O$1178,'គ្រោងថវិកា SOB'!$M$11:$M$1178,C140)","v":0},{"$f":"SUM(E140:F140)","v":0}]
[64,null,null,"បន្ទុកបុគ្គលិក",{"$f":"SUM(E142+E151+E160+E166+E170+E178+E183+E192)","v":0},{"$f":"SUM(F142+F151+F160+F166+F170+F178+F183+F192)","v":0},{"$f":"SUM(G142+G151+G160+G166+G170+G178+G183+G192)","v":0}]
[null,6401,null,"លាភការ និងប្រាក់បំណាច់នៃអំណាចសាធារណៈ",{"$f":"SUM(E143:E150)","v":0},{"$f":"SUM(F143:F150)","v":0},{"$f":"SUM(G143:G150)","v":0}]
[null,null,64011,"ខុទ្ទកាល័យព្រះបរមរាជវាំង",{"$f":"SUMIFS('គ្រោងថវិកា SOB'!$N$11:$N$1178,'គ្រោងថវិកា SOB'!$M$11:$M$1178,C143)","v":0},{"$f":"SUMIFS('គ្រោងថវិកា SOB'!$O$11:$O$1178,'គ្រោងថវិកា SOB'!$M$11:$M$1178,C143)","v":0},{"$f":"SUM(E143:F143)","v":0}]
[null,null,64012,"ប្រាក់បំណាច់ ប្រធាន អនុប្រធាន និងសមាជិកស្ថាប័នកំពូល",{"$f":"SUMIFS('គ្រោងថវិកា SOB'!$N$11:$N$1178,'គ្រោងថវិកា SOB'!$M$11:$M$1178,C144)","v":0},{"$f":"SUMIFS('គ្រោងថវិកា SOB'!$O$11:$O$1178,'គ្រោងថវិកា SOB'!$M$11:$M$1178,C144)","v":0},0]
[null,null,64013,"ប្រាក់បំណាច់ នាយករដ្ឋមន្ត្រី និងឧបនាយករដ្ឋមន្ត្រី",{"$f":"SUMIFS('គ្រោងថវិកា SOB'!$N$11:$N$1178,'គ្រោងថវិកា SOB'!$M$11:$M$1178,C145)","v":0},{"$f":"SUMIFS('គ្រោងថវិកា SOB'!$O$11:$O$1178,'គ្រោងថវិកា SOB'!$M$11:$M$1178,C145)","v":0},0]
[null,null,64014,"ប្រាក់បំណាច់ រដ្ឋមន្ត្រី រដ្ឋលេខាធិការ និងអនុរដ្ឋលេខាធិការ",{"$f":"SUMIFS('គ្រោងថវិកា SOB'!$N$11:$N$1178,'គ្រោងថវិកា SOB'!$M$11:$M$1178,C146)","v":0},{"$f":"SUMIFS('គ្រោងថវិកា SOB'!$O$11:$O$1178,'គ្រោងថវិកា SOB'!$M$11:$M$1178,C146)","v":0},0]
[null,null,64015,"ប្រាក់បំណាច់អង្គទូត",{"$f":"SUMIFS('គ្រោងថវិកា SOB'!$N$11:$N$1178,'គ្រោងថវិកា SOB'!$M$11:$M$1178,C147)","v":0},{"$f":"SUMIFS('គ្រោងថវិកា SOB'!$O$11:$O$1178,'គ្រោងថវិកា SOB'!$M$11:$M$1178,C147)","v":0},0]
[null,null,64016,"លាភការទី ប្រឹក្សា",{"$f":"SUMIFS('គ្រោងថវិកា SOB'!$N$11:$N$1178,'គ្រោងថវិកា SOB'!$M$11:$M$1178,C148)","v":0},{"$f":"SUMIFS('គ្រោងថវិកា SOB'!$O$11:$O$1178,'គ្រោងថវិកា SOB'!$M$11:$M$1178,C148)","v":0},0]
[null,null,64017,"លាភការបេសកជន",{"$f":"SUMIFS('គ្រោងថវិកា SOB'!$N$11:$N$1178,'គ្រោងថវិកា SOB'!$M$11:$M$1178,C149)","v":0},{"$f":"SUMIFS('គ្រោងថវិកា SOB'!$O$11:$O$1178,'គ្រោងថវិកា SOB'!$M$11:$M$1178,C149)","v":0},0]
[null,null,64018,"លាភការអ្នកជំនួយការ",{"$f":"SUMIFS('គ្រោងថវិកា SOB'!$N$11:$N$1178,'គ្រោងថវិកា SOB'!$M$11:$M$1178,C150)","v":0},{"$f":"SUMIFS('គ្រោងថវិកា SOB'!$O$11:$O$1178,'គ្រោងថវិកា SOB'!$M$11:$M$1178,C150)","v":0},0]
[null,6402,null,"លាភការនិងប្រាក់បំណាច់ បុគ្គលិកក្របខ័ណ្ឌ\nអចិន្ត្រៃយ៍",{"$f":"SUM(E152:E159)","v":0},{"$f":"SUM(F152:F159)","v":0},{"$f":"SUM(G152:G159)","v":0}]
[null,null,64021,"បៀវត្សមូលដ្ឋាន",{"$f":"SUMIFS('គ្រោងថវិកា SOB'!$N$11:$N$1178,'គ្រោងថវិកា SOB'!$M$11:$M$1178,C152)","v":0},{"$f":"SUMIFS('គ្រោងថវិកា SOB'!$O$11:$O$1178,'គ្រោងថវិកា SOB'!$M$11:$M$1178,C152)","v":0},{"$f":"SUM(E152:F152)","v":0}]
[null,null,64022,"ប្រាក់បំណាច់មុខងារ",{"$f":"SUMIFS('គ្រោងថវិកា SOB'!$N$11:$N$1178,'គ្រោងថវិកា SOB'!$M$11:$M$1178,C153)","v":0},{"$f":"SUMIFS('គ្រោងថវិកា SOB'!$O$11:$O$1178,'គ្រោងថវិកា SOB'!$M$11:$M$1178,C153)","v":0},0]
[null,null,64023,"ប្រាក់បំណាច់ម៉ោងបន្ថែម",{"$f":"SUMIFS('គ្រោងថវិកា SOB'!$N$11:$N$1178,'គ្រោងថវិកា SOB'!$M$11:$M$1178,C154)","v":0},{"$f":"SUMIFS('គ្រោងថវិកា SOB'!$O$11:$O$1178,'គ្រោងថវិកា SOB'!$M$11:$M$1178,C154)","v":0},0]
[null,null,64024,"ប្រាក់កំរៃគរុកោសល្យ",{"$f":"SUMIFS('គ្រោងថវិកា SOB'!$N$11:$N$1178,'គ្រោងថវិកា SOB'!$M$11:$M$1178,C155)","v":0},{"$f":"SUMIFS('គ្រោងថវិកា SOB'!$O$11:$O$1178,'គ្រោងថវិកា SOB'!$M$11:$M$1178,C155)","v":0},0]
[null,null,64025,"ប្រាក់បំប៉នជីវភាពពិសេស",{"$f":"SUMIFS('គ្រោងថវិកា SOB'!$N$11:$N$1178,'គ្រោងថវិកា SOB'!$M$11:$M$1178,C156)","v":0},{"$f":"SUMIFS('គ្រោងថវិកា SOB'!$O$11:$O$1178,'គ្រោងថវិកា SOB'!$M$11:$M$1178,C156)","v":0},0]
[null,null,64026,"ប្រាក់បំណាច់តំបន់",{"$f":"SUMIFS('គ្រោងថវិកា SOB'!$N$11:$N$1178,'គ្រោងថវិកា SOB'!$M$11:$M$1178,C157)","v":0},{"$f":"SUMIFS('គ្រោងថវិកា SOB'!$O$11:$O$1178,'គ្រោងថវិកា SOB'!$M$11:$M$1178,C157)","v":0},0]
[null,null,64027,"ប្រាក់បំណាច់ទទួលខុសត្រូវ",{"$f":"SUMIFS('គ្រោងថវិកា SOB'!$N$11:$N$1178,'គ្រោងថវិកា SOB'!$M$11:$M$1178,C158)","v":0},{"$f":"SUMIFS('គ្រោងថវិកា SOB'!$O$11:$O$1178,'គ្រោងថវិកា SOB'!$M$11:$M$1178,C158)","v":0},0]
[null,null,64028,"ប្រាក់បំណាច់ការងារធ្ងន់ និងប៉ះពាល់សុខភាព",{"$f":"SUMIFS('គ្រោងថវិកា SOB'!$N$11:$N$1178,'គ្រោងថវិកា SOB'!$M$11:$M$1178,C159)","v":0},{"$f":"SUMIFS('គ្រោងថវិកា SOB'!$O$11:$O$1178,'គ្រោងថវិកា SOB'!$M$11:$M$1178,C159)","v":0},0]
[null,6403,null,"ប្រាក់បំណាច់ផ្សេងៗ",{"$f":"SUM(E161:E165)","v":0},{"$f":"SUM(F161:F165)","v":0},{"$f":"SUM(G161:G165)","v":0}]
[null,null,64033,"រង្វាន់​",{"$f":"SUMIFS('គ្រោងថវិកា SOB'!$N$11:$N$1178,'គ្រោងថវិកា SOB'!$M$11:$M$1178,C161)","v":0},{"$f":"SUMIFS('គ្រោងថវិកា SOB'!$O$11:$O$1178,'គ្រោងថវិកា SOB'!$M$11:$M$1178,C161)","v":0},{"$f":"SUM(E161:F161)","v":0}]
[null,null,64034,"ប្រាក់បំណាច់បុគ្គលិកអង្គភាពផ្សេងៗ",{"$f":"SUMIFS('គ្រោងថវិកា SOB'!$N$11:$N$1178,'គ្រោងថវិកា SOB'!$M$11:$M$1178,C162)","v":0},{"$f":"SUMIFS('គ្រោងថវិកា SOB'!$O$11:$O$1178,'គ្រោងថវិកា SOB'!$M$11:$M$1178,C162)","v":0},{"$f":"SUM(E162:F162)","v":0}]
[null,null,64035,"ប្រាក់បំណាច់គ្រូបង្គោលអង្គភាពផ្សេងៗ",{"$f":"SUMIFS('គ្រោងថវិកា SOB'!$N$11:$N$1178,'គ្រោងថវិកា SOB'!$M$11:$M$1178,C163)","v":0},{"$f":"SUMIFS('គ្រោងថវិកា SOB'!$O$11:$O$1178,'គ្រោងថវិកា SOB'!$M$11:$M$1178,C163)","v":0},{"$f":"SUM(E163:F163)","v":0}]
[null,null,64037,"ប្រាក់ឧបត្ថម្ភក្រុមប្រឹក្សាភិបាលរបស់គ្រឹះស្ថាន\nសាធារណៈរដ្ឋបាល និងរបស់អង្គភាពដទៃទៀត",{"$f":"SUMIFS('គ្រោងថវិកា SOB'!$N$11:$N$1178,'គ្រោងថវិកា SOB'!$M$11:$M$1178,C164)","v":0},{"$f":"SUMIFS('គ្រោងថវិកា SOB'!$O$11:$O$1178,'គ្រោងថវិកា SOB'!$M$11:$M$1178,C164)","v":0},{"$f":"SUM(E164:F164)","v":0}]
[null,null,64038,"ប្រាក់បំណាច់ផ្សេងៗ",{"$f":"SUMIFS('គ្រោងថវិកា SOB'!$N$11:$N$1178,'គ្រោងថវិកា SOB'!$M$11:$M$1178,C165)","v":0},{"$f":"SUMIFS('គ្រោងថវិកា SOB'!$O$11:$O$1178,'គ្រោងថវិកា SOB'!$M$11:$M$1178,C165)","v":0},{"$f":"SUM(E165:F165)","v":0}]
[null,6404,null,"លាភការ និងប្រាក់បំណាច់បុគ្គលិកមិនមែនក្របខ័ណ្ឌ",{"$f":"SUM(E167:E169)","v":0},{"$f":"SUM(F167:F169)","v":0},{"$f":"SUM(G167:G169)","v":0}]
[null,null,64041,"បៀវត្សមូលដ្ឋាន បុគ្គលិកជាប់កិច្ចសន្យា",{"$f":"SUMIFS('គ្រោងថវិកា SOB'!$N$11:$N$1178,'គ្រោងថវិកា SOB'!$M$11:$M$1178,C167)","v":0},{"$f":"SUMIFS('គ្រោងថវិកា SOB'!$O$11:$O$1178,'គ្រោងថវិកា SOB'!$M$11:$M$1178,C167)","v":0},{"$f":"SUM(E167:F167)","v":0}]
[null,null,64042,"លាភការផ្សេងៗទៀត បុគ្គលិកជាប់កិច្ចសន្យា",{"$f":"SUMIFS('គ្រោងថវិកា SOB'!$N$11:$N$1178,'គ្រោងថវិកា SOB'!$M$11:$M$1178,C168)","v":0},{"$f":"SUMIFS('គ្រោងថវិកា SOB'!$O$11:$O$1178,'គ្រោងថវិកា SOB'!$M$11:$M$1178,C168)","v":0},{"$f":"SUM(E168:F168)","v":0}]
[null,null,64048,"លាភការផ្សេងៗ",{"$f":"SUMIFS('គ្រោងថវិកា SOB'!$N$11:$N$1178,'គ្រោងថវិកា SOB'!$M$11:$M$1178,C169)","v":0},{"$f":"SUMIFS('គ្រោងថវិកា SOB'!$O$11:$O$1178,'គ្រោងថវិកា SOB'!$M$11:$M$1178,C169)","v":0},{"$f":"SUM(E169:F169)","v":0}]
[null,6405,null,"ប្រាក់វិភាជន៍សង្គមសម្រាប់មន្ត្រីរាជការ និងបុគ្គលិកផ្សេងៗ",{"$f":"SUM(E171:E177)","v":0},{"$f":"SUM(F171:F177)","v":0},{"$f":"SUM(G171:G177)","v":0}]
[null,null,64051,"មន្ត្រីមានជម្ងឺ",{"$f":"SUMIFS('គ្រោងថវិកា SOB'!$N$11:$N$1178,'គ្រោងថវិកា SOB'!$M$11:$M$1178,C171)","v":0},{"$f":"SUMIFS('គ្រោងថវិកា SOB'!$O$11:$O$1178,'គ្រោងថវិកា SOB'!$M$11:$M$1178,C171)","v":0},{"$f":"SUM(E171:F171)","v":0}]
[null,null,64052,"អ្នកសម្រាលកូន",{"$f":"SUMIFS('គ្រោងថវិកា SOB'!$N$11:$N$1178,'គ្រោងថវិកា SOB'!$M$11:$M$1178,C172)","v":0},{"$f":"SUMIFS('គ្រោងថវិកា SOB'!$O$11:$O$1178,'គ្រោងថវិកា SOB'!$M$11:$M$1178,C172)","v":0},0]
[null,null,64053,"មរណៈភាព",{"$f":"SUMIFS('គ្រោងថវិកា SOB'!$N$11:$N$1178,'គ្រោងថវិកា SOB'!$M$11:$M$1178,C173)","v":0},{"$f":"SUMIFS('គ្រោងថវិកា SOB'!$O$11:$O$1178,'គ្រោងថវិកា SOB'!$M$11:$M$1178,C173)","v":0},0]
[null,null,64054,"ឧបត្ថម្ភនិវត្តជន",{"$f":"SUMIFS('គ្រោងថវិកា SOB'!$N$11:$N$1178,'គ្រោងថវិកា SOB'!$M$11:$M$1178,C174)","v":0},{"$f":"SUMIFS('គ្រោងថវិកា SOB'!$O$11:$O$1178,'គ្រោងថវិកា SOB'!$M$11:$M$1178,C174)","v":0},0]
[null,null,64055,"ឧបត្ថម្ភដល់អ្នកសុំឈប់ពីការងារ",{"$f":"SUMIFS('គ្រោងថវិកា SOB'!$N$11:$N$1178,'គ្រោងថវិកា SOB'!$M$11:$M$1178,C175)","v":0},{"$f":"SUMIFS('គ្រោងថវិកា SOB'!$O$11:$O$1178,'គ្រោងថវិកា SOB'!$M$11:$M$1178,C175)","v":0},0]
[null,null,64056,"គ្រោះថ្នាក់ក្នុងការងារនិងទព្វលភាព",{"$f":"SUMIFS('គ្រោងថវិកា SOB'!$N$11:$N$1178,'គ្រោងថវិកា SOB'!$M$11:$M$1178,C176)","v":0},{"$f":"SUMIFS('គ្រោងថវិកា SOB'!$O$11:$O$1178,'គ្រោងថវិកា SOB'!$M$11:$M$1178,C176)","v":0},0]
[null,null,64058,"ប្រាក់វិភាជន៍សង្គមផ្សេងៗទៀតសម្រាប់មន្ត្រីរាជការ និងបុគ្គលិកផ្សេងៗ",{"$f":"SUMIFS('គ្រោងថវិកា SOB'!$N$11:$N$1178,'គ្រោងថវិកា SOB'!$M$11:$M$1178,C177)","v":0},{"$f":"SUMIFS('គ្រោងថវិកា SOB'!$O$11:$O$1178,'គ្រោងថវិកា SOB'!$M$11:$M$1178,C177)","v":0},0]
[null,6406,null,"ប្រាក់វិភាជន៍សង្គមសម្រាប់គ្រួសារមន្ត្រីរាជការ",{"$f":"SUM(E179:E182)","v":0},{"$f":"SUM(F179:F182)","v":0},{"$f":"SUM(G179:G182)","v":0}]
[null,null,64061,"កូនមានអាយុចាប់ពី២០ឆ្នាំចុះ",{"$f":"SUMIFS('គ្រោងថវិកា SOB'!$N$11:$N$1178,'គ្រោងថវិកា SOB'!$M$11:$M$1178,C179)","v":0},{"$f":"SUMIFS('គ្រោងថវិកា SOB'!$O$11:$O$1178,'គ្រោងថវិកា SOB'!$M$11:$M$1178,C179)","v":0},{"$f":"SUM(E179:F179)","v":0}]
[null,null,64063,"ប្រាក់បំណាច់អ្នកក្នុងបន្ទុក",{"$f":"SUMIFS('គ្រោងថវិកា SOB'!$N$11:$N$1178,'គ្រោងថវិកា SOB'!$M$11:$M$1178,C180)","v":0},{"$f":"SUMIFS('គ្រោងថវិកា SOB'!$O$11:$O$1178,'គ្រោងថវិកា SOB'!$M$11:$M$1178,C180)","v":0},{"$f":"SUM(E180:F180)","v":0}]
[null,null,64064,"ឧបត្ថម្ភដល់កូនកំព្រារបស់មន្ដ្រីរាជការ",{"$f":"SUMIFS('គ្រោងថវិកា SOB'!$N$11:$N$1178,'គ្រោងថវិកា SOB'!$M$11:$M$1178,C181)","v":0},{"$f":"SUMIFS('គ្រោងថវិកា SOB'!$O$11:$O$1178,'គ្រោងថវិកា SOB'!$M$11:$M$1178,C181)","v":0},{"$f":"SUM(E181:F181)","v":0}]
[null,null,64068,"ប្រាក់វិភាជន៍សង្គមផ្សេងៗទៀតសម្រាប់គ្រួសារ\nមន្ត្រីរាជការ",{"$f":"SUMIFS('គ្រោងថវិកា SOB'!$N$11:$N$1178,'គ្រោងថវិកា SOB'!$M$11:$M$1178,C182)","v":0},{"$f":"SUMIFS('គ្រោងថវិកា SOB'!$O$11:$O$1178,'គ្រោងថវិកា SOB'!$M$11:$M$1178,C182)","v":0},{"$f":"SUM(E182:F182)","v":0}]
[null,6407,null,"លាភការ និងប្រាក់បំណាច់នៃអំណាចរដ្ឋបាលថ្នាក់ក្រោមជាតិ",{"$f":"SUM(E184:E191)","v":0},{"$f":"SUM(F184:F191)","v":0},{"$f":"SUM(G184:G191)","v":0}]
[null,null,64071,"ប្រាក់បំណាច់អភិបាល (រាជធានី-ខេត្ត ក្រុង-ស្រុក-ខណ្ឌ)",{"$f":"SUMIFS('គ្រោងថវិកា SOB'!$N$11:$N$1178,'គ្រោងថវិកា SOB'!$M$11:$M$1178,C184)","v":0},{"$f":"SUMIFS('គ្រោងថវិកា SOB'!$O$11:$O$1178,'គ្រោងថវិកា SOB'!$M$11:$M$1178,C184)","v":0},{"$f":"SUM(E184:F184)","v":0}]
[null,null,64072,"ប្រាក់បំណាច់អភិបាលរង (រាជធានី-ខេត្ត ក្រុង-ស្រុក-ខណ្ឌ)",{"$f":"SUMIFS('គ្រោងថវិកា SOB'!$N$11:$N$1178,'គ្រោងថវិកា SOB'!$M$11:$M$1178,C185)","v":0},{"$f":"SUMIFS('គ្រោងថវិកា SOB'!$O$11:$O$1178,'គ្រោងថវិកា SOB'!$M$11:$M$1178,C185)","v":0},0]
[null,null,64073,"ប្រាក់ឧបត្ថម្ភសមាជិកក្រុមប្រឹក្សា (រាជធានី-ខេត្ត ក្រុង-ស្រុក-ខណ្ឌ ឃុំ-សង្កាត់)",{"$f":"SUMIFS('គ្រោងថវិកា SOB'!$N$11:$N$1178,'គ្រោងថវិកា SOB'!$M$11:$M$1178,C186)","v":0},{"$f":"SUMIFS('គ្រោងថវិកា SOB'!$O$11:$O$1178,'គ្រោងថវិកា SOB'!$M$11:$M$1178,C186)","v":0},0]
[null,null,64074,"ប្រាក់ឧបត្ថម្ភមន្រ្តីភូមិ ",{"$f":"SUMIFS('គ្រោងថវិកា SOB'!$N$11:$N$1178,'គ្រោងថវិកា SOB'!$M$11:$M$1178,C187)","v":0},{"$f":"SUMIFS('គ្រោងថវិកា SOB'!$O$11:$O$1178,'គ្រោងថវិកា SOB'!$M$11:$M$1178,C187)","v":0},0]
[null,null,64075,"លាភការទី ប្រឹក្សា",{"$f":"SUMIFS('គ្រោងថវិកា SOB'!$N$11:$N$1178,'គ្រោងថវិកា SOB'!$M$11:$M$1178,C188)","v":0},{"$f":"SUMIFS('គ្រោងថវិកា SOB'!$O$11:$O$1178,'គ្រោងថវិកា SOB'!$M$11:$M$1178,C188)","v":0},0]
[null,null,64076,"លាភការបេសកជន",{"$f":"SUMIFS('គ្រោងថវិកា SOB'!$N$11:$N$1178,'គ្រោងថវិកា SOB'!$M$11:$M$1178,C189)","v":0},{"$f":"SUMIFS('គ្រោងថវិកា SOB'!$O$11:$O$1178,'គ្រោងថវិកា SOB'!$M$11:$M$1178,C189)","v":0},0]
[null,null,64077,"លាភការអ្នកជំនួយការ",{"$f":"SUMIFS('គ្រោងថវិកា SOB'!$N$11:$N$1178,'គ្រោងថវិកា SOB'!$M$11:$M$1178,C190)","v":0},{"$f":"SUMIFS('គ្រោងថវិកា SOB'!$O$11:$O$1178,'គ្រោងថវិកា SOB'!$M$11:$M$1178,C190)","v":0},0]
[null,null,64078,"ប្រាក់បំណាច់ផ្សេងៗទៀត",{"$f":"SUMIFS('គ្រោងថវិកា SOB'!$N$11:$N$1178,'គ្រោងថវិកា SOB'!$M$11:$M$1178,C191)","v":0},{"$f":"SUMIFS('គ្រោងថវិកា SOB'!$O$11:$O$1178,'គ្រោងថវិកា SOB'!$M$11:$M$1178,C191)","v":0},0]
[null,6498,null,"បន្ទុកបុគ្គលិកផ្សេងៗទៀត",{"$f":"SUM(E193)","v":0},{"$f":"SUM(F193)","v":0},{"$f":"SUM(G193)","v":0}]
[null,null,64981,"បន្ទុកបុគ្គលិកផ្សេងៗទៀត",{"$f":"SUMIFS('គ្រោងថវិកា SOB'!$N$11:$N$1178,'គ្រោងថវិកា SOB'!$M$11:$M$1178,C193)","v":0},{"$f":"SUMIFS('គ្រោងថវិកា SOB'!$O$11:$O$1178,'គ្រោងថវិកា SOB'!$M$11:$M$1178,C193)","v":0},{"$f":"SUM(E193:F193)","v":0}]
[null,null,null," ប្រភេទទី ២ : បន្ទុកហិរញ្ញវត្ថុ",{"$f":"E195","v":0},{"$f":"F195","v":0},{"$f":"SUM(G195)","v":0}]
[66,null,null,"បន្ទុកហិរញ្ញវត្ថុ",{"$f":"SUM(E196+E202+E205)","v":0},0,{"$f":"SUM(G196+G202+G205)","v":0}]
[null,6601,null,"ការប្រាក់នៃបំណុលក្នុងប្រទេស",{"$f":"SUM(E197:E201)","v":0},{"$f":"SUM(F197:F201)","v":0},{"$f":"SUM(G197:G201)","v":0}]
[null,null,66011,"ធនាគារជាតិនៃកម្ពុជា",{"$f":"SUMIFS('គ្រោងថវិកា SOB'!$N$11:$N$1178,'គ្រោងថវិកា SOB'!$M$11:$M$1178,C197)","v":0},{"$f":"SUMIFS('គ្រោងថវិកា SOB'!$O$11:$O$1178,'គ្រោងថវិកា SOB'!$M$11:$M$1178,C197)","v":0},{"$f":"SUM(E197:F197)","v":0}]
[null,null,66012,"ធនាគារពាណិជ្ជ",{"$f":"SUMIFS('គ្រោងថវិកា SOB'!$N$11:$N$1178,'គ្រោងថវិកា SOB'!$M$11:$M$1178,C198)","v":0},{"$f":"SUMIFS('គ្រោងថវិកា SOB'!$O$11:$O$1178,'គ្រោងថវិកា SOB'!$M$11:$M$1178,C198)","v":0},{"$f":"SUM(E198:F198)","v":0}]
[null,null,66013,"ប័ណ្ណរតនាគារ",{"$f":"SUMIFS('គ្រោងថវិកា SOB'!$N$11:$N$1178,'គ្រោងថវិកា SOB'!$M$11:$M$1178,C199)","v":0},{"$f":"SUMIFS('គ្រោងថវិកា SOB'!$O$11:$O$1178,'គ្រោងថវិកា SOB'!$M$11:$M$1178,C199)","v":0},{"$f":"SUM(E199:F199)","v":0}]
[null,null,66014,"សញ្ញាប័ណ្ណ",{"$f":"SUMIFS('គ្រោងថវិកា SOB'!$N$11:$N$1178,'គ្រោងថវិកា SOB'!$M$11:$M$1178,C200)","v":0},{"$f":"SUMIFS('គ្រោងថវិកា SOB'!$O$11:$O$1178,'គ្រោងថវិកា SOB'!$M$11:$M$1178,C200)","v":0},{"$f":"SUM(E200:F200)","v":0}]
[null,null,66018,"ផ្សេងៗ",{"$f":"SUMIFS('គ្រោងថវិកា SOB'!$N$11:$N$1178,'គ្រោងថវិកា SOB'!$M$11:$M$1178,C201)","v":0},{"$f":"SUMIFS('គ្រោងថវិកា SOB'!$O$11:$O$1178,'គ្រោងថវិកា SOB'!$M$11:$M$1178,C201)","v":0},{"$f":"SUM(E201:F201)","v":0}]
[null,6602,null,"ការប្រាក់នៃបំណុលក្រៅប្រទេស",{"$f":"SUM(E203:E204)","v":0},{"$f":"SUM(F203:F204)","v":0},{"$f":"SUM(G203:G204)","v":0}]
[null,null,66021,"ពហុភាគី",{"$f":"SUMIFS('គ្រោងថវិកា SOB'!$N$11:$N$1178,'គ្រោងថវិកា SOB'!$M$11:$M$1178,C203)","v":0},{"$f":"SUMIFS('គ្រោងថវិកា SOB'!$O$11:$O$1178,'គ្រោងថវិកា SOB'!$M$11:$M$1178,C203)","v":0},{"$f":"SUM(E203:F203)","v":0}]
[null,null,66022,"ទ្វេភាគី",{"$f":"SUMIFS('គ្រោងថវិកា SOB'!$N$11:$N$1178,'គ្រោងថវិកា SOB'!$M$11:$M$1178,C204)","v":0},{"$f":"SUMIFS('គ្រោងថវិកា SOB'!$O$11:$O$1178,'គ្រោងថវិកា SOB'!$M$11:$M$1178,C204)","v":0},{"$f":"SUM(E204:F204)","v":0}]
[null,6698,null,"បន្ទុកហិរញ្ញវត្ថុផ្សេងៗទៀត",{"$f":"SUM(E206:E207)","v":0},{"$f":"SUM(F206:F207)","v":0},{"$f":"SUM(G206:G207)","v":0}]
[null,null,66981,"ខាតពីការប្តូរប្រាក់",{"$f":"SUMIFS('គ្រោងថវិកា SOB'!$N$11:$N$1178,'គ្រោងថវិកា SOB'!$M$11:$M$1178,C206)","v":0},{"$f":"SUMIFS('គ្រោងថវិកា SOB'!$O$11:$O$1178,'គ្រោងថវិកា SOB'!$M$11:$M$1178,C206)","v":0},{"$f":"SUM(E206:F206)","v":0}]
[null,null,66988,"បន្ទុកហិរញ្ញវត្ថុផ្សេងៗទៀត",{"$f":"SUMIFS('គ្រោងថវិកា SOB'!$N$11:$N$1178,'គ្រោងថវិកា SOB'!$M$11:$M$1178,C207)","v":0},{"$f":"SUMIFS('គ្រោងថវិកា SOB'!$O$11:$O$1178,'គ្រោងថវិកា SOB'!$M$11:$M$1178,C207)","v":0},{"$f":"SUM(E207:F207)","v":0}]
[null,null,null,"ប្រភេទទី ៣ : អន្ដរាគមន៍សាធារណៈ",{"$f":"SUM(E209+E239)","v":0},{"$f":"SUM(F209+F239)","v":0},{"$f":"SUM(G209+G239)","v":0}]
[62,null,null,"អត្ថប្រយោជន៍សង្គម",{"$f":"SUM(E210+E212+E221+E230+E232+E234+E237)","v":0},{"$f":"SUM(F210+F212+F221+F230+F232+F234+F237)","v":0},{"$f":"SUM(G210+G212+G221+G230+G232+G234+G237)","v":0}]
[null,6201,null,"អត្ថប្រយោជន៍សន្តិសុខសង្គម",{"$f":"SUM(E211)","v":0},{"$f":"SUM(F211)","v":0},{"$f":"SUM(G211)","v":0}]
[null,null,62011,"អត្ថប្រយោជន៍សន្តិសុខសង្គម",{"$f":"SUMIFS('គ្រោងថវិកា SOB'!$N$11:$N$1178,'គ្រោងថវិកា SOB'!$M$11:$M$1178,C211)","v":0},{"$f":"SUMIFS('គ្រោងថវិកា SOB'!$O$11:$O$1178,'គ្រោងថវិកា SOB'!$M$11:$M$1178,C211)","v":0},{"$f":"SUM(E211:F211)","v":0}]
[null,6202,null,"ជំនួយសង្គមដល់ប្រជាពលរដ្ឋ",{"$f":"SUM(E213:E220)","v":0},{"$f":"SUM(F213:F220)","v":0},{"$f":"SUM(G213:G220)","v":0}]
[null,null,62021,"ជំនួយដល់ប្រជាជនសម្រាកពេទ្យ និងចំណាយដំណើរការ របស់មណ្ឌលថែទាំសុខភាព",{"$f":"SUMIFS('គ្រោងថវិកា SOB'!$N$11:$N$1178,'គ្រោងថវិកា SOB'!$M$11:$M$1178,C213)","v":0},{"$f":"SUMIFS('គ្រោងថវិកា SOB'!$O$11:$O$1178,'គ្រោងថវិកា SOB'!$M$11:$M$1178,C213)","v":0},{"$f":"SUM(E213:F213)","v":0}]
[null,null,62022,"ឱសថ",{"$f":"SUMIFS('គ្រោងថវិកា SOB'!$N$11:$N$1178,'គ្រោងថវិកា SOB'!$M$11:$M$1178,C214)","v":0},{"$f":"SUMIFS('គ្រោងថវិកា SOB'!$O$11:$O$1178,'គ្រោងថវិកា SOB'!$M$11:$M$1178,C214)","v":0},0]
[null,null,62023,"អាហារនិងសម្ភារៈ (ស្បៀង)",{"$f":"SUMIFS('គ្រោងថវិកា SOB'!$N$11:$N$1178,'គ្រោងថវិកា SOB'!$M$11:$M$1178,C215)","v":0},{"$f":"SUMIFS('គ្រោងថវិកា SOB'!$O$11:$O$1178,'គ្រោងថវិកា SOB'!$M$11:$M$1178,C215)","v":0},0]
[null,null,62024,"ជួយជនរងគ្រោះដោយគ្រោះធម្មជាតិ",{"$f":"SUMIFS('គ្រោងថវិកា SOB'!$N$11:$N$1178,'គ្រោងថវិកា SOB'!$M$11:$M$1178,C216)","v":0},{"$f":"SUMIFS('គ្រោងថវិកា SOB'!$O$11:$O$1178,'គ្រោងថវិកា SOB'!$M$11:$M$1178,C216)","v":0},0]
[null,null,62025,"អាហារូបករណ៍សម្រាប់​ការសិក្សា-ស្រាវជ្រាវក្នុងប្រទេស",{"$f":"SUMIFS('គ្រោងថវិកា SOB'!$N$11:$N$1178,'គ្រោងថវិកា SOB'!$M$11:$M$1178,C217)","v":0},{"$f":"SUMIFS('គ្រោងថវិកា SOB'!$O$11:$O$1178,'គ្រោងថវិកា SOB'!$M$11:$M$1178,C217)","v":0},0]
[null,null,62026,"អាហារូបករណ៍សម្រាប់​ការសិក្សា-ស្រាវជ្រាវក្រៅប្រទេស",{"$f":"SUMIFS('គ្រោងថវិកា SOB'!$N$11:$N$1178,'គ្រោងថវិកា SOB'!$M$11:$M$1178,C218)","v":0},{"$f":"SUMIFS('គ្រោងថវិកា SOB'!$O$11:$O$1178,'គ្រោងថវិកា SOB'!$M$11:$M$1178,C218)","v":0},0]
[null,null,62027,"សំណងខូចខាតដោយសារឧបទ្ទវហេតុសាធារណៈ",{"$f":"SUMIFS('គ្រោងថវិកា SOB'!$N$11:$N$1178,'គ្រោងថវិកា SOB'!$M$11:$M$1178,C219)","v":0},{"$f":"SUMIFS('គ្រោងថវិកា SOB'!$O$11:$O$1178,'គ្រោងថវិកា SOB'!$M$11:$M$1178,C219)","v":0},0]
[null,null,62028,"ជំនួយសង្គមផ្សេងៗទៀត",{"$f":"SUMIFS('គ្រោងថវិកា SOB'!$N$11:$N$1178,'គ្រោងថវិកា SOB'!$M$11:$M$1178,C220)","v":0},{"$f":"SUMIFS('គ្រោងថវិកា SOB'!$O$11:$O$1178,'គ្រោងថវិកា SOB'!$M$11:$M$1178,C220)","v":0},0]
[null,6203,null,"ឧបត្ថម្ភដល់អង្គភាពដែលមានលក្ខណៈសង្គម និងវប្បធម៌",{"$f":"SUM(E222:E229)","v":0},{"$f":"SUM(F222:F229)","v":0},{"$f":"SUM(G222:G229)","v":0}]
[null,null,62031,"ឧបត្ថម្ភសហគមន៍​ និងរក្សាសណ្តាប់ធ្នាប់ សន្តិសុខសង្គម",{"$f":"SUMIFS('គ្រោងថវិកា SOB'!$N$11:$N$1178,'គ្រោងថវិកា SOB'!$M$11:$M$1178,C222)","v":0},{"$f":"SUMIFS('គ្រោងថវិកា SOB'!$O$11:$O$1178,'គ្រោងថវិកា SOB'!$M$11:$M$1178,C222)","v":0},{"$f":"SUM(E222:F222)","v":0}]
[null,null,62032,"ឧបត្ថម្ភមណ្ឌលកុមារកំព្រា",{"$f":"SUMIFS('គ្រោងថវិកា SOB'!$N$11:$N$1178,'គ្រោងថវិកា SOB'!$M$11:$M$1178,C223)","v":0},{"$f":"SUMIFS('គ្រោងថវិកា SOB'!$O$11:$O$1178,'គ្រោងថវិកា SOB'!$M$11:$M$1178,C223)","v":0},0]
[null,null,62033,"ឧបត្ថម្ភដំណើរលំហែ និងសិក្សា",{"$f":"SUMIFS('គ្រោងថវិកា SOB'!$N$11:$N$1178,'គ្រោងថវិកា SOB'!$M$11:$M$1178,C224)","v":0},{"$f":"SUMIFS('គ្រោងថវិកា SOB'!$O$11:$O$1178,'គ្រោងថវិកា SOB'!$M$11:$M$1178,C224)","v":0},0]
[null,null,62034,"ឧបត្ថម្ភកាកបាទក្រហម",{"$f":"SUMIFS('គ្រោងថវិកា SOB'!$N$11:$N$1178,'គ្រោងថវិកា SOB'!$M$11:$M$1178,C225)","v":0},{"$f":"SUMIFS('គ្រោងថវិកា SOB'!$O$11:$O$1178,'គ្រោងថវិកា SOB'!$M$11:$M$1178,C225)","v":0},0]
[null,null,62035,"ឧបត្ថម្ភសហគមន៍ កីឡា និងវប្បធម៌",{"$f":"SUMIFS('គ្រោងថវិកា SOB'!$N$11:$N$1178,'គ្រោងថវិកា SOB'!$M$11:$M$1178,C226)","v":0},{"$f":"SUMIFS('គ្រោងថវិកា SOB'!$O$11:$O$1178,'គ្រោងថវិកា SOB'!$M$11:$M$1178,C226)","v":0},0]
[null,null,62036,"ឧបត្ថម្ភមណ្ឌលស្តារលទ្ធភាពពលកម្ម នីតិសម្បទា និងបណ្តុះបណ្តាលអភិវឌ្ឍន៍",{"$f":"SUMIFS('គ្រោងថវិកា SOB'!$N$11:$N$1178,'គ្រោងថវិកា SOB'!$M$11:$M$1178,C227)","v":0},{"$f":"SUMIFS('គ្រោងថវិកា SOB'!$O$11:$O$1178,'គ្រោងថវិកា SOB'!$M$11:$M$1178,C227)","v":0},0]
[null,null,62037,"ចំណាយសង្គមកិច្ចរបស់ព្រះមហាក្សត្រ",{"$f":"SUMIFS('គ្រោងថវិកា SOB'!$N$11:$N$1178,'គ្រោងថវិកា SOB'!$M$11:$M$1178,C228)","v":0},{"$f":"SUMIFS('គ្រោងថវិកា SOB'!$O$11:$O$1178,'គ្រោងថវិកា SOB'!$M$11:$M$1178,C228)","v":0},0]
[null,null,62038,"ឧបត្ថម្ភដល់អង្គភាពផ្សេងៗទៀត",{"$f":"SUMIFS('គ្រោងថវិកា SOB'!$N$11:$N$1178,'គ្រោងថវិកា SOB'!$M$11:$M$1178,C229)","v":0},{"$f":"SUMIFS('គ្រោងថវិកា SOB'!$O$11:$O$1178,'គ្រោងថវិកា SOB'!$M$11:$M$1178,C229)","v":0},0]
[null,6204,null,"ឧបត្ថម្ភដល់អង្គការមូលដ្ឋាន និងគាំទ្រកម្មវិធី-   ផ្សេងៗ",{"$f":"SUM(E231)","v":0},{"$f":"SUM(F231)","v":0},{"$f":"SUM(G231)","v":0}]
[null,null,62041,"ឧបត្ថម្ភដល់អង្គការមូលដ្ឋាន និងគាំទ្រកម្មវិធីផ្សេងៗ",{"$f":"SUMIFS('គ្រោងថវិកា SOB'!$N$11:$N$1178,'គ្រោងថវិកា SOB'!$M$11:$M$1178,C231)","v":0},{"$f":"SUMIFS('គ្រោងថវិកា SOB'!$O$11:$O$1178,'គ្រោងថវិកា SOB'!$M$11:$M$1178,C231)","v":0},{"$f":"SUM(E231:F231)","v":0}]
[null,6205,null,"ចំណាយអន្តរាគមន៍ផ្នែកសេដ្ឋកិច្ច",{"$f":"SUM(E233)","v":0},{"$f":"SUM(F233)","v":0},{"$f":"SUM(G233)","v":0}]
[null,null,62051,"ចំណាយអន្តរាគមន៍ផ្នែកសេដ្ឋកិច្ច",{"$f":"SUMIFS('គ្រោងថវិកា SOB'!$N$11:$N$1178,'គ្រោងថវិកា SOB'!$M$11:$M$1178,C233)","v":0},{"$f":"SUMIFS('គ្រោងថវិកា SOB'!$O$11:$O$1178,'គ្រោងថវិកា SOB'!$M$11:$M$1178,C233)","v":0},{"$f":"SUM(E233:F233)","v":0}]
[null,6206,null,"ចំណាយអន្តរាគមន៍ផ្នែក​សង្គមកិច្ចនិងវប្បធម៌",{"$f":"SUM(E235:E236)","v":0},{"$f":"SUM(F235:F236)","v":0},{"$f":"SUM(G235:G236)","v":0}]
[null,null,62061,"ចំណាយលើការប្រឡង-ប្រឡងប្រជែង",{"$f":"SUMIFS('គ្រោងថវិកា SOB'!$N$11:$N$1178,'គ្រោងថវិកា SOB'!$M$11:$M$1178,C235)","v":0},{"$f":"SUMIFS('គ្រោងថវិកា SOB'!$O$11:$O$1178,'គ្រោងថវិកា SOB'!$M$11:$M$1178,C235)","v":0},{"$f":"SUM(E235:F235)","v":0}]
[null,null,62068,"ចំណាយអន្តរាគមន៍ផ្នែក​សង្គមកិច្ចនិងវប្បធម៌ផ្សេងៗទៀត",{"$f":"SUMIFS('គ្រោងថវិកា SOB'!$N$11:$N$1178,'គ្រោងថវិកា SOB'!$M$11:$M$1178,C236)","v":0},{"$f":"SUMIFS('គ្រោងថវិកា SOB'!$O$11:$O$1178,'គ្រោងថវិកា SOB'!$M$11:$M$1178,C236)","v":0},{"$f":"SUM(E236:F236)","v":0}]
[null,6298,null,"អត្ថប្រយោជន៍សង្គមផ្សេងទៀត",{"$f":"SUM(E238)","v":0},{"$f":"SUM(F238)","v":0},{"$f":"SUM(G238)","v":0}]
[null,null,62981,"អត្ថប្រយោជន៍សង្គមផ្សេងទៀត",{"$f":"SUMIFS('គ្រោងថវិកា SOB'!$N$11:$N$1178,'គ្រោងថវិកា SOB'!$M$11:$M$1178,C238)","v":0},{"$f":"SUMIFS('គ្រោងថវិកា SOB'!$O$11:$O$1178,'គ្រោងថវិកា SOB'!$M$11:$M$1178,C238)","v":0},{"$f":"SUM(E238:F238)","v":0}]
[65,null,null,"ឧបត្ថម្ភធន",{"$f":"SUM(E240+E246+E255+E258+E264+E267+E274+E277+E280)","v":0},{"$f":"SUM(F240+F246+F255+F258+F264+F267+F274+F277+F280)","v":0},{"$f":"SUM(G240+G246+G255+G258+G264+G267+G274+G277+G280)","v":0}]
[null,6501,null,"ឧបត្ថម្ភធនរវាងរដ្ឋបាលសាធារណៈ",{"$f":"SUM(E241:E245)","v":0},{"$f":"SUM(F241:F245)","v":0},{"$f":"SUM(G241:G245)","v":0}]
[null,null,65011,"ឧបត្ថម្ភធនដល់រាជធានី-ខេត្ត",{"$f":"SUMIFS('គ្រោងថវិកា SOB'!$N$11:$N$1178,'គ្រោងថវិកា SOB'!$M$11:$M$1178,C241)","v":0},{"$f":"SUMIFS('គ្រោងថវិកា SOB'!$O$11:$O$1178,'គ្រោងថវិកា SOB'!$M$11:$M$1178,C241)","v":0},{"$f":"SUM(E241:F241)","v":0}]
[null,null,65012,"ឧបត្ថម្ភធនដល់ក្រុង-ស្រុក-ខណ្ឌ",{"$f":"SUMIFS('គ្រោងថវិកា SOB'!$N$11:$N$1178,'គ្រោងថវិកា SOB'!$M$11:$M$1178,C242)","v":0},{"$f":"SUMIFS('គ្រោងថវិកា SOB'!$O$11:$O$1178,'គ្រោងថវិកា SOB'!$M$11:$M$1178,C242)","v":0},{"$f":"SUM(E242:F242)","v":0}]
[null,null,65013,"ឧបត្ថម្ភធនដល់ឃុំ-សង្កាត់",{"$f":"SUMIFS('គ្រោងថវិកា SOB'!$N$11:$N$1178,'គ្រោងថវិកា SOB'!$M$11:$M$1178,C243)","v":0},{"$f":"SUMIFS('គ្រោងថវិកា SOB'!$O$11:$O$1178,'គ្រោងថវិកា SOB'!$M$11:$M$1178,C243)","v":0},{"$f":"SUM(E243:F243)","v":0}]
[null,null,65014,"ឧបត្ថម្ភ​ធនដល់ក្រសួង-ស្ថាប័ន",{"$f":"SUMIFS('គ្រោងថវិកា SOB'!$N$11:$N$1178,'គ្រោងថវិកា SOB'!$M$11:$M$1178,C244)","v":0},{"$f":"SUMIFS('គ្រោងថវិកា SOB'!$O$11:$O$1178,'គ្រោងថវិកា SOB'!$M$11:$M$1178,C244)","v":0},{"$f":"SUM(E244:F244)","v":0}]
[null,null,65018,"ផ្សេងៗ",{"$f":"SUMIFS('គ្រោងថវិកា SOB'!$N$11:$N$1178,'គ្រោងថវិកា SOB'!$M$11:$M$1178,C245)","v":0},{"$f":"SUMIFS('គ្រោងថវិកា SOB'!$O$11:$O$1178,'គ្រោងថវិកា SOB'!$M$11:$M$1178,C245)","v":0},{"$f":"SUM(E245:F245)","v":0}]
[null,6502,null,"ឧបត្ថម្ភធនដល់អង្គការសាធារណៈ",{"$f":"SUM(E247:E254)","v":0},{"$f":"SUM(F247:F254)","v":0},{"$f":"SUM(G247:G254)","v":0}]
[null,null,65021,"ឧបត្ថម្ភធនដល់អង្គភាពដែលមានលក្ខណៈសេដ្ឋកិច្ច",{"$f":"SUMIFS('គ្រោងថវិកា SOB'!$N$11:$N$1178,'គ្រោងថវិកា SOB'!$M$11:$M$1178,C247)","v":0},{"$f":"SUMIFS('គ្រោងថវិកា SOB'!$O$11:$O$1178,'គ្រោងថវិកា SOB'!$M$11:$M$1178,C247)","v":0},{"$f":"SUM(E247:F247)","v":0}]
[null,null,65022,"ឧបត្ថម្ភធនដល់អង្គភាពដែលមានលក្ខណៈសង្គម",{"$f":"SUMIFS('គ្រោងថវិកា SOB'!$N$11:$N$1178,'គ្រោងថវិកា SOB'!$M$11:$M$1178,C248)","v":0},{"$f":"SUMIFS('គ្រោងថវិកា SOB'!$O$11:$O$1178,'គ្រោងថវិកា SOB'!$M$11:$M$1178,C248)","v":0},0]
[null,null,65023,"ឧបត្ថម្ភធនដល់អង្គភាពដែលមានលក្ខណៈអប់រំ និងកីឡា",{"$f":"SUMIFS('គ្រោងថវិកា SOB'!$N$11:$N$1178,'គ្រោងថវិកា SOB'!$M$11:$M$1178,C249)","v":0},{"$f":"SUMIFS('គ្រោងថវិកា SOB'!$O$11:$O$1178,'គ្រោងថវិកា SOB'!$M$11:$M$1178,C249)","v":0},0]
[null,null,65024,"ឧបត្ថម្ភធនដល់អង្គភាពដែលមានលក្ខណៈសន្តិសុខនិងសណ្តាប់ធ្នាប់សង្គម",{"$f":"SUMIFS('គ្រោងថវិកា SOB'!$N$11:$N$1178,'គ្រោងថវិកា SOB'!$M$11:$M$1178,C250)","v":0},{"$f":"SUMIFS('គ្រោងថវិកា SOB'!$O$11:$O$1178,'គ្រោងថវិកា SOB'!$M$11:$M$1178,C250)","v":0},0]
[null,null,65025,"ឧបត្ថម្ភធនដល់អង្គភាពដែលមានលក្ខណៈវប្បធម៌",{"$f":"SUMIFS('គ្រោងថវិកា SOB'!$N$11:$N$1178,'គ្រោងថវិកា SOB'!$M$11:$M$1178,C251)","v":0},{"$f":"SUMIFS('គ្រោងថវិកា SOB'!$O$11:$O$1178,'គ្រោងថវិកា SOB'!$M$11:$M$1178,C251)","v":0},0]
[null,null,65026,"ឧបត្ថម្ភធនដល់អង្គភាពដែលមានលក្ខណៈរដ្ឋបាល",{"$f":"SUMIFS('គ្រោងថវិកា SOB'!$N$11:$N$1178,'គ្រោងថវិកា SOB'!$M$11:$M$1178,C252)","v":0},{"$f":"SUMIFS('គ្រោងថវិកា SOB'!$O$11:$O$1178,'គ្រោងថវិកា SOB'!$M$11:$M$1178,C252)","v":0},0]
[null,null,65027,"ឧបត្ថម្ភធនដល់អង្គភាពដែលមានលក្ខណៈច្បាប់",{"$f":"SUMIFS('គ្រោងថវិកា SOB'!$N$11:$N$1178,'គ្រោងថវិកា SOB'!$M$11:$M$1178,C253)","v":0},{"$f":"SUMIFS('គ្រោងថវិកា SOB'!$O$11:$O$1178,'គ្រោងថវិកា SOB'!$M$11:$M$1178,C253)","v":0},0]
[null,null,65028,"ផ្សេងៗ",{"$f":"SUMIFS('គ្រោងថវិកា SOB'!$N$11:$N$1178,'គ្រោងថវិកា SOB'!$M$11:$M$1178,C254)","v":0},{"$f":"SUMIFS('គ្រោងថវិកា SOB'!$O$11:$O$1178,'គ្រោងថវិកា SOB'!$M$11:$M$1178,C254)","v":0},0]
[null,6503,null,"ឧបត្ថម្ភធនដល់គ្រឹះស្ថានសាធារណៈមាន\nលក្ខណៈរដ្ឋបាល",{"$f":"SUM(E256:E257)","v":0},{"$f":"SUM(F256:F257)","v":0},{"$f":"SUM(G256:G257)","v":0}]
[null,null,65031,"ឧបត្ថម្ភធនជាហិរញ្ញវត្ថុដល់គ្រឹះស្ថានសាធារណៈមានលក្ខណៈរដ្ឋបាល",{"$f":"SUMIFS('គ្រោងថវិកា SOB'!$N$11:$N$1178,'គ្រោងថវិកា SOB'!$M$11:$M$1178,C256)","v":0},{"$f":"SUMIFS('គ្រោងថវិកា SOB'!$O$11:$O$1178,'គ្រោងថវិកា SOB'!$M$11:$M$1178,C256)","v":0},{"$f":"SUM(E256:F256)","v":0}]
[null,null,65032,"ឧបត្ថម្ភធនមិនមែនហិរញ្ញវត្ថុដល់គ្រឹះស្ថានសាធារណៈមានលក្ខណៈរដ្ឋបាល",{"$f":"SUMIFS('គ្រោងថវិកា SOB'!$N$11:$N$1178,'គ្រោងថវិកា SOB'!$M$11:$M$1178,C257)","v":0},{"$f":"SUMIFS('គ្រោងថវិកា SOB'!$O$11:$O$1178,'គ្រោងថវិកា SOB'!$M$11:$M$1178,C257)","v":0},{"$f":"SUM(E257:F257)","v":0}]
[null,6504,null,"ឧបត្ថម្ភធនដល់សហគ្រាសសាធារណៈ",{"$f":"SUM(E259:E263)","v":0},{"$f":"SUM(F259:F263)","v":0},{"$f":"SUM(G259:G263)","v":0}]
[null,null,65041,"ឧបត្ថម្ភធនដល់ក្រុមហ៊ុនរដ្ឋ ដែលមានលក្ខណៈហិរញ្ញវត្ថុ",{"$f":"SUMIFS('គ្រោងថវិកា SOB'!$N$11:$N$1178,'គ្រោងថវិកា SOB'!$M$11:$M$1178,C259)","v":0},{"$f":"SUMIFS('គ្រោងថវិកា SOB'!$O$11:$O$1178,'គ្រោងថវិកា SOB'!$M$11:$M$1178,C259)","v":0},{"$f":"SUM(E259:F259)","v":0}]
[null,null,65042,"ឧបត្ថម្ភធនដល់ក្រុមហ៊ុនចម្រុះ ដែលមានលក្ខណៈហិរញ្ញវត្ថុ",{"$f":"SUMIFS('គ្រោងថវិកា SOB'!$N$11:$N$1178,'គ្រោងថវិកា SOB'!$M$11:$M$1178,C260)","v":0},{"$f":"SUMIFS('គ្រោងថវិកា SOB'!$O$11:$O$1178,'គ្រោងថវិកា SOB'!$M$11:$M$1178,C260)","v":0},{"$f":"SUM(E260:F260)","v":0}]
[null,null,65043,"ឧបត្ថម្ភកធនដល់គ្រឹះស្ថានសាធារណៈ ដែលមានលក្ខណៈសេដ្ឋកិច្ច",{"$f":"SUMIFS('គ្រោងថវិកា SOB'!$N$11:$N$1178,'គ្រោងថវិកា SOB'!$M$11:$M$1178,C261)","v":0},{"$f":"SUMIFS('គ្រោងថវិកា SOB'!$O$11:$O$1178,'គ្រោងថវិកា SOB'!$M$11:$M$1178,C261)","v":0},{"$f":"SUM(E261:F261)","v":0}]
[null,null,65044,"ឧបត្ថម្ភធនដល់ក្រុមហ៊ុនរដ្ឋ ដែលមានលក្ខណៈមិនមែនហិរញ្ញវត្ថុ",{"$f":"SUMIFS('គ្រោងថវិកា SOB'!$N$11:$N$1178,'គ្រោងថវិកា SOB'!$M$11:$M$1178,C262)","v":0},{"$f":"SUMIFS('គ្រោងថវិកា SOB'!$O$11:$O$1178,'គ្រោងថវិកា SOB'!$M$11:$M$1178,C262)","v":0},{"$f":"SUM(E262:F262)","v":0}]
[null,null,65045,"ឧបត្ថម្ភធនដល់ក្រុមហ៊ុនចម្រុះ ដែលមានលក្ខណៈមិនមែនហិរញ្ញវត្ថុ",{"$f":"SUMIFS('គ្រោងថវិកា SOB'!$N$11:$N$1178,'គ្រោងថវិកា SOB'!$M$11:$M$1178,C263)","v":0},{"$f":"SUMIFS('គ្រោងថវិកា SOB'!$O$11:$O$1178,'គ្រោងថវិកា SOB'!$M$11:$M$1178,C263)","v":0},{"$f":"SUM(E263:F263)","v":0}]
[null,6505,null,"ឧបត្ថម្ភធនដល់សហគ្រាសឯកជន",{"$f":"SUM(E265:E266)","v":0},{"$f":"SUM(F265:F266)","v":0},{"$f":"SUM(G265:G266)","v":0}]
[null,null,65051,"ឧបត្ថម្ភធនដល់សហគ្រាសឯកជនដែលមានលក្ខណៈហិរញ្ញវត្ថុ ",{"$f":"SUMIFS('គ្រោងថវិកា SOB'!$N$11:$N$1178,'គ្រោងថវិកា SOB'!$M$11:$M$1178,C265)","v":0},{"$f":"SUMIFS('គ្រោងថវិកា SOB'!$O$11:$O$1178,'គ្រោងថវិកា SOB'!$M$11:$M$1178,C265)","v":0},{"$f":"SUM(E265:F265)","v":0}]
[null,null,65052,"ឧបត្ថម្ភធនដល់សហគ្រាសឯកជនដែលមានលក្ខណៈមិនមែនហិរញ្ញវត្ថុ ",{"$f":"SUMIFS('គ្រោងថវិកា SOB'!$N$11:$N$1178,'គ្រោងថវិកា SOB'!$M$11:$M$1178,C266)","v":0},{"$f":"SUMIFS('គ្រោងថវិកា SOB'!$O$11:$O$1178,'គ្រោងថវិកា SOB'!$M$11:$M$1178,C266)","v":0},{"$f":"SUM(E266:F266)","v":0}]
[null,6506,null,"វិភាគទាន​ដល់​អង្គការ​ សមាគម សហព័ន្ធអន្តរជាតិ​នានា​",{"$f":"SUM(E268:E273)","v":0},{"$f":"SUM(F268:F273)","v":0},{"$f":"SUM(G268:G273)","v":0}]
[null,null,65061,"អង្គការសហប្រជាជាតិ",{"$f":"SUMIFS('គ្រោងថវិកា SOB'!$N$11:$N$1178,'គ្រោងថវិកា SOB'!$M$11:$M$1178,C268)","v":0},{"$f":"SUMIFS('គ្រោងថវិកា SOB'!$O$11:$O$1178,'គ្រោងថវិកា SOB'!$M$11:$M$1178,C268)","v":0},{"$f":"SUM(E268:F268)","v":0}]
[null,null,65062,"ធនាគារពិភពលោក",{"$f":"SUMIFS('គ្រោងថវិកា SOB'!$N$11:$N$1178,'គ្រោងថវិកា SOB'!$M$11:$M$1178,C269)","v":0},{"$f":"SUMIFS('គ្រោងថវិកា SOB'!$O$11:$O$1178,'គ្រោងថវិកា SOB'!$M$11:$M$1178,C269)","v":0},0]
[null,null,65063,"ធនាគារអភិវឌ្ឍន៍អាស៊ី",{"$f":"SUMIFS('គ្រោងថវិកា SOB'!$N$11:$N$1178,'គ្រោងថវិកា SOB'!$M$11:$M$1178,C270)","v":0},{"$f":"SUMIFS('គ្រោងថវិកា SOB'!$O$11:$O$1178,'គ្រោងថវិកា SOB'!$M$11:$M$1178,C270)","v":0},0]
[null,null,65064,"សហព័ន្ធអន្តរជាតិខាងកីឡាផ្សេងៗ",{"$f":"SUMIFS('គ្រោងថវិកា SOB'!$N$11:$N$1178,'គ្រោងថវិកា SOB'!$M$11:$M$1178,C271)","v":0},{"$f":"SUMIFS('គ្រោងថវិកា SOB'!$O$11:$O$1178,'គ្រោងថវិកា SOB'!$M$11:$M$1178,C271)","v":0},0]
[null,null,65065,"សមាគមអាស៊ាន",{"$f":"SUMIFS('គ្រោងថវិកា SOB'!$N$11:$N$1178,'គ្រោងថវិកា SOB'!$M$11:$M$1178,C272)","v":0},{"$f":"SUMIFS('គ្រោងថវិកា SOB'!$O$11:$O$1178,'គ្រោងថវិកា SOB'!$M$11:$M$1178,C272)","v":0},0]
[null,null,65068,"អង្គការ សមាគម សហព័ន្ធអន្តរជាតិផ្សេងៗទៀត",{"$f":"SUMIFS('គ្រោងថវិកា SOB'!$N$11:$N$1178,'គ្រោងថវិកា SOB'!$M$11:$M$1178,C273)","v":0},{"$f":"SUMIFS('គ្រោងថវិកា SOB'!$O$11:$O$1178,'គ្រោងថវិកា SOB'!$M$11:$M$1178,C273)","v":0},0]
[null,6507,null,"ការចូលរួមក្នុងការអនុវត្តគម្រោង",{"$f":"SUM(E275:E276)","v":0},{"$f":"SUM(F275:F276)","v":0},{"$f":"SUM(G275:G276)","v":0}]
[null,null,65071,"ការចូលរួមក្នុងការអនុវត្តគម្រោងថវិកាបដិភាគ",{"$f":"SUMIFS('គ្រោងថវិកា SOB'!$N$11:$N$1178,'គ្រោងថវិកា SOB'!$M$11:$M$1178,C275)","v":0},{"$f":"SUMIFS('គ្រោងថវិកា SOB'!$O$11:$O$1178,'គ្រោងថវិកា SOB'!$M$11:$M$1178,C275)","v":0},{"$f":"SUM(E275:F275)","v":0}]
[null,null,65072,"ការចូលរួមក្នុងការអនុវត្តគម្រោងមូលនិធិទ្រទ្រង់ថវិកា",{"$f":"SUMIFS('គ្រោងថវិកា SOB'!$N$11:$N$1178,'គ្រោងថវិកា SOB'!$M$11:$M$1178,C276)","v":0},{"$f":"SUMIFS('គ្រោងថវិកា SOB'!$O$11:$O$1178,'គ្រោងថវិកា SOB'!$M$11:$M$1178,C276)","v":0},{"$f":"SUM(E276:F276)","v":0}]
[null,6508,null,"ឧបត្ថម្ភអង្គការអន្តរជាតិ និងប្រទេសផ្សេងៗ",{"$f":"SUM(E278:E279)","v":0},{"$f":"SUM(F278:F279)","v":0},{"$f":"SUM(G278:G279)","v":0}]
[null,null,65081,"ឧបត្ថម្ភជាហិរញ្ញវត្ថុ",{"$f":"SUMIFS('គ្រោងថវិកា SOB'!$N$11:$N$1178,'គ្រោងថវិកា SOB'!$M$11:$M$1178,C278)","v":0},{"$f":"SUMIFS('គ្រោងថវិកា SOB'!$O$11:$O$1178,'គ្រោងថវិកា SOB'!$M$11:$M$1178,C278)","v":0},{"$f":"SUM(E278:F278)","v":0}]
[null,null,65082,"ឧបត្ថម្ភមិនមែនហិរញ្ញវត្ថុ",{"$f":"SUMIFS('គ្រោងថវិកា SOB'!$N$11:$N$1178,'គ្រោងថវិកា SOB'!$M$11:$M$1178,C279)","v":0},{"$f":"SUMIFS('គ្រោងថវិកា SOB'!$O$11:$O$1178,'គ្រោងថវិកា SOB'!$M$11:$M$1178,C279)","v":0},{"$f":"SUM(E279:F279)","v":0}]
[null,6598,null,"ឧបត្ថម្ភធនផ្សេងៗ",{"$f":"SUM(E281)","v":0},{"$f":"SUM(F281)","v":0},{"$f":"SUM(G281)","v":0}]
[null,null,65981,"ឧបត្ថម្ភធនផ្សេងៗ",{"$f":"SUMIFS('គ្រោងថវិកា SOB'!$N$11:$N$1178,'គ្រោងថវិកា SOB'!$M$11:$M$1178,C281)","v":0},{"$f":"SUMIFS('គ្រោងថវិកា SOB'!$O$11:$O$1178,'គ្រោងថវិកា SOB'!$M$11:$M$1178,C281)","v":0},{"$f":"SUM(E281:F281)","v":0}]
[null,null,null,"ប្រភេទទី ៤ : ចំណាយផ្សេងៗ",{"$f":"SUM(E283)","v":0},{"$f":"SUM(F283)","v":0},{"$f":"SUM(G283)","v":0}]
[63,null,null,"ពន្ធ និងអាករ",{"$f":"SUM(E284+E286+E291+E295+E297+E301+E306+E308)","v":0},{"$f":"SUM(F284+F286+F291+F295+F297+F301+F306+F308)","v":0},{"$f":"SUM(G284+G286+G291+G295+G297+G301+G306+G308)","v":0}]
[null,6301,null,"លតាប័ត្រ",{"$f":"SUM(E285)","v":0},{"$f":"SUM(F285)","v":0},{"$f":"SUM(G285)","v":0}]
[null,null,63011,"លតាប័ត្រ",{"$f":"SUMIFS('គ្រោងថវិកា SOB'!$N$11:$N$1178,'គ្រោងថវិកា SOB'!$M$11:$M$1178,C285)","v":0},{"$f":"SUMIFS('គ្រោងថវិកា SOB'!$O$11:$O$1178,'គ្រោងថវិកា SOB'!$M$11:$M$1178,C285)","v":0},{"$f":"SUM(E285:F285)","v":0}]
[null,6302,null,"បន្ទុកពន្ធគយលើការនាំចូលទំនិញ និងសម្ភារ",{"$f":"SUM(E287:E290)","v":0},{"$f":"SUM(F287:F290)","v":0},{"$f":"SUM(G287:G290)","v":0}]
[null,null,63021,"បន្ទុកពន្ធគយលើការនាំចូលទំនិញ និងសម្ភារ",{"$f":"SUMIFS('គ្រោងថវិកា SOB'!$N$11:$N$1178,'គ្រោងថវិកា SOB'!$M$11:$M$1178,C287)","v":0},{"$f":"SUMIFS('គ្រោងថវិកា SOB'!$O$11:$O$1178,'គ្រោងថវិកា SOB'!$M$11:$M$1178,C287)","v":0},{"$f":"SUM(E287:F287)","v":0}]
[null,null,63022,"បន្ទុកពន្ធគយលើការនាំចូលទំនិញ និងសម្ភារកសិកម្ម(ជាបន្ទុករបស់រដ្ឋ)",{"$f":"SUMIFS('គ្រោងថវិកា SOB'!$N$11:$N$1178,'គ្រោងថវិកា SOB'!$M$11:$M$1178,C288)","v":0},{"$f":"SUMIFS('គ្រោងថវិកា SOB'!$O$11:$O$1178,'គ្រោងថវិកា SOB'!$M$11:$M$1178,C288)","v":0},{"$f":"SUM(E288:F288)","v":0}]
[null,null,63023,"បន្ទុកពន្ធគយលើការនាំចូលទំនិញជាវត្ថុធាតុដើមសម្រាប់  ផលិតឱសថ(ជាបន្ទុករបស់រដ្ឋ)",{"$f":"SUMIFS('គ្រោងថវិកា SOB'!$N$11:$N$1178,'គ្រោងថវិកា SOB'!$M$11:$M$1178,C289)","v":0},{"$f":"SUMIFS('គ្រោងថវិកា SOB'!$O$11:$O$1178,'គ្រោងថវិកា SOB'!$M$11:$M$1178,C289)","v":0},{"$f":"SUM(E289:F289)","v":0}]
[null,null,63028,"ផ្សេងៗ",{"$f":"SUMIFS('គ្រោងថវិកា SOB'!$N$11:$N$1178,'គ្រោងថវិកា SOB'!$M$11:$M$1178,C290)","v":0},{"$f":"SUMIFS('គ្រោងថវិកា SOB'!$O$11:$O$1178,'គ្រោងថវិកា SOB'!$M$11:$M$1178,C290)","v":0},{"$f":"SUM(E290:F290)","v":0}]
[null,6303,null,"បន្ទុកពន្ធប្រថាប់ត្រា",{"$f":"SUM(E292:E294)","v":0},{"$f":"SUM(F292:F294)","v":0},{"$f":"SUM(G292:G294)","v":0}]
[null,null,63031,"ពន្ធប្រថាប់ត្រាលើការផ្ទេរកម្មសិទ្ធិ ឬ សិទ្ធិ​កាន់កាប់​អចលនទ្រព្យ​",{"$f":"SUMIFS('គ្រោងថវិកា SOB'!$N$11:$N$1178,'គ្រោងថវិកា SOB'!$M$11:$M$1178,C292)","v":0},{"$f":"SUMIFS('គ្រោងថវិកា SOB'!$O$11:$O$1178,'គ្រោងថវិកា SOB'!$M$11:$M$1178,C292)","v":0},{"$f":"SUM(E292:F292)","v":0}]
[null,null,63032,"ពន្ធប្រថាប់ត្រាលើការផ្ទេរកម្មសិទ្ធិ ឬ សិទ្ធិ​កាន់កាប់​អចលនទ្រព្យ​ក្នុង​រង្វង់ញាតិ និង​ការអនុគ្រោះពន្ធ ជាបន្ទុករបស់រដ្ឋ",{"$f":"SUMIFS('គ្រោងថវិកា SOB'!$N$11:$N$1178,'គ្រោងថវិកា SOB'!$M$11:$M$1178,C293)","v":0},{"$f":"SUMIFS('គ្រោងថវិកា SOB'!$O$11:$O$1178,'គ្រោងថវិកា SOB'!$M$11:$M$1178,C293)","v":0},{"$f":"SUM(E293:F293)","v":0}]
[null,null,63038,"ផ្សេងៗ",{"$f":"SUMIFS('គ្រោងថវិកា SOB'!$N$11:$N$1178,'គ្រោងថវិកា SOB'!$M$11:$M$1178,C294)","v":0},{"$f":"SUMIFS('គ្រោងថវិកា SOB'!$O$11:$O$1178,'គ្រោងថវិកា SOB'!$M$11:$M$1178,C294)","v":0},{"$f":"SUM(E294:F294)","v":0}]
[null,6304,null,"បន្ទុកពន្ធលើផលទុននៃដីធ្លី ផ្ទះសម្បែង",{"$f":"SUM(E296)","v":0},{"$f":"SUM(F296)","v":0},{"$f":"SUM(G296)","v":0}]
[null,null,63041,"បន្ទុកពន្ធលើផលទុននៃដីធ្លី ផ្ទះសម្បែង",{"$f":"SUMIFS('គ្រោងថវិកា SOB'!$N$11:$N$1178,'គ្រោងថវិកា SOB'!$M$11:$M$1178,C296)","v":0},{"$f":"SUMIFS('គ្រោងថវិកា SOB'!$O$11:$O$1178,'គ្រោងថវិកា SOB'!$M$11:$M$1178,C296)","v":0},{"$f":"SUM(E296:F296)","v":0}]
[null,6305,null,"អាករលើតម្លៃបន្ថែម​លើទំនិញ និងសេវាជា\nបន្ទុករបស់​រដ្ឋ",{"$f":"SUM(E298:E300)","v":0},{"$f":"SUM(F298:F300)","v":0},{"$f":"SUM(G298:G300)","v":0}]
[null,null,63051,"អាករលើតម្លៃបន្ថែម​លើទំនិញជាបន្ទុករបស់​រដ្ឋ",{"$f":"SUMIFS('គ្រោងថវិកា SOB'!$N$11:$N$1178,'គ្រោងថវិកា SOB'!$M$11:$M$1178,C298)","v":0},{"$f":"SUMIFS('គ្រោងថវិកា SOB'!$O$11:$O$1178,'គ្រោងថវិកា SOB'!$M$11:$M$1178,C298)","v":0},{"$f":"SUM(E298:F298)","v":0}]
[null,null,63052,"អាករលើតម្លៃបន្ថែម​លើសេវាជាបន្ទុករបស់​រដ្ឋ",{"$f":"SUMIFS('គ្រោងថវិកា SOB'!$N$11:$N$1178,'គ្រោងថវិកា SOB'!$M$11:$M$1178,C299)","v":0},{"$f":"SUMIFS('គ្រោងថវិកា SOB'!$O$11:$O$1178,'គ្រោងថវិកា SOB'!$M$11:$M$1178,C299)","v":0},{"$f":"SUM(E299:F299)","v":0}]
[null,null,63058,"ផ្សេងៗ",{"$f":"SUMIFS('គ្រោងថវិកា SOB'!$N$11:$N$1178,'គ្រោងថវិកា SOB'!$M$11:$M$1178,C300)","v":0},{"$f":"SUMIFS('គ្រោងថវិកា SOB'!$O$11:$O$1178,'គ្រោងថវិកា SOB'!$M$11:$M$1178,C300)","v":0},{"$f":"SUM(E300:F300)","v":0}]
[null,6306,null,"ពន្ធលើមធ្យោបាយដឹកជញ្ជូន និង​យានជំនិះគ្រប់ប្រភេទ ពន្ធលើអចលនទ្រព្យ និងពន្ទលើប្រាក់ចំណូល",{"$f":"SUM(E302:E305)","v":0},{"$f":"SUM(F302:F305)","v":0},{"$f":"SUM(G302:G305)","v":0}]
[null,null,63061,"ពន្ធលើមធ្យោបាយដឹកជញ្ជូន និង​យានជំនិះគ្រប់ប្រភេទជាបន្ទុករបស់រដ្ឋ",{"$f":"SUMIFS('គ្រោងថវិកា SOB'!$N$11:$N$1178,'គ្រោងថវិកា SOB'!$M$11:$M$1178,C302)","v":0},{"$f":"SUMIFS('គ្រោងថវិកា SOB'!$O$11:$O$1178,'គ្រោងថវិកា SOB'!$M$11:$M$1178,C302)","v":0},{"$f":"SUM(E302:F302)","v":0}]
[null,null,63062,"ពន្ធលើអចលនទ្រព្យជាបន្ទុករបស់រដ្ឋ",{"$f":"SUMIFS('គ្រោងថវិកា SOB'!$N$11:$N$1178,'គ្រោងថវិកា SOB'!$M$11:$M$1178,C303)","v":0},{"$f":"SUMIFS('គ្រោងថវិកា SOB'!$O$11:$O$1178,'គ្រោងថវិកា SOB'!$M$11:$M$1178,C303)","v":0},{"$f":"SUM(E303:F303)","v":0}]
[null,null,63063,"ពន្ធលើប្រាក់ចំណូលនីតិបុគ្គលជាបន្ទុករបស់រដ្ឋ",{"$f":"SUMIFS('គ្រោងថវិកា SOB'!$N$11:$N$1178,'គ្រោងថវិកា SOB'!$M$11:$M$1178,C304)","v":0},{"$f":"SUMIFS('គ្រោងថវិកា SOB'!$O$11:$O$1178,'គ្រោងថវិកា SOB'!$M$11:$M$1178,C304)","v":0},{"$f":"SUM(E304:F304)","v":0}]
[null,null,63068,"ផ្សេងៗ",{"$f":"SUMIFS('គ្រោងថវិកា SOB'!$N$11:$N$1178,'គ្រោងថវិកា SOB'!$M$11:$M$1178,C305)","v":0},{"$f":"SUMIFS('គ្រោងថវិកា SOB'!$O$11:$O$1178,'គ្រោងថវិកា SOB'!$M$11:$M$1178,C305)","v":0},{"$f":"SUM(E305:F305)","v":0}]
[null,6398,null,"ពន្ធនិងអាករផ្សេងៗ",{"$f":"SUM(E307)","v":0},{"$f":"SUM(F307)","v":0},{"$f":"SUM(G307)","v":0}]
[null,null,63981,"ពន្ធនិងអាករផ្សេងៗ",{"$f":"SUMIFS('គ្រោងថវិកា SOB'!$N$11:$N$1178,'គ្រោងថវិកា SOB'!$M$11:$M$1178,C307)","v":0},{"$f":"SUMIFS('គ្រោងថវិកា SOB'!$O$11:$O$1178,'គ្រោងថវិកា SOB'!$M$11:$M$1178,C307)","v":0},{"$f":"SUM(E307:F307)","v":0}]
[null,7009,null,"ការបង្វិលសងវិញនូវពន្ធនិងអាករផ្សេងៗ",{"$f":"SUM(E309:E310)","v":0},{"$f":"SUM(F309:F310)","v":0},{"$f":"SUM(G309:G310)","v":0}]
[null,null,70091,"ការបង្វិលសងវិញនូវពន្ធនិងអាករ",{"$f":"SUMIFS('គ្រោងថវិកា SOB'!$N$11:$N$1178,'គ្រោងថវិកា SOB'!$M$11:$M$1178,C309)","v":0},{"$f":"SUMIFS('គ្រោងថវិកា SOB'!$O$11:$O$1178,'គ្រោងថវិកា SOB'!$M$11:$M$1178,C309)","v":0},{"$f":"SUM(E309:F309)","v":0}]
[null,null,70098,"ផ្សេងៗ",{"$f":"SUMIFS('គ្រោងថវិកា SOB'!$N$11:$N$1178,'គ្រោងថវិកា SOB'!$M$11:$M$1178,C310)","v":0},{"$f":"SUMIFS('គ្រោងថវិកា SOB'!$O$11:$O$1178,'គ្រោងថវិកា SOB'!$M$11:$M$1178,C310)","v":0},{"$f":"SUM(E310:F310)","v":0}]
[null,null,null,"ក្រុមទី ២ : ចំណាយតាមដីកា និងចំណាយមិនបានគ្រោងទុក  (ប្រភេទទី ៥ + ប្រភេទទី ៦)",{"$f":"SUM(E312+E322)","v":0},{"$f":"SUM(F312+F322)","v":0},{"$f":"SUM(G312+G322)","v":0}]
[null,null,null,"ប្រភេទទី ៥ : ចំណាយតាមដីកា(មិនឆ្លងកាត់សាច់ប្រាក់)",{"$f":"SUM(E313+E318)","v":0},{"$f":"SUM(F313+F318)","v":0},{"$f":"SUM(G313+G318)","v":0}]
[67,null,null,"បន្ទុកពិសេស",{"$f":"SUM(E314+E316)","v":0},{"$f":"SUM(F314+F316)","v":0},{"$f":"SUM(G314+G316)","v":0}]
[null,6701,null,"ឥណទេយ្យដែលទទួលស្គាល់តែទារមិនបាន",{"$f":"SUM(E315)","v":0},{"$f":"SUM(F315)","v":0},{"$f":"SUM(G315)","v":0}]
[null,null,67011,"ការកាត់កង បំណុលតឹងទារ ដែលទារមិនបាន"]
[null,6705,null,"តម្លៃគណនេយ្យនៃចំណែកសកម្មបានលក់ (តម្លៃនៅសល់)",{"$f":"SUM(E317)","v":0},{"$f":"SUM(F317)","v":0},{"$f":"SUM(G317)","v":0}]
[null,null,67051,"តម្លៃគណនេយ្យនៃចំណែកសកម្មបានលក់ (តម្លៃនៅសល់)"]
[68,null,null,"ទាយជ្ជទានឱ្យដល់រំលស់អចលកម្ម",{"$f":"SUM(E319)","v":0},{"$f":"SUM(F319)","v":0},{"$f":"SUM(G319)","v":0}]
[null,6801,null,"ទាយជ្ជទានឱ្យដល់រំលស់អចលកម្ម",{"$f":"SUM(E320:E321)","v":0},{"$f":"SUM(F320:F321)","v":0},{"$f":"SUM(G320:G321)","v":0}]
[null,null,68011,"ទាយជ្ជទានឱ្យដល់រំលស់អចលកម្មអរូបី"]
[null,null,68012,"ទាយជ្ជទានឱ្យដល់រំលស់អចលកម្មរូបី"]
[null,null,null,"ប្រភេទទី ៦ : ចំណាយមិនបានគ្រោងទុក",{"$f":"SUM(E323)","v":0},{"$f":"SUM(F323)","v":0},{"$f":"SUM(G323)","v":0}]
[69,null,null,"ចំណាយមិនបានគ្រោងទុក",{"$f":"SUM(E324+E326+E328)","v":0},{"$f":"SUM(F324+F326+F328)","v":0},{"$f":"SUM(G324+G326+G328)","v":0}]
[null,6901,null,"ចំណាយមិនបានគ្រោងទុកមានមុខសញ្ញាច្បាស់លាស់",{"$f":"SUM(E325)","v":0},{"$f":"SUM(F325)","v":0},{"$f":"SUM(G325)","v":0}]
[null,null,69011,"ចំណាយមិនបានគ្រោងទុកមានមុខសញ្ញាច្បាស់លាស់"]
[null,6902,null,"ចំណាយមិនបានគ្រោងទុកផ្សេងៗ",{"$f":"SUM(E327)","v":0},{"$f":"SUM(F327)","v":0},{"$f":"SUM(G327)","v":0}]
[null,null,69021,"ចំណាយមិនបានគ្រោងទុកផ្សេងៗ"]
[null,6908,null,"ចំណាយមិនបានគ្រោងទុកផ្សេងទៀត",{"$f":"SUM(E329)","v":0},{"$f":"SUM(F329)","v":0},{"$f":"SUM(G329)","v":0}]
[null,null,69081,"ចំណាយមិនបានគ្រោងទុកផ្សេងទៀត"]
[null,null,null,"ខ.សរុបចំណាយមូលធន (ក្រុមទី ១ + ក្រុមទី ២)",{"$f":"SUM(E331+E447)","v":0},{"$f":"SUM(F331+F447)","v":0},{"$f":"SUM(G331+G447)","v":0}]
[null,null,null,"ក្រុមទី ១ :ចំណាយពិត(ប្រភេទទី ១+ប្រភេទទី ២)",{"$f":"SUM(E332+E344)","v":0},{"$f":"SUM(F332+F344)","v":0},{"$f":"SUM(G332+G344)","v":0}]
[null,null,null,"ប្រភេទទី ១ : ការទូទាត់ប្រាក់ខ្ចី  និងបំណុលប្រហាក់ប្រហែល",{"$f":"SUM(E333)","v":0},{"$f":"SUM(F333)","v":0},{"$f":"SUM(G333)","v":0}]
[50,null,null,"ការខ្ចី",{"$f":"SUM(E334+E338+E341)","v":0},{"$f":"SUM(F334+F338+F341)","v":0},{"$f":"SUM(G334+G338+G341)","v":0}]
[null,5001,null,"ការខ្ចី ក្នុងប្រទេស",{"$f":"SUM(E335:E337)","v":0},{"$f":"SUM(F335:F337)","v":0},{"$f":"SUM(G335:G337)","v":0}]
[null,null,50011,"ធនាគារជាតិនៃកម្ពុជា"]
[null,null,50012,"ធនាគារពាណិជ្ជ"]
[null,null,50018,"ផ្សេងៗ"]
[null,5002,null,"ការខ្ចីក្រៅប្រទេស",{"$f":"SUM(E339:E340)","v":0},{"$f":"SUM(F339:F340)","v":0},{"$f":"SUM(G339:G340)","v":0}]
[null,null,50021,"ការខ្ចីក្រៅប្រទេស-ពហុភាគី"]
[null,null,50022,"ការខ្ចីក្រៅប្រទេស-ទ្វេភាគី"]
[null,5004,null,"ការខ្ចី ពីទី ផ្សារហិរញ្ញវត្ថុរយៈពេលវែង",{"$f":"SUM(E342:E343)","v":0},{"$f":"SUM(F342:F343)","v":0},{"$f":"SUM(G342:G343)","v":0}]
[null,null,50041,"សញ្ញាប័ណ្ណ"]
[null,null,50042,"ប័ណ្ណរដ្ឋាភិបាល"]
[null,null,null,"ប្រភេទទី  ២ : អចលកម្ម",{"$f":"SUM(E345+E355+E399+E403+E429+E438)","v":0},{"$f":"SUM(F345+F355+F399+F403+F429+F438)","v":0},{"$f":"SUM(G345+G355+G399+G403+G429+G438)","v":0}]
[20,null,null,"អចលកម្មអរូបី",{"$f":"SUM(E346+E349)","v":0},{"$f":"SUM(F346+F349)","v":0},{"$f":"SUM(G346+G349)","v":0}]
[null,2003,null,"សោហ៊ុយលើការសិក្សាស្រាវជ្រាវនិងអភិវឌ្ឍន៍",{"$f":"SUM(E347:E348)","v":0},{"$f":"SUM(F347:F348)","v":0},{"$f":"SUM(G347:G348)","v":0}]
[null,null,20031,"សោហ៊ុយលើការសិក្សាស្រាវជ្រាវនិងអភិវឌ្ឍន៍"]
[null,null,20038,"ផ្សេងៗ"]
[null,2005,null,"ប្រកាសនីយប័ត្រ អាជ្ញាប័ណ្ណ និងសិទ្ធិប្រហាក់ប្រហែល",{"$f":"SUM(E350:E354)","v":0},{"$f":"SUM(F350:F354)","v":0},{"$f":"SUM(G350:G354)","v":0}]
[null,null,20051,"ប្រកាសនីយប័ត្រ"]
[null,null,20052,"អាជ្ញាប័ណ្ណ"]
[null,null,20053,"សិទ្ធិប្រហាក់ប្រហែល"]
[null,null,20054,"កម្មវិធីកុំព្យូទ័រ"]
[null,null,20058,"ផ្សេងៗ"]
[21,null,null,"អចលកម្មរូបី",{"$f":"SUM(E356+E360+E364+E368+E377+E382+E384+E390)","v":0},{"$f":"SUM(F356+F360+F364+F368+F377+F382+F384+F390)","v":0},{"$f":"SUM(G356+G360+G364+G368+G377+G382+G384+G390)","v":0}]
[null,2101,null,"ដីធ្លី ដីរ៉ែ និងសម្បត្តិធម្មជាតិផ្សេងៗ",{"$f":"SUM(E357:E359)","v":0},{"$f":"SUM(F357:F359)","v":0},{"$f":"SUM(G357:G359)","v":0}]
[null,null,21011,"ដីធ្លី"]
[null,null,21012,"ដីរ៉ែ"]
[null,null,21018,"សម្បត្តិធម្មជាតិផ្សេងៗ"]
[null,2102,null,"ការរៀបចំកែលម្អ ដីធ្លី ដីរ៉ែ និងសម្បត្តិធម្មជាតិផ្សេងៗ",{"$f":"SUM(E361:E363)","v":0},{"$f":"SUM(F361:F363)","v":0},{"$f":"SUM(G361:G363)","v":0}]
[null,null,21021,"ការរៀបចំកែលម្អដីធ្លី"]
[null,null,21022,"ការរៀបចំកែលម្អដីរ៉ែ"]
[null,null,21028,"ការរៀបចំកែលម្អសម្បត្តិធម្មជាតិផ្សេងៗ"]
[null,2103,null,"សំណង់អគារ និងការកែលម្អ",{"$f":"SUM(E365:E367)","v":0},{"$f":"SUM(F365:F367)","v":0},{"$f":"SUM(G365:G367)","v":0}]
[null,null,21031,"សំណង់អគារ"]
[null,null,21032,"ការកែលម្អអគារ"]
[null,null,21038,"សំណង់ផ្សេងៗ"]
[null,2104,null,"ហេដ្ឋារចនាសម្ព័ន្ធ",{"$f":"SUM(E369:E376)","v":0},{"$f":"SUM(F369:F376)","v":0},{"$f":"SUM(G369:G376)","v":0}]
[null,null,21041,"ផ្លូវថ្នល់ ផ្លូវទឹក"]
[null,null,21042,"ធារាសាស្ត្រ"]
[null,null,21043,"អាយស្ម័យយាន"]
[null,null,21044,"អាកាសយានដ្ឋាន"]
[null,null,21045,"ទូរគមនាគមន៍"]
[null,null,21046,"អគ្គិសនី"]
[null,null,21047,"បណ្តាញបង្ហូរទឹក និងអនាម័យ"]
[null,null,21048,"ហេដ្ឋារចនាសម្ព័ន្ធផ្សេងៗ"]
[null,2105,null,"ឋបនកម្មបច្ចេកទេស សម្ភារ និងហត្ថូបករណ៍",{"$f":"SUM(E378:E381)","v":0},{"$f":"SUM(F378:F381)","v":0},{"$f":"SUM(G378:G381)","v":0}]
[null,null,21051,"ឋបនកម្មបច្ចេកទេស"]
[null,null,21052,"សម្ភារ"]
[null,null,21053,"គ្រឿងឧបករណ៍ (ហត្ថូបករណ៍)"]
[null,null,21058,"ផ្សេងៗ"]
[null,2106,null,"ស្នាដៃសិល្បៈនិងការប្រមូល (សន្សំ)",{"$f":"SUM(E383)","v":0},{"$f":"SUM(F383)","v":0},{"$f":"SUM(G383)","v":0}]
[null,null,21061,"ស្នាដៃសិល្បៈនិងការប្រមូល (សន្សំ)"]
[null,2108,null,"អចលកម្មរូបីផ្សេងទៀត",{"$f":"SUM(E385:E389)","v":0},{"$f":"SUM(F385:F389)","v":0},{"$f":"SUM(G385:G389)","v":0}]
[null,null,21081,"សម្ភារ ឧបករណ៍ដឹកជញ្ជូន"]
[null,null,21082,"សម្ភារ ឧបករណ៍ការិយាល័យ"]
[null,null,21083,"សម្ភារ ព័ត៌មានវិទ្យា និងទូរគមនាគមន៍"]
[null,null,21084,"សង្ហារឹម"]
[null,null,21088,"អចលកម្មរូបីផ្សេងៗ"]
[null,2109,null,"សំណងកិច្ចសន្យាលើហេដ្ឋារចនាសម្ព័ន្ធ",{"$f":"SUM(E391:E398)","v":0},{"$f":"SUM(F391:F398)","v":0},{"$f":"SUM(G391:G398)","v":0}]
[null,null,21091,"ផ្លូវថ្នល់ ផ្លូវទឹក"]
[null,null,21092,"ធារាសាស្ត្រ"]
[null,null,21093,"អាយស្ម័យយាន"]
[null,null,21094,"អាកាសយានដ្ឋាន"]
[null,null,21095,"ទូរគមនាគមន៍"]
[null,null,21096,"អគ្គិសនី"]
[null,null,21097,"បណ្តាញបង្ហូរទឹក និងអនាម័យ"]
[null,null,21098,"ហេដ្ឋារចនាសម្ព័ន្ធផ្សេងៗ"]
[22,null,null,"ទ្រព្យសម្បត្តិវិនិយោគរយៈពេលវែង",{"$f":"SUM(E400)","v":0},{"$f":"SUM(F400)","v":0},{"$f":"SUM(G400)","v":0}]
[null,2201,null,"ទ្រព្យសម្បត្តិវិនិយោគរយៈពេលវែង",{"$f":"SUM(E401:E402)","v":0},{"$f":"SUM(F401:F402)","v":0},{"$f":"SUM(G401:G402)","v":0}]
[null,null,22011,"ទ្រព្យសម្បត្តិវិនិយោគ ដីធ្លី"]
[null,null,22012,"ទ្រព្យសម្បត្តិវិនិយោគ អគារ និងសំណង់"]
[23,null,null,"អចលកម្មកំពុងដំណើរការ",{"$f":"SUM(E404+E407+E411+E415+E424)","v":0},{"$f":"SUM(F404+F407+F411+F415+F424)","v":0},{"$f":"SUM(G404+G407+G411+G415+G424)","v":0}]
[null,2300,null,"អចលកម្មអរូបី(កំពុងដំណើរការ)",{"$f":"SUM(E405:E406)","v":0},{"$f":"SUM(F405:F406)","v":0},{"$f":"SUM(G405:G406)","v":0}]
[null,null,23003,"សោហ៊ុយលើការសិក្សាស្រាវជ្រាវ និងអភិវឌ្ឍន៍\n(កំពុងដំណើរការ)"]
[null,null,23005,"ប្រកាសនីយប័ត្រ អាជ្ញាប័ណ្ណ និងសិទ្ធិប្រហាក់ប្រហែល(កំពុងដំណើរការ)"]
[null,2302,null,"ការរៀបចំកែលម្អ ដីធ្លី ដីរ៉ែ និងសម្បត្តិធម្មជាតិផ្សេងៗ (កំពុងដំណើរការ)",{"$f":"SUM(E408:E410)","v":0},{"$f":"SUM(F408:F410)","v":0},{"$f":"SUM(G408:G410)","v":0}]
[null,null,23021,"ការរៀបចំកែលម្អដីធ្លី (កំពុងដំណើរការ)"]
[null,null,23022,"ការរៀបចំកែលម្អដីរ៉ែ (កំពុងដំណើរការ)"]
[null,null,23028,"ការរៀបចំកែលម្អសម្បត្តិធម្មជាតិផ្សេងៗ\n (កំពុងដំណើរការ)"]
[null,2303,null,"សំណង់អគារ និងការកែលម្អ (កំពុងដំណើរការ)",{"$f":"SUM(E412:E414)","v":0},{"$f":"SUM(F412:F414)","v":0},{"$f":"SUM(G412:G414)","v":0}]
[null,null,23031,"សំណង់អគារ (កំពុងដំណើរការ)"]
[null,null,23032,"ការកែលម្អអគារ (កំពុងដំណើរការ)"]
[null,null,23038,"សំណង់ផ្សេងៗ (កំពុងដំណើរការ)"]
[null,2304,null,"ហេដ្ឋារចនាសម្ព័ន្ធ (កំពុងដំណើរការ)",{"$f":"SUM(E416:E423)","v":0},{"$f":"SUM(F416:F423)","v":0},{"$f":"SUM(G416:G423)","v":0}]
[null,null,23041,"ផ្លូវថ្នល់ ផ្លូវទឹក (កំពុងដំណើរការ)"]
[null,null,23042,"ធារាសាស្ត្រ (កំពុងដំណើរការ)"]
[null,null,23043,"អាយស្ម័យយាន (កំពុងដំណើរការ)"]
[null,null,23044,"អាកាសយានដ្ឋាន (កំពុងដំណើរការ)"]
[null,null,23045,"ទូរគមនាគមន៍ (កំពុងដំណើរការ)"]
[null,null,23046,"អគ្គិសនី (កំពុងដំណើរការ)"]
[null,null,23047,"បណ្តាញបង្ហូរទឹក និងអនាម័យ (កំពុងដំណើរការ)"]
[null,null,23048,"ហេដ្ឋារចនាសម្ព័ន្ធផ្សេងៗ (កំពុងដំណើរការ)"]
[null,2305,null,"ឋបនកម្មបច្ចេកទេស សម្ភារ និងហត្ថូបករណ៍ (កំពុងដំណើរការ)",{"$f":"SUM(E425:E428)","v":0},{"$f":"SUM(F425:F428)","v":0},{"$f":"SUM(G425:G428)","v":0}]
[null,null,23051,"ឋបនកម្មបច្ចេកទេស (កំពុងដំណើរការ)"]
[null,null,23052,"សម្ភារ (កំពុងដំណើរការ)"]
[null,null,23053,"គ្រឿងឧបករណ៍ (ហត្ថូបករណ៍) (កំពុងដំណើរការ)"]
[null,null,23058,"ផ្សេងៗ (កំពុងដំណើរការ)"]
[26,null,null,"ការវិនិយោគ",{"$f":"SUM(E430+E434)","v":0},{"$f":"SUM(F430+F434)","v":0},{"$f":"SUM(G430+G434)","v":0}]
[null,2601,null,"ការវិនិយោគក្នុងញាតិសម្ព័ន្ធនិង\nការវិនិយោគទុនរួមគ្នា",{"$f":"SUM(E431:E433)","v":0},{"$f":"SUM(F431:F433)","v":0},{"$f":"SUM(G431:G433)","v":0}]
[null,null,26011,"ការវិនិយោគក្នុងញាតិសម្ព័ន្ធ"]
[null,null,26012,"ការវិនិយោគទុនរួមគ្នា"]
[null,null,26013,"ការវិនិយោគក្នុងសហគ្រាសសាធារណៈ"]
[null,2602,null,"ការបែងចែកប្រាក់ចំណេញ ឬ ខាតនៃក្រុមហ៊ុនញាតិសម្ព័ន្ធ និងក្រុមហ៊ុនដាក់ទុនរួមគ្នា",{"$f":"SUM(E435:E437)","v":0},{"$f":"SUM(F435:F437)","v":0},{"$f":"SUM(G435:G437)","v":0}]
[null,null,26021,"ការបែងចែកប្រាក់ចំណេញ ឬ ខាតនៃក្រុមហ៊ុនញាតិសម្ព័ន្ធ"]
[null,null,26022,"ការបែងចែកប្រាក់ចំណេញ ឬ ខាតនៃក្រុមហ៊ុនដាក់ទុនរួមគ្នា"]
[null,null,26023,"ការបែងចែកប្រាក់ចំណេញ ឬ ខាតនៃសហគ្រាស\nសាធារណៈ"]
[27,null,null,"អចលកម្មហិរញ្ញវត្ថុផ្សេងៗ",{"$f":"SUM(E439+E444)","v":0},{"$f":"SUM(F439+F444)","v":0},{"$f":"SUM(G439+G444)","v":0}]
[null,2701,null,"ការឱ្យខ្ចី",{"$f":"SUM(E440:E443)","v":0},{"$f":"SUM(F440:F443)","v":0},{"$f":"SUM(G440:G443)","v":0}]
[null,null,27011,"ការឱ្យខ្ចី ទៅសហគ្រាសសាធារណៈ"]
[null,null,27012,"ការឱ្យខ្ចី ទៅសហគ្រាសឯកជន"]
[null,null,27013,"ការឱ្យខ្ចី ទៅអង្គការមិនមែនរដ្ឋាភិបាល"]
[null,null,27018,"ការឱ្យខ្ចីផ្សេងៗ"]
[null,2702,null,"អចលកម្មហិរញ្ញវត្ថុផ្សេងៗទៀត",{"$f":"SUM(E445:E446)","v":0},{"$f":"SUM(F445:F446)","v":0},{"$f":"SUM(G445:G446)","v":0}]
[null,null,27022,"មូលប័ត្រ"]
[null,null,27028,"ផ្សេងៗ"]
[null,null,null,"ក្រុមទី  ២ : ចំណាយតាមដីកា (ប្រភេទទី ៣)"]
[null,null,null,"ប្រភេទទី  ៣ : ចំណាយតាមដីកា"]

{"sheet":"Toilet","index":14,"n_rows":12,"n_cols":5,"rows_kept":12,"cut":false,"hidden":true,"merged":[[1,1,2,4],[8,1,8,4]]}
[]
[null,"តារាងគ្រោងបង្គន់អនាម័យ"]
[]
[null,"ប្រភេទចំណាយ",{"$f":"គ្រោងបង្គន់!C4","v":"ចំណាយប្រចាំ"},null,"សរុប"]
[null,"សរុប",null,null,{"$f":"E6","v":0}]
[null,"ចំនួនបង្គន់អនាម័យ",{"$f":"គ្រោងបង្គន់!C6","v":0},{"$f":"គ្រោងបង្គន់!D6","v":13800000},{"$f":"D6*C6","v":0}]
[]
[]
[null,"គ្រោងចំណាយលើបង្គន់អនាម័យ"]
[null,null,"សរុបប្រចាំ","សរុបមិនប្រចាំ","សរុប"]
[null,"សរុប អនុគណនី 62025",{"$f":"C12","v":0},{"$f":"D12","v":0},{"$f":"E12","v":0}]
[null,"ចំនួនបង្គន់អនាម័យ",{"$f":"IF($C$4=Main!$B$2,E6,0)","v":0},{"$f":"IF($C$4=Main!$B$3,E6,0)","v":0},{"$f":"SUM(C12:D12)","v":0}]

{"sheet":"TOTAL_SCL","index":15,"n_rows":32,"n_cols":9,"rows_kept":32,"cut":false,"hidden":true,"merged":[[17,1,17,3],[18,1,18,3],[22,1,22,5],[11,1,11,3],[12,1,12,3],[13,1,13,3],[14,1,14,7],[15,1,15,3],[16,1,16,3],[10,1,10,3],[0,1,1,8],[2,1,2,2],[2,3,2,4],[2,5,2,7],[3,1,3,3],[4,1,4,7],[5,1,5,7],[6,1,6,3],[7,1,7,3],[8,1,8,3],[9,1,9,7]]}
[null,"គ្រោងចំណាយលើអាហារូបករណ៍"]
[]
[null,"ប្រភេទចំណាយ",null,{"$f":"គ្រោងអាហារូបករណ៍!D3","v":"ចំណាយប្រចាំ"}]
[null,"ប្រភេទសិស្ស",null,null,"ចំនួនសិស្ស\nអាហារូបករណ៍សរុប","ចំនួនសិស្ស\nត្រូវទទួលអាហារូបករណ៍","រយៈពេលសិក្សា","ឧបត្តម្ភ (៛)","សរុប"]
[null,"សរុប (62025)",null,null,null,null,null,null,{"$f":"SUM(I6,I10,I15)","v":0}]
[null,"សិស្សក្រីក្រ",null,null,null,null,null,null,{"$f":"SUM(I7:I9)","v":0}]
[null,"បឋមសិក្សា",null,null,{"$f":"គ្រោងអាហារូបករណ៍!E7","v":0},{"$f":"E7","v":0},"1 ឆ្នាំ",240000,{"$f":"IFERROR(H7*F7,0)","v":0}]
[null,"មធ្យមសិក្សាបឋមភូមិ",null,null,{"$f":"គ្រោងអាហារូបករណ៍!E8","v":0},{"$f":"E8","v":0},"1 ឆ្នាំ",240000,{"$f":"IFERROR(H8*F8,0)","v":0}]
[null,"មធ្យមសិក្សាទុតិយភូមិ",null,null,{"$f":"គ្រោងអាហារូបករណ៍!E9","v":0},{"$f":"E9","v":0},"1 ឆ្នាំ",360000,{"$f":"IFERROR(H9*F9,0)","v":0}]
[null,"សិស្ស-និស្សិត",null,null,null,null,null,null,{"$f":"SUM(I11:I14)","v":0}]
[null,"កម្រិតក្រោយបរិញ្ញាបត្រ",null,null,null,{"$f":"E11*25%","v":0},null,80000,{"$f":"IFERROR(H11*G11*F11,0)","v":0}]
[null,"កម្រិតបរិញ្ញាបត្រ",null,null,null,{"$f":"E12*10%","v":0}," ",45000,{"$f":"IFERROR(H12*G12*F12,0)","v":0}]
[null,"កម្រិតមធ្យមសិក្សាឯកទេស",null,null,{"$f":"គ្រោងអាហារូបករណ៍!E13","v":0},{"$f":"E13*30%","v":0},null,40000,0]
[null,"កម្រិតបឋមសិក្សាឯកទេស",null,null,{"$f":"គ្រោងអាហារូបករណ៍!E14","v":0},{"$f":"E14*35%","v":0},null,30000,{"$f":"IFERROR(H14*G14*F14,0)","v":0}]
[null,"គរុសិស្ស-គរុនិស្សិត",null,null,null,null,null,null,{"$f":"SUM(I16:I19)","v":0}]
[null,1,null,null,{"$f":"TOTAL_SCL!E25","v":0},{"$f":"E16","v":0},null,80000,{"$f":"IFERROR(H16*G16*F16,0)","v":0}]
[null,2,null,null,0,{"$f":"E17","v":0},null,45000,{"$f":"IFERROR(H17*G17*F17,0)","v":0}]
[null,3,null,null,0,0,null,40000,0]
[null,4,null,null,0,0,null,30000,0]
[]
[]
[]
[null,"គ្រោងចំណាយលើអាហារូបករណ៍"]
[null,null,"ប្រភេទសិស្ស","សរុបប្រចាំ","សរុបមិនប្រចាំ","សរុប"]
[null,"សរុប អនុគណនី 62025",null,{"$f":"SUM(D26,D30)","v":0},{"$f":"SUM(E26,E30)","v":0},{"$f":"SUM(F26,F30)","v":0}]
[null,"សិស្សក្រីក្រ",null,{"$f":"SUM(D27:D29)","v":0},{"$f":"SUM(E27:E29)","v":0},{"$f":"SUM(F27:F29)","v":0}]
[null,null,"បឋមសិក្សា",{"$f":"IF($D$3=Main!$B$2,I7,0)","v":0},{"$f":"IF($D$3=Main!$B$3,I7,0)","v":0},{"$f":"SUM(D27:E27)","v":0}]
[null,null,"មធ្យមសិក្សាបឋមភូមិ",{"$f":"IF($D$3=Main!$B$2,I8,0)","v":0},{"$f":"IF($D$3=Main!$B$3,I8,0)","v":0},{"$f":"SUM(D28:E28)","v":0}]
[null,null,"មធ្យមសិក្សាទុតិយភូមិ",{"$f":"IF($D$3=Main!$B$2,I9,0)","v":0},{"$f":"IF($D$3=Main!$B$3,I9,0)","v":0},{"$f":"SUM(D29:E29)","v":0}]
[null,"សិស្ស-និស្សិត",null,{"$f":"SUM(D31:D32)","v":0},{"$f":"SUM(E31:E32)","v":0},{"$f":"SUM(F31:F32)","v":0}]
[null,null,"កម្រិតមធ្យមសិក្សាឯកទេស",{"$f":"IF($D$3=Main!$B$2,I13,0)","v":0},{"$f":"IF($D$3=Main!$B$3,I13,0)","v":0},{"$f":"SUM(D31:E31)","v":0}]
[null,null,"កម្រិតបឋមសិក្សាឯកទេស",{"$f":"IF($D$3=Main!$B$2,I14,0)","v":0},{"$f":"IF($D$3=Main!$B$3,I14,0)","v":0},{"$f":"SUM(D32:E32)","v":0}]

{"sheet":"TOTAL_SOB","index":16,"n_rows":17,"n_cols":374,"rows_kept":17,"cut":false,"hidden":true,"merged":[[5,122,5,206],[4,207,7,207],[4,208,7,208],[6,314,6,318],[6,319,6,323],[6,167,6,171],[6,162,6,166],[6,157,6,161],[6,127,6,131],[6,142,6,146],[6,137,6,141],[6,132,6,136],[6,122,6,126],[6,309,6,313],[6,269,6,273],[6,274,6,278],[6,152,6,156],[6,147,6,151],[6,324,6,328],[6,329,6,333],[6,334,6,338],[6,197,6,201],[6,202,6,206],[6,177,6,181],[6,172,6,176],[6,294,6,298],[6,299,6,303],[6,304,6,308],[6,67,6,71],[5,62,5,71],[5,77,5,81],[6,77,6,81],[5,27,5,61],[6,47,6,51],[6,32,6,36],[6,37,6,41],[6,42,6,46],[4,1,7,1],[5,2,6,6],[5,7,5,26],[6,7,6,11],[6,12,6,16],[6,17,6,21],[6,22,6,26],[4,2,4,206],[5,112,5,121],[6,112,6,116],[6,117,6,121],[6,182,6,186],[6,187,6,191],[6,192,6,196],[6,97,6,101],[6,27,6,31],[0,15,0,18],[1,15,1,18],[2,15,2,18],[6,102,6,106],[6,107,6,111],[6,72,6,76],[5,72,5,76],[5,102,5,111],[5,82,5,86],[6,82,6,86],[6,87,6,91],[6,92,6,96],[5,87,5,101],[6,52,6,56],[6,57,6,61],[6,62,6,66],[4,209,5,373],[6,264,6,268],[6,259,6,263],[6,239,6,243],[6,244,6,248],[6,249,6,253],[6,254,6,258],[6,209,6,213],[6,214,6,218],[6,219,6,223],[6,224,6,228],[6,229,6,233],[6,234,6,238],[6,369,6,373],[6,339,6,343],[6,344,6,348],[6,354,6,358],[6,359,6,363],[6,364,6,368],[6,279,6,283],[6,284,6,288],[6,289,6,293],[6,349,6,353]]}
[null,null,null,null,null,null,null,null,null,null,null,null,null,null,null,"ព្រះរាជាណាចក្រកម្ពុជា"]
[null,{"$f":"IF(កុមារតូច!C2<>\"\",កុមារតូច!C2,IF(បឋម!C2<>\"\",បឋម!C2,IF(អនុវិទ្យាល័យ!C2<>\"\",អនុវិទ្យាល័យ!C2,IF(វិទ្យាល័យ!C2<>\"\",វិទ្យាល័យ!C2,IF(អគាធនធាន!C2<>\"\",អគាធនធាន!C2,IF(វិទ្យាល័យបច្ចេកទេស!C2<>\"\",វិទ្យាល័យបច្ចេកទេស!C2,\"\"))))))","v":""},null,null,null,null,null,null,null,null,null,null,null,null,null,"ជាតិ ​សាសនា  ព្រះមហាក្សត្រ",null,null,null,null,null,null,null,null,null,null,null,null,null,null,null,null,null,null,null,null,null,null,null,null,null,null,null,null,null,null,null,null,null,null,null,null,null,null,null,null,null,null,null,null,null,null,null,null,null,null,null,null,null,null,null,null,null,null,null,null,null,null,null,null,null,null,null,null,null,null,null,null,null,null,null,null,null,null,null,null,null,null,null,null,null,null,null,null,null,null,null,null,null,null,null,null,null,null,null,null,null,null,null,null,null,null,null,null,null,null,null,null,null,null,null,null,null,null,null,null,null,null,null,null,null,null,null,null,null,null,null,null,null,null,null,null,null,null,null,null,null,null,null,null,null,null,null,null,null,null,null,null,null,null,null,null,null,null,null,null,null,null,null,null,null,null,null,null,null,null,null,null,null,null,null,null,null,null,null,null,null,null,null,null,null,null,null,null,null,null,null,null,{"$f":"B2","v":""}]
[null,{"$f":"IF(កុមារតូច!C4<>\"\",កុមារតូច!C4,IF(បឋម!C4<>\"\",បឋម!C4,IF(អនុវិទ្យាល័យ!C4<>\"\",អនុវិទ្យាល័យ!C4,IF(វិទ្យាល័យ!C4<>\"\",វិទ្យាល័យ!C4,IF(អគាធនធាន!C4<>\"\",អគាធនធាន!C4,IF(វិទ្យាល័យបច្ចេកទេស!C4<>\"\",វិទ្យាល័យបច្ចេកទេស!C4,\"\"))))))","v":""},null,null,null,null,null,null,null,null,null,null,null,null,null,3,null,null,null,null,null,null,null,null,null,null,null,null,null,null,null,null,null,null,null,null,null,null,null,null,null,null,null,null,null,null,null,null,null,null,null,null,null,null,null,null,null,null,null,null,null,null,null,null,null,null,null,null,null,null,null,null,null,null,null,null,null,null,null,null,null,null,null,null,null,null,null,null,null,null,null,null,null,null,null,null,null,null,null,null,null,null,null,null,null,null,null,null,null,null,null,null,null,null,null,null,null,null,null,null,null,null,null,null,null,null,null,null,null,null,null,null,null,null,null,null,null,null,null,null,null,null,null,null,null,null,null,null,null,null,null,null,null,null,null,null,null,null,null,null,null,null,null,null,null,null,null,null,null,null,null,null,null,null,null,null,null,null,null,null,null,null,null,null,null,null,null,null,null,null,null,null,null,null,null,null,null,null,null,null,null,null,null,null,null,null,null,null,{"$f":"B3","v":""}]
[null,null,"គម្រោងចំណាយថវិកាដំណើរការសាលា  ប្រចាំឆ្នាំ"]
[null,"អង្គភាពគ្រប់គ្រងថវិកា","លម្អិតតាមមុខសញ្ញាចំណាយ",null,null,null,null,null,null,null,null,null,null,null,null,null,null,null,null,null,null,null,null,null,null,null,null,null,null,null,null,null,null,null,null,null,null,null,null,null,null,null,null,null,null,null,null,null,null,null,null,null,null,null,null,null,null,null,null,null,null,null,null,null,null,null,null,null,null,null,null,null,null,null,null,null,null,null,null,null,null,null,null,null,null,null,null,null,null,null,null,null,null,null,null,null,null,null,null,null,null,null,null,null,null,null,null,null,null,null,null,null,null,null,null,null,null,null,null,null,null,null,null,null,null,null,null,null,null,null,null,null,null,null,null,null,null,null,null,null,null,null,null,null,null,null,null,null,null,null,null,null,null,null,null,null,null,null,null,null,null,null,null,null,null,null,null,null,null,null,null,null,null,null,null,null,null,null,null,null,null,null,null,null,null,null,null,null,null,null,null,null,null,null,null,null,null,null,null,null,null,null,null,null,null,null,null,"ល.រ","អង្គភាពគ្រប់គ្រងថវិកា","លម្អិតតាមអនុគណនី"]
[null,null,"សរុបប្រចាំឆ្នាំ",null,null,null,null,{"$f":"'គ្រោងថវិកា SOB'!B10","v":"សម្ភារមូលដ្ឋាន"},null,null,null,null,null,null,null,null,null,null,null,null,null,null,null,null,null,null,null,{"$f":"'គ្រោងថវិកា SOB'!B186","v":"ការកែលម្អបរិស្ថាន សាលា និងថ្នាក់រៀន"},null,null,null,null,null,null,null,null,null,null,null,null,null,null,null,null,null,null,null,null,null,null,null,null,null,null,null,null,null,null,null,null,null,null,{"$f":"'គ្រោងថវិកា SOB'!B544","v":"ការជួសជុលតូច (សង្ហារឹម បណ្ណាល័យ និងបរិក្ខារអេឡិចត្រូនិច)"},null,null,null,null,null,null,null,null,null,{"$f":"'គ្រោងថវិកា SOB'!B647","v":"ការទិញសៀវភៅអានដាក់ក្នុងបណ្ណាល័យ"},null,null,null,null,{"$f":"'គ្រោងថវិកា SOB'!B699","v":"បំណិនជីវិត (កីឡា សិល្បៈ រោងជាង គេហវិជ្ជា និងកសិកម្ម)"},null,null,null,null,{"$f":"'គ្រោងថវិកា SOB'!B751","v":"ចំណាយសម្រាប់អនាម័យ"},null,null,null,null,{"$f":"'គ្រោងថវិកា SOB'!B803","v":"ចំណាយទូទាត់ថ្លៃប្រើបា្រស់ថាមពលអគ្គិសនី និងទឹក"},null,null,null,null,null,null,null,null,null,null,null,null,null,null,{"$f":"'គ្រោងថវិកា SOB'!B822","v":"ការរៀបចំឯកសារធ្វើតេស្ត និងសម្ភារផ្សេងៗសម្រាប់ប្រឡងឆមាស  "},null,null,null,null,null,null,null,null,null,{"$f":"'គ្រោងថវិកា SOB'!B925","v":"ចលនាបីល្អ (សិស្សល្អ មិត្តល្អ កូនល្អ) របស់ក្រុមប្រឹក្សាយុវជន"},null,null,null,null,null,null,null,null,null,"ចំណាយផ្សេងៗ"]
[null,null,null,null,null,null,null,{"$f":"CONCATENATE('គ្រោងថវិកា SOB'!C11,\"៖\",'គ្រោងថវិកា SOB'!D11)","v":"60021៖សម្ភារការិយាល័យ"},null,null,null,null,{"$f":"CONCATENATE('គ្រោងថវិកា SOB'!C62,\"៖\",'គ្រោងថវិកា SOB'!D62)","v":"60022៖សៀវភៅមើល និងឯកសារផ្សេងៗ"},null,null,null,null,{"$f":"CONCATENATE('គ្រោងថវិកា SOB'!C84,\"៖\",'គ្រោងថវិកា SOB'!D84)","v":"60023៖ការបោះពុម្ភ"},null,null,null,null,{"$f":"CONCATENATE('គ្រោងថវិកា SOB'!C135,\"៖\",'គ្រោងថវិកា SOB'!D135)","v":"60053៖សម្ភារប្រើប្រាស់"},null,null,null,null,{"$f":"CONCATENATE('គ្រោងថវិកា SOB'!C187,\"៖\",'គ្រោងថវិកា SOB'!D187)","v":"61051៖ការថែទាំ ដីធ្លី សួនច្បារ ព្រៃឈើ តំបន់ឆ្នេរ និងដែននេសាទ "},null,null,null,null,{"$f":"CONCATENATE('គ្រោងថវិកា SOB'!C238,\"៖\",'គ្រោងថវិកា SOB'!D238)","v":"61052៖ការថែទាំ ជួសជុលអគារផ្សេងៗ និងប្រាសាទ "},null,null,null,null,{"$f":"CONCATENATE('គ្រោងថវិកា SOB'!C289,\"៖\",'គ្រោងថវិកា SOB'!D289)","v":"61053៖ការថែទាំ ជួសជុលផ្លូវ ផ្លូវលំ ស្ពាន និងលូ "},null,null,null,null,{"$f":"CONCATENATE('គ្រោងថវិកា SOB'!C340,\"៖\",'គ្រោងថវិកា SOB'!D340)","v":"61054៖ការថែទាំបណ្តាញផ្សេងៗ​  "},null,null,null,null,{"$f":"CONCATENATE('គ្រោងថវិកា SOB'!C391,\"៖\",'គ្រោងថវិកា SOB'!D391)","v":"60012៖សម្ភារផ្គត់ផ្គង់សម្រាប់ថែទាំអគារ បា្រសាទ និងសំណង់ផ្សេងៗ "},null,null,null,null,{"$f":"CONCATENATE('គ្រោងថវិកា SOB'!C442,\"៖\",'គ្រោងថវិកា SOB'!D442)","v":"60013៖សម្ភារផ្គត់ផ្គង់សម្រាប់ថែទាំផ្លូវថ្នល់ ស្ពាន និងលូ "},null,null,null,null,{"$f":"CONCATENATE('គ្រោងថវិកា SOB'!C493,\"៖\",'គ្រោងថវិកា SOB'!D493)","v":"60053៖សម្ភារប្រើបា្រស់ "},null,null,null,null,{"$f":"CONCATENATE('គ្រោងថវិកា SOB'!C545,\"៖\",'គ្រោងថវិកា SOB'!D545)","v":"61052៖ការថែទាំ ជួសជុលអគារផ្សេងៗ និងប្រាសាទ "},null,null,null,null,{"$f":"CONCATENATE('គ្រោងថវិកា SOB'!C596,\"៖\",'គ្រោងថវិកា SOB'!D596)","v":"61057៖ការថែទាំ​ និងជួសជុលសម្ភារ និងឧបករណ៍បច្ចេកទេស "},null,null,null,null,{"$f":"CONCATENATE('គ្រោងថវិកា SOB'!C648,\"៖\",'គ្រោងថវិកា SOB'!D648)","v":"60022៖សៀវភៅមើល និងឯកសារផ្សេងៗ"},null,null,null,null,{"$f":"CONCATENATE('គ្រោងថវិកា SOB'!C700,\"៖\",'គ្រោងថវិកា SOB'!D700)","v":"60053៖សម្ភារប្រើបា្រស់"},null,null,null,null,{"$f":"CONCATENATE('គ្រោងថវិកា SOB'!C752,\"៖\",'គ្រោងថវិកា SOB'!D752)","v":"60011៖សម្ភារសម្អាត និងអនាម័យ"},null,null,null,null,{"$f":"CONCATENATE('គ្រោងថវិកា SOB'!C804,\"៖\",'គ្រោងថវិកា SOB'!D804)","v":"60061៖អគ្គិសនី "},null,null,null,null,{"$f":"CONCATENATE('គ្រោងថវិកា SOB'!C810,\"៖\",'គ្រោងថវិកា SOB'!D810)","v":"60062៖ទឹកស្អាត"},null,null,null,null,{"$f":"CONCATENATE('គ្រោងថវិកា SOB'!C816,\"៖\",'គ្រោងថវិកា SOB'!D816)","v":"60068៖ផ្សេងៗ"},null,null,null,null,{"$f":"CONCATENATE('គ្រោងថវិកា SOB'!C823,\"៖\",'គ្រោងថវិកា SOB'!D823)","v":"60021៖សម្ភារការិយាល័យ"},null,null,null,null,{"$f":"CONCATENATE('គ្រោងថវិកា SOB'!C874,\"៖\",'គ្រោងថវិកា SOB'!D874)","v":"60023៖ការបោះពុម្ព"},null,null,null,null,{"$f":"CONCATENATE('គ្រោងថវិកា SOB'!C926,\"៖\",'គ្រោងថវិកា SOB'!D926)","v":"60021៖សម្ភារការិយាល័យ"},null,null,null,null,{"$f":"CONCATENATE('គ្រោងថវិកា SOB'!C977,\"៖\",'គ្រោងថវិកា SOB'!D977)","v":"60053៖សម្ភារប្រើបា្រស់  "},null,null,null,null,{"$f":"Main!H9","v":"60014៖សម្ភារផ្គត់ផ្គង់សម្រាប់​ថែទាំសម្ភារឧបករណ៍"},null,null,null,null,{"$f":"Main!H10","v":"60032៖ចំណីសត្វ"},null,null,null,null,{"$f":"Main!H11","v":"60033៖ពូជ និងកូនរុក្ខជាតិ"},null,null,null,null,{"$f":"Main!H12","v":"60035៖ពូជសត្វ"},null,null,null,null,{"$f":"Main!H13","v":"60051៖សម្ភារនិងបរិក្ខារបច្ចេកទេសមិនមែនព័ត៌មានវិទ្យា"},null,null,null,null,{"$f":"Main!H14","v":"60052៖សង្ហារឹម"},null,null,null,null,{"$f":"Main!H15","v":"60055៖សម្ភារនិងបរិក្ខារបច្ចេកទេសព័ត៌មានវិទ្យា"},null,null,null,null,{"$f":"Main!H16","v":"61011៖សេវាអនាម័យ"},null,null,null,null,{"$f":"Main!H17","v":"61012៖សេវារដ្ឋបាល"},null,null,null,null,{"$f":"Main!H18","v":"61021៖ការជួលមធ្យោបាយដឹកជញ្ជូន"},null,null,null,null,{"$f":"Main!H19","v":"61071៖សោហ៊ុយសិក្សាពិសោធន៍"},null,null,null,null,{"$f":"Main!H20","v":"61081៖សោហ៊ុយជួលដឹកញ្ជូន សម្ភារ​ និងទំនិញ"},null,null,null,null,{"$f":"Main!H21","v":"61101៖សោហ៊ុយទទួលភ្ញៀវជាតិ"},null,null,null,null,{"$f":"Main!H22","v":"61102៖សោហ៊ុយទទួលភ្ញៀវបរទេស"},null,null,null,null,{"$f":"Main!H23","v":"61103៖ប្រជុំ សិក្ខាសាលា និងសន្និសីទ"},null,null,null,null,{"$f":"Main!H24","v":"61141៖សោហ៊ុយប្រៃសណីយ៍"},null,null,null,null,{"$f":"Main!H25","v":"61142៖សោហ៊ុយទូរគមនាគមន៍"},null,null,null,null,null,null,"សរុបប្រចាំឆ្នាំ",null,null,null,null,{"$f":"CONCATENATE(Main!$J$9,\"៖\",Main!$K$9)","v":"60011៖សម្ភារសម្អាត និងអនាម័យ"},null,null,null,null,{"$f":"CONCATENATE(Main!$J$10,\"៖\",Main!$K$10)","v":"60012៖សម្ភារផ្គត់ផ្គង់សម្រាប់ថែទាំអគារ បា្រសាទ និងសំណង់ផ្សេងៗ "},null,null,null,null,{"$f":"CONCATENATE(Main!$J$11,\"៖\",Main!$K$11)","v":"60013៖សម្ភារផ្គត់ផ្គង់សម្រាប់ថែទាំផ្លូវថ្នល់ ស្ពាន និងលូ "},null,null,null,null,{"$f":"CONCATENATE(Main!$J$12,\"៖\",Main!$K$12)","v":"60014៖សម្ភារផ្គត់ផ្គង់សម្រាប់​ថែទាំសម្ភារឧបករណ៍"},null,null,null,null,{"$f":"CONCATENATE(Main!$J$13,\"៖\",Main!$K$13)","v":"60021៖សម្ភារការិយាល័យ"},null,null,null,null,{"$f":"CONCATENATE(Main!$J$14,\"៖\",Main!$K$14)","v":"60022៖សៀវភៅមើល និងឯកសារ  "},null,null,null,null,{"$f":"CONCATENATE(Main!$J$15,\"៖\",Main!$K$15)","v":"60023៖ការបោះពុម្ភ"},null,null,null,null,{"$f":"CONCATENATE(Main!$J$16,\"៖\",Main!$K$16)","v":"60032៖ចំណីសត្វ"},null,null,null,null,{"$f":"CONCATENATE(Main!$J$17,\"៖\",Main!$K$17)","v":"60033៖ពូជ និងកូនរុក្ខជាតិ"},null,null,null,null,{"$f":"CONCATENATE(Main!$J$18,\"៖\",Main!$K$18)","v":"60035៖ពូជសត្វ"},null,null,null,null,{"$f":"CONCATENATE(Main!$J$19,\"៖\",Main!$K$19)","v":"60051៖សម្ភារនិងបរិក្ខារបច្ចេកទេសមិនមែនព័ត៌មានវិទ្យា"},null,null,null,null,{"$f":"CONCATENATE(Main!$J$20,\"៖\",Main!$K$20)","v":"60052៖សង្ហារឹម"},null,null,null,null,{"$f":"CONCATENATE(Main!$J$21,\"៖\",Main!$K$21)","v":"60053៖សម្ភារប្រើប្រាស់"},null,null,null,null,{"$f":"CONCATENATE(Main!$J$22,\"៖\",Main!$K$22)","v":"60055៖សម្ភារនិងបរិក្ខារបច្ចេកទេសព័ត៌មានវិទ្យា"},null,null,null,null,{"$f":"CONCATENATE(Main!$J$23,\"៖\",Main!$K$23)","v":"60061៖អគ្គិសនី "},null,null,null,null,{"$f":"CONCATENATE(Main!$J$24,\"៖\",Main!$K$24)","v":"60062៖ទឹកស្អាត"},null,null,null,null,{"$f":"CONCATENATE(Main!$J$25,\"៖\",Main!$K$25)","v":"60068៖ផ្សេងៗ"},null,null,null,null,{"$f":"CONCATENATE(Main!$J$26,\"៖\",Main!$K$26)","v":"61011៖សេវាអនាម័យ"},null,null,null,null,{"$f":"CONCATENATE(Main!$J$27,\"៖\",Main!$K$27)","v":"61012៖សេវារដ្ឋបាល"},null,null,null,null,{"$f":"CONCATENATE(Main!$J$28,\"៖\",Main!$K$28)","v":"61021៖ការជួលមធ្យោបាយដឹកជញ្ជូន"},null,null,null,null,{"$f":"CONCATENATE(Main!$J$29,\"៖\",Main!$K$29)","v":"61051៖ការថែទាំ ដីធ្លី សួនច្បារ ព្រៃឈើ តំបន់ឆ្នេរ និងដែននេសាទ "},null,null,null,null,{"$f":"CONCATENATE(Main!$J$30,\"៖\",Main!$K$30)","v":"61052៖ការថែទាំ ជួសជុលអគារផ្សេងៗ និងប្រាសាទ "},null,null,null,null,{"$f":"CONCATENATE(Main!$J$31,\"៖\",Main!$K$31)","v":"61053៖ការថែទាំ ជួសជុលផ្លូវ ផ្លូវលំ ស្ពាន និងលូ "},null,null,null,null,{"$f":"CONCATENATE(Main!$J$32,\"៖\",Main!$K$32)","v":"61054៖ការថែទាំបណ្តាញផ្សេងៗ​  "},null,null,null,null,{"$f":"CONCATENATE(Main!$J$33,\"៖\",Main!$K$33)","v":"61057៖ការថែទាំ​ និងជួសជុលសម្ភារ និងឧបករណ៍បច្ចេកទេស "},null,null,null,null,{"$f":"CONCATENATE(Main!$J$34,\"៖\",Main!$K$34)","v":"61071៖សោហ៊ុយសិក្សាពិសោធន៍"},null,null,null,null,{"$f":"CONCATENATE(Main!$J$35,\"៖\",Main!$K$35)","v":"61081៖សោហ៊ុយជួលដឹកញ្ជូន សម្ភារ​ និងទំនិញ"},null,null,null,null,{"$f":"CONCATENATE(Main!$J$36,\"៖\",Main!$K$36)","v":"61101៖សោហ៊ុយទទួលភ្ញៀវជាតិ"},null,null,null,null,{"$f":"CONCATENATE(Main!$J$37,\"៖\",Main!$K$37)","v":"61102៖សោហ៊ុយទទួលភ្ញៀវបរទេស"},null,null,null,null,{"$f":"CONCATENATE(Main!$J$38,\"៖\",Main!$K$38)","v":"61103៖ប្រជុំ សិក្ខាសាលា និងសន្និសីទ"},null,null,null,null,{"$f":"CONCATENATE(Main!$J$39,\"៖\",Main!$K$39)","v":"61141៖សោហ៊ុយប្រៃសណីយ៍"},null,null,null,null,{"$f":"CONCATENATE(Main!$J$40,\"៖\",Main!$K$40)","v":"61142៖សោហ៊ុយទូរគមនាគមន៍"}]
[null,null,"សរុប","ត្រីមាសទី១","ត្រីមាសទី២","ត្រីមាសទី៣","ត្រីមាសទី៤","សរុប","ត្រីមាសទី១","ត្រីមាសទី២","ត្រីមាសទី៣","ត្រីមាសទី៤","សរុប","ត្រីមាសទី១","ត្រីមាសទី២","ត្រីមាសទី៣","ត្រីមាសទី៤","សរុប","ត្រីមាសទី១","ត្រីមាសទី២","ត្រីមាសទី៣","ត្រីមាសទី៤","សរុប","ត្រីមាសទី១","ត្រីមាសទី២","ត្រីមាសទី៣","ត្រីមាសទី៤","សរុប","ត្រីមាសទី១","ត្រីមាសទី២","ត្រីមាសទី៣","ត្រីមាសទី៤","សរុប","ត្រីមាសទី១","ត្រីមាសទី២","ត្រីមាសទី៣","ត្រីមាសទី៤","សរុប","ត្រីមាសទី១","ត្រីមាសទី២","ត្រីមាសទី៣","ត្រីមាសទី៤","សរុប","ត្រីមាសទី១","ត្រីមាសទី២","ត្រីមាសទី៣","ត្រីមាសទី៤","សរុប","ត្រីមាសទី១","ត្រីមាសទី២","ត្រីមាសទី៣","ត្រីមាសទី៤","សរុប","ត្រីមាសទី១","ត្រីមាសទី២","ត្រីមាសទី៣","ត្រីមាសទី៤","សរុប","ត្រីមាសទី១","ត្រីមាសទី២","ត្រីមាសទី៣","ត្រីមាសទី៤","សរុប","ត្រីមាសទី១","ត្រីមាសទី២","ត្រីមាសទី៣","ត្រីមាសទី៤","សរុប","ត្រីមាសទី១","ត្រីមាសទី២","ត្រីមាសទី៣","ត្រីមាសទី៤","សរុប","ត្រីមាសទី១","ត្រីមាសទី២","ត្រីមាសទី៣","ត្រីមាសទី៤","សរុប","ត្រីមាសទី១","ត្រីមាសទី២","ត្រីមាសទី៣","ត្រីមាសទី៤","សរុប","ត្រីមាសទី១","ត្រីមាសទី២","ត្រីមាសទី៣","ត្រីមាសទី៤","សរុប","ត្រីមាសទី១","ត្រីមាសទី២","ត្រីមាសទី៣","ត្រីមាសទី៤","សរុប","ត្រីមាសទី១","ត្រីមាសទី២","ត្រីមាសទី៣","ត្រីមាសទី៤","សរុប","ត្រីមាសទី១","ត្រីមាសទី២","ត្រីមាសទី៣","ត្រីមាសទី៤","សរុប","ត្រីមាសទី១","ត្រីមាសទី២","ត្រីមាសទី៣","ត្រីមាសទី៤","សរុប","ត្រីមាសទី១","ត្រីមាសទី២","ត្រីមាសទី៣","ត្រីមាសទី៤","សរុប","ត្រីមាសទី១","ត្រីមាសទី២","ត្រីមាសទី៣","ត្រីមាសទី៤","សរុប","ត្រីមាសទី១","ត្រីមាសទី២","ត្រីមាសទី៣","ត្រីមាសទី៤","សរុប","ត្រីមាសទី១","ត្រីមាសទី២","ត្រីមាសទី៣","ត្រីមាសទី៤","សរុប","ត្រីមាសទី១","ត្រីមាសទី២","ត្រីមាសទី៣","ត្រីមាសទី៤","សរុប","ត្រីមាសទី១","ត្រីមាសទី២","ត្រីមាសទី៣","ត្រីមាសទី៤","សរុប","ត្រីមាសទី១","ត្រីមាសទី២","ត្រីមាសទី៣","ត្រីមាសទី៤","សរុប","ត្រីមាសទី១","ត្រីមាសទី២","ត្រីមាសទី៣","ត្រីមាសទី៤","សរុប","ត្រីមាសទី១","ត្រីមាសទី២","ត្រីមាសទី៣","ត្រីមាសទី៤","សរុប","ត្រីមាសទី១","ត្រីមាសទី២","ត្រីមាសទី៣","ត្រីមាសទី៤","សរុប","ត្រីមាសទី១","ត្រីមាសទី២","ត្រីមាសទី៣","ត្រីមាសទី៤","សរុប","ត្រីមាសទី១","ត្រីមាសទី២","ត្រីមាសទី៣","ត្រីមាសទី៤","សរុប","ត្រីមាសទី១","ត្រីមាសទី២","ត្រីមាសទី៣","ត្រីមាសទី៤","សរុប","ត្រីមាសទី១","ត្រីមាសទី២","ត្រីមាសទី៣","ត្រីមាសទី៤","សរុប","ត្រីមាសទី១","ត្រីមាសទី២","ត្រីមាសទី៣","ត្រីមាសទី៤","សរុប","ត្រីមាសទី១","ត្រីមាសទី២","ត្រីមាសទី៣","ត្រីមាសទី៤","សរុប","ត្រីមាសទី១","ត្រីមាសទី២","ត្រីមាសទី៣","ត្រីមាសទី៤","សរុប","ត្រីមាសទី១","ត្រីមាសទី២","ត្រីមាសទី៣","ត្រីមាសទី៤","សរុប","ត្រីមាសទី១","ត្រីមាសទី២","ត្រីមាសទី៣","ត្រីមាសទី៤","សរុប","ត្រីមាសទី១","ត្រីមាសទី២","ត្រីមាសទី៣","ត្រីមាសទី៤",null,null,"សរុប","ត្រីមាសទី១","ត្រីមាសទី២","ត្រីមាសទី៣","ត្រីមាសទី៤","សរុប","ត្រីមាសទី១","ត្រីមាសទី២","ត្រីមាសទី៣","ត្រីមាសទី៤","សរុប","ត្រីមាសទី១","ត្រីមាសទី២","ត្រីមាសទី៣","ត្រីមាសទី៤","សរុប","ត្រីមាសទី១","ត្រីមាសទី២","ត្រីមាសទី៣","ត្រីមាសទី៤","សរុប","ត្រីមាសទី១","ត្រីមាសទី២","ត្រីមាសទី៣","ត្រីមាសទី៤","សរុប","ត្រីមាសទី១","ត្រីមាសទី២","ត្រីមាសទី៣","ត្រីមាសទី៤","សរុប","ត្រីមាសទី១","ត្រីមាសទី២","ត្រីមាសទី៣","ត្រីមាសទី៤","សរុប","ត្រីមាសទី១","ត្រីមាសទី២","ត្រីមាសទី៣","ត្រីមាសទី៤","សរុប","ត្រីមាសទី១","ត្រីមាសទី២","ត្រីមាសទី៣","ត្រីមាសទី៤","សរុប","ត្រីមាសទី១","ត្រីមាសទី២","ត្រីមាសទី៣","ត្រីមាសទី៤","សរុប","ត្រីមាសទី១","ត្រីមាសទី២","ត្រីមាសទី៣","ត្រីមាសទី៤","សរុប","ត្រីមាសទី១","ត្រីមាសទី២","ត្រីមាសទី៣","ត្រីមាសទី៤","សរុប","ត្រីមាសទី១","ត្រីមាសទី២","ត្រីមាសទី៣","ត្រីមាសទី៤","សរុប","ត្រីមាសទី១","ត្រីមាសទី២","ត្រីមាសទី៣","ត្រីមាសទី៤","សរុប","ត្រីមាសទី១","ត្រីមាសទី២","ត្រីមាសទី៣","ត្រីមាសទី៤","សរុប","ត្រីមាសទី១","ត្រីមាសទី២","ត្រីមាសទី៣","ត្រីមាសទី៤","សរុប","ត្រីមាសទី១","ត្រីមាសទី២","ត្រីមាសទី៣","ត្រីមាសទី៤","សរុប","ត្រីមាសទី១","ត្រីមាសទី២","ត្រីមាសទី៣","ត្រីមាសទី៤","សរុប","ត្រីមាសទី១","ត្រីមាសទី២","ត្រីមាសទី៣","ត្រីមាសទី៤","សរុប","ត្រីមាសទី១","ត្រីមាសទី២","ត្រីមាសទី៣","ត្រីមាសទី៤","សរុប","ត្រីមាសទី១","ត្រីមាសទី២","ត្រីមាសទី៣","ត្រីមាសទី៤","សរុប","ត្រីមាសទី១","ត្រីមាសទី២","ត្រីមាសទី៣","ត្រីមាសទី៤","សរុប","ត្រីមាសទី១","ត្រីមាសទី២","ត្រីមាសទី៣","ត្រីមាសទី៤","សរុប","ត្រីមាសទី១","ត្រីមាសទី២","ត្រីមាសទី៣","ត្រីមាសទី៤","សរុប","ត្រីមាសទី១","ត្រីមាសទី២","ត្រីមាសទី៣","ត្រីមាសទី៤","សរុប","ត្រីមាសទី១","ត្រីមាសទី២","ត្រីមាសទី៣","ត្រីមាសទី៤","សរុប","ត្រីមាសទី១","ត្រីមាសទី២","ត្រីមាសទី៣","ត្រីមាសទី៤","សរុប","ត្រីមាសទី១","ត្រីមាសទី២","ត្រីមាសទី៣","ត្រីមាសទី៤","សរុប","ត្រីមាសទី១","ត្រីមាសទី២","ត្រីមាសទី៣","ត្រីមាសទី៤","សរុប","ត្រីមាសទី១","ត្រីមាសទី២","ត្រីមាសទី៣","ត្រីមាសទី៤","សរុប","ត្រីមាសទី១","ត្រីមាសទី២","ត្រីមាសទី៣","ត្រីមាសទី៤","សរុប","ត្រីមាសទី១","ត្រីមាសទី២","ត្រីមាសទី៣","ត្រីមាសទី៤","សរុប","ត្រីមាសទី១","ត្រីមាសទី២","ត្រីមាសទី៣","ត្រីមាសទី៤"]
[null,{"$f":"IF(កុមារតូច!D4<>\"\",កុមារតូច!D4,IF(បឋម!D4<>\"\",បឋម!D4,IF(អនុវិទ្យាល័យ!E4<>\"\",អនុវិទ្យាល័យ!E4,IF(វិទ្យាល័យ!D4<>\"\",វិទ្យាល័យ!D4,\"\"))))","v":""},{"$f":"SUM(D9:G9)","v":0},{"$f":"SUM(I9,N9,S9,X9,AC9,AH9,AM9,AR9,AW9,BB9,BG9,BL9,BQ9,BV9,CA9,CF9,CK9,CP9,CU9,CZ9,DE9,DJ9,DO9,DT9,DY9,ED9,EI9,EN9,ES9,EX9,FC9,FH9,FM9,FR9,FW9,GB9,GG9,GL9,GQ9,GV9)","v":0},{"$f":"SUM(J9,O9,T9,Y9,AD9,AI9,AN9,AS9,AX9,BC9,BH9,BM9,BR9,BW9,CB9,CG9,CL9,CQ9,CV9,DA9,DF9,DK9,DP9,DU9,DZ9,EE9,EJ9,EO9,ET9,EY9,FD9,FI9,FN9,FS9,FX9,GC9,GH9,GM9,GR9,GW9)","v":0},0,0,{"$f":"SUM(I9:L9)","v":0},{"$f":"TotalByExp!H11","v":0},{"$f":"TotalByExp!I11","v":0},{"$f":"TotalByExp!J11","v":0},{"$f":"TotalByExp!K11","v":0},{"$f":"SUM(N9:Q9)","v":0},{"$f":"TotalByExp!H12","v":0},{"$f":"TotalByExp!I12","v":0},{"$f":"TotalByExp!J12","v":0},{"$f":"TotalByExp!K12","v":0},{"$f":"SUM(S9:V9)","v":0},{"$f":"TotalByExp!H13","v":0},{"$f":"TotalByExp!I13","v":0},{"$f":"TotalByExp!J13","v":0},{"$f":"TotalByExp!K13","v":0},{"$f":"SUM(X9:AA9)","v":0},{"$f":"TotalByExp!H14","v":0},{"$f":"TotalByExp!I14","v":0},{"$f":"TotalByExp!J14","v":0},{"$f":"TotalByExp!K14","v":0},{"$f":"SUM(AC9:AF9)","v":0},{"$f":"TotalByExp!H16","v":0},{"$f":"TotalByExp!I16","v":0},{"$f":"TotalByExp!J16","v":0},{"$f":"TotalByExp!K16","v":0},{"$f":"SUM(AH9:AK9)","v":0},{"$f":"TotalByExp!H17","v":0},{"$f":"TotalByExp!I17","v":0},{"$f":"TotalByExp!J17","v":0},{"$f":"TotalByExp!K17","v":0},{"$f":"SUM(AM9:AP9)","v":0},{"$f":"TotalByExp!H18","v":0},{"$f":"TotalByExp!I18","v":0},{"$f":"TotalByExp!J18","v":0},{"$f":"TotalByExp!K18","v":0},{"$f":"SUM(AR9:AU9)","v":0},{"$f":"TotalByExp!H19","v":0},{"$f":"TotalByExp!I19","v":0},{"$f":"TotalByExp!J19","v":0},{"$f":"TotalByExp!K19","v":0},{"$f":"SUM(AW9:AZ9)","v":0},{"$f":"TotalByExp!H20","v":0},{"$f":"TotalByExp!I20","v":0},{"$f":"TotalByExp!J20","v":0},{"$f":"TotalByExp!K20","v":0},{"$f":"SUM(BB9:BE9)","v":0},{"$f":"TotalByExp!H21","v":0},{"$f":"TotalByExp!I21","v":0},{"$f":"TotalByExp!J21","v":0},{"$f":"TotalByExp!K21","v":0},{"$f":"SUM(BG9:BJ9)","v":0},{"$f":"TotalByExp!H22","v":0},{"$f":"TotalByExp!I22","v":0},{"$f":"TotalByExp!J22","v":0},{"$f":"TotalByExp!K22","v":0},{"$f":"SUM(BL9:BO9)","v":0},{"$f":"TotalByExp!H24","v":0},{"$f":"TotalByExp!I24","v":0},{"$f":"TotalByExp!J24","v":0},{"$f":"TotalByExp!K24","v":0},{"$f":"SUM(BQ9:BT9)","v":0},{"$f":"TotalByExp!H25","v":0},{"$f":"TotalByExp!I25","v":0},{"$f":"TotalByExp!J25","v":0},{"$f":"TotalByExp!K25","v":0},{"$f":"SUM(BV9:BY9)","v":0},{"$f":"TotalByExp!H27","v":0},{"$f":"TotalByExp!I27","v":0},{"$f":"TotalByExp!J27","v":0},{"$f":"TotalByExp!K27","v":0},{"$f":"SUM(CA9:CD9)","v":0},{"$f":"TotalByExp!H29","v":0},{"$f":"TotalByExp!I29","v":0},{"$f":"TotalByExp!J29","v":0},{"$f":"TotalByExp!K29","v":0},{"$f":"SUM(CF9:CI9)","v":0},{"$f":"TotalByExp!H31","v":0},{"$f":"TotalByExp!I31","v":0},{"$f":"TotalByExp!J31","v":0},{"$f":"TotalByExp!K31","v":0},{"$f":"SUM(CK9:CN9)","v":0},{"$f":"TotalByExp!H33","v":0},{"$f":"TotalByExp!I33","v":0},{"$f":"TotalByExp!J33","v":0},{"$f":"TotalByExp!K33","v":0},{"$f":"SUM(CP9:CS9)","v":0},{"$f":"TotalByExp!H34","v":0},{"$f":"TotalByExp!I34","v":0},{"$f":"TotalByExp!J34","v":0},{"$f":"TotalByExp!K34","v":0},{"$f":"SUM(CU9:CX9)","v":0},{"$f":"TotalByExp!H35","v":0},{"$f":"TotalByExp!I35","v":0},{"$f":"TotalByExp!J35","v":0},{"$f":"TotalByExp!K35","v":0},{"$f":"SUM(CZ9:DC9)","v":0},{"$f":"TotalByExp!H37","v":0},{"$f":"TotalByExp!I37","v":0},{"$f":"TotalByExp!J37","v":0},{"$f":"TotalByExp!K37","v":0},{"$f":"SUM(DE9:DH9)","v":0},{"$f":"TotalByExp!H38","v":0},{"$f":"TotalByExp!I38","v":0},{"$f":"TotalByExp!J38","v":0},{"$f":"TotalByExp!K38","v":0},{"$f":"SUM(DJ9:DM9)","v":0},{"$f":"TotalByExp!H40","v":0},{"$f":"TotalByExp!I40","v":0},{"$f":"TotalByExp!J40","v":0},{"$f":"TotalByExp!K40","v":0},{"$f":"SUM(DO9:DR9)","v":0},{"$f":"TotalByExp!H41","v":0},{"$f":"TotalByExp!I41","v":0},{"$f":"TotalByExp!J41","v":0},{"$f":"TotalByExp!K41","v":0},{"$f":"SUM(DT9:DW9)","v":0},{"$f":"TotalByExp!H43","v":0},{"$f":"TotalByExp!I43","v":0},{"$f":"TotalByExp!J43","v":0},{"$f":"TotalByExp!K43","v":0},{"$f":"SUM(DY9:EB9)","v":0},{"$f":"TotalByExp!H44","v":0},{"$f":"TotalByExp!I44","v":0},{"$f":"TotalByExp!J44","v":0},{"$f":"TotalByExp!K44","v":0},{"$f":"SUM(ED9:EG9)","v":0},{"$f":"TotalByExp!H45","v":0},{"$f":"TotalByExp!I45","v":0},{"$f":"TotalByExp!J45","v":0},{"$f":"TotalByExp!K45","v":0},{"$f":"SUM(EI9:EL9)","v":0},{"$f":"TotalByExp!H46","v":0},{"$f":"TotalByExp!I46","v":0},{"$f":"TotalByExp!J46","v":0},{"$f":"TotalByExp!K46","v":0},{"$f":"SUM(EN9:EQ9)","v":0},{"$f":"TotalByExp!H47","v":0},{"$f":"TotalByExp!I47","v":0},{"$f":"TotalByExp!J47","v":0},{"$f":"TotalByExp!K47","v":0},{"$f":"SUM(ES9:EV9)","v":0},{"$f":"TotalByExp!H48","v":0},{"$f":"TotalByExp!I48","v":0},{"$f":"TotalByExp!J48","v":0},{"$f":"TotalByExp!K48","v":0},{"$f":"SUM(EX9:FA9)","v":0},{"$f":"TotalByExp!H49","v":0},{"$f":"TotalByExp!I49","v":0},{"$f":"TotalByExp!J49","v":0},{"$f":"TotalByExp!K49","v":0},{"$f":"SUM(FC9:FF9)","v":0},{"$f":"TotalByExp!H50","v":0},{"$f":"TotalByExp!I50","v":0},{"$f":"TotalByExp!J50","v":0},{"$f":"TotalByExp!K50","v":0},{"$f":"SUM(FH9:FK9)","v":0},{"$f":"TotalByExp!H51","v":0},{"$f":"TotalByExp!I51","v":0},{"$f":"TotalByExp!J51","v":0},{"$f":"TotalByExp!K51","v":0},{"$f":"SUM(FM9:FP9)","v":0},{"$f":"TotalByExp!H52","v":0},{"$f":"TotalByExp!I52","v":0},{"$f":"TotalByExp!J52","v":0},{"$f":"TotalByExp!K52","v":0},{"$f":"SUM(FR9:FU9)","v":0},{"$f":"TotalByExp!H53","v":0},{"$f":"TotalByExp!I53","v":0},{"$f":"TotalByExp!J53","v":0},{"$f":"TotalByExp!K53","v":0},{"$f":"SUM(FW9:FZ9)","v":0},{"$f":"TotalByExp!H54","v":0},{"$f":"TotalByExp!I54","v":0},{"$f":"TotalByExp!J54","v":0},{"$f":"TotalByExp!K54","v":0},{"$f":"SUM(GB9:GE9)","v":0},{"$f":"TotalByExp!H55","v":0},{"$f":"TotalByExp!I55","v":0},{"$f":"TotalByExp!J55","v":0},{"$f":"TotalByExp!K55","v":0},{"$f":"SUM(GG9:GJ9)","v":0},{"$f":"TotalByExp!H56","v":0},{"$f":"TotalByExp!I56","v":0},{"$f":"TotalByExp!J56","v":0},{"$f":"TotalByExp!K56","v":0},{"$f":"SUM(GL9:GO9)","v":0},{"$f":"TotalByExp!H57","v":0},{"$f":"TotalByExp!I57","v":0},{"$f":"TotalByExp!J57","v":0},{"$f":"TotalByExp!K57","v":0},{"$f":"SUM(GQ9:GT9)","v":0},{"$f":"TotalByExp!H58","v":0},{"$f":"TotalByExp!I58","v":0},{"$f":"TotalByExp!J58","v":0},{"$f":"TotalByExp!K58","v":0},{"$f":"SUM(GV9:GY9)","v":0},{"$f":"TotalByExp!H59","v":0},{"$f":"TotalByExp!I59","v":0},{"$f":"TotalByExp!J59","v":0},{"$f":"TotalByExp!K59","v":0},1,{"$f":"B9","v":""},{"$f":"SUM(HC9:HF9)","v":0},{"$f":"SUM(HH9,HM9,HR9,HW9,IB9,IG9,IL9,IQ9,IV9,JA9,JF9,JK9,JP9,JU9,JZ9,KE9,KJ9,KO9,KT9,KY9,LD9,LI9,LN9,LS9,LX9,MC9,MH9,MM9,MR9,MW9,NB9,NG9)","v":0},{"$f":"SUM(HI9,HN9,HS9,HX9,IC9,IH9,IM9,IR9,IW9,JB9,JG9,JL9,JQ9,JV9,KA9,KF9,KK9,KP9,KU9,KZ9,LE9,LJ9,LO9,LT9,LY9,MD9,MI9,MN9,MS9,MX9,NC9,NH9)","v":0},{"$f":"SUM(HJ9,HO9,HT9,HY9,ID9,II9,IN9,IS9,IX9,JC9,JH9,JM9,JR9,JW9,KB9,KG9,KL9,KQ9,KV9,LA9,LF9,LK9,LP9,LU9,LZ9,ME9,MJ9,MO9,MT9,MY9,ND9,NI9)","v":0},{"$f":"SUM(HK9,HP9,HU9,HZ9,IE9,IJ9,IO9,IT9,IY9,JD9,JI9,JN9,JS9,JX9,KC9,KH9,KM9,KR9,KW9,LB9,LG9,LL9,LQ9,LV9,MA9,MF9,MK9,MP9,MU9,MZ9,NE9,NJ9)","v":0},{"$f":"SUM(HH9:HK9)","v":0},{"$f":"CF9","v":0},{"$f":"CG9","v":0},{"$f":"CH9","v":0},{"$f":"CI9","v":0},{"$f":"SUM(HM9:HP9)","v":0},{"$f":"AW9","v":0},{"$f":"AX9","v":0},0,0,{"$f":"SUM(HR9:HU9)","v":0},{"$f":"BB9","v":0},{"$f":"BC9","v":0},0,0,{"$f":"SUM(HW9:HZ9)","v":0},{"$f":"DT9","v":0},{"$f":"DU9","v":0},0,0,{"$f":"SUM(IB9:IE9)","v":0},{"$f":"I9+CZ9+DJ9","v":0},{"$f":"J9+DA9+DK9","v":0},0,0,{"$f":"SUM(IG9:IJ9)","v":0},{"$f":"N9+BV9","v":0},{"$f":"O9+BW9","v":0},0,0,{"$f":"SUM(IL9:IO9)","v":0},{"$f":"S9+DE9","v":0},{"$f":"T9+DF9","v":0},0,0,{"$f":"SUM(IQ9:IT9)","v":0},{"$f":"DY9","v":0},{"$f":"DZ9","v":0},0,0,{"$f":"SUM(IV9:IY9)","v":0},{"$f":"ED9","v":0},{"$f":"EE9","v":0},0,0,{"$f":"SUM(JA9:JD9)","v":0},{"$f":"EI9","v":0},{"$f":"EJ9","v":0},0,0,{"$f":"SUM(JF9:JI9)","v":0},{"$f":"EN9","v":0},{"$f":"EO9","v":0},{"$f":"EP9","v":0},{"$f":"EQ9","v":0},{"$f":"SUM(JK9:JN9)","v":0},{"$f":"ES9","v":0},{"$f":"ET9","v":0},{"$f":"EU9","v":0},{"$f":"EV9","v":0},{"$f":"SUM(JP9:JS9)","v":0},{"$f":"X9+BG9+CA9+DO9","v":0},{"$f":"Y9+BH9+CB9+DP9","v":0},0,0,{"$f":"SUM(JU9:JX9)","v":0},{"$f":"EX9","v":0},{"$f":"EY9","v":0},0,0,{"$f":"SUM(JZ9:KC9)","v":0},{"$f":"CK9","v":0},{"$f":"CL9","v":0},0,0,{"$f":"SUM(KE9:KH9)","v":0},{"$f":"CP9","v":0},0,0,0,{"$f":"SUM(KJ9:KM9)","v":0},{"$f":"CU9","v":0},{"$f":"CV9","v":0},0,0,{"$f":"SUM(KO9:KR9)","v":0},{"$f":"FC9","v":0},{"$f":"FD9","v":0},0,0,{"$f":"SUM(KT9:KW9)","v":0},{"$f":"FH9","v":0},0,0,0,{"$f":"SUM(KY9:LB9)","v":0},{"$f":"FM9","v":0},{"$f":"FN9","v":0},{"$f":"FO9","v":0},{"$f":"FP9","v":0},{"$f":"SUM(LD9:LG9)","v":0},{"$f":"AC9","v":0},{"$f":"AD9","v":0},0,0,{"$f":"SUM(LI9:LL9)","v":0},{"$f":"AH9+BL9","v":0},{"$f":"AI9+BM9","v":0},0,0,{"$f":"SUM(LN9:LQ9)","v":0},{"$f":"AM9","v":0},{"$f":"AN9","v":0},{"$f":"AO9","v":0},{"$f":"AP9","v":0},{"$f":"SUM(LS9:LV9)","v":0},{"$f":"AR9","v":0},{"$f":"AS9","v":0},{"$f":"AT9","v":0},{"$f":"AU9","v":0},{"$f":"SUM(LX9:MA9)","v":0},{"$f":"BQ9","v":0},{"$f":"BR9","v":0},0,0,{"$f":"SUM(MC9:MF9)","v":0},{"$f":"FR9","v":0},{"$f":"FS9","v":0},0,0,{"$f":"SUM(MH9:MK9)","v":0},{"$f":"FW9","v":0},{"$f":"FX9","v":0},{"$f":"FY9","v":0},{"$f":"FZ9","v":0},{"$f":"SUM(MM9:MP9)","v":0},{"$f":"GB9","v":0},{"$f":"GC9","v":0},{"$f":"GD9","v":0},{"$f":"GE9","v":0},{"$f":"SUM(MR9:MU9)","v":0},{"$f":"GG9","v":0},{"$f":"GH9","v":0},{"$f":"GI9","v":0},{"$f":"GJ9","v":0},{"$f":"SUM(MW9:MZ9)","v":0},{"$f":"GL9","v":0},{"$f":"GM9","v":0},{"$f":"GN9","v":0},{"$f":"GO9","v":0},{"$f":"SUM(NB9:NE9)","v":0},{"$f":"GQ9","v":0},{"$f":"GR9","v":0},{"$f":"GS9","v":0},{"$f":"GT9","v":0},{"$f":"SUM(NG9:NJ9)","v":0},{"$f":"GV9","v":0},{"$f":"GW9","v":0},{"$f":"GX9","v":0},{"$f":"GY9","v":0}]
[]
[]
[null,null,null,null,null,null,null,{"$f":"SUM(I9:L9)","v":0},null,null,null,null,{"$f":"SUM(N9:Q9)","v":0},null,null,null,null,{"$f":"SUM(S9:V9)","v":0},null,null,null,null,{"$f":"SUM(X9:AA9)","v":0},null,null,null,null,{"$f":"SUM(AC9:AF9)","v":0},null,null,null,null,{"$f":"SUM(AH9:AK9)","v":0},null,null,null,null,{"$f":"SUM(AM9:AP9)","v":0},null,null,null,null,{"$f":"SUM(AR9:AU9)","v":0},null,null,null,null,{"$f":"SUM(AW9:AZ9)","v":0},null,null,null,null,{"$f":"SUM(BB9:BE9)","v":0},null,null,null,null,{"$f":"SUM(BG9:BJ9)","v":0},null,null,null,null,{"$f":"SUM(BL9:BO9)","v":0},null,null,null,null,{"$f":"SUM(BQ9:BT9)","v":0},null,null,null,null,{"$f":"SUM(BV9:BY9)","v":0},null,null,null,null,{"$f":"SUM(CA9:CD9)","v":0},null,null,null,null,{"$f":"SUM(CF9:CI9)","v":0},null,null,null,null,{"$f":"SUM(CK9:CN9)","v":0},null,null,null,null,{"$f":"SUM(CP9:CS9)","v":0},null,null,null,null,{"$f":"SUM(CU9:CX9)","v":0},null,null,null,null,{"$f":"SUM(CZ9:DC9)","v":0},null,null,null,null,{"$f":"SUM(DE9:DH9)","v":0},null,null,null,null,{"$f":"SUM(DJ9:DM9)","v":0},null,null,null,null,{"$f":"SUM(DO9:DR9)","v":0},null,null,null,null,{"$f":"SUM(DT9:DW9)","v":0},null,null,null,null,{"$f":"SUM(DY9:EB9)","v":0},null,null,null,null,{"$f":"SUM(ED9:EG9)","v":0},null,null,null,null,{"$f":"SUM(EI9:EL9)","v":0},null,null,null,null,{"$f":"SUM(EN9:EQ9)","v":0},null,null,null,null,{"$f":"SUM(ES9:EV9)","v":0},null,null,null,null,{"$f":"SUM(EX9:FA9)","v":0},null,null,null,null,{"$f":"SUM(FC9:FF9)","v":0},null,null,null,null,{"$f":"SUM(FH9:FK9)","v":0},null,null,null,null,{"$f":"SUM(FM9:FP9)","v":0},null,null,null,null,{"$f":"SUM(FR9:FU9)","v":0},null,null,null,null,{"$f":"SUM(FW9:FZ9)","v":0},null,null,null,null,{"$f":"SUM(GB9:GE9)","v":0},null,null,null,null,{"$f":"SUM(GG9:GJ9)","v":0},null,null,null,null,{"$f":"SUM(GL9:GO9)","v":0},null,null,null,null,{"$f":"SUM(GQ9:GT9)","v":0},null,null,null,null,{"$f":"SUM(GV9:GY9)","v":0}]
[]
[null,null,null,null,null,null,null,null,"១"]
[]
[null,"៖"]
[1,2,3,4,5,6,7,8,9,10,11,12,13,14,15,16,17,18,19,20,21,22,23,24,25,26,27,28,29,30,31,32,33,34,35,36,37,38,39,40,41,42,43,44,45,46,47,48,49,50,51,52,53,54,55,56,57,58,59,60,61,62,63,64,65,66,67,68,69,70,71,72,73,74,75,76,77,78,79,80,81,82,83,84,85,86,87,88,89,90,91,92,93,94,95,96,97,98,99,100,101,102,103,104,105,106,107,108,109,110,111,112,113,114,115,116,117,118,119,120,121,122,123,124,125,126,127,123,124,125,126,127,123,124,125,126,127,123,124,125,126,127,123,124,125,126,127,123,124,125,126,127,123,124,125,126,127,123,124,125,126,127,123,124,125,126,127,123,124,125,126,127,123,124,125,126,127,123,124,125,126,127,123,124,125,126,127,123,124,125,126,127,123,124,125,126,127,123,124,125,126,127,123,124,125,126,127,373,374]